{"text_format":"1","workbook":"xlsx","n_sheets":5,"sheets":["MENU","DATA","PARAM","LogHojas","Z"],"not_rendered":{"charts":0,"images":1,"macros":1,"external_links":0,"defined_names":6,"comments":0,"pivot_tables":0},"unopened":[],"bounds":{"document_bytes":16777216,"sheet_cells":100000,"rows_first":2000,"rows_last":500,"rows_between":2000,"halvings":0,"cell_chars":16384,"cell_head_chars":4096},"cells_cut":0,"cells_raw":0,"read":"whole","date_system":"1900"}

{"sheet":"MENU","index":0,"n_rows":19,"n_cols":3,"rows_kept":19,"cut":false,"hidden":false,"merged":[[0,0,16,4]]}
["HERRAMIENTA - IMPLEMENTACIÓN POLÍTICAS DE INVENTARIO"]
[]
[]
[]
[]
[]
[]
[]
[]
[]
[]
[]
[]
[]
[]
[]
[]
[null,null,"# Pronosticos"]
[null,null,20]

{"sheet":"DATA","index":1,"n_rows":373,"n_cols":16384,"rows_kept":373,"cut":false,"hidden":true,"merged":[[311,1,341,1],[342,1,372,1],[2,0,372,0],[94,1,124,1],[125,1,155,1],[156,1,186,1],[187,1,217,1],[218,1,248,1],[249,1,279,1],[2,1,31,1],[32,1,62,1],[63,1,93,1],[280,1,310,1]]}
["DEMANDA","Deterministica",null,{"$f":"IF(D3<>\"\",1,0)","v":1},{"$f":"IF(E3<>\"\",D1+1,\"\")","v":2},3,"n",{"$f":"IF(H3<>\"\",G1+1,\"\")","v":""},"","","","","","","","","","","","","","","","","","","","","","","","","","","","","","","","","","","","","","","","","","","","","","","","","","","","","","","","","","","","","",{"$f":"IF(BR3<>\"\",BQ1+1,\"\")","v":""},"","","","","","","","","","","","","","","","","","","","","","","","","","","","","","","","","","","","","","","","","","","","","","","","","","","","","","","","","","","","","","","",{"$f":"IF(ED3<>\"\",EC1+1,\"\")","v":""},"","","","","","","","","","","","","","","","","","","","","","","","","","","","","","","","","","","","","","","","","","","","","","","","","","","","","","","","","","","","","","","",{"$f":"IF(GP3<>\"\",GO1+1,\"\")","v":""},"","","","","","","","","","","","","","","","","","","","","","","","","","","","","","","","","","","","","","","","","","","","","","","","","","","","","","","","","","","","","","","",{"$f":"IF(JB3<>\"\",JA1+1,\"\")","v":""},"","","","","","","","","","","","","","","","","","","","","","","","","","","","","","","","","","","","","","","","","","","","","","","","","","","","","","","","","","","","","","","",{"$f":"IF(LN3<>\"\",LM1+1,\"\")","v":""},"","","","","","","","","","","","","","","","","","","","","","","","","","","","","","","","","","","","","","","","","","","","","","","","","","","","","","","","","","","","","","","",{"$f":"IF(NZ3<>\"\",NY1+1,\"\")","v":""},"","","","","","","","","","","","","","","","","","","","","","","","","","","","","","","","","","","","","","","","","","","","","","","","","","","","","","","","","","","","","","","",{"$f":"IF(QL3<>\"\",QK1+1,\"\")","v":""},"","","","","","","","","","","","","","","","","","","","","","","","","","","","","","","","","","","","","","","","","","","","","","","","","","","","","","","","","","","","","","","",{"$f":"IF(SX3<>\"\",SW1+1,\"\")","v":""},"","","","","","","","","","","","","","","","","","","","","","","","","","","","","","","","","","","","","","","","","","","","","","","","","","","","","","","","","","","","","","","",{"$f":"IF(VJ3<>\"\",VI1+1,\"\")","v":""},"","","","","","","","","","","","","","","","","","","","","","","","","","","","","","","","","","","","","","","","","","","","","","","","","","","","","","","","","","","","","","","",{"$f":"IF(XV3<>\"\",XU1+1,\"\")","v":""},"","","","","","","","","","","","","","","","","","","","","","","","","","","","","","","","","","","","","","","","","","","","","","","","","","","","","","","","","","","","","","","",{"$f":"IF(AAH3<>\"\",AAG1+1,\"\")","v":""},"","","","","","","","","","","","","","","","","","","","","","","","","","","","","","","","","","","","","","","","","","","","","","","","","","","","","","","","","","","","","","","",{"$f":"IF(ACT3<>\"\",ACS1+1,\"\")","v":""},"","","","","","","","","","","","","","","","","","","","","","","","","","","","","","","","","","","","","","","","","","","","","","","","","","","","","","","","","","","","","","","",{"$f":"IF(AFF3<>\"\",AFE1+1,\"\")","v":""},"","","","","","","","","","","","","","","","","","","","","","","","","","","","","","","","","","","","","","","","","","","","","","","","","","","","","","","","","","","","","","","",{"$f":"IF(AHR3<>\"\",AHQ1+1,\"\")","v":""},"","","","","","","","","","","","","","","","","","","","","","","","","","","","","","","","","","","","","","","","","","","","","","","","","","","","","","","","","","","","","","","",{"$f":"IF(AKD3<>\"\",AKC1+1,\"\")","v":""},"","","","","","","","","","","","","","","","","","","","","","","","","","","","","","","","","","","","","","","","","","","","","","","","","","","","","","","","","","","","","","","",{"$f":"IF(AMP3<>\"\",AMO1+1,\"\")","v":""},"","","","","","","","","","","","","","","","","","","","","","","","","","","","","","","","","","","","","","","","","","","","","","","","","","","","","","","","","","","","","","","",{"$f":"IF(APB3<>\"\",APA1+1,\"\")","v":""},"","","","","","","","","","","","","","","","","","","","","","","","","","","","","","","","","","","","","","","","","","","","","","","","","","","","","","","","","","","","","","","",{"$f":"IF(ARN3<>\"\",ARM1+1,\"\")","v":""},"","","","","","","","","","","","","","","","","","","","","","","","","","","","","","","","","","","","","","","","","","","","","","","","","","","","","","","","","","","","","","","",{"$f":"IF(ATZ3<>\"\",ATY1+1,\"\")","v":""},"","","","","","","","","","","","","","","","","","","","","","","","","","","","","","","","","","","","","","","","","","","","","","","","","","","","","","","","","","","","","","","",{"$f":"IF(AWL3<>\"\",AWK1+1,\"\")","v":""},"","","","","","","","","","","","","","","","","","","","","","","","","","","","","","","","","","","","","","","","","","","","","","","","","","","","","","","","","","","","","","","",{"$f":"IF(AYX3<>\"\",AYW1+1,\"\")","v":""},"","","","","","","","","","","","","","","","","","","","","","","","","","","","","","","","","","","","","","","","","","","","","","","","","","","","","","","","","","","","","","","",{"$f":"IF(BBJ3<>\"\",BBI1+1,\"\")","v":""},"","","","","","","","","","","","","","","","","","","","","","","","","","","","","","","","","","","","","","","","","","","","","","","","","","","","","","","","","","","","","","","",{"$f":"IF(BDV3<>\"\",BDU1+1,\"\")","v":""},"","","","","","","","","","","","","","","","","","","","","","","","","","","","","","","","","","","","","","","","","","","","","","","","","","","","","","","","","","","","","","","",{"$f":"IF(BGH3<>\"\",BGG1+1,\"\")","v":""},"","","","","","","","","","","","","","","","","","","","","","","","","","","","","","","","","","","","","","","","","","","","","","","","","","","","","","","","","","","","","","","",{"$f":"IF(BIT3<>\"\",BIS1+1,\"\")","v":""},"","","","","","","","","","","","","","","","","","","","","","","","","","","","","","","","","","","","","","","","","","","","","","","","","","","","","","","","","","","","","","","",{"$f":"IF(BLF3<>\"\",BLE1+1,\"\")","v":""},"","","","","","","","","","","","","","","","","","","","","","","","","","","","","","","","","","","","","","","","","","","","","","","","","","","","","","","","","","","","","","","",{"$f":"IF(BNR3<>\"\",BNQ1+1,\"\")","v":""},"","","","","","","","","","","","","","","","","","","","","","","","","","","","","","","","","","","","","","","","","","","","","","","","","","","","","","","","","","","","","","","",{"$f":"IF(BQD3<>\"\",BQC1+1,\"\")","v":""},"","","","","","","","","","","","","","","","","","","","","","","","","","","","","","","","","","","","","","","","","","","","","","","","","","","","","","","","","","","","","","","",{"$f":"IF(BSP3<>\"\",BSO1+1,\"\")","v":""},"","","","","","","","","","","","","","","","","","","","","","","","","","","","","","","","","","","","","","","","","","","","","","","","","","","","","","","","","","","","","","","",{"$f":"IF(BVB3<>\"\",BVA1+1,\"\")","v":""},"","","","","","","","","","","","","","","","","","","","","","","","","","","","","","","","","","","","","","","","","","","","","","","","","","","","","","","","","","","","","","","",{"$f":"IF(BXN3<>\"\",BXM1+1,\"\")","v":""},"","","","","","","","","","","","","","","","","","","","","","","","","","","","","","","","","","","","","","","","","","","","","","","","","","","","","","","","","","","","","","","",{"$f":"IF(BZZ3<>\"\",BZY1+1,\"\")","v":""},"","","","","","","","","","","","","","","","","","","","","","","","","","","","","","","","","","","","","","","","","","","","","","","","","","","","","","","","","","","","","","","",{"$f":"IF(CCL3<>\"\",CCK1+1,\"\")","v":""},"","","","","","","","","","","","","","","","","","","","","","","","","","","","","","","","","","","","","","","","","","","","","","","","","","","","","","","","","","","","","","","",{"$f":"IF(CEX3<>\"\",CEW1+1,\"\")","v":""},"","","","","","","","","","","","","","","","","","","","","","","","","","","","","","","","","","","","","","","","","","","","","","","","","","","","","","","","","","","","","","","",{"$f":"IF(CHJ3<>\"\",CHI1+1,\"\")","v":""},"","","","","","","","","","","","","","","","","","","","","","","","","","","","","","","","","","","","","","","","","","","","","","","","","","","","","","","","","","","","","","","",{"$f":"IF(CJV3<>\"\",CJU1+1,\"\")","v":""},"","","","","","","","","","","","","","","","","","","","","","","","","","","","","","","","","","","","","","","","","","","","","","","","","","","","","","","","","","","","","","","",{"$f":"IF(CMH3<>\"\",CMG1+1,\"\")","v":""},"","","","","","","","","","","","","","","","","","","","","","","","","","","","","","","","","","","","","","","","","","","","","","","","","","","","","","","","","","","","","","","",{"$f":"IF(COT3<>\"\",COS1+1,\"\")","v":""},"","","","","","","","","","","","","","","","","","","","","","","","","","","","","","","","","","","","","","","","","","","","","","","","","","","","","","","","","","","","","","","",{"$f":"IF(CRF3<>\"\",CRE1+1,\"\")","v":""},"","","","","","","","","","","","","","","","","","","","","","","","","","","","","","","","","","","","","","","","","","","","","","","","","","","","","","","","","","","","","","","",{"$f":"IF(CTR3<>\"\",CTQ1+1,\"\")","v":""},"","","","","","","","","","","","","","","","","","","","","","","","","","","","","","","","","","","","","","","","","","","","","","","","","","","","","","","","","","","","","","","",{"$f":"IF(CWD3<>\"\",CWC1+1,\"\")","v":""},"","","","","","","","","","","","","","","","","","","","","","","","","","","","","","","","","","","","","","","","","","","","","","","","","","","","","","","","","","","","","","","",{"$f":"IF(CYP3<>\"\",CYO1+1,\"\")","v":""},"","","","","","","","","","","","","","","","","","","","","","","","","","","","","","","","","","","","","","","","","","","","","","","","","","","","","","","","","","","","","","","",{"$f":"IF(DBB3<>\"\",DBA1+1,\"\")","v":""},"","","","","","","","","","","","","","","","","","","","","","","","","","","","","","","","","","","","","","","","","","","","","","","","","","","","","","","","","","","","","","","",{"$f":"IF(DDN3<>\"\",DDM1+1,\"\")","v":""},"","","","","","","","","","","","","","","","","","","","","","","","","","","","","","","","","","","","","","","","","","","","","","","","","","","","","","","","","","","","","","","",{"$f":"IF(DFZ3<>\"\",DFY1+1,\"\")","v":""},"","","","","","","","","","","","","","","","","","","","","","","","","","","","","","","","","","","","","","","","","","","","","","","","","","","","","","","","","","","","","","","",{"$f":"IF(DIL3<>\"\",DIK1+1,\"\")","v":""},"","","","","","","","","","","","","","","","","","","","","","","","","","","","","","","","","","","","","","","","","","","","","","","","","","","","","","","","","","","","","","","",{"$f":"IF(DKX3<>\"\",DKW1+1,\"\")","v":""},"","","","","","","","","","","","","","","","","","","","","","","","","","","","","","","","","","","","","","","","","","","","","","","","","","","","","","","","","","","","","","","",{"$f":"IF(DNJ3<>\"\",DNI1+1,\"\")","v":""},"","","","","","","","","","","","","","","","","","","","","","","","","","","","","","","","","","","","","","","","","","","","","","","","","","","","","","","","","","","","","","","",{"$f":"IF(DPV3<>\"\",DPU1+1,\"\")","v":""},"","","","","","","","","","","","","","","","","","","","","","","","","","","","","","","","","","","","","","","","","","","","","","","","","","","","","","","","","","","","","","","",{"$f":"IF(DSH3<>\"\",DSG1+1,\"\")","v":""},"","","","","","","","","","","","","","","","","","","","","","","","","","","","","","","","","","","","","","","","","","","","","","","","","","","","","","","","","","","","","","","",{"$f":"IF(DUT3<>\"\",DUS1+1,\"\")","v":""},"","","","","","","","","","","","","","","","","","","","","","","","","","","","","","","","","","","","","","","","","","","","","","","","","","","","","","","","","","","","","","","",{"$f":"IF(DXF3<>\"\",DXE1+1,\"\")","v":""},"","","","","","","","","","","","","","","","","","","","","","","","","","","","","","","","","","","","","","","","","","","","","","","","","","","","","","","","","","","","","","","",{"$f":"IF(DZR3<>\"\",DZQ1+1,\"\")","v":""},"","","","","","","","","","","","","","","","","","","","","","","","","","","","","","","","","","","","","","","","","","","","","","","","","","","","","","","","","","","","","","","",{"$f":"IF(ECD3<>\"\",ECC1+1,\"\")","v":""},"","","","","","","","","","","","","","","","","","","","","","","","","","","","","","","","","","","","","","","","","","","","","","","","","","","","","","","","","","","","","","","",{"$f":"IF(EEP3<>\"\",EEO1+1,\"\")","v":""},"","","","","","","","","","","","","","","","","","","","","","","","","","","","","","","","","","","","","","","","","","","","","","","","","","","","","","","","","","","","","","","",{"$f":"IF(EHB3<>\"\",EHA1+1,\"\")","v":""},"","","","","","","","","","","","","","","","","","","","","","","","","","","","","","","","","","","","","","","","","","","","","","","","","","","","","","","","","","","","","","","",{"$f":"IF(EJN3<>\"\",EJM1+1,\"\")","v":""},"","","","","","","","","","","","","","","","","","","","","","","","","","","","","","","","","","","","","","","","","","","","","","","","","","","","","","","","","","","","","","","",{"$f":"IF(ELZ3<>\"\",ELY1+1,\"\")","v":""},"","","","","","","","","","","","","","","","","","","","","","","","","","","","","","","","","","","","","","","","","","","","","","","","","","","","","","","","","","","","","","","",{"$f":"IF(EOL3<>\"\",EOK1+1,\"\")","v":""},"","","","","","","","","","","","","","","","","","","","","","","","","","","","","","","","","","","","","","","","","","","","","","","","","","","","","","","","","","","","","","","",{"$f":"IF(EQX3<>\"\",EQW1+1,\"\")","v":""},"","","","","","","","","","","","","","","","","","","","","","","","","","","","","","","","","","","","","","","","","","","","","","","","","","","","","","","","","","","","","","","",{"$f":"IF(ETJ3<>\"\",ETI1+1,\"\")","v":""},"","","","","","","","","","","","","","","","","","","","","","","","","","","","","","","","","","","","","","","","","","","","","","","","","","","","","","","","","","","","","","","",{"$f":"IF(EVV3<>\"\",EVU1+1,\"\")","v":""},"","","","","","","","","","","","","","","","","","","","","","","","","","","","","","","","","","","","","","","","","","","","","","","","","","","","","","","","","","","","","","","",{"$f":"IF(EYH3<>\"\",EYG1+1,\"\")","v":""},"","","","","","","","","","","","","","","","","","","","","","","","","","","","","","","","","","","","","","","","","","","","","","","","","","","","","","","","","","","","","","","",{"$f":"IF(FAT3<>\"\",FAS1+1,\"\")","v":""},"","","","","","","","","","","","","","","","","","","","","","","","","","","","","","","","","","","","","","","","","","","","","","","","","","","","","","","","","","","","","","","",{"$f":"IF(FDF3<>\"\",FDE1+1,\"\")","v":""},"","","","","","","","","","","","","","","","","","","","","","","","","","","","","","","","","","","","","","","","","","","","","","","","","","","","","","","","","","","","","","","",{"$f":"IF(FFR3<>\"\",FFQ1+1,\"\")","v":""},"","","","","","","","","","","","","","","","","","","","","","","","","","","","","","","","","","","","","","","","","","","","","","","","","","","","","","","","","","","","","","","",{"$f":"IF(FID3<>\"\",FIC1+1,\"\")","v":""},"","","","","","","","","","","","","","","","","","","","","","","","","","","","","","","","","","","","","","","","","","","","","","","","","","","","","","","","","","","","","","","",{"$f":"IF(FKP3<>\"\",FKO1+1,\"\")","v":""},"","","","","","","","","","","","","","","","","","","","","","","","","","","","","","","","","","","","","","","","","","","","","","","","","","","","","","","","","","","","","","","",{"$f":"IF(FNB3<>\"\",FNA1+1,\"\")","v":""},"","","","","","","","","","","","","","","","","","","","","","","","","","","","","","","","","","","","","","","","","","","","","","","","","","","","","","","","","","","","","","","",{"$f":"IF(FPN3<>\"\",FPM1+1,\"\")","v":""},"","","","","","","","","","","","","","","","","","","","","","","","","","","","","","","","","","","","","","","","","","","","","","","","","","","","","","","","","","","","","","","",{"$f":"IF(FRZ3<>\"\",FRY1+1,\"\")","v":""},"","","","","","","","","","","","","","","","","","","","","","","","","","","","","","","","","","","","","","","","","","","","","","","","","","","","","","","","","","","","","","","",{"$f":"IF(FUL3<>\"\",FUK1+1,\"\")","v":""},"","","","","","","","","","","","","","","","","","","","","","","","","","","","","","","","","","","","","","","","","","","","","","","","","","","","","","","","","","","","","","","",{"$f":"IF(FWX3<>\"\",FWW1+1,\"\")","v":""},"","","","","","","","","","","","","","","","","","","","","","","","","","","","","","","","","","","","","","","","","","","","","","","","","","","","","","","","","","","","","","","",{"$f":"IF(FZJ3<>\"\",FZI1+1,\"\")","v":""},"","","","","","","","","","","","","","","","","","","","","","","","","","","","","","","","","","","","","","","","","","","","","","","","","","","","","","","","","","","","","","","",{"$f":"IF(GBV3<>\"\",GBU1+1,\"\")","v":""},"","","","","","","","","","","","","","","","","","","","","","","","","","","","","","","","","","","","","","","","","","","","","","","","","","","","","","","","","","","","","","","",{"$f":"IF(GEH3<>\"\",GEG1+1,\"\")","v":""},"","","","","","","","","","","","","","","","","","","","","","","","","","","","","","","","","","","","","","","","","","","","","","","","","","","","","","","","","","","","","","","",{"$f":"IF(GGT3<>\"\",GGS1+1,\"\")","v":""},"","","","","","","","","","","","","","","","","","","","","","","","","","","","","","","","","","","","","","","","","","","","","","","","","","","","","","","","","","","","","","","",{"$f":"IF(GJF3<>\"\",GJE1+1,\"\")","v":""},"","","","","","","","","","","","","","","","","","","","","","","","","","","","","","","","","","","","","","","","","","","","","","","","","","","","","","","","","","","","","","","",{"$f":"IF(GLR3<>\"\",GLQ1+1,\"\")","v":""},"","","","","","","","","","","","","","","","","","","","","","","","","","","","","","","","","","","","","","","","","","","","","","","","","","","","","","","","","","","","","","","",{"$f":"IF(GOD3<>\"\",GOC1+1,\"\")","v":""},"","","","","","","","","","","","","","","","","","","","","","","","","","","","","","","","","","","","","","","","","","","","","","","","","","","","","","","","","","","","","","","",{"$f":"IF(GQP3<>\"\",GQO1+1,\"\")","v":""},"","","","","","","","","","","","","","","","","","","","","","","","","","","","","","","","","","","","","","","","","","","","","","","","","","","","","","","","","","","","","","","",{"$f":"IF(GTB3<>\"\",GTA1+1,\"\")","v":""},"","","","","","","","","","","","","","","","","","","","","","","","","","","","","","","","","","","","","","","","","","","","","","","","","","","","","","","","","","","","","","","",{"$f":"IF(GVN3<>\"\",GVM1+1,\"\")","v":""},"","","","","","","","","","","","","","","","","","","","","","","","","","","","","","","","","","","","","","","","","","","","","","","","","","","","","","","","","","","","","","","",{"$f":"IF(GXZ3<>\"\",GXY1+1,\"\")","v":""},"","","","","","","","","","","","","","","","","","","","","","","","","","","","","","","","","","","","","","","","","","","","","","","","","","","","","","","","","","","","","","","",{"$f":"IF(HAL3<>\"\",HAK1+1,\"\")","v":""},"","","","","","","","","","","","","","","","","","","","","","","","","","","","","","","","","","","","","","","","","","","","","","","","","","","","","","","","","","","","","","","",{"$f":"IF(HCX3<>\"\",HCW1+1,\"\")","v":""},"","","","","","","","","","","","","","","","","","","","","","","","","","","","","","","","","","","","","","","","","","","","","","","","","","","","","","","","","","","","","","","",{"$f":"IF(HFJ3<>\"\",HFI1+1,\"\")","v":""},"","","","","","","","","","","","","","","","","","","","","","","","","","","","","","","","","","","","","","","","","","","","","","","","","","","","","","","","","","","","","","","",{"$f":"IF(HHV3<>\"\",HHU1+1,\"\")","v":""},"","","","","","","","","","","","","","","","","","","","","","","","","","","","","","","","","","","","","","","","","","","","","","","","","","","","","","","","","","","","","","","",{"$f":"IF(HKH3<>\"\",HKG1+1,\"\")","v":""},"","","","","","","","","","","","","","","","","","","","","","","","","","","","","","","","","","","","","","","","","","","","","","","","","","","","","","","","","","","","","","","",{"$f":"IF(HMT3<>\"\",HMS1+1,\"\")","v":""},"","","","","","","","","","","","","","","","","","","","","","","","","","","","","","","","","","","","","","","","","","","","","","","","","","","","","","","","","","","","","","","",{"$f":"IF(HPF3<>\"\",HPE1+1,\"\")","v":""},"","","","","","","","","","","","","","","","","","","","","","","","","","","","","","","","","","","","","","","","","","","","","","","","","","","","","","","","","","","","","","","",{"$f":"IF(HRR3<>\"\",HRQ1+1,\"\")","v":""},"","","","","","","","","","","","","","","","","","","","","","","","","","","","","","","","","","","","","","","","","","","","","","","","","","","","","","","","","","","","","","","",{"$f":"IF(HUD3<>\"\",HUC1+1,\"\")","v":""},"","","","","","","","","","","","","","","","","","","","","","","","","","","","","","","","","","","","","","","","","","","","","","","","","","","","","","","","","","","","","","","",{"$f":"IF(HWP3<>\"\",HWO1+1,\"\")","v":""},"","","","","","","","","","","","","","","","","","","","","","","","","","","","","","","","","","","","","","","","","","","","","","","","","","","","","","","","","","","","","","","",{"$f":"IF(HZB3<>\"\",HZA1+1,\"\")","v":""},"","","","","","","","","","","","","","","","","","","","","","","","","","","","","","","","","","","","","","","","","","","","","","","","","","","","","","","","","","","","","","","",{"$f":"IF(IBN3<>\"\",IBM1+1,\"\")","v":""},"","","","","","","","","","","","","","","","","","","","","","","","","","","","","","","","","","","","","","","","","","","","","","","","","","","","","","","","","","","","","","","",{"$f":"IF(IDZ3<>\"\",IDY1+1,\"\")","v":""},"","","","","","","","","","","","","","","","","","","","","","","","","","","","","","","","","","","","","","","","","","","","","","","","","","","","","","","","","","","","","","","",{"$f":"IF(IGL3<>\"\",IGK1+1,\"\")","v":""},"","","","","","","","","","","","","","","","","","","","","","","","","","","","","","","","","","","","","","","","","","","","","","","","","","","","","","","","","","","","","","","",{"$f":"IF(IIX3<>\"\",IIW1+1,\"\")","v":""},"","","","","","","","","","","","","","","","","","","","","","","","","","","","","","","","","","","","","","","","","","","","","","","","","","","","","","","","","","","","","","","",{"$f":"IF(ILJ3<>\"\",ILI1+1,\"\")","v":""},"","","","","","","","","","","","","","","","","","","","","","","","","","","","","","","","","","","","","","","","","","","","","","","","","","","","","","","","","","","","","","","",{"$f":"IF(INV3<>\"\",INU1+1,\"\")","v":""},"","","","","","","","","","","","","","","","","","","","","","","","","","","","","","","","","","","","","","","","","","","","","","","","","","","","","","","","","","","","","","","",{"$f":"IF(IQH3<>\"\",IQG1+1,\"\")","v":""},"","","","","","","","","","","","","","","","","","","","","","","","","","","","","","","","","","","","","","","","","","","","","","","","","","","","","","","","","","","","","","","",{"$f":"IF(IST3<>\"\",ISS1+1,\"\")","v":""},"","","","","","","","","","","","","","","","","","","","","","","","","","","","","","","","","","","","","","","","","","","","","","","","","","","","","","","","","","","","","","","",{"$f":"IF(IVF3<>\"\",IVE1+1,\"\")","v":""},"","","","","","","","","","","","","","","","","","","","","","","","","","","","","","","","","","","","","","","","","","","","","","","","","","","","","","","","","","","","","","","",{"$f":"IF(IXR3<>\"\",IXQ1+1,\"\")","v":""},"","","","","","","","","","","","","","","","","","","","","","","","","","","","","","","","","","","","","","","","","","","","","","","","","","","","","","","","","","","","","","","",{"$f":"IF(JAD3<>\"\",JAC1+1,\"\")","v":""},"","","","","","","","","","","","","","","","","","","","","","","","","","","","","","","","","","","","","","","","","","","","","","","","","","","","","","","","","","","","","","","",{"$f":"IF(JCP3<>\"\",JCO1+1,\"\")","v":""},"","","","","","","","","","","","","","","","","","","","","","","","","","","","","","","","","","","","","","","","","","","","","","","","","","","","","","","","","","","","","","","",{"$f":"IF(JFB3<>\"\",JFA1+1,\"\")","v":""},"","","","","","","","","","","","","","","","","","","","","","","","","","","","","","","","","","","","","","","","","","","","","","","","","","","","","","","","","","","","","","","",{"$f":"IF(JHN3<>\"\",JHM1+1,\"\")","v":""},"","","","","","","","","","","","","","","","","","","","","","","","","","","","","","","","","","","","","","","","","","","","","","","","","","","","","","","","","","","","","","","",{"$f":"IF(JJZ3<>\"\",JJY1+1,\"\")","v":""},"","","","","","","","","","","","","","","","","","","","","","","","","","","","","","","","","","","","","","","","","","","","","","","","","","","","","","","","","","","","","","","",{"$f":"IF(JML3<>\"\",JMK1+1,\"\")","v":""},"","","","","","","","","","","","","","","","","","","","","","","","","","","","","","","","","","","","","","","","","","","","","","","","","","","","","","","","","","","","","","","",{"$f":"IF(JOX3<>\"\",JOW1+1,\"\")","v":""},"","","","","","","","","","","","","","","","","","","","","","","","","","","","","","","","","","","","","","","","","","","","","","","","","","","","","","","","","","","","","","","",{"$f":"IF(JRJ3<>\"\",JRI1+1,\"\")","v":""},"","","","","","","","","","","","","","","","","","","","","","","","","","","","","","","","","","","","","","","","","","","","","","","","","","","","","","","","","","","","","","","",{"$f":"IF(JTV3<>\"\",JTU1+1,\"\")","v":""},"","","","","","","","","","","","","","","","","","","","","","","","","","","","","","","","","","","","","","","","","","","","","","","","","","","","","","","","","","","","","","","",{"$f":"IF(JWH3<>\"\",JWG1+1,\"\")","v":""},"","","","","","","","","","","","","","","","","","","","","","","","","","","","","","","","","","","","","","","","","","","","","","","","","","","","","","","","","","","","","","","",{"$f":"IF(JYT3<>\"\",JYS1+1,\"\")","v":""},"","","","","","","","","","","","","","","","","","","","","","","","","","","","","","","","","","","","","","","","","","","","","","","","","","","","","","","","","","","","","","","",{"$f":"IF(KBF3<>\"\",KBE1+1,\"\")","v":""},"","","","","","","","","","","","","","","","","","","","","","","","","","","","","","","","","","","","","","","","","","","","","","","","","","","","","","","","","","","","","","","",{"$f":"IF(KDR3<>\"\",KDQ1+1,\"\")","v":""},"","","","","","","","","","","","","","","","","","","","","","","","","","","","","","","","","","","","","","","","","","","","","","","","","","","","","","","","","","","","","","","",{"$f":"IF(KGD3<>\"\",KGC1+1,\"\")","v":""},"","","","","","","","","","","","","","","","","","","","","","","","","","","","","","","","","","","","","","","","","","","","","","","","","","","","","","","","","","","","","","","",{"$f":"IF(KIP3<>\"\",KIO1+1,\"\")","v":""},"","","","","","","","","","","","","","","","","","","","","","","","","","","","","","","","","","","","","","","","","","","","","","","","","","","","","","","","","","","","","","","",{"$f":"IF(KLB3<>\"\",KLA1+1,\"\")","v":""},"","","","","","","","","","","","","","","","","","","","","","","","","","","","","","","","","","","","","","","","","","","","","","","","","","","","","","","","","","","","","","","",{"$f":"IF(KNN3<>\"\",KNM1+1,\"\")","v":""},"","","","","","","","","","","","","","","","","","","","","","","","","","","","","","","","","","","","","","","","","","","","","","","","","","","","","","","","","","","","","","","",{"$f":"IF(KPZ3<>\"\",KPY1+1,\"\")","v":""},"","","","","","","","","","","","","","","","","","","","","","","","","","","","","","","","","","","","","","","","","","","","","","","","","","","","","","","","","","","","","","","",{"$f":"IF(KSL3<>\"\",KSK1+1,\"\")","v":""},"","","","","","","","","","","","","","","","","","","","","","","","","","","","","","","","","","","","","","","","","","","","","","","","","","","","","","","","","","","","","","","",{"$f":"IF(KUX3<>\"\",KUW1+1,\"\")","v":""},"","","","","","","","","","","","","","","","","","","","","","","","","","","","","","","","","","","","","","","","","","","","","","","","","","","","","","","","","","","","","","","",{"$f":"IF(KXJ3<>\"\",KXI1+1,\"\")","v":""},"","","","","","","","","","","","","","","","","","","","","","","","","","","","","","","","","","","","","","","","","","","","","","","","","","","","","","","","","","","","","","","",{"$f":"IF(KZV3<>\"\",KZU1+1,\"\")","v":""},"","","","","","","","","","","","","","","","","","","","","","","","","","","","","","","","","","","","","","","","","","","","","","","","","","","","","","","","","","","","","","","",{"$f":"IF(LCH3<>\"\",LCG1+1,\"\")","v":""},"","","","","","","","","","","","","","","","","","","","","","","","","","","","","","","","","","","","","","","","","","","","","","","","","","","","","","","","","","","","","","","",{"$f":"IF(LET3<>\"\",LES1+1,\"\")","v":""},"","","","","","","","","","","","","","","","","","","","","","","","","","","","","","","","","","","","","","","","","","","","","","","","","","","","","","","","","","","","","","","",{"$f":"IF(LHF3<>\"\",LHE1+1,\"\")","v":""},"","","","","","","","","","","","","","","","","","","","","","","","","","","","","","","","","","","","","","","","","","","","","","","","","","","","","","","","","","","","","","","",{"$f":"IF(LJR3<>\"\",LJQ1+1,\"\")","v":""},"","","","","","","","","","","","","","","","","","","","","","","","","","","","","","","","","","","","","","","","","","","","","","","","","","","","","","","","","","","","","","","",{"$f":"IF(LMD3<>\"\",LMC1+1,\"\")","v":""},"","","","","","","","","","","","","","","","","","","","","","","","","","","","","","","","","","","","","","","","","","","","","","","","","","","","","","","","","","","","","","","",{"$f":"IF(LOP3<>\"\",LOO1+1,\"\")","v":""},"","","","","","","","","","","","","","","","","","","","","","","","","","","","","","","","","","","","","","","","","","","","","","","","","","","","","","","","","","","","","","","",{"$f":"IF(LRB3<>\"\",LRA1+1,\"\")","v":""},"","","","","","","","","","","","","","","","","","","","","","","","","","","","","","","","","","","","","","","","","","","","","","","","","","","","","","","","","","","","","","","",{"$f":"IF(LTN3<>\"\",LTM1+1,\"\")","v":""},"","","","","","","","","","","","","","","","","","","","","","","","","","","","","","","","","","","","","","","","","","","","","","","","","","","","","","","","","","","","","","","",{"$f":"IF(LVZ3<>\"\",LVY1+1,\"\")","v":""},"","","","","","","","","","","","","","","","","","","","","","","","","","","","","","","","","","","","","","","","","","","","","","","","","","","","","","","","","","","","","","","",{"$f":"IF(LYL3<>\"\",LYK1+1,\"\")","v":""},"","","","","","","","","","","","","","","","","","","","","","","","","","","","","","","","","","","","","","","","","","","","","","","","","","","","","","","","","","","","","","","",{"$f":"IF(MAX3<>\"\",MAW1+1,\"\")","v":""},"","","","","","","","","","","","","","","","","","","","","","","","","","","","","","","","","","","","","","","","","","","","","","","","","","","","","","","","","","","","","","","",{"$f":"IF(MDJ3<>\"\",MDI1+1,\"\")","v":""},"","","","","","","","","","","","","","","","","","","","","","","","","","","","","","","","","","","","","","","","","","","","","","","","","","","","","","","","","","","","","","","",{"$f":"IF(MFV3<>\"\",MFU1+1,\"\")","v":""},"","","","","","","","","","","","","","","","","","","","","","","","","","","","","","","","","","","","","","","","","","","","","","","","","","","","","","","","","","","","","","","",{"$f":"IF(MIH3<>\"\",MIG1+1,\"\")","v":""},"","","","","","","","","","","","","","","","","","","","","","","","","","","","","","","","","","","","","","","","","","","","","","","","","","","","","","","","","","","","","","","",{"$f":"IF(MKT3<>\"\",MKS1+1,\"\")","v":""},"","","","","","","","","","","","","","","","","","","","","","","","","","","","","","","","","","","","","","","","","","","","","","","","","","","","","","","","","","","","","","","",{"$f":"IF(MNF3<>\"\",MNE1+1,\"\")","v":""},"","","","","","","","","","","","","","","","","","","","","","","","","","","","","","","","","","","","","","","","","","","","","","","","","","","","","","","","","","","","","","","",{"$f":"IF(MPR3<>\"\",MPQ1+1,\"\")","v":""},"","","","","","","","","","","","","","","","","","","","","","","","","","","","","","","","","","","","","","","","","","","","","","","","","","","","","","","","","","","","","","","",{"$f":"IF(MSD3<>\"\",MSC1+1,\"\")","v":""},"","","","","","","","","","","","","","","","","","","","","","","","","","","","","","","","","","","","","","","","","","","","","","","","","","","","","","","","","","","","","","","",{"$f":"IF(MUP3<>\"\",MUO1+1,\"\")","v":""},"","","","","","","","","","","","","","","","","","","","","","","","","","","","","","","","","","","","","","","","","","","","","","","","","","","","","","","","","","","","","","","",{"$f":"IF(MXB3<>\"\",MXA1+1,\"\")","v":""},"","","","","","","","","","","","","","","","","","","","","","","","","","","","","","","","","","","","","","","","","","","","","","","","","","","","","","","","","","","","","","","",{"$f":"IF(MZN3<>\"\",MZM1+1,\"\")","v":""},"","","","","","","","","","","","","","","","","","","","","","","","","","","","","","","","","","","","","","","","","","","","","","","","","","","","","","","","","","","","","","","",{"$f":"IF(NBZ3<>\"\",NBY1+1,\"\")","v":""},"","","","","","","","","","","","","","","","","","","","","","","","","","","","","","","","","","","","","","","","","","","","","","","","","","","","","","","","","","","","","","","",{"$f":"IF(NEL3<>\"\",NEK1+1,\"\")","v":""},"","","","","","","","","","","","","","","","","","","","","","","","","","","","","","","","","","","","","","","","","","","","","","","","","","","","","","","","","","","","","","","",{"$f":"IF(NGX3<>\"\",NGW1+1,\"\")","v":""},"","","","","","","","","","","","","","","","","","","","","","","","","","","","","","","","","","","","","","","","","","","","","","","","","","","","","","","","","","","","","","","",{"$f":"IF(NJJ3<>\"\",NJI1+1,\"\")","v":""},"","","","","","","","","","","","","","","","","","","","","","","","","","","","","","","","","","","","","","","","","","","","","","","","","","","","","","","","","","","","","","","",{"$f":"IF(NLV3<>\"\",NLU1+1,\"\")","v":""},"","","","","","","","","","","","","","","","","","","","","","","","","","","","","","","","","","","","","","","","","","","","","","","","","","","","","","","","","","","","","","","",{"$f":"IF(NOH3<>\"\",NOG1+1,\"\")","v":""},"","","","","","","","","","","","","","","","","","","","","","","","","","","","","","","","","","","","","","","","","","","","","","","","","","","","","","","","","","","","","","","",{"$f":"IF(NQT3<>\"\",NQS1+1,\"\")","v":""},"","","","","","","","","","","","","","","","","","","","","","","","","","","","","","","","","","","","","","","","","","","","","","","","","","","","","","","","","","","","","","","",{"$f":"IF(NTF3<>\"\",NTE1+1,\"\")","v":""},"","","","","","","","","","","","","","","","","","","","","","","","","","","","","","","","","","","","","","","","","","","","","","","","","","","","","","","","","","","","","","","",{"$f":"IF(NVR3<>\"\",NVQ1+1,\"\")","v":""},"","","","","","","","","","","","","","","","","","","","","","","","","","","","","","","","","","","","","","","","","","","","","","","","","","","","","","","","","","","","","","","",{"$f":"IF(NYD3<>\"\",NYC1+1,\"\")","v":""},"","","","","","","","","","","","","","","","","","","","","","","","","","","","","","","","","","","","","","","","","","","","","","","","","","","","","","","","","","","","","","","",{"$f":"IF(OAP3<>\"\",OAO1+1,\"\")","v":""},"","","","","","","","","","","","","","","","","","","","","","","","","","","","","","","","","","","","","","","","","","","","","","","","","","","","","","","","","","","","","","","",{"$f":"IF(ODB3<>\"\",ODA1+1,\"\")","v":""},"","","","","","","","","","","","","","","","","","","","","","","","","","","","","","","","","","","","","","","","","","","","","","","","","","","","","","","","","","","","","","","",{"$f":"IF(OFN3<>\"\",OFM1+1,\"\")","v":""},"","","","","","","","","","","","","","","","","","","","","","","","","","","","","","","","","","","","","","","","","","","","","","","","","","","","","","","","","","","","","","","",{"$f":"IF(OHZ3<>\"\",OHY1+1,\"\")","v":""},"","","","","","","","","","","","","","","","","","","","","","","","","","","","","","","","","","","","","","","","","","","","","","","","","","","","","","","","","","","","","","","",{"$f":"IF(OKL3<>\"\",OKK1+1,\"\")","v":""},"","","","","","","","","","","","","","","","","","","","","","","","","","","","","","","","","","","","","","","","","","","","","","","","","","","","","","","","","","","","","","","",{"$f":"IF(OMX3<>\"\",OMW1+1,\"\")","v":""},"","","","","","","","","","","","","","","","","","","","","","","","","","","","","","","","","","","","","","","","","","","","","","","","","","","","","","","","","","","","","","","",{"$f":"IF(OPJ3<>\"\",OPI1+1,\"\")","v":""},"","","","","","","","","","","","","","","","","","","","","","","","","","","","","","","","","","","","","","","","","","","","","","","","","","","","","","","","","","","","","","","",{"$f":"IF(ORV3<>\"\",ORU1+1,\"\")","v":""},"","","","","","","","","","","","","","","","","","","","","","","","","","","","","","","","","","","","","","","","","","","","","","","","","","","","","","","","","","","","","","","",{"$f":"IF(OUH3<>\"\",OUG1+1,\"\")","v":""},"","","","","","","","","","","","","","","","","","","","","","","","","","","","","","","","","","","","","","","","","","","","","","","","","","","","","","","","","","","","","","","",{"$f":"IF(OWT3<>\"\",OWS1+1,\"\")","v":""},"","","","","","","","","","","","","","","","","","","","","","","","","","","","","","","","","","","","","","","","","","","","","","","","","","","","","","","","","","","","","","","",{"$f":"IF(OZF3<>\"\",OZE1+1,\"\")","v":""},"","","","","","","","","","","","","","","","","","","","","","","","","","","","","","","","","","","","","","","","","","","","","","","","","","","","","","","","","","","","","","","",{"$f":"IF(PBR3<>\"\",PBQ1+1,\"\")","v":""},"","","","","","","","","","","","","","","","","","","","","","","","","","","","","","","","","","","","","","","","","","","","","","","","","","","","","","","","","","","","","","","",{"$f":"IF(PED3<>\"\",PEC1+1,\"\")","v":""},"","","","","","","","","","","","","","","","","","","","","","","","","","","","","","","","","","","","","","","","","","","","","","","","","","","","","","","","","","","","","","","",{"$f":"IF(PGP3<>\"\",PGO1+1,\"\")","v":""},"","","","","","","","","","","","","","","","","","","","","","","","","","","","","","","","","","","","","","","","","","","","","","","","","","","","","","","","","","","","","","","",{"$f":"IF(PJB3<>\"\",PJA1+1,\"\")","v":""},"","","","","","","","","","","","","","","","","","","","","","","","","","","","","","","","","","","","","","","","","","","","","","","","","","","","","","","","","","","","","","","",{"$f":"IF(PLN3<>\"\",PLM1+1,\"\")","v":""},"","","","","","","","","","","","","","","","","","","","","","","","","","","","","","","","","","","","","","","","","","","","","","","","","","","","","","","","","","","","","","","",{"$f":"IF(PNZ3<>\"\",PNY1+1,\"\")","v":""},"","","","","","","","","","","","","","","","","","","","","","","","","","","","","","","","","","","","","","","","","","","","","","","","","","","","","","","","","","","","","","","",{"$f":"IF(PQL3<>\"\",PQK1+1,\"\")","v":""},"","","","","","","","","","","","","","","","","","","","","","","","","","","","","","","","","","","","","","","","","","","","","","","","","","","","","","","","","","","","","","","",{"$f":"IF(PSX3<>\"\",PSW1+1,\"\")","v":""},"","","","","","","","","","","","","","","","","","","","","","","","","","","","","","","","","","","","","","","","","","","","","","","","","","","","","","","","","","","","","","","",{"$f":"IF(PVJ3<>\"\",PVI1+1,\"\")","v":""},"","","","","","","","","","","","","","","","","","","","","","","","","","","","","","","","","","","","","","","","","","","","","","","","","","","","","","","","","","","","","","","",{"$f":"IF(PXV3<>\"\",PXU1+1,\"\")","v":""},"","","","","","","","","","","","","","","","","","","","","","","","","","","","","","","","","","","","","","","","","","","","","","","","","","","","","","","","","","","","","","","",{"$f":"IF(QAH3<>\"\",QAG1+1,\"\")","v":""},"","","","","","","","","","","","","","","","","","","","","","","","","","","","","","","","","","","","","","","","","","","","","","","","","","","","","","","","","","","","","","","",{"$f":"IF(QCT3<>\"\",QCS1+1,\"\")","v":""},"","","","","","","","","","","","","","","","","","","","","","","","","","","","","","","","","","","","","","","","","","","","","","","","","","","","","","","","","","","","","","","",{"$f":"IF(QFF3<>\"\",QFE1+1,\"\")","v":""},"","","","","","","","","","","","","","","","","","","","","","","","","","","","","","","","","","","","","","","","","","","","","","","","","","","","","","","","","","","","","","","",{"$f":"IF(QHR3<>\"\",QHQ1+1,\"\")","v":""},"","","","","","","","","","","","","","","","","","","","","","","","","","","","","","","","","","","","","","","","","","","","","","","","","","","","","","","","","","","","","","","",{"$f":"IF(QKD3<>\"\",QKC1+1,\"\")","v":""},"","","","","","","","","","","","","","","","","","","","","","","","","","","","","","","","","","","","","","","","","","","","","","","","","","","","","","","","","","","","","","","",{"$f":"IF(QMP3<>\"\",QMO1+1,\"\")","v":""},"","","","","","","","","","","","","","","","","","","","","","","","","","","","","","","","","","","","","","","","","","","","","","","","","","","","","","","","","","","","","","","",{"$f":"IF(QPB3<>\"\",QPA1+1,\"\")","v":""},"","","","","","","","","","","","","","","","","","","","","","","","","","","","","","","","","","","","","","","","","","","","","","","","","","","","","","","","","","","","","","","",{"$f":"IF(QRN3<>\"\",QRM1+1,\"\")","v":""},"","","","","","","","","","","","","","","","","","","","","","","","","","","","","","","","","","","","","","","","","","","","","","","","","","","","","","","","","","","","","","","",{"$f":"IF(QTZ3<>\"\",QTY1+1,\"\")","v":""},"","","","","","","","","","","","","","","","","","","","","","","","","","","","","","","","","","","","","","","","","","","","","","","","","","","","","","","","","","","","","","","",{"$f":"IF(QWL3<>\"\",QWK1+1,\"\")","v":""},"","","","","","","","","","","","","","","","","","","","","","","","","","","","","","","","","","","","","","","","","","","","","","","","","","","","","","","","","","","","","","","",{"$f":"IF(QYX3<>\"\",QYW1+1,\"\")","v":""},"","","","","","","","","","","","","","","","","","","","","","","","","","","","","","","","","","","","","","","","","","","","","","","","","","","","","","","","","","","","","","","",{"$f":"IF(RBJ3<>\"\",RBI1+1,\"\")","v":""},"","","","","","","","","","","","","","","","","","","","","","","","","","","","","","","","","","","","","","","","","","","","","","","","","","","","","","","","","","","","","","","",{"$f":"IF(RDV3<>\"\",RDU1+1,\"\")","v":""},"","","","","","","","","","","","","","","","","","","","","","","","","","","","","","","","","","","","","","","","","","","","","","","","","","","","","","","","","","","","","","","",{"$f":"IF(RGH3<>\"\",RGG1+1,\"\")","v":""},"","","","","","","","","","","","","","","","","","","","","","","","","","","","","","","","","","","","","","","","","","","","","","","","","","","","","","","","","","","","","","","",{"$f":"IF(RIT3<>\"\",RIS1+1,\"\")","v":""},"","","","","","","","","","","","","","","","","","","","","","","","","","","","","","","","","","","","","","","","","","","","","","","","","","","","","","","","","","","","","","","",{"$f":"IF(RLF3<>\"\",RLE1+1,\"\")","v":""},"","","","","","","","","","","","","","","","","","","","","","","","","","","","","","","","","","","","","","","","","","","","","","","","","","","","","","","","","","","","","","","",{"$f":"IF(RNR3<>\"\",RNQ1+1,\"\")","v":""},"","","","","","","","","","","","","","","","","","","","","","","","","","","","","","","","","","","","","","","","","","","","","","","","","","","","","","","","","","","","","","","",{"$f":"IF(RQD3<>\"\",RQC1+1,\"\")","v":""},"","","","","","","","","","","","","","","","","","","","","","","","","","","","","","","","","","","","","","","","","","","","","","","","","","","","","","","","","","","","","","","",{"$f":"IF(RSP3<>\"\",RSO1+1,\"\")","v":""},"","","","","","","","","","","","","","","","","","","","","","","","","","","","","","","","","","","","","","","","","","","","","","","","","","","","","","","","","","","","","","","",{"$f":"IF(RVB3<>\"\",RVA1+1,\"\")","v":""},"","","","","","","","","","","","","","","","","","","","","","","","","","","","","","","","","","","","","","","","","","","","","","","","","","","","","","","","","","","","","","","",{"$f":"IF(RXN3<>\"\",RXM1+1,\"\")","v":""},"","","","","","","","","","","","","","","","","","","","","","","","","","","","","","","","","","","","","","","","","","","","","","","","","","","","","","","","","","","","","","","",{"$f":"IF(RZZ3<>\"\",RZY1+1,\"\")","v":""},"","","","","","","","","","","","","","","","","","","","","","","","","","","","","","","","","","","","","","","","","","","","","","","","","","","","","","","","","","","","","","","",{"$f":"IF(SCL3<>\"\",SCK1+1,\"\")","v":""},"","","","","","","","","","","","","","","","","","","","","","","","","","","","","","","","","","","","","","","","","","","","","","","","","","","","","","","","","","","","","","","",{"$f":"IF(SEX3<>\"\",SEW1+1,\"\")","v":""},"","","","","","","","","","","","","","","","","","","","","","","","","","","","","","","","","","","","","","","","","","","","","","","","","","","","","","","","","","","","","","","",{"$f":"IF(SHJ3<>\"\",SHI1+1,\"\")","v":""},"","","","","","","","","","","","","","","","","","","","","","","","","","","","","","","","","","","","","","","","","","","","","","","","","","","","","","","","","","","","","","","",{"$f":"IF(SJV3<>\"\",SJU1+1,\"\")","v":""},"","","","","","","","","","","","","","","","","","","","","","","","","","","","","","","","","","","","","","","","","","","","","","","","","","","","","","","","","","","","","","","",{"$f":"IF(SMH3<>\"\",SMG1+1,\"\")","v":""},"","","","","","","","","","","","","","","","","","","","","","","","","","","","","","","","","","","","","","","","","","","","","","","","","","","","","","","","","","","","","","","",{"$f":"IF(SOT3<>\"\",SOS1+1,\"\")","v":""},"","","","","","","","","","","","","","","","","","","","","","","","","","","","","","","","","","","","","","","","","","","","","","","","","","","","","","","","","","","","","","","",{"$f":"IF(SRF3<>\"\",SRE1+1,\"\")","v":""},"","","","","","","","","","","","","","","","","","","","","","","","","","","","","","","","","","","","","","","","","","","","","","","","","","","","","","","","","","","","","","","",{"$f":"IF(STR3<>\"\",STQ1+1,\"\")","v":""},"","","","","","","","","","","","","","","","","","","","","","","","","","","","","","","","","","","","","","","","","","","","","","","","","","","","","","","","","","","","","","","",{"$f":"IF(SWD3<>\"\",SWC1+1,\"\")","v":""},"","","","","","","","","","","","","","","","","","","","","","","","","","","","","","","","","","","","","","","","","","","","","","","","","","","","","","","","","","","","","","","",{"$f":"IF(SYP3<>\"\",SYO1+1,\"\")","v":""},"","","","","","","","","","","","","","","","","","","","","","","","","","","","","","","","","","","","","","","","","","","","","","","","","","","","","","","","","","","","","","","",{"$f":"IF(TBB3<>\"\",TBA1+1,\"\")","v":""},"","","","","","","","","","","","","","","","","","","","","","","","","","","","","","","","","","","","","","","","","","","","","","","","","","","","","","","","","","","","","","","",{"$f":"IF(TDN3<>\"\",TDM1+1,\"\")","v":""},"","","","","","","","","","","","","","","","","","","","","","","","","","","","","","","","","","","","","","","","","","","","","","","","","","","","","","","","","","","","","","","",{"$f":"IF(TFZ3<>\"\",TFY1+1,\"\")","v":""},"","","","","","","","","","","","","","","","","","","","","","","","","","","","","","","","","","","","","","","","","","","","","","","","","","","","","","","","","","","","","","","",{"$f":"IF(TIL3<>\"\",TIK1+1,\"\")","v":""},"","","","","","","","","","","","","","","","","","","","","","","","","","","","","","","","","","","","","","","","","","","","","","","","","","","","","","","","","","","","","","","",{"$f":"IF(TKX3<>\"\",TKW1+1,\"\")","v":""},"","","","","","","","","","","","","","","","","","","","","","","","","","","","","","","","","","","","","","","","","","","","","","","","","","","","","","","","","","","","","","","",{"$f":"IF(TNJ3<>\"\",TNI1+1,\"\")","v":""},"","","","","","","","","","","","","","","","","","","","","","","","","","","","","","","","","","","","","","","","","","","","","","","","","","","","","","","","","","","","","","","",{"$f":"IF(TPV3<>\"\",TPU1+1,\"\")","v":""},"","","","","","","","","","","","","","","","","","","","","","","","","","","","","","","","","","","","","","","","","","","","","","","","","","","","","","","","","","","","","","","",{"$f":"IF(TSH3<>\"\",TSG1+1,\"\")","v":""},"","","","","","","","","","","","","","","","","","","","","","","","","","","","","","","","","","","","","","","","","","","","","","","","","","","","","","","","","","","","","","","",{"$f":"IF(TUT3<>\"\",TUS1+1,\"\")","v":""},"","","","","","","","","","","","","","","","","","","","","","","","","","","","","","","","","","","","","","","","","","","","","","","","","","","","","","","","","","","","","","","",{"$f":"IF(TXF3<>\"\",TXE1+1,\"\")","v":""},"","","","","","","","","","","","","","","","","","","","","","","","","","","","","","","","","","","","","","","","","","","","","","","","","","","","","","","","","","","","","","","",{"$f":"IF(TZR3<>\"\",TZQ1+1,\"\")","v":""},"","","","","","","","","","","","","","","","","","","","","","","","","","","","","","","","","","","","","","","","","","","","","","","","","","","","","","","","","","","","","","","",{"$f":"IF(UCD3<>\"\",UCC1+1,\"\")","v":""},"","","","","","","","","","","","","","","","","","","","","","","","","","","","","","","","","","","","","","","","","","","","","","","","","","","","","","","","","","","","","","","",{"$f":"IF(UEP3<>\"\",UEO1+1,\"\")","v":""},"","","","","","","","","","","","","","","","","","","","","","","","","","","","","","","","","","","","","","","","","","","","","","","","","","","","","","","","","","","","","","","",{"$f":"IF(UHB3<>\"\",UHA1+1,\"\")","v":""},"","","","","","","","","","","","","","","","","","","","","","","","","","","","","","","","","","","","","","","","","","","","","","","","","","","","","","","","","","","","","","","",{"$f":"IF(UJN3<>\"\",UJM1+1,\"\")","v":""},"","","","","","","","","","","","","","","","","","","","","","","","","","","","","","","","","","","","","","","","","","","","","","","","","","","","","","","","","","","","","","","",{"$f":"IF(ULZ3<>\"\",ULY1+1,\"\")","v":""},"","","","","","","","","","","","","","","","","","","","","","","","","","","","","","","","","","","","","","","","","","","","","","","","","","","","","","","","","","","","","","","",{"$f":"IF(UOL3<>\"\",UOK1+1,\"\")","v":""},"","","","","","","","","","","","","","","","","","","","","","","","","","","","","","","","","","","","","","","","","","","","","","","","","","","","","","","","","","","","","","","",{"$f":"IF(UQX3<>\"\",UQW1+1,\"\")","v":""},"","","","","","","","","","","","","","","","","","","","","","","","","","","","","","","","","","","","","","","","","","","","","","","","","","","","","","","","","","","","","","","",{"$f":"IF(UTJ3<>\"\",UTI1+1,\"\")","v":""},"","","","","","","","","","","","","","","","","","","","","","","","","","","","","","","","","","","","","","","","","","","","","","","","","","","","","","","","","","","","","","","",{"$f":"IF(UVV3<>\"\",UVU1+1,\"\")","v":""},"","","","","","","","","","","","","","","","","","","","","","","","","","","","","","","","","","","","","","","","","","","","","","","","","","","","","","","","","","","","","","","",{"$f":"IF(UYH3<>\"\",UYG1+1,\"\")","v":""},"","","","","","","","","","","","","","","","","","","","","","","","","","","","","","","","","","","","","","","","","","","","","","","","","","","","","","","","","","","","","","","",{"$f":"IF(VAT3<>\"\",VAS1+1,\"\")","v":""},"","","","","","","","","","","","","","","","","","","","","","","","","","","","","","","","","","","","","","","","","","","","","","","","","","","","","","","","","","","","","","","",{"$f":"IF(VDF3<>\"\",VDE1+1,\"\")","v":""},"","","","","","","","","","","","","","","","","","","","","","","","","","","","","","","","","","","","","","","","","","","","","","","","","","","","","","","","","","","","","","","",{"$f":"IF(VFR3<>\"\",VFQ1+1,\"\")","v":""},"","","","","","","","","","","","","","","","","","","","","","","","","","","","","","","","","","","","","","","","","","","","","","","","","","","","","","","","","","","","","","","",{"$f":"IF(VID3<>\"\",VIC1+1,\"\")","v":""},"","","","","","","","","","","","","","","","","","","","","","","","","","","","","","","","","","","","","","","","","","","","","","","","","","","","","","","","","","","","","","","",{"$f":"IF(VKP3<>\"\",VKO1+1,\"\")","v":""},"","","","","","","","","","","","","","","","","","","","","","","","","","","","","","","","","","","","","","","","","","","","","","","","","","","","","","","","","","","","","","","",{"$f":"IF(VNB3<>\"\",VNA1+1,\"\")","v":""},"","","","","","","","","","","","","","","","","","","","","","","","","","","","","","","","","","","","","","","","","","","","","","","","","","","","","","","","","","","","","","","",{"$f":"IF(VPN3<>\"\",VPM1+1,\"\")","v":""},"","","","","","","","","","","","","","","","","","","","","","","","","","","","","","","","","","","","","","","","","","","","","","","","","","","","","","","","","","","","","","","",{"$f":"IF(VRZ3<>\"\",VRY1+1,\"\")","v":""},"","","","","","","","","","","","","","","","","","","","","","","","","","","","","","","","","","","","","","","","","","","","","","","","","","","","","","","","","","","","","","","",{"$f":"IF(VUL3<>\"\",VUK1+1,\"\")","v":""},"","","","","","","","","","","","","","","","","","","","","","","","","","","","","","","","","","","","","","","","","","","","","","","","","","","","","","","","","","","","","","","",{"$f":"IF(VWX3<>\"\",VWW1+1,\"\")","v":""},"","","","","","","","","","","","","","","","","","","","","","","","","","","","","","","","","","","","","","","","","","","","","","","","","","","","","","","","","","","","","","","",{"$f":"IF(VZJ3<>\"\",VZI1+1,\"\")","v":""},"","","","","","","","","","","","","","","","","","","","","","","","","","","","","","","","","","","","","","","","","","","","","","","","","","","","","","","","","","","","","","","",{"$f":"IF(WBV3<>\"\",WBU1+1,\"\")","v":""},"","","","","","","","","","","","","","","","","","","","","","","","","","","","","","","","","","","","","","","","","","","","","","","","","","","","","","","","","","","","","","","",{"$f":"IF(WEH3<>\"\",WEG1+1,\"\")","v":""},"","","","","","","","","","","","","","","","","","","","","","","","","","","","","","","","","","","","","","","","","","","","","","","","","","","","","","","","","","","","","","","",{"$f":"IF(WGT3<>\"\",WGS1+1,\"\")","v":""},"","","","","","","","","","","","","","","","","","","","","","","","","","","","","","","","","","","","","","","","","","","","","","","","","","","","","","","","","","","","","","","",{"$f":"IF(WJF3<>\"\",WJE1+1,\"\")","v":""},"","","","","","","","","","","","","","","","","","","","","","","","","","","","","","","","","","","","","","","","","","","","","","","","","","","","","","","","","","","","","","","",{"$f":"IF(WLR3<>\"\",WLQ1+1,\"\")","v":""},"","","","","","","","","","","","","","","","","","","","","","","","","","","","","","","","","","","","","","","","","","","","","","","","","","","","","","","","","","","","","","","",{"$f":"IF(WOD3<>\"\",WOC1+1,\"\")","v":""},"","","","","","","","","","","","","","","","","","","","","","","","","","","","","","","","","","","","","","","","","","","","","","","","","","","","","","","","","","","","","","","",{"$f":"IF(WQP3<>\"\",WQO1+1,\"\")","v":""},"","","","","","","","","","","","","","","","","","","","","","","","","","","","","","","","","","","","","","","","","","","","","","","","","","","","","","","","","","","","","","","",{"$f":"IF(WTB3<>\"\",WTA1+1,\"\")","v":""},"","","","","","","","","","","","","","","","","","","","","","","","","","","","","","","","","","","","","","","","","","","","","","","","","","","","","","","","","","","","","","","",{"$f":"IF(WVN3<>\"\",WVM1+1,\"\")","v":""},"","","","","","","","","","","","","","","","","","","","","","","","","","","","","","","","","","","","","","","","","","","","","","","","","","","","","","","","","","","","","","","",{"$f":"IF(WXZ3<>\"\",WXY1+1,\"\")","v":""},"","","","","","","","","","","","","","","","","","","","","","","","","","","","","","","","","","","","","","","","","","","","","","","","","","","","","","","","","","","","","","","",{"$f":"IF(XAL3<>\"\",XAK1+1,\"\")","v":""},"","","","","","","","","","","","","","","","","","","","","","","","","","","","","","","","","","","","","","","","","","","","","","","","","","","","","","","","","","","","","","","",{"$f":"IF(XCX3<>\"\",XCW1+1,\"\")","v":""},"","","","","","","","","","","","","","","","","","","","","","","","","","","","","","","","","","","","","","","","","","","","","","","","","","","","","","","","","",""]
["año","mes","dias","Parkas June","Buso Yatra"]
[null,null,1,78,84]
[null,null,2,185,106]
[null,null,3,123,115]
[null,null,4,215,113]
[null,null,5,107,144]
[null,null,6,188,131]
[null,null,7,253,127]
[null,null,8,176,133]
[null,null,9,146,139]
[null,null,10,138,97]
[null,null,11,183,135]
[null,null,12,246,121]
[null,null,13,87,94]
[null,null,14,158,131]
[null,null,15,204,146]
[null,null,16,259,144]
[null,null,17,87,166]
[null,null,18,141,160]
[null,null,19,229,177]
[null,null,20,250,225]
[null,null,21,241,139]
[null,null,22,300,237]
[null,null,23,253,169]
[null,null,24,268,226]
[null,null,25,160,139]
[null,null,26,148,129]
[null,null,27,121,196]
[null,null,28,158,164]
[null,null,29,107,146]
[null,null,30,126,194]
[null,2,31,132,170]
[null,null,32,130,197]
[null,null,33,108,233]
[null,null,34,120,245]
[null,null,35,139,257]
[null,null,36,105,230]
[null,null,37,100,244]
[null,null,38,176,240]
[null,null,39,183,212]
[null,null,40,219,228]
[null,null,41,133,219]
[null,null,42,106,248]
[null,null,43,166,241]
[null,null,44,247,241]
[null,null,45,202,264]
[null,null,46,227,248]
[null,null,47,252,278]
[null,null,48,256,235]
[null,null,49,118,255]
[null,null,50,71,248]
[null,null,51,143,273]
[null,null,52,125,252]
[null,null,53,152,227]
[null,null,54,174,255]
[null,null,55,183,262]
[null,null,56,220,257]
[null,null,57,94,221]
[null,null,58,75,220]
[null,null,59,121,227]
[null,null,60,227,211]
[null,null,61,85,236]
[null,3,62,105,222]
[null,null,63,144,265]
[null,null,64,142,271]
[null,null,65,69,321]
[null,null,66,122,321]
[null,null,67,103,330]
[null,null,68,104,352]
[null,null,69,118,330]
[null,null,70,96,332]
[null,null,71,131,339]
[null,null,72,91,359]
[null,null,73,null,79]
[null,null,74,null,59]
[null,null,75,null,51]
[null,null,76,null,50]
[null,null,77,null,85]
[null,null,78,null,49]
[null,null,79,null,38]
[null,null,80,null,65]
[null,null,81,null,63]
[null,null,82,null,63]
[null,null,83,null,55]
[null,null,84,null,90]
[null,null,85,null,81]
[null,null,86,null,94]
[null,null,87,null,37]
[null,null,88,null,34]
[null,null,89,null,91]
[null,null,90,null,42]
[null,null,91]
[null,null,92]
[null,4,93]
[null,null,94]
[null,null,95]
[null,null,96]
[null,null,97]
[null,null,98]
[null,null,99]
[null,null,100]
[null,null,101]
[null,null,102]
[null,null,103]
[null,null,104]
[null,null,105]
[null,null,106]
[null,null,107]
[null,null,108]
[null,null,109]
[null,null,110]
[null,null,111]
[null,null,112]
[null,null,113]
[null,null,114]
[null,null,115]
[null,null,116]
[null,null,117]
[null,null,118]
[null,null,119]
[null,null,120]
[null,null,121]
[null,null,122]
[null,null,123]
[null,5,124]
[null,null,125]
[null,null,126]
[null,null,127]
[null,null,128]
[null,null,129]
[null,null,130]
[null,null,131]
[null,null,132]
[null,null,133]
[null,null,134]
[null,null,135]
[null,null,136]
[null,null,137]
[null,null,138]
[null,null,139]
[null,null,140]
[null,null,141]
[null,null,142]
[null,null,143]
[null,null,144]
[null,null,145]
[null,null,146]
[null,null,147]
[null,null,148]
[null,null,149]
[null,null,150]
[null,null,151]
[null,null,152]
[null,null,153]
[null,null,154]
[null,6,155]
[null,null,156]
[null,null,157]
[null,null,158]
[null,null,159]
[null,null,160]
[null,null,161]
[null,null,162]
[null,null,163]
[null,null,164]
[null,null,165]
[null,null,166]
[null,null,167]
[null,null,168]
[null,null,169]
[null,null,170]
[null,null,171]
[null,null,172]
[null,null,173]
[null,null,174]
[null,null,175]
[null,null,176]
[null,null,177]
[null,null,178]
[null,null,179]
[null,null,180]
[null,null,181]
[null,null,182]
[null,null,183]
[null,null,184]
[null,null,185]
[null,7,186]
[null,null,187]
[null,null,188]
[null,null,189]
[null,null,190]
[null,null,191]
[null,null,192]
[null,null,193]
[null,null,194]
[null,null,195]
[null,null,196]
[null,null,197]
[null,null,198]
[null,null,199]
[null,null,200]
[null,null,201]
[null,null,202]
[null,null,203]
[null,null,204]
[null,null,205]
[null,null,206]
[null,null,207]
[null,null,208]
[null,null,209]
[null,null,210]
[null,null,211]
[null,null,212]
[null,null,213]
[null,null,214]
[null,null,215]
[null,null,216]
[null,8,217]
[null,null,218]
[null,null,219]
[null,null,220]
[null,null,221]
[null,null,222]
[null,null,223]
[null,null,224]
[null,null,225]
[null,null,226]
[null,null,227]
[null,null,228]
[null,null,229]
[null,null,230]
[null,null,231]
[null,null,232]
[null,null,233]
[null,null,234]
[null,null,235]
[null,null,236]
[null,null,237]
[null,null,238]
[null,null,239]
[null,null,240]
[null,null,241]
[null,null,242]
[null,null,243]
[null,null,244]
[null,null,245]
[null,null,246]
[null,null,247]
[null,9,248]
[null,null,249]
[null,null,250]
[null,null,251]
[null,null,252]
[null,null,253]
[null,null,254]
[null,null,255]
[null,null,256]
[null,null,257]
[null,null,258]
[null,null,259]
[null,null,260]
[null,null,261]
[null,null,262]
[null,null,263]
[null,null,264]
[null,null,265]
[null,null,266]
[null,null,267]
[null,null,268]
[null,null,269]
[null,null,270]
[null,null,271]
[null,null,272]
[null,null,273]
[null,null,274]
[null,null,275]
[null,null,276]
[null,null,277]
[null,null,278]
[null,10,279]
[null,null,280]
[null,null,281]
[null,null,282]
[null,null,283]
[null,null,284]
[null,null,285]
[null,null,286]
[null,null,287]
[null,null,288]
[null,null,289]
[null,null,290]
[null,null,291]
[null,null,292]
[null,null,293]
[null,null,294]
[null,null,295]
[null,null,296]
[null,null,297]
[null,null,298]
[null,null,299]
[null,null,300]
[null,null,301]
[null,null,302]
[null,null,303]
[null,null,304]
[null,null,305]
[null,null,306]
[null,null,307]
[null,null,308]
[null,null,309]
[null,11,310]
[null,null,311]
[null,null,312]
[null,null,313]
[null,null,314]
[null,null,315]
[null,null,316]
[null,null,317]
[null,null,318]
[null,null,319]
[null,null,320]
[null,null,321]
[null,null,322]
[null,null,323]
[null,null,324]
[null,null,325]
[null,null,326]
[null,null,327]
[null,null,328]
[null,null,329]
[null,null,330]
[null,null,331]
[null,null,332]
[null,null,333]
[null,null,334]
[null,null,335]
[null,null,336]
[null,null,337]
[null,null,338]
[null,null,339]
[null,null,340]
[null,12,341]
[null,null,342]
[null,null,343]
[null,null,344]
[null,null,345]
[null,null,346]
[null,null,347]
[null,null,348]
[null,null,349]
[null,null,350]
[null,null,351]
[null,null,352]
[null,null,353]
[null,null,354]
[null,null,355]
[null,null,356]
[null,null,357]
[null,null,358]
[null,null,359]
[null,null,360]
[null,null,361]
[null,null,362]
[null,null,363]
[null,null,364]
[null,null,365]
[null,null,366]
[null,null,367]
[null,null,368]
[null,null,369]
[null,null,370]
[null,null,371]

{"sheet":"PARAM","index":2,"n_rows":9,"n_cols":16382,"rows_kept":9,"cut":false,"hidden":true,"merged":[]}
[null,{"$f":"IF(DATA!D2=0,\"\",IFERROR(DATA!D2,\"\"))","v":"Parkas June"},{"$f":"IF(DATA!E2=0,\"\",IFERROR(DATA!E2,\"\"))","v":"Buso Yatra"},{"$f":"IF(DATA!F2=0,\"\",IFERROR(DATA!F2,\"\"))","v":""},{"$f":"IF(DATA!G2=0,\"\",IFERROR(DATA!G2,\"\"))","v":""},{"$f":"IF(DATA!H2=0,\"\",IFERROR(DATA!H2,\"\"))","v":""},{"$f":"IF(DATA!I2=0,\"\",IFERROR(DATA!I2,\"\"))","v":""},{"$f":"IF(DATA!J2=0,\"\",IFERROR(DATA!J2,\"\"))","v":""},{"$f":"IF(DATA!K2=0,\"\",IFERROR(DATA!K2,\"\"))","v":""},{"$f":"IF(DATA!L2=0,\"\",IFERROR(DATA!L2,\"\"))","v":""},{"$f":"IF(DATA!M2=0,\"\",IFERROR(DATA!M2,\"\"))","v":""},{"$f":"IF(DATA!N2=0,\"\",IFERROR(DATA!N2,\"\"))","v":""},{"$f":"IF(DATA!O2=0,\"\",IFERROR(DATA!O2,\"\"))","v":""},{"$f":"IF(DATA!P2=0,\"\",IFERROR(DATA!P2,\"\"))","v":""},{"$f":"IF(DATA!Q2=0,\"\",IFERROR(DATA!Q2,\"\"))","v":""},{"$f":"IF(DATA!R2=0,\"\",IFERROR(DATA!R2,\"\"))","v":""},{"$f":"IF(DATA!S2=0,\"\",IFERROR(DATA!S2,\"\"))","v":""},{"$f":"IF(DATA!T2=0,\"\",IFERROR(DATA!T2,\"\"))","v":""},{"$f":"IF(DATA!U2=0,\"\",IFERROR(DATA!U2,\"\"))","v":""},{"$f":"IF(DATA!V2=0,\"\",IFERROR(DATA!V2,\"\"))","v":""},{"$f":"IF(DATA!W2=0,\"\",IFERROR(DATA!W2,\"\"))","v":""},{"$f":"IF(DATA!X2=0,\"\",IFERROR(DATA!X2,\"\"))","v":""},{"$f":"IF(DATA!Y2=0,\"\",IFERROR(DATA!Y2,\"\"))","v":""},{"$f":"IF(DATA!Z2=0,\"\",IFERROR(DATA!Z2,\"\"))","v":""},{"$f":"IF(DATA!AA2=0,\"\",IFERROR(DATA!AA2,\"\"))","v":""},{"$f":"IF(DATA!AB2=0,\"\",IFERROR(DATA!AB2,\"\"))","v":""},{"$f":"IF(DATA!AC2=0,\"\",IFERROR(DATA!AC2,\"\"))","v":""},{"$f":"IF(DATA!AD2=0,\"\",IFERROR(DATA!AD2,\"\"))","v":""},{"$f":"IF(DATA!AE2=0,\"\",IFERROR(DATA!AE2,\"\"))","v":""},{"$f":"IF(DATA!AF2=0,\"\",IFERROR(DATA!AF2,\"\"))","v":""},{"$f":"IF(DATA!AG2=0,\"\",IFERROR(DATA!AG2,\"\"))","v":""},{"$f":"IF(DATA!AH2=0,\"\",IFERROR(DATA!AH2,\"\"))","v":""},{"$f":"IF(DATA!AI2=0,\"\",IFERROR(DATA!AI2,\"\"))","v":""},{"$f":"IF(DATA!AJ2=0,\"\",IFERROR(DATA!AJ2,\"\"))","v":""},{"$f":"IF(DATA!AK2=0,\"\",IFERROR(DATA!AK2,\"\"))","v":""},{"$f":"IF(DATA!AL2=0,\"\",IFERROR(DATA!AL2,\"\"))","v":""},{"$f":"IF(DATA!AM2=0,\"\",IFERROR(DATA!AM2,\"\"))","v":""},{"$f":"IF(DATA!AN2=0,\"\",IFERROR(DATA!AN2,\"\"))","v":""},{"$f":"IF(DATA!AO2=0,\"\",IFERROR(DATA!AO2,\"\"))","v":""},{"$f":"IF(DATA!AP2=0,\"\",IFERROR(DATA!AP2,\"\"))","v":""},{"$f":"IF(DATA!AQ2=0,\"\",IFERROR(DATA!AQ2,\"\"))","v":""},{"$f":"IF(DATA!AR2=0,\"\",IFERROR(DATA!AR2,\"\"))","v":""},{"$f":"IF(DATA!AS2=0,\"\",IFERROR(DATA!AS2,\"\"))","v":""},{"$f":"IF(DATA!AT2=0,\"\",IFERROR(DATA!AT2,\"\"))","v":""},{"$f":"IF(DATA!AU2=0,\"\",IFERROR(DATA!AU2,\"\"))","v":""},{"$f":"IF(DATA!AV2=0,\"\",IFERROR(DATA!AV2,\"\"))","v":""},{"$f":"IF(DATA!AW2=0,\"\",IFERROR(DATA!AW2,\"\"))","v":""},{"$f":"IF(DATA!AX2=0,\"\",IFERROR(DATA!AX2,\"\"))","v":""},{"$f":"IF(DATA!AY2=0,\"\",IFERROR(DATA!AY2,\"\"))","v":""},{"$f":"IF(DATA!AZ2=0,\"\",IFERROR(DATA!AZ2,\"\"))","v":""},{"$f":"IF(DATA!BA2=0,\"\",IFERROR(DATA!BA2,\"\"))","v":""},{"$f":"IF(DATA!BB2=0,\"\",IFERROR(DATA!BB2,\"\"))","v":""},{"$f":"IF(DATA!BC2=0,\"\",IFERROR(DATA!BC2,\"\"))","v":""},{"$f":"IF(DATA!BD2=0,\"\",IFERROR(DATA!BD2,\"\"))","v":""},{"$f":"IF(DATA!BE2=0,\"\",IFERROR(DATA!BE2,\"\"))","v":""},{"$f":"IF(DATA!BF2=0,\"\",IFERROR(DATA!BF2,\"\"))","v":""},{"$f":"IF(DATA!BG2=0,\"\",IFERROR(DATA!BG2,\"\"))","v":""},{"$f":"IF(DATA!BH2=0,\"\",IFERROR(DATA!BH2,\"\"))","v":""},{"$f":"IF(DATA!BI2=0,\"\",IFERROR(DATA!BI2,\"\"))","v":""},{"$f":"IF(DATA!BJ2=0,\"\",IFERROR(DATA!BJ2,\"\"))","v":""},{"$f":"IF(DATA!BK2=0,\"\",IFERROR(DATA!BK2,\"\"))","v":""},{"$f":"IF(DATA!BL2=0,\"\",IFERROR(DATA!BL2,\"\"))","v":""},{"$f":"IF(DATA!BM2=0,\"\",IFERROR(DATA!BM2,\"\"))","v":""},{"$f":"IF(DATA!BN2=0,\"\",IFERROR(DATA!BN2,\"\"))","v":""},{"$f":"IF(DATA!BO2=0,\"\",IFERROR(DATA!BO2,\"\"))","v":""},{"$f":"IF(DATA!BP2=0,\"\",IFERROR(DATA!BP2,\"\"))","v":""},{"$f":"IF(DATA!BQ2=0,\"\",IFERROR(DATA!BQ2,\"\"))","v":""},{"$f":"IF(DATA!BR2=0,\"\",IFERROR(DATA!BR2,\"\"))","v":""},{"$f":"IF(DATA!BS2=0,\"\",IFERROR(DATA!BS2,\"\"))","v":""},{"$f":"IF(DATA!BT2=0,\"\",IFERROR(DATA!BT2,\"\"))","v":""},{"$f":"IF(DATA!BU2=0,\"\",IFERROR(DATA!BU2,\"\"))","v":""},{"$f":"IF(DATA!BV2=0,\"\",IFERROR(DATA!BV2,\"\"))","v":""},{"$f":"IF(DATA!BW2=0,\"\",IFERROR(DATA!BW2,\"\"))","v":""},{"$f":"IF(DATA!BX2=0,\"\",IFERROR(DATA!BX2,\"\"))","v":""},{"$f":"IF(DATA!BY2=0,\"\",IFERROR(DATA!BY2,\"\"))","v":""},{"$f":"IF(DATA!BZ2=0,\"\",IFERROR(DATA!BZ2,\"\"))","v":""},{"$f":"IF(DATA!CA2=0,\"\",IFERROR(DATA!CA2,\"\"))","v":""},{"$f":"IF(DATA!CB2=0,\"\",IFERROR(DATA!CB2,\"\"))","v":""},{"$f":"IF(DATA!CC2=0,\"\",IFERROR(DATA!CC2,\"\"))","v":""},{"$f":"IF(DATA!CD2=0,\"\",IFERROR(DATA!CD2,\"\"))","v":""},{"$f":"IF(DATA!CE2=0,\"\",IFERROR(DATA!CE2,\"\"))","v":""},{"$f":"IF(DATA!CF2=0,\"\",IFERROR(DATA!CF2,\"\"))","v":""},{"$f":"IF(DATA!CG2=0,\"\",IFERROR(DATA!CG2,\"\"))","v":""},{"$f":"IF(DATA!CH2=0,\"\",IFERROR(DATA!CH2,\"\"))","v":""},{"$f":"IF(DATA!CI2=0,\"\",IFERROR(DATA!CI2,\"\"))","v":""},{"$f":"IF(DATA!CJ2=0,\"\",IFERROR(DATA!CJ2,\"\"))","v":""},{"$f":"IF(DATA!CK2=0,\"\",IFERROR(DATA!CK2,\"\"))","v":""},{"$f":"IF(DATA!CL2=0,\"\",IFERROR(DATA!CL2,\"\"))","v":""},{"$f":"IF(DATA!CM2=0,\"\",IFERROR(DATA!CM2,\"\"))","v":""},{"$f":"IF(DATA!CN2=0,\"\",IFERROR(DATA!CN2,\"\"))","v":""},{"$f":"IF(DATA!CO2=0,\"\",IFERROR(DATA!CO2,\"\"))","v":""},{"$f":"IF(DATA!CP2=0,\"\",IFERROR(DATA!CP2,\"\"))","v":""},{"$f":"IF(DATA!CQ2=0,\"\",IFERROR(DATA!CQ2,\"\"))","v":""},{"$f":"IF(DATA!CR2=0,\"\",IFERROR(DATA!CR2,\"\"))","v":""},{"$f":"IF(DATA!CS2=0,\"\",IFERROR(DATA!CS2,\"\"))","v":""},{"$f":"IF(DATA!CT2=0,\"\",IFERROR(DATA!CT2,\"\"))","v":""},{"$f":"IF(DATA!CU2=0,\"\",IFERROR(DATA!CU2,\"\"))","v":""},{"$f":"IF(DATA!CV2=0,\"\",IFERROR(DATA!CV2,\"\"))","v":""},{"$f":"IF(DATA!CW2=0,\"\",IFERROR(DATA!CW2,\"\"))","v":""},{"$f":"IF(DATA!CX2=0,\"\",IFERROR(DATA!CX2,\"\"))","v":""},{"$f":"IF(DATA!CY2=0,\"\",IFERROR(DATA!CY2,\"\"))","v":""},{"$f":"IF(DATA!CZ2=0,\"\",IFERROR(DATA!CZ2,\"\"))","v":""},{"$f":"IF(DATA!DA2=0,\"\",IFERROR(DATA!DA2,\"\"))","v":""},{"$f":"IF(DATA!DB2=0,\"\",IFERROR(DATA!DB2,\"\"))","v":""},{"$f":"IF(DATA!DC2=0,\"\",IFERROR(DATA!DC2,\"\"))","v":""},{"$f":"IF(DATA!DD2=0,\"\",IFERROR(DATA!DD2,\"\"))","v":""},{"$f":"IF(DATA!DE2=0,\"\",IFERROR(DATA!DE2,\"\"))","v":""},{"$f":"IF(DATA!DF2=0,\"\",IFERROR(DATA!DF2,\"\"))","v":""},{"$f":"IF(DATA!DG2=0,\"\",IFERROR(DATA!DG2,\"\"))","v":""},{"$f":"IF(DATA!DH2=0,\"\",IFERROR(DATA!DH2,\"\"))","v":""},{"$f":"IF(DATA!DI2=0,\"\",IFERROR(DATA!DI2,\"\"))","v":""},{"$f":"IF(DATA!DJ2=0,\"\",IFERROR(DATA!DJ2,\"\"))","v":""},{"$f":"IF(DATA!DK2=0,\"\",IFERROR(DATA!DK2,\"\"))","v":""},{"$f":"IF(DATA!DL2=0,\"\",IFERROR(DATA!DL2,\"\"))","v":""},{"$f":"IF(DATA!DM2=0,\"\",IFERROR(DATA!DM2,\"\"))","v":""},{"$f":"IF(DATA!DN2=0,\"\",IFERROR(DATA!DN2,\"\"))","v":""},{"$f":"IF(DATA!DO2=0,\"\",IFERROR(DATA!DO2,\"\"))","v":""},{"$f":"IF(DATA!DP2=0,\"\",IFERROR(DATA!DP2,\"\"))","v":""},{"$f":"IF(DATA!DQ2=0,\"\",IFERROR(DATA!DQ2,\"\"))","v":""},{"$f":"IF(DATA!DR2=0,\"\",IFERROR(DATA!DR2,\"\"))","v":""},{"$f":"IF(DATA!DS2=0,\"\",IFERROR(DATA!DS2,\"\"))","v":""},{"$f":"IF(DATA!DT2=0,\"\",IFERROR(DATA!DT2,\"\"))","v":""},{"$f":"IF(DATA!DU2=0,\"\",IFERROR(DATA!DU2,\"\"))","v":""},{"$f":"IF(DATA!DV2=0,\"\",IFERROR(DATA!DV2,\"\"))","v":""},{"$f":"IF(DATA!DW2=0,\"\",IFERROR(DATA!DW2,\"\"))","v":""},{"$f":"IF(DATA!DX2=0,\"\",IFERROR(DATA!DX2,\"\"))","v":""},{"$f":"IF(DATA!DY2=0,\"\",IFERROR(DATA!DY2,\"\"))","v":""},{"$f":"IF(DATA!DZ2=0,\"\",IFERROR(DATA!DZ2,\"\"))","v":""},{"$f":"IF(DATA!EA2=0,\"\",IFERROR(DATA!EA2,\"\"))","v":""},{"$f":"IF(DATA!EB2=0,\"\",IFERROR(DATA!EB2,\"\"))","v":""},{"$f":"IF(DATA!EC2=0,\"\",IFERROR(DATA!EC2,\"\"))","v":""},{"$f":"IF(DATA!ED2=0,\"\",IFERROR(DATA!ED2,\"\"))","v":""},{"$f":"IF(DATA!EE2=0,\"\",IFERROR(DATA!EE2,\"\"))","v":""},{"$f":"IF(DATA!EF2=0,\"\",IFERROR(DATA!EF2,\"\"))","v":""},{"$f":"IF(DATA!EG2=0,\"\",IFERROR(DATA!EG2,\"\"))","v":""},{"$f":"IF(DATA!EH2=0,\"\",IFERROR(DATA!EH2,\"\"))","v":""},{"$f":"IF(DATA!EI2=0,\"\",IFERROR(DATA!EI2,\"\"))","v":""},{"$f":"IF(DATA!EJ2=0,\"\",IFERROR(DATA!EJ2,\"\"))","v":""},{"$f":"IF(DATA!EK2=0,\"\",IFERROR(DATA!EK2,\"\"))","v":""},{"$f":"IF(DATA!EL2=0,\"\",IFERROR(DATA!EL2,\"\"))","v":""},{"$f":"IF(DATA!EM2=0,\"\",IFERROR(DATA!EM2,\"\"))","v":""},{"$f":"IF(DATA!EN2=0,\"\",IFERROR(DATA!EN2,\"\"))","v":""},{"$f":"IF(DATA!EO2=0,\"\",IFERROR(DATA!EO2,\"\"))","v":""},{"$f":"IF(DATA!EP2=0,\"\",IFERROR(DATA!EP2,\"\"))","v":""},{"$f":"IF(DATA!EQ2=0,\"\",IFERROR(DATA!EQ2,\"\"))","v":""},{"$f":"IF(DATA!ER2=0,\"\",IFERROR(DATA!ER2,\"\"))","v":""},{"$f":"IF(DATA!ES2=0,\"\",IFERROR(DATA!ES2,\"\"))","v":""},{"$f":"IF(DATA!ET2=0,\"\",IFERROR(DATA!ET2,\"\"))","v":""},{"$f":"IF(DATA!EU2=0,\"\",IFERROR(DATA!EU2,\"\"))","v":""},{"$f":"IF(DATA!EV2=0,\"\",IFERROR(DATA!EV2,\"\"))","v":""},{"$f":"IF(DATA!EW2=0,\"\",IFERROR(DATA!EW2,\"\"))","v":""},{"$f":"IF(DATA!EX2=0,\"\",IFERROR(DATA!EX2,\"\"))","v":""},{"$f":"IF(DATA!EY2=0,\"\",IFERROR(DATA!EY2,\"\"))","v":""},{"$f":"IF(DATA!EZ2=0,\"\",IFERROR(DATA!EZ2,\"\"))","v":""},{"$f":"IF(DATA!FA2=0,\"\",IFERROR(DATA!FA2,\"\"))","v":""},{"$f":"IF(DATA!FB2=0,\"\",IFERROR(DATA!FB2,\"\"))","v":""},{"$f":"IF(DATA!FC2=0,\"\",IFERROR(DATA!FC2,\"\"))","v":""},{"$f":"IF(DATA!FD2=0,\"\",IFERROR(DATA!FD2,\"\"))","v":""},{"$f":"IF(DATA!FE2=0,\"\",IFERROR(DATA!FE2,\"\"))","v":""},{"$f":"IF(DATA!FF2=0,\"\",IFERROR(DATA!FF2,\"\"))","v":""},{"$f":"IF(DATA!FG2=0,\"\",IFERROR(DATA!FG2,\"\"))","v":""},{"$f":"IF(DATA!FH2=0,\"\",IFERROR(DATA!FH2,\"\"))","v":""},{"$f":"IF(DATA!FI2=0,\"\",IFERROR(DATA!FI2,\"\"))","v":""},{"$f":"IF(DATA!FJ2=0,\"\",IFERROR(DATA!FJ2,\"\"))","v":""},{"$f":"IF(DATA!FK2=0,\"\",IFERROR(DATA!FK2,\"\"))","v":""},{"$f":"IF(DATA!FL2=0,\"\",IFERROR(DATA!FL2,\"\"))","v":""},{"$f":"IF(DATA!FM2=0,\"\",IFERROR(DATA!FM2,\"\"))","v":""},{"$f":"IF(DATA!FN2=0,\"\",IFERROR(DATA!FN2,\"\"))","v":""},{"$f":"IF(DATA!FO2=0,\"\",IFERROR(DATA!FO2,\"\"))","v":""},{"$f":"IF(DATA!FP2=0,\"\",IFERROR(DATA!FP2,\"\"))","v":""},{"$f":"IF(DATA!FQ2=0,\"\",IFERROR(DATA!FQ2,\"\"))","v":""},{"$f":"IF(DATA!FR2=0,\"\",IFERROR(DATA!FR2,\"\"))","v":""},{"$f":"IF(DATA!FS2=0,\"\",IFERROR(DATA!FS2,\"\"))","v":""},{"$f":"IF(DATA!FT2=0,\"\",IFERROR(DATA!FT2,\"\"))","v":""},{"$f":"IF(DATA!FU2=0,\"\",IFERROR(DATA!FU2,\"\"))","v":""},{"$f":"IF(DATA!FV2=0,\"\",IFERROR(DATA!FV2,\"\"))","v":""},{"$f":"IF(DATA!FW2=0,\"\",IFERROR(DATA!FW2,\"\"))","v":""},{"$f":"IF(DATA!FX2=0,\"\",IFERROR(DATA!FX2,\"\"))","v":""},{"$f":"IF(DATA!FY2=0,\"\",IFERROR(DATA!FY2,\"\"))","v":""},{"$f":"IF(DATA!FZ2=0,\"\",IFERROR(DATA!FZ2,\"\"))","v":""},{"$f":"IF(DATA!GA2=0,\"\",IFERROR(DATA!GA2,\"\"))","v":""},{"$f":"IF(DATA!GB2=0,\"\",IFERROR(DATA!GB2,\"\"))","v":""},{"$f":"IF(DATA!GC2=0,\"\",IFERROR(DATA!GC2,\"\"))","v":""},{"$f":"IF(DATA!GD2=0,\"\",IFERROR(DATA!GD2,\"\"))","v":""},{"$f":"IF(DATA!GE2=0,\"\",IFERROR(DATA!GE2,\"\"))","v":""},{"$f":"IF(DATA!GF2=0,\"\",IFERROR(DATA!GF2,\"\"))","v":""},{"$f":"IF(DATA!GG2=0,\"\",IFERROR(DATA!GG2,\"\"))","v":""},{"$f":"IF(DATA!GH2=0,\"\",IFERROR(DATA!GH2,\"\"))","v":""},{"$f":"IF(DATA!GI2=0,\"\",IFERROR(DATA!GI2,\"\"))","v":""},{"$f":"IF(DATA!GJ2=0,\"\",IFERROR(DATA!GJ2,\"\"))","v":""},{"$f":"IF(DATA!GK2=0,\"\",IFERROR(DATA!GK2,\"\"))","v":""},{"$f":"IF(DATA!GL2=0,\"\",IFERROR(DATA!GL2,\"\"))","v":""},{"$f":"IF(DATA!GM2=0,\"\",IFERROR(DATA!GM2,\"\"))","v":""},{"$f":"IF(DATA!GN2=0,\"\",IFERROR(DATA!GN2,\"\"))","v":""},{"$f":"IF(DATA!GO2=0,\"\",IFERROR(DATA!GO2,\"\"))","v":""},{"$f":"IF(DATA!GP2=0,\"\",IFERROR(DATA!GP2,\"\"))","v":""},{"$f":"IF(DATA!GQ2=0,\"\",IFERROR(DATA!GQ2,\"\"))","v":""},{"$f":"IF(DATA!GR2=0,\"\",IFERROR(DATA!GR2,\"\"))","v":""},{"$f":"IF(DATA!GS2=0,\"\",IFERROR(DATA!GS2,\"\"))","v":""},{"$f":"IF(DATA!GT2=0,\"\",IFERROR(DATA!GT2,\"\"))","v":""},{"$f":"IF(DATA!GU2=0,\"\",IFERROR(DATA!GU2,\"\"))","v":""},{"$f":"IF(DATA!GV2=0,\"\",IFERROR(DATA!GV2,\"\"))","v":""},{"$f":"IF(DATA!GW2=0,\"\",IFERROR(DATA!GW2,\"\"))","v":""},{"$f":"IF(DATA!GX2=0,\"\",IFERROR(DATA!GX2,\"\"))","v":""},{"$f":"IF(DATA!GY2=0,\"\",IFERROR(DATA!GY2,\"\"))","v":""},{"$f":"IF(DATA!GZ2=0,\"\",IFERROR(DATA!GZ2,\"\"))","v":""},{"$f":"IF(DATA!HA2=0,\"\",IFERROR(DATA!HA2,\"\"))","v":""},{"$f":"IF(DATA!HB2=0,\"\",IFERROR(DATA!HB2,\"\"))","v":""},{"$f":"IF(DATA!HC2=0,\"\",IFERROR(DATA!HC2,\"\"))","v":""},{"$f":"IF(DATA!HD2=0,\"\",IFERROR(DATA!HD2,\"\"))","v":""},{"$f":"IF(DATA!HE2=0,\"\",IFERROR(DATA!HE2,\"\"))","v":""},{"$f":"IF(DATA!HF2=0,\"\",IFERROR(DATA!HF2,\"\"))","v":""},{"$f":"IF(DATA!HG2=0,\"\",IFERROR(DATA!HG2,\"\"))","v":""},{"$f":"IF(DATA!HH2=0,\"\",IFERROR(DATA!HH2,\"\"))","v":""},{"$f":"IF(DATA!HI2=0,\"\",IFERROR(DATA!HI2,\"\"))","v":""},{"$f":"IF(DATA!HJ2=0,\"\",IFERROR(DATA!HJ2,\"\"))","v":""},{"$f":"IF(DATA!HK2=0,\"\",IFERROR(DATA!HK2,\"\"))","v":""},{"$f":"IF(DATA!HL2=0,\"\",IFERROR(DATA!HL2,\"\"))","v":""},{"$f":"IF(DATA!HM2=0,\"\",IFERROR(DATA!HM2,\"\"))","v":""},{"$f":"IF(DATA!HN2=0,\"\",IFERROR(DATA!HN2,\"\"))","v":""},{"$f":"IF(DATA!HO2=0,\"\",IFERROR(DATA!HO2,\"\"))","v":""},{"$f":"IF(DATA!HP2=0,\"\",IFERROR(DATA!HP2,\"\"))","v":""},{"$f":"IF(DATA!HQ2=0,\"\",IFERROR(DATA!HQ2,\"\"))","v":""},{"$f":"IF(DATA!HR2=0,\"\",IFERROR(DATA!HR2,\"\"))","v":""},{"$f":"IF(DATA!HS2=0,\"\",IFERROR(DATA!HS2,\"\"))","v":""},{"$f":"IF(DATA!HT2=0,\"\",IFERROR(DATA!HT2,\"\"))","v":""},{"$f":"IF(DATA!HU2=0,\"\",IFERROR(DATA!HU2,\"\"))","v":""},{"$f":"IF(DATA!HV2=0,\"\",IFERROR(DATA!HV2,\"\"))","v":""},{"$f":"IF(DATA!HW2=0,\"\",IFERROR(DATA!HW2,\"\"))","v":""},{"$f":"IF(DATA!HX2=0,\"\",IFERROR(DATA!HX2,\"\"))","v":""},{"$f":"IF(DATA!HY2=0,\"\",IFERROR(DATA!HY2,\"\"))","v":""},{"$f":"IF(DATA!HZ2=0,\"\",IFERROR(DATA!HZ2,\"\"))","v":""},{"$f":"IF(DATA!IA2=0,\"\",IFERROR(DATA!IA2,\"\"))","v":""},{"$f":"IF(DATA!IB2=0,\"\",IFERROR(DATA!IB2,\"\"))","v":""},{"$f":"IF(DATA!IC2=0,\"\",IFERROR(DATA!IC2,\"\"))","v":""},{"$f":"IF(DATA!ID2=0,\"\",IFERROR(DATA!ID2,\"\"))","v":""},{"$f":"IF(DATA!IE2=0,\"\",IFERROR(DATA!IE2,\"\"))","v":""},{"$f":"IF(DATA!IF2=0,\"\",IFERROR(DATA!IF2,\"\"))","v":""},{"$f":"IF(DATA!IG2=0,\"\",IFERROR(DATA!IG2,\"\"))","v":""},{"$f":"IF(DATA!IH2=0,\"\",IFERROR(DATA!IH2,\"\"))","v":""},{"$f":"IF(DATA!II2=0,\"\",IFERROR(DATA!II2,\"\"))","v":""},{"$f":"IF(DATA!IJ2=0,\"\",IFERROR(DATA!IJ2,\"\"))","v":""},{"$f":"IF(DATA!IK2=0,\"\",IFERROR(DATA!IK2,\"\"))","v":""},{"$f":"IF(DATA!IL2=0,\"\",IFERROR(DATA!IL2,\"\"))","v":""},{"$f":"IF(DATA!IM2=0,\"\",IFERROR(DATA!IM2,\"\"))","v":""},{"$f":"IF(DATA!IN2=0,\"\",IFERROR(DATA!IN2,\"\"))","v":""},{"$f":"IF(DATA!IO2=0,\"\",IFERROR(DATA!IO2,\"\"))","v":""},{"$f":"IF(DATA!IP2=0,\"\",IFERROR(DATA!IP2,\"\"))","v":""},{"$f":"IF(DATA!IQ2=0,\"\",IFERROR(DATA!IQ2,\"\"))","v":""},{"$f":"IF(DATA!IR2=0,\"\",IFERROR(DATA!IR2,\"\"))","v":""},{"$f":"IF(DATA!IS2=0,\"\",IFERROR(DATA!IS2,\"\"))","v":""},{"$f":"IF(DATA!IT2=0,\"\",IFERROR(DATA!IT2,\"\"))","v":""},{"$f":"IF(DATA!IU2=0,\"\",IFERROR(DATA!IU2,\"\"))","v":""},{"$f":"IF(DATA!IV2=0,\"\",IFERROR(DATA!IV2,\"\"))","v":""},{"$f":"IF(DATA!IW2=0,\"\",IFERROR(DATA!IW2,\"\"))","v":""},{"$f":"IF(DATA!IX2=0,\"\",IFERROR(DATA!IX2,\"\"))","v":""},{"$f":"IF(DATA!IY2=0,\"\",IFERROR(DATA!IY2,\"\"))","v":""},{"$f":"IF(DATA!IZ2=0,\"\",IFERROR(DATA!IZ2,\"\"))","v":""},{"$f":"IF(DATA!JA2=0,\"\",IFERROR(DATA!JA2,\"\"))","v":""},{"$f":"IF(DATA!JB2=0,\"\",IFERROR(DATA!JB2,\"\"))","v":""},{"$f":"IF(DATA!JC2=0,\"\",IFERROR(DATA!JC2,\"\"))","v":""},{"$f":"IF(DATA!JD2=0,\"\",IFERROR(DATA!JD2,\"\"))","v":""},{"$f":"IF(DATA!JE2=0,\"\",IFERROR(DATA!JE2,\"\"))","v":""},{"$f":"IF(DATA!JF2=0,\"\",IFERROR(DATA!JF2,\"\"))","v":""},{"$f":"IF(DATA!JG2=0,\"\",IFERROR(DATA!JG2,\"\"))","v":""},{"$f":"IF(DATA!JH2=0,\"\",IFERROR(DATA!JH2,\"\"))","v":""},{"$f":"IF(DATA!JI2=0,\"\",IFERROR(DATA!JI2,\"\"))","v":""},{"$f":"IF(DATA!JJ2=0,\"\",IFERROR(DATA!JJ2,\"\"))","v":""},{"$f":"IF(DATA!JK2=0,\"\",IFERROR(DATA!JK2,\"\"))","v":""},{"$f":"IF(DATA!JL2=0,\"\",IFERROR(DATA!JL2,\"\"))","v":""},{"$f":"IF(DATA!JM2=0,\"\",IFERROR(DATA!JM2,\"\"))","v":""},{"$f":"IF(DATA!JN2=0,\"\",IFERROR(DATA!JN2,\"\"))","v":""},{"$f":"IF(DATA!JO2=0,\"\",IFERROR(DATA!JO2,\"\"))","v":""},{"$f":"IF(DATA!JP2=0,\"\",IFERROR(DATA!JP2,\"\"))","v":""},{"$f":"IF(DATA!JQ2=0,\"\",IFERROR(DATA!JQ2,\"\"))","v":""},{"$f":"IF(DATA!JR2=0,\"\",IFERROR(DATA!JR2,\"\"))","v":""},{"$f":"IF(DATA!JS2=0,\"\",IFERROR(DATA!JS2,\"\"))","v":""},{"$f":"IF(DATA!JT2=0,\"\",IFERROR(DATA!JT2,\"\"))","v":""},{"$f":"IF(DATA!JU2=0,\"\",IFERROR(DATA!JU2,\"\"))","v":""},{"$f":"IF(DATA!JV2=0,\"\",IFERROR(DATA!JV2,\"\"))","v":""},{"$f":"IF(DATA!JW2=0,\"\",IFERROR(DATA!JW2,\"\"))","v":""},{"$f":"IF(DATA!JX2=0,\"\",IFERROR(DATA!JX2,\"\"))","v":""},{"$f":"IF(DATA!JY2=0,\"\",IFERROR(DATA!JY2,\"\"))","v":""},{"$f":"IF(DATA!JZ2=0,\"\",IFERROR(DATA!JZ2,\"\"))","v":""},{"$f":"IF(DATA!KA2=0,\"\",IFERROR(DATA!KA2,\"\"))","v":""},{"$f":"IF(DATA!KB2=0,\"\",IFERROR(DATA!KB2,\"\"))","v":""},{"$f":"IF(DATA!KC2=0,\"\",IFERROR(DATA!KC2,\"\"))","v":""},{"$f":"IF(DATA!KD2=0,\"\",IFERROR(DATA!KD2,\"\"))","v":""},{"$f":"IF(DATA!KE2=0,\"\",IFERROR(DATA!KE2,\"\"))","v":""},{"$f":"IF(DATA!KF2=0,\"\",IFERROR(DATA!KF2,\"\"))","v":""},{"$f":"IF(DATA!KG2=0,\"\",IFERROR(DATA!KG2,\"\"))","v":""},{"$f":"IF(DATA!KH2=0,\"\",IFERROR(DATA!KH2,\"\"))","v":""},{"$f":"IF(DATA!KI2=0,\"\",IFERROR(DATA!KI2,\"\"))","v":""},{"$f":"IF(DATA!KJ2=0,\"\",IFERROR(DATA!KJ2,\"\"))","v":""},{"$f":"IF(DATA!KK2=0,\"\",IFERROR(DATA!KK2,\"\"))","v":""},{"$f":"IF(DATA!KL2=0,\"\",IFERROR(DATA!KL2,\"\"))","v":""},{"$f":"IF(DATA!KM2=0,\"\",IFERROR(DATA!KM2,\"\"))","v":""},{"$f":"IF(DATA!KN2=0,\"\",IFERROR(DATA!KN2,\"\"))","v":""},{"$f":"IF(DATA!KO2=0,\"\",IFERROR(DATA!KO2,\"\"))","v":""},{"$f":"IF(DATA!KP2=0,\"\",IFERROR(DATA!KP2,\"\"))","v":""},{"$f":"IF(DATA!KQ2=0,\"\",IFERROR(DATA!KQ2,\"\"))","v":""},{"$f":"IF(DATA!KR2=0,\"\",IFERROR(DATA!KR2,\"\"))","v":""},{"$f":"IF(DATA!KS2=0,\"\",IFERROR(DATA!KS2,\"\"))","v":""},{"$f":"IF(DATA!KT2=0,\"\",IFERROR(DATA!KT2,\"\"))","v":""},{"$f":"IF(DATA!KU2=0,\"\",IFERROR(DATA!KU2,\"\"))","v":""},{"$f":"IF(DATA!KV2=0,\"\",IFERROR(DATA!KV2,\"\"))","v":""},{"$f":"IF(DATA!KW2=0,\"\",IFERROR(DATA!KW2,\"\"))","v":""},{"$f":"IF(DATA!KX2=0,\"\",IFERROR(DATA!KX2,\"\"))","v":""},{"$f":"IF(DATA!KY2=0,\"\",IFERROR(DATA!KY2,\"\"))","v":""},{"$f":"IF(DATA!KZ2=0,\"\",IFERROR(DATA!KZ2,\"\"))","v":""},{"$f":"IF(DATA!LA2=0,\"\",IFERROR(DATA!LA2,\"\"))","v":""},{"$f":"IF(DATA!LB2=0,\"\",IFERROR(DATA!LB2,\"\"))","v":""},{"$f":"IF(DATA!LC2=0,\"\",IFERROR(DATA!LC2,\"\"))","v":""},{"$f":"IF(DATA!LD2=0,\"\",IFERROR(DATA!LD2,\"\"))","v":""},{"$f":"IF(DATA!LE2=0,\"\",IFERROR(DATA!LE2,\"\"))","v":""},{"$f":"IF(DATA!LF2=0,\"\",IFERROR(DATA!LF2,\"\"))","v":""},{"$f":"IF(DATA!LG2=0,\"\",IFERROR(DATA!LG2,\"\"))","v":""},{"$f":"IF(DATA!LH2=0,\"\",IFERROR(DATA!LH2,\"\"))","v":""},{"$f":"IF(DATA!LI2=0,\"\",IFERROR(DATA!LI2,\"\"))","v":""},{"$f":"IF(DATA!LJ2=0,\"\",IFERROR(DATA!LJ2,\"\"))","v":""},{"$f":"IF(DATA!LK2=0,\"\",IFERROR(DATA!LK2,\"\"))","v":""},{"$f":"IF(DATA!LL2=0,\"\",IFERROR(DATA!LL2,\"\"))","v":""},{"$f":"IF(DATA!LM2=0,\"\",IFERROR(DATA!LM2,\"\"))","v":""},{"$f":"IF(DATA!LN2=0,\"\",IFERROR(DATA!LN2,\"\"))","v":""},{"$f":"IF(DATA!LO2=0,\"\",IFERROR(DATA!LO2,\"\"))","v":""},{"$f":"IF(DATA!LP2=0,\"\",IFERROR(DATA!LP2,\"\"))","v":""},{"$f":"IF(DATA!LQ2=0,\"\",IFERROR(DATA!LQ2,\"\"))","v":""},{"$f":"IF(DATA!LR2=0,\"\",IFERROR(DATA!LR2,\"\"))","v":""},{"$f":"IF(DATA!LS2=0,\"\",IFERROR(DATA!LS2,\"\"))","v":""},{"$f":"IF(DATA!LT2=0,\"\",IFERROR(DATA!LT2,\"\"))","v":""},{"$f":"IF(DATA!LU2=0,\"\",IFERROR(DATA!LU2,\"\"))","v":""},{"$f":"IF(DATA!LV2=0,\"\",IFERROR(DATA!LV2,\"\"))","v":""},{"$f":"IF(DATA!LW2=0,\"\",IFERROR(DATA!LW2,\"\"))","v":""},{"$f":"IF(DATA!LX2=0,\"\",IFERROR(DATA!LX2,\"\"))","v":""},{"$f":"IF(DATA!LY2=0,\"\",IFERROR(DATA!LY2,\"\"))","v":""},{"$f":"IF(DATA!LZ2=0,\"\",IFERROR(DATA!LZ2,\"\"))","v":""},{"$f":"IF(DATA!MA2=0,\"\",IFERROR(DATA!MA2,\"\"))","v":""},{"$f":"IF(DATA!MB2=0,\"\",IFERROR(DATA!MB2,\"\"))","v":""},{"$f":"IF(DATA!MC2=0,\"\",IFERROR(DATA!MC2,\"\"))","v":""},{"$f":"IF(DATA!MD2=0,\"\",IFERROR(DATA!MD2,\"\"))","v":""},{"$f":"IF(DATA!ME2=0,\"\",IFERROR(DATA!ME2,\"\"))","v":""},{"$f":"IF(DATA!MF2=0,\"\",IFERROR(DATA!MF2,\"\"))","v":""},{"$f":"IF(DATA!MG2=0,\"\",IFERROR(DATA!MG2,\"\"))","v":""},{"$f":"IF(DATA!MH2=0,\"\",IFERROR(DATA!MH2,\"\"))","v":""},{"$f":"IF(DATA!MI2=0,\"\",IFERROR(DATA!MI2,\"\"))","v":""},{"$f":"IF(DATA!MJ2=0,\"\",IFERROR(DATA!MJ2,\"\"))","v":""},{"$f":"IF(DATA!MK2=0,\"\",IFERROR(DATA!MK2,\"\"))","v":""},{"$f":"IF(DATA!ML2=0,\"\",IFERROR(DATA!ML2,\"\"))","v":""},{"$f":"IF(DATA!MM2=0,\"\",IFERROR(DATA!MM2,\"\"))","v":""},{"$f":"IF(DATA!MN2=0,\"\",IFERROR(DATA!MN2,\"\"))","v":""},{"$f":"IF(DATA!MO2=0,\"\",IFERROR(DATA!MO2,\"\"))","v":""},{"$f":"IF(DATA!MP2=0,\"\",IFERROR(DATA!MP2,\"\"))","v":""},{"$f":"IF(DATA!MQ2=0,\"\",IFERROR(DATA!MQ2,\"\"))","v":""},{"$f":"IF(DATA!MR2=0,\"\",IFERROR(DATA!MR2,\"\"))","v":""},{"$f":"IF(DATA!MS2=0,\"\",IFERROR(DATA!MS2,\"\"))","v":""},{"$f":"IF(DATA!MT2=0,\"\",IFERROR(DATA!MT2,\"\"))","v":""},{"$f":"IF(DATA!MU2=0,\"\",IFERROR(DATA!MU2,\"\"))","v":""},{"$f":"IF(DATA!MV2=0,\"\",IFERROR(DATA!MV2,\"\"))","v":""},{"$f":"IF(DATA!MW2=0,\"\",IFERROR(DATA!MW2,\"\"))","v":""},{"$f":"IF(DATA!MX2=0,\"\",IFERROR(DATA!MX2,\"\"))","v":""},{"$f":"IF(DATA!MY2=0,\"\",IFERROR(DATA!MY2,\"\"))","v":""},{"$f":"IF(DATA!MZ2=0,\"\",IFERROR(DATA!MZ2,\"\"))","v":""},{"$f":"IF(DATA!NA2=0,\"\",IFERROR(DATA!NA2,\"\"))","v":""},{"$f":"IF(DATA!NB2=0,\"\",IFERROR(DATA!NB2,\"\"))","v":""},{"$f":"IF(DATA!NC2=0,\"\",IFERROR(DATA!NC2,\"\"))","v":""},{"$f":"IF(DATA!ND2=0,\"\",IFERROR(DATA!ND2,\"\"))","v":""},{"$f":"IF(DATA!NE2=0,\"\",IFERROR(DATA!NE2,\"\"))","v":""},{"$f":"IF(DATA!NF2=0,\"\",IFERROR(DATA!NF2,\"\"))","v":""},{"$f":"IF(DATA!NG2=0,\"\",IFERROR(DATA!NG2,\"\"))","v":""},{"$f":"IF(DATA!NH2=0,\"\",IFERROR(DATA!NH2,\"\"))","v":""},{"$f":"IF(DATA!NI2=0,\"\",IFERROR(DATA!NI2,\"\"))","v":""},{"$f":"IF(DATA!NJ2=0,\"\",IFERROR(DATA!NJ2,\"\"))","v":""},{"$f":"IF(DATA!NK2=0,\"\",IFERROR(DATA!NK2,\"\"))","v":""},{"$f":"IF(DATA!NL2=0,\"\",IFERROR(DATA!NL2,\"\"))","v":""},{"$f":"IF(DATA!NM2=0,\"\",IFERROR(DATA!NM2,\"\"))","v":""},{"$f":"IF(DATA!NN2=0,\"\",IFERROR(DATA!NN2,\"\"))","v":""},{"$f":"IF(DATA!NO2=0,\"\",IFERROR(DATA!NO2,\"\"))","v":""},{"$f":"IF(DATA!NP2=0,\"\",IFERROR(DATA!NP2,\"\"))","v":""},{"$f":"IF(DATA!NQ2=0,\"\",IFERROR(DATA!NQ2,\"\"))","v":""},{"$f":"IF(DATA!NR2=0,\"\",IFERROR(DATA!NR2,\"\"))","v":""},{"$f":"IF(DATA!NS2=0,\"\",IFERROR(DATA!NS2,\"\"))","v":""},{"$f":"IF(DATA!NT2=0,\"\",IFERROR(DATA!NT2,\"\"))","v":""},{"$f":"IF(DATA!NU2=0,\"\",IFERROR(DATA!NU2,\"\"))","v":""},{"$f":"IF(DATA!NV2=0,\"\",IFERROR(DATA!NV2,\"\"))","v":""},{"$f":"IF(DATA!NW2=0,\"\",IFERROR(DATA!NW2,\"\"))","v":""},{"$f":"IF(DATA!NX2=0,\"\",IFERROR(DATA!NX2,\"\"))","v":""},{"$f":"IF(DATA!NY2=0,\"\",IFERROR(DATA!NY2,\"\"))","v":""},{"$f":"IF(DATA!NZ2=0,\"\",IFERROR(DATA!NZ2,\"\"))","v":""},{"$f":"IF(DATA!OA2=0,\"\",IFERROR(DATA!OA2,\"\"))","v":""},{"$f":"IF(DATA!OB2=0,\"\",IFERROR(DATA!OB2,\"\"))","v":""},{"$f":"IF(DATA!OC2=0,\"\",IFERROR(DATA!OC2,\"\"))","v":""},{"$f":"IF(DATA!OD2=0,\"\",IFERROR(DATA!OD2,\"\"))","v":""},{"$f":"IF(DATA!OE2=0,\"\",IFERROR(DATA!OE2,\"\"))","v":""},{"$f":"IF(DATA!OF2=0,\"\",IFERROR(DATA!OF2,\"\"))","v":""},{"$f":"IF(DATA!OG2=0,\"\",IFERROR(DATA!OG2,\"\"))","v":""},{"$f":"IF(DATA!OH2=0,\"\",IFERROR(DATA!OH2,\"\"))","v":""},{"$f":"IF(DATA!OI2=0,\"\",IFERROR(DATA!OI2,\"\"))","v":""},{"$f":"IF(DATA!OJ2=0,\"\",IFERROR(DATA!OJ2,\"\"))","v":""},{"$f":"IF(DATA!OK2=0,\"\",IFERROR(DATA!OK2,\"\"))","v":""},{"$f":"IF(DATA!OL2=0,\"\",IFERROR(DATA!OL2,\"\"))","v":""},{"$f":"IF(DATA!OM2=0,\"\",IFERROR(DATA!OM2,\"\"))","v":""},{"$f":"IF(DATA!ON2=0,\"\",IFERROR(DATA!ON2,\"\"))","v":""},{"$f":"IF(DATA!OO2=0,\"\",IFERROR(DATA!OO2,\"\"))","v":""},{"$f":"IF(DATA!OP2=0,\"\",IFERROR(DATA!OP2,\"\"))","v":""},{"$f":"IF(DATA!OQ2=0,\"\",IFERROR(DATA!OQ2,\"\"))","v":""},{"$f":"IF(DATA!OR2=0,\"\",IFERROR(DATA!OR2,\"\"))","v":""},{"$f":"IF(DATA!OS2=0,\"\",IFERROR(DATA!OS2,\"\"))","v":""},{"$f":"IF(DATA!OT2=0,\"\",IFERROR(DATA!OT2,\"\"))","v":""},{"$f":"IF(DATA!OU2=0,\"\",IFERROR(DATA!OU2,\"\"))","v":""},{"$f":"IF(DATA!OV2=0,\"\",IFERROR(DATA!OV2,\"\"))","v":""},{"$f":"IF(DATA!OW2=0,\"\",IFERROR(DATA!OW2,\"\"))","v":""},{"$f":"IF(DATA!OX2=0,\"\",IFERROR(DATA!OX2,\"\"))","v":""},{"$f":"IF(DATA!OY2=0,\"\",IFERROR(DATA!OY2,\"\"))","v":""},{"$f":"IF(DATA!OZ2=0,\"\",IFERROR(DATA!OZ2,\"\"))","v":""},{"$f":"IF(DATA!PA2=0,\"\",IFERROR(DATA!PA2,\"\"))","v":""},{"$f":"IF(DATA!PB2=0,\"\",IFERROR(DATA!PB2,\"\"))","v":""},{"$f":"IF(DATA!PC2=0,\"\",IFERROR(DATA!PC2,\"\"))","v":""},{"$f":"IF(DATA!PD2=0,\"\",IFERROR(DATA!PD2,\"\"))","v":""},{"$f":"IF(DATA!PE2=0,\"\",IFERROR(DATA!PE2,\"\"))","v":""},{"$f":"IF(DATA!PF2=0,\"\",IFERROR(DATA!PF2,\"\"))","v":""},{"$f":"IF(DATA!PG2=0,\"\",IFERROR(DATA!PG2,\"\"))","v":""},{"$f":"IF(DATA!PH2=0,\"\",IFERROR(DATA!PH2,\"\"))","v":""},{"$f":"IF(DATA!PI2=0,\"\",IFERROR(DATA!PI2,\"\"))","v":""},{"$f":"IF(DATA!PJ2=0,\"\",IFERROR(DATA!PJ2,\"\"))","v":""},{"$f":"IF(DATA!PK2=0,\"\",IFERROR(DATA!PK2,\"\"))","v":""},{"$f":"IF(DATA!PL2=0,\"\",IFERROR(DATA!PL2,\"\"))","v":""},{"$f":"IF(DATA!PM2=0,\"\",IFERROR(DATA!PM2,\"\"))","v":""},{"$f":"IF(DATA!PN2=0,\"\",IFERROR(DATA!PN2,\"\"))","v":""},{"$f":"IF(DATA!PO2=0,\"\",IFERROR(DATA!PO2,\"\"))","v":""},{"$f":"IF(DATA!PP2=0,\"\",IFERROR(DATA!PP2,\"\"))","v":""},{"$f":"IF(DATA!PQ2=0,\"\",IFERROR(DATA!PQ2,\"\"))","v":""},{"$f":"IF(DATA!PR2=0,\"\",IFERROR(DATA!PR2,\"\"))","v":""},{"$f":"IF(DATA!PS2=0,\"\",IFERROR(DATA!PS2,\"\"))","v":""},{"$f":"IF(DATA!PT2=0,\"\",IFERROR(DATA!PT2,\"\"))","v":""},{"$f":"IF(DATA!PU2=0,\"\",IFERROR(DATA!PU2,\"\"))","v":""},{"$f":"IF(DATA!PV2=0,\"\",IFERROR(DATA!PV2,\"\"))","v":""},{"$f":"IF(DATA!PW2=0,\"\",IFERROR(DATA!PW2,\"\"))","v":""},{"$f":"IF(DATA!PX2=0,\"\",IFERROR(DATA!PX2,\"\"))","v":""},{"$f":"IF(DATA!PY2=0,\"\",IFERROR(DATA!PY2,\"\"))","v":""},{"$f":"IF(DATA!PZ2=0,\"\",IFERROR(DATA!PZ2,\"\"))","v":""},{"$f":"IF(DATA!QA2=0,\"\",IFERROR(DATA!QA2,\"\"))","v":""},{"$f":"IF(DATA!QB2=0,\"\",IFERROR(DATA!QB2,\"\"))","v":""},{"$f":"IF(DATA!QC2=0,\"\",IFERROR(DATA!QC2,\"\"))","v":""},{"$f":"IF(DATA!QD2=0,\"\",IFERROR(DATA!QD2,\"\"))","v":""},{"$f":"IF(DATA!QE2=0,\"\",IFERROR(DATA!QE2,\"\"))","v":""},{"$f":"IF(DATA!QF2=0,\"\",IFERROR(DATA!QF2,\"\"))","v":""},{"$f":"IF(DATA!QG2=0,\"\",IFERROR(DATA!QG2,\"\"))","v":""},{"$f":"IF(DATA!QH2=0,\"\",IFERROR(DATA!QH2,\"\"))","v":""},{"$f":"IF(DATA!QI2=0,\"\",IFERROR(DATA!QI2,\"\"))","v":""},{"$f":"IF(DATA!QJ2=0,\"\",IFERROR(DATA!QJ2,\"\"))","v":""},{"$f":"IF(DATA!QK2=0,\"\",IFERROR(DATA!QK2,\"\"))","v":""},{"$f":"IF(DATA!QL2=0,\"\",IFERROR(DATA!QL2,\"\"))","v":""},{"$f":"IF(DATA!QM2=0,\"\",IFERROR(DATA!QM2,\"\"))","v":""},{"$f":"IF(DATA!QN2=0,\"\",IFERROR(DATA!QN2,\"\"))","v":""},{"$f":"IF(DATA!QO2=0,\"\",IFERROR(DATA!QO2,\"\"))","v":""},{"$f":"IF(DATA!QP2=0,\"\",IFERROR(DATA!QP2,\"\"))","v":""},{"$f":"IF(DATA!QQ2=0,\"\",IFERROR(DATA!QQ2,\"\"))","v":""},{"$f":"IF(DATA!QR2=0,\"\",IFERROR(DATA!QR2,\"\"))","v":""},{"$f":"IF(DATA!QS2=0,\"\",IFERROR(DATA!QS2,\"\"))","v":""},{"$f":"IF(DATA!QT2=0,\"\",IFERROR(DATA!QT2,\"\"))","v":""},{"$f":"IF(DATA!QU2=0,\"\",IFERROR(DATA!QU2,\"\"))","v":""},{"$f":"IF(DATA!QV2=0,\"\",IFERROR(DATA!QV2,\"\"))","v":""},{"$f":"IF(DATA!QW2=0,\"\",IFERROR(DATA!QW2,\"\"))","v":""},{"$f":"IF(DATA!QX2=0,\"\",IFERROR(DATA!QX2,\"\"))","v":""},{"$f":"IF(DATA!QY2=0,\"\",IFERROR(DATA!QY2,\"\"))","v":""},{"$f":"IF(DATA!QZ2=0,\"\",IFERROR(DATA!QZ2,\"\"))","v":""},{"$f":"IF(DATA!RA2=0,\"\",IFERROR(DATA!RA2,\"\"))","v":""},{"$f":"IF(DATA!RB2=0,\"\",IFERROR(DATA!RB2,\"\"))","v":""},{"$f":"IF(DATA!RC2=0,\"\",IFERROR(DATA!RC2,\"\"))","v":""},{"$f":"IF(DATA!RD2=0,\"\",IFERROR(DATA!RD2,\"\"))","v":""},{"$f":"IF(DATA!RE2=0,\"\",IFERROR(DATA!RE2,\"\"))","v":""},{"$f":"IF(DATA!RF2=0,\"\",IFERROR(DATA!RF2,\"\"))","v":""},{"$f":"IF(DATA!RG2=0,\"\",IFERROR(DATA!RG2,\"\"))","v":""},{"$f":"IF(DATA!RH2=0,\"\",IFERROR(DATA!RH2,\"\"))","v":""},{"$f":"IF(DATA!RI2=0,\"\",IFERROR(DATA!RI2,\"\"))","v":""},{"$f":"IF(DATA!RJ2=0,\"\",IFERROR(DATA!RJ2,\"\"))","v":""},{"$f":"IF(DATA!RK2=0,\"\",IFERROR(DATA!RK2,\"\"))","v":""},{"$f":"IF(DATA!RL2=0,\"\",IFERROR(DATA!RL2,\"\"))","v":""},{"$f":"IF(DATA!RM2=0,\"\",IFERROR(DATA!RM2,\"\"))","v":""},{"$f":"IF(DATA!RN2=0,\"\",IFERROR(DATA!RN2,\"\"))","v":""},{"$f":"IF(DATA!RO2=0,\"\",IFERROR(DATA!RO2,\"\"))","v":""},{"$f":"IF(DATA!RP2=0,\"\",IFERROR(DATA!RP2,\"\"))","v":""},{"$f":"IF(DATA!RQ2=0,\"\",IFERROR(DATA!RQ2,\"\"))","v":""},{"$f":"IF(DATA!RR2=0,\"\",IFERROR(DATA!RR2,\"\"))","v":""},{"$f":"IF(DATA!RS2=0,\"\",IFERROR(DATA!RS2,\"\"))","v":""},{"$f":"IF(DATA!RT2=0,\"\",IFERROR(DATA!RT2,\"\"))","v":""},{"$f":"IF(DATA!RU2=0,\"\",IFERROR(DATA!RU2,\"\"))","v":""},{"$f":"IF(DATA!RV2=0,\"\",IFERROR(DATA!RV2,\"\"))","v":""},{"$f":"IF(DATA!RW2=0,\"\",IFERROR(DATA!RW2,\"\"))","v":""},{"$f":"IF(DATA!RX2=0,\"\",IFERROR(DATA!RX2,\"\"))","v":""},{"$f":"IF(DATA!RY2=0,\"\",IFERROR(DATA!RY2,\"\"))","v":""},{"$f":"IF(DATA!RZ2=0,\"\",IFERROR(DATA!RZ2,\"\"))","v":""},{"$f":"IF(DATA!SA2=0,\"\",IFERROR(DATA!SA2,\"\"))","v":""},{"$f":"IF(DATA!SB2=0,\"\",IFERROR(DATA!SB2,\"\"))","v":""},{"$f":"IF(DATA!SC2=0,\"\",IFERROR(DATA!SC2,\"\"))","v":""},{"$f":"IF(DATA!SD2=0,\"\",IFERROR(DATA!SD2,\"\"))","v":""},{"$f":"IF(DATA!SE2=0,\"\",IFERROR(DATA!SE2,\"\"))","v":""},{"$f":"IF(DATA!SF2=0,\"\",IFERROR(DATA!SF2,\"\"))","v":""},{"$f":"IF(DATA!SG2=0,\"\",IFERROR(DATA!SG2,\"\"))","v":""},{"$f":"IF(DATA!SH2=0,\"\",IFERROR(DATA!SH2,\"\"))","v":""},{"$f":"IF(DATA!SI2=0,\"\",IFERROR(DATA!SI2,\"\"))","v":""},{"$f":"IF(DATA!SJ2=0,\"\",IFERROR(DATA!SJ2,\"\"))","v":""},{"$f":"IF(DATA!SK2=0,\"\",IFERROR(DATA!SK2,\"\"))","v":""},{"$f":"IF(DATA!SL2=0,\"\",IFERROR(DATA!SL2,\"\"))","v":""},{"$f":"IF(DATA!SM2=0,\"\",IFERROR(DATA!SM2,\"\"))","v":""},{"$f":"IF(DATA!SN2=0,\"\",IFERROR(DATA!SN2,\"\"))","v":""},{"$f":"IF(DATA!SO2=0,\"\",IFERROR(DATA!SO2,\"\"))","v":""},{"$f":"IF(DATA!SP2=0,\"\",IFERROR(DATA!SP2,\"\"))","v":""},{"$f":"IF(DATA!SQ2=0,\"\",IFERROR(DATA!SQ2,\"\"))","v":""},{"$f":"IF(DATA!SR2=0,\"\",IFERROR(DATA!SR2,\"\"))","v":""},{"$f":"IF(DATA!SS2=0,\"\",IFERROR(DATA!SS2,\"\"))","v":""},{"$f":"IF(DATA!ST2=0,\"\",IFERROR(DATA!ST2,\"\"))","v":""},{"$f":"IF(DATA!SU2=0,\"\",IFERROR(DATA!SU2,\"\"))","v":""},{"$f":"IF(DATA!SV2=0,\"\",IFERROR(DATA!SV2,\"\"))","v":""},{"$f":"IF(DATA!SW2=0,\"\",IFERROR(DATA!SW2,\"\"))","v":""},{"$f":"IF(DATA!SX2=0,\"\",IFERROR(DATA!SX2,\"\"))","v":""},{"$f":"IF(DATA!SY2=0,\"\",IFERROR(DATA!SY2,\"\"))","v":""},{"$f":"IF(DATA!SZ2=0,\"\",IFERROR(DATA!SZ2,\"\"))","v":""},{"$f":"IF(DATA!TA2=0,\"\",IFERROR(DATA!TA2,\"\"))","v":""},{"$f":"IF(DATA!TB2=0,\"\",IFERROR(DATA!TB2,\"\"))","v":""},{"$f":"IF(DATA!TC2=0,\"\",IFERROR(DATA!TC2,\"\"))","v":""},{"$f":"IF(DATA!TD2=0,\"\",IFERROR(DATA!TD2,\"\"))","v":""},{"$f":"IF(DATA!TE2=0,\"\",IFERROR(DATA!TE2,\"\"))","v":""},{"$f":"IF(DATA!TF2=0,\"\",IFERROR(DATA!TF2,\"\"))","v":""},{"$f":"IF(DATA!TG2=0,\"\",IFERROR(DATA!TG2,\"\"))","v":""},{"$f":"IF(DATA!TH2=0,\"\",IFERROR(DATA!TH2,\"\"))","v":""},{"$f":"IF(DATA!TI2=0,\"\",IFERROR(DATA!TI2,\"\"))","v":""},{"$f":"IF(DATA!TJ2=0,\"\",IFERROR(DATA!TJ2,\"\"))","v":""},{"$f":"IF(DATA!TK2=0,\"\",IFERROR(DATA!TK2,\"\"))","v":""},{"$f":"IF(DATA!TL2=0,\"\",IFERROR(DATA!TL2,\"\"))","v":""},{"$f":"IF(DATA!TM2=0,\"\",IFERROR(DATA!TM2,\"\"))","v":""},{"$f":"IF(DATA!TN2=0,\"\",IFERROR(DATA!TN2,\"\"))","v":""},{"$f":"IF(DATA!TO2=0,\"\",IFERROR(DATA!TO2,\"\"))","v":""},{"$f":"IF(DATA!TP2=0,\"\",IFERROR(DATA!TP2,\"\"))","v":""},{"$f":"IF(DATA!TQ2=0,\"\",IFERROR(DATA!TQ2,\"\"))","v":""},{"$f":"IF(DATA!TR2=0,\"\",IFERROR(DATA!TR2,\"\"))","v":""},{"$f":"IF(DATA!TS2=0,\"\",IFERROR(DATA!TS2,\"\"))","v":""},{"$f":"IF(DATA!TT2=0,\"\",IFERROR(DATA!TT2,\"\"))","v":""},{"$f":"IF(DATA!TU2=0,\"\",IFERROR(DATA!TU2,\"\"))","v":""},{"$f":"IF(DATA!TV2=0,\"\",IFERROR(DATA!TV2,\"\"))","v":""},{"$f":"IF(DATA!TW2=0,\"\",IFERROR(DATA!TW2,\"\"))","v":""},{"$f":"IF(DATA!TX2=0,\"\",IFERROR(DATA!TX2,\"\"))","v":""},{"$f":"IF(DATA!TY2=0,\"\",IFERROR(DATA!TY2,\"\"))","v":""},{"$f":"IF(DATA!TZ2=0,\"\",IFERROR(DATA!TZ2,\"\"))","v":""},{"$f":"IF(DATA!UA2=0,\"\",IFERROR(DATA!UA2,\"\"))","v":""},{"$f":"IF(DATA!UB2=0,\"\",IFERROR(DATA!UB2,\"\"))","v":""},{"$f":"IF(DATA!UC2=0,\"\",IFERROR(DATA!UC2,\"\"))","v":""},{"$f":"IF(DATA!UD2=0,\"\",IFERROR(DATA!UD2,\"\"))","v":""},{"$f":"IF(DATA!UE2=0,\"\",IFERROR(DATA!UE2,\"\"))","v":""},{"$f":"IF(DATA!UF2=0,\"\",IFERROR(DATA!UF2,\"\"))","v":""},{"$f":"IF(DATA!UG2=0,\"\",IFERROR(DATA!UG2,\"\"))","v":""},{"$f":"IF(DATA!UH2=0,\"\",IFERROR(DATA!UH2,\"\"))","v":""},{"$f":"IF(DATA!UI2=0,\"\",IFERROR(DATA!UI2,\"\"))","v":""},{"$f":"IF(DATA!UJ2=0,\"\",IFERROR(DATA!UJ2,\"\"))","v":""},{"$f":"IF(DATA!UK2=0,\"\",IFERROR(DATA!UK2,\"\"))","v":""},{"$f":"IF(DATA!UL2=0,\"\",IFERROR(DATA!UL2,\"\"))","v":""},{"$f":"IF(DATA!UM2=0,\"\",IFERROR(DATA!UM2,\"\"))","v":""},{"$f":"IF(DATA!UN2=0,\"\",IFERROR(DATA!UN2,\"\"))","v":""},{"$f":"IF(DATA!UO2=0,\"\",IFERROR(DATA!UO2,\"\"))","v":""},{"$f":"IF(DATA!UP2=0,\"\",IFERROR(DATA!UP2,\"\"))","v":""},{"$f":"IF(DATA!UQ2=0,\"\",IFERROR(DATA!UQ2,\"\"))","v":""},{"$f":"IF(DATA!UR2=0,\"\",IFERROR(DATA!UR2,\"\"))","v":""},{"$f":"IF(DATA!US2=0,\"\",IFERROR(DATA!US2,\"\"))","v":""},{"$f":"IF(DATA!UT2=0,\"\",IFERROR(DATA!UT2,\"\"))","v":""},{"$f":"IF(DATA!UU2=0,\"\",IFERROR(DATA!UU2,\"\"))","v":""},{"$f":"IF(DATA!UV2=0,\"\",IFERROR(DATA!UV2,\"\"))","v":""},{"$f":"IF(DATA!UW2=0,\"\",IFERROR(DATA!UW2,\"\"))","v":""},{"$f":"IF(DATA!UX2=0,\"\",IFERROR(DATA!UX2,\"\"))","v":""},{"$f":"IF(DATA!UY2=0,\"\",IFERROR(DATA!UY2,\"\"))","v":""},{"$f":"IF(DATA!UZ2=0,\"\",IFERROR(DATA!UZ2,\"\"))","v":""},{"$f":"IF(DATA!VA2=0,\"\",IFERROR(DATA!VA2,\"\"))","v":""},{"$f":"IF(DATA!VB2=0,\"\",IFERROR(DATA!VB2,\"\"))","v":""},{"$f":"IF(DATA!VC2=0,\"\",IFERROR(DATA!VC2,\"\"))","v":""},{"$f":"IF(DATA!VD2=0,\"\",IFERROR(DATA!VD2,\"\"))","v":""},{"$f":"IF(DATA!VE2=0,\"\",IFERROR(DATA!VE2,\"\"))","v":""},{"$f":"IF(DATA!VF2=0,\"\",IFERROR(DATA!VF2,\"\"))","v":""},{"$f":"IF(DATA!VG2=0,\"\",IFERROR(DATA!VG2,\"\"))","v":""},{"$f":"IF(DATA!VH2=0,\"\",IFERROR(DATA!VH2,\"\"))","v":""},{"$f":"IF(DATA!VI2=0,\"\",IFERROR(DATA!VI2,\"\"))","v":""},{"$f":"IF(DATA!VJ2=0,\"\",IFERROR(DATA!VJ2,\"\"))","v":""},{"$f":"IF(DATA!VK2=0,\"\",IFERROR(DATA!VK2,\"\"))","v":""},{"$f":"IF(DATA!VL2=0,\"\",IFERROR(DATA!VL2,\"\"))","v":""},{"$f":"IF(DATA!VM2=0,\"\",IFERROR(DATA!VM2,\"\"))","v":""},{"$f":"IF(DATA!VN2=0,\"\",IFERROR(DATA!VN2,\"\"))","v":""},{"$f":"IF(DATA!VO2=0,\"\",IFERROR(DATA!VO2,\"\"))","v":""},{"$f":"IF(DATA!VP2=0,\"\",IFERROR(DATA!VP2,\"\"))","v":""},{"$f":"IF(DATA!VQ2=0,\"\",IFERROR(DATA!VQ2,\"\"))","v":""},{"$f":"IF(DATA!VR2=0,\"\",IFERROR(DATA!VR2,\"\"))","v":""},{"$f":"IF(DATA!VS2=0,\"\",IFERROR(DATA!VS2,\"\"))","v":""},{"$f":"IF(DATA!VT2=0,\"\",IFERROR(DATA!VT2,\"\"))","v":""},{"$f":"IF(DATA!VU2=0,\"\",IFERROR(DATA!VU2,\"\"))","v":""},{"$f":"IF(DATA!VV2=0,\"\",IFERROR(DATA!VV2,\"\"))","v":""},{"$f":"IF(DATA!VW2=0,\"\",IFERROR(DATA!VW2,\"\"))","v":""},{"$f":"IF(DATA!VX2=0,\"\",IFERROR(DATA!VX2,\"\"))","v":""},{"$f":"IF(DATA!VY2=0,\"\",IFERROR(DATA!VY2,\"\"))","v":""},{"$f":"IF(DATA!VZ2=0,\"\",IFERROR(DATA!VZ2,\"\"))","v":""},{"$f":"IF(DATA!WA2=0,\"\",IFERROR(DATA!WA2,\"\"))","v":""},{"$f":"IF(DATA!WB2=0,\"\",IFERROR(DATA!WB2,\"\"))","v":""},{"$f":"IF(DATA!WC2=0,\"\",IFERROR(DATA!WC2,\"\"))","v":""},{"$f":"IF(DATA!WD2=0,\"\",IFERROR(DATA!WD2,\"\"))","v":""},{"$f":"IF(DATA!WE2=0,\"\",IFERROR(DATA!WE2,\"\"))","v":""},{"$f":"IF(DATA!WF2=0,\"\",IFERROR(DATA!WF2,\"\"))","v":""},{"$f":"IF(DATA!WG2=0,\"\",IFERROR(DATA!WG2,\"\"))","v":""},{"$f":"IF(DATA!WH2=0,\"\",IFERROR(DATA!WH2,\"\"))","v":""},{"$f":"IF(DATA!WI2=0,\"\",IFERROR(DATA!WI2,\"\"))","v":""},{"$f":"IF(DATA!WJ2=0,\"\",IFERROR(DATA!WJ2,\"\"))","v":""},{"$f":"IF(DATA!WK2=0,\"\",IFERROR(DATA!WK2,\"\"))","v":""},{"$f":"IF(DATA!WL2=0,\"\",IFERROR(DATA!WL2,\"\"))","v":""},{"$f":"IF(DATA!WM2=0,\"\",IFERROR(DATA!WM2,\"\"))","v":""},{"$f":"IF(DATA!WN2=0,\"\",IFERROR(DATA!WN2,\"\"))","v":""},{"$f":"IF(DATA!WO2=0,\"\",IFERROR(DATA!WO2,\"\"))","v":""},{"$f":"IF(DATA!WP2=0,\"\",IFERROR(DATA!WP2,\"\"))","v":""},{"$f":"IF(DATA!WQ2=0,\"\",IFERROR(DATA!WQ2,\"\"))","v":""},{"$f":"IF(DATA!WR2=0,\"\",IFERROR(DATA!WR2,\"\"))","v":""},{"$f":"IF(DATA!WS2=0,\"\",IFERROR(DATA!WS2,\"\"))","v":""},{"$f":"IF(DATA!WT2=0,\"\",IFERROR(DATA!WT2,\"\"))","v":""},{"$f":"IF(DATA!WU2=0,\"\",IFERROR(DATA!WU2,\"\"))","v":""},{"$f":"IF(DATA!WV2=0,\"\",IFERROR(DATA!WV2,\"\"))","v":""},{"$f":"IF(DATA!WW2=0,\"\",IFERROR(DATA!WW2,\"\"))","v":""},{"$f":"IF(DATA!WX2=0,\"\",IFERROR(DATA!WX2,\"\"))","v":""},{"$f":"IF(DATA!WY2=0,\"\",IFERROR(DATA!WY2,\"\"))","v":""},{"$f":"IF(DATA!WZ2=0,\"\",IFERROR(DATA!WZ2,\"\"))","v":""},{"$f":"IF(DATA!XA2=0,\"\",IFERROR(DATA!XA2,\"\"))","v":""},{"$f":"IF(DATA!XB2=0,\"\",IFERROR(DATA!XB2,\"\"))","v":""},{"$f":"IF(DATA!XC2=0,\"\",IFERROR(DATA!XC2,\"\"))","v":""},{"$f":"IF(DATA!XD2=0,\"\",IFERROR(DATA!XD2,\"\"))","v":""},{"$f":"IF(DATA!XE2=0,\"\",IFERROR(DATA!XE2,\"\"))","v":""},{"$f":"IF(DATA!XF2=0,\"\",IFERROR(DATA!XF2,\"\"))","v":""},{"$f":"IF(DATA!XG2=0,\"\",IFERROR(DATA!XG2,\"\"))","v":""},{"$f":"IF(DATA!XH2=0,\"\",IFERROR(DATA!XH2,\"\"))","v":""},{"$f":"IF(DATA!XI2=0,\"\",IFERROR(DATA!XI2,\"\"))","v":""},{"$f":"IF(DATA!XJ2=0,\"\",IFERROR(DATA!XJ2,\"\"))","v":""},{"$f":"IF(DATA!XK2=0,\"\",IFERROR(DATA!XK2,\"\"))","v":""},{"$f":"IF(DATA!XL2=0,\"\",IFERROR(DATA!XL2,\"\"))","v":""},{"$f":"IF(DATA!XM2=0,\"\",IFERROR(DATA!XM2,\"\"))","v":""},{"$f":"IF(DATA!XN2=0,\"\",IFERROR(DATA!XN2,\"\"))","v":""},{"$f":"IF(DATA!XO2=0,\"\",IFERROR(DATA!XO2,\"\"))","v":""},{"$f":"IF(DATA!XP2=0,\"\",IFERROR(DATA!XP2,\"\"))","v":""},{"$f":"IF(DATA!XQ2=0,\"\",IFERROR(DATA!XQ2,\"\"))","v":""},{"$f":"IF(DATA!XR2=0,\"\",IFERROR(DATA!XR2,\"\"))","v":""},{"$f":"IF(DATA!XS2=0,\"\",IFERROR(DATA!XS2,\"\"))","v":""},{"$f":"IF(DATA!XT2=0,\"\",IFERROR(DATA!XT2,\"\"))","v":""},{"$f":"IF(DATA!XU2=0,\"\",IFERROR(DATA!XU2,\"\"))","v":""},{"$f":"IF(DATA!XV2=0,\"\",IFERROR(DATA!XV2,\"\"))","v":""},{"$f":"IF(DATA!XW2=0,\"\",IFERROR(DATA!XW2,\"\"))","v":""},{"$f":"IF(DATA!XX2=0,\"\",IFERROR(DATA!XX2,\"\"))","v":""},{"$f":"IF(DATA!XY2=0,\"\",IFERROR(DATA!XY2,\"\"))","v":""},{"$f":"IF(DATA!XZ2=0,\"\",IFERROR(DATA!XZ2,\"\"))","v":""},{"$f":"IF(DATA!YA2=0,\"\",IFERROR(DATA!YA2,\"\"))","v":""},{"$f":"IF(DATA!YB2=0,\"\",IFERROR(DATA!YB2,\"\"))","v":""},{"$f":"IF(DATA!YC2=0,\"\",IFERROR(DATA!YC2,\"\"))","v":""},{"$f":"IF(DATA!YD2=0,\"\",IFERROR(DATA!YD2,\"\"))","v":""},{"$f":"IF(DATA!YE2=0,\"\",IFERROR(DATA!YE2,\"\"))","v":""},{"$f":"IF(DATA!YF2=0,\"\",IFERROR(DATA!YF2,\"\"))","v":""},{"$f":"IF(DATA!YG2=0,\"\",IFERROR(DATA!YG2,\"\"))","v":""},{"$f":"IF(DATA!YH2=0,\"\",IFERROR(DATA!YH2,\"\"))","v":""},{"$f":"IF(DATA!YI2=0,\"\",IFERROR(DATA!YI2,\"\"))","v":""},{"$f":"IF(DATA!YJ2=0,\"\",IFERROR(DATA!YJ2,\"\"))","v":""},{"$f":"IF(DATA!YK2=0,\"\",IFERROR(DATA!YK2,\"\"))","v":""},{"$f":"IF(DATA!YL2=0,\"\",IFERROR(DATA!YL2,\"\"))","v":""},{"$f":"IF(DATA!YM2=0,\"\",IFERROR(DATA!YM2,\"\"))","v":""},{"$f":"IF(DATA!YN2=0,\"\",IFERROR(DATA!YN2,\"\"))","v":""},{"$f":"IF(DATA!YO2=0,\"\",IFERROR(DATA!YO2,\"\"))","v":""},{"$f":"IF(DATA!YP2=0,\"\",IFERROR(DATA!YP2,\"\"))","v":""},{"$f":"IF(DATA!YQ2=0,\"\",IFERROR(DATA!YQ2,\"\"))","v":""},{"$f":"IF(DATA!YR2=0,\"\",IFERROR(DATA!YR2,\"\"))","v":""},{"$f":"IF(DATA!YS2=0,\"\",IFERROR(DATA!YS2,\"\"))","v":""},{"$f":"IF(DATA!YT2=0,\"\",IFERROR(DATA!YT2,\"\"))","v":""},{"$f":"IF(DATA!YU2=0,\"\",IFERROR(DATA!YU2,\"\"))","v":""},{"$f":"IF(DATA!YV2=0,\"\",IFERROR(DATA!YV2,\"\"))","v":""},{"$f":"IF(DATA!YW2=0,\"\",IFERROR(DATA!YW2,\"\"))","v":""},{"$f":"IF(DATA!YX2=0,\"\",IFERROR(DATA!YX2,\"\"))","v":""},{"$f":"IF(DATA!YY2=0,\"\",IFERROR(DATA!YY2,\"\"))","v":""},{"$f":"IF(DATA!YZ2=0,\"\",IFERROR(DATA!YZ2,\"\"))","v":""},{"$f":"IF(DATA!ZA2=0,\"\",IFERROR(DATA!ZA2,\"\"))","v":""},{"$f":"IF(DATA!ZB2=0,\"\",IFERROR(DATA!ZB2,\"\"))","v":""},{"$f":"IF(DATA!ZC2=0,\"\",IFERROR(DATA!ZC2,\"\"))","v":""},{"$f":"IF(DATA!ZD2=0,\"\",IFERROR(DATA!ZD2,\"\"))","v":""},{"$f":"IF(DATA!ZE2=0,\"\",IFERROR(DATA!ZE2,\"\"))","v":""},{"$f":"IF(DATA!ZF2=0,\"\",IFERROR(DATA!ZF2,\"\"))","v":""},{"$f":"IF(DATA!ZG2=0,\"\",IFERROR(DATA!ZG2,\"\"))","v":""},{"$f":"IF(DATA!ZH2=0,\"\",IFERROR(DATA!ZH2,\"\"))","v":""},{"$f":"IF(DATA!ZI2=0,\"\",IFERROR(DATA!ZI2,\"\"))","v":""},{"$f":"IF(DATA!ZJ2=0,\"\",IFERROR(DATA!ZJ2,\"\"))","v":""},{"$f":"IF(DATA!ZK2=0,\"\",IFERROR(DATA!ZK2,\"\"))","v":""},{"$f":"IF(DATA!ZL2=0,\"\",IFERROR(DATA!ZL2,\"\"))","v":""},{"$f":"IF(DATA!ZM2=0,\"\",IFERROR(DATA!ZM2,\"\"))","v":""},{"$f":"IF(DATA!ZN2=0,\"\",IFERROR(DATA!ZN2,\"\"))","v":""},{"$f":"IF(DATA!ZO2=0,\"\",IFERROR(DATA!ZO2,\"\"))","v":""},{"$f":"IF(DATA!ZP2=0,\"\",IFERROR(DATA!ZP2,\"\"))","v":""},{"$f":"IF(DATA!ZQ2=0,\"\",IFERROR(DATA!ZQ2,\"\"))","v":""},{"$f":"IF(DATA!ZR2=0,\"\",IFERROR(DATA!ZR2,\"\"))","v":""},{"$f":"IF(DATA!ZS2=0,\"\",IFERROR(DATA!ZS2,\"\"))","v":""},{"$f":"IF(DATA!ZT2=0,\"\",IFERROR(DATA!ZT2,\"\"))","v":""},{"$f":"IF(DATA!ZU2=0,\"\",IFERROR(DATA!ZU2,\"\"))","v":""},{"$f":"IF(DATA!ZV2=0,\"\",IFERROR(DATA!ZV2,\"\"))","v":""},{"$f":"IF(DATA!ZW2=0,\"\",IFERROR(DATA!ZW2,\"\"))","v":""},{"$f":"IF(DATA!ZX2=0,\"\",IFERROR(DATA!ZX2,\"\"))","v":""},{"$f":"IF(DATA!ZY2=0,\"\",IFERROR(DATA!ZY2,\"\"))","v":""},{"$f":"IF(DATA!ZZ2=0,\"\",IFERROR(DATA!ZZ2,\"\"))","v":""},{"$f":"IF(DATA!AAA2=0,\"\",IFERROR(DATA!AAA2,\"\"))","v":""},{"$f":"IF(DATA!AAB2=0,\"\",IFERROR(DATA!AAB2,\"\"))","v":""},{"$f":"IF(DATA!AAC2=0,\"\",IFERROR(DATA!AAC2,\"\"))","v":""},{"$f":"IF(DATA!AAD2=0,\"\",IFERROR(DATA!AAD2,\"\"))","v":""},{"$f":"IF(DATA!AAE2=0,\"\",IFERROR(DATA!AAE2,\"\"))","v":""},{"$f":"IF(DATA!AAF2=0,\"\",IFERROR(DATA!AAF2,\"\"))","v":""},{"$f":"IF(DATA!AAG2=0,\"\",IFERROR(DATA!AAG2,\"\"))","v":""},{"$f":"IF(DATA!AAH2=0,\"\",IFERROR(DATA!AAH2,\"\"))","v":""},{"$f":"IF(DATA!AAI2=0,\"\",IFERROR(DATA!AAI2,\"\"))","v":""},{"$f":"IF(DATA!AAJ2=0,\"\",IFERROR(DATA!AAJ2,\"\"))","v":""},{"$f":"IF(DATA!AAK2=0,\"\",IFERROR(DATA!AAK2,\"\"))","v":""},{"$f":"IF(DATA!AAL2=0,\"\",IFERROR(DATA!AAL2,\"\"))","v":""},{"$f":"IF(DATA!AAM2=0,\"\",IFERROR(DATA!AAM2,\"\"))","v":""},{"$f":"IF(DATA!AAN2=0,\"\",IFERROR(DATA!AAN2,\"\"))","v":""},{"$f":"IF(DATA!AAO2=0,\"\",IFERROR(DATA!AAO2,\"\"))","v":""},{"$f":"IF(DATA!AAP2=0,\"\",IFERROR(DATA!AAP2,\"\"))","v":""},{"$f":"IF(DATA!AAQ2=0,\"\",IFERROR(DATA!AAQ2,\"\"))","v":""},{"$f":"IF(DATA!AAR2=0,\"\",IFERROR(DATA!AAR2,\"\"))","v":""},{"$f":"IF(DATA!AAS2=0,\"\",IFERROR(DATA!AAS2,\"\"))","v":""},{"$f":"IF(DATA!AAT2=0,\"\",IFERROR(DATA!AAT2,\"\"))","v":""},{"$f":"IF(DATA!AAU2=0,\"\",IFERROR(DATA!AAU2,\"\"))","v":""},{"$f":"IF(DATA!AAV2=0,\"\",IFERROR(DATA!AAV2,\"\"))","v":""},{"$f":"IF(DATA!AAW2=0,\"\",IFERROR(DATA!AAW2,\"\"))","v":""},{"$f":"IF(DATA!AAX2=0,\"\",IFERROR(DATA!AAX2,\"\"))","v":""},{"$f":"IF(DATA!AAY2=0,\"\",IFERROR(DATA!AAY2,\"\"))","v":""},{"$f":"IF(DATA!AAZ2=0,\"\",IFERROR(DATA!AAZ2,\"\"))","v":""},{"$f":"IF(DATA!ABA2=0,\"\",IFERROR(DATA!ABA2,\"\"))","v":""},{"$f":"IF(DATA!ABB2=0,\"\",IFERROR(DATA!ABB2,\"\"))","v":""},{"$f":"IF(DATA!ABC2=0,\"\",IFERROR(DATA!ABC2,\"\"))","v":""},{"$f":"IF(DATA!ABD2=0,\"\",IFERROR(DATA!ABD2,\"\"))","v":""},{"$f":"IF(DATA!ABE2=0,\"\",IFERROR(DATA!ABE2,\"\"))","v":""},{"$f":"IF(DATA!ABF2=0,\"\",IFERROR(DATA!ABF2,\"\"))","v":""},{"$f":"IF(DATA!ABG2=0,\"\",IFERROR(DATA!ABG2,\"\"))","v":""},{"$f":"IF(DATA!ABH2=0,\"\",IFERROR(DATA!ABH2,\"\"))","v":""},{"$f":"IF(DATA!ABI2=0,\"\",IFERROR(DATA!ABI2,\"\"))","v":""},{"$f":"IF(DATA!ABJ2=0,\"\",IFERROR(DATA!ABJ2,\"\"))","v":""},{"$f":"IF(DATA!ABK2=0,\"\",IFERROR(DATA!ABK2,\"\"))","v":""},{"$f":"IF(DATA!ABL2=0,\"\",IFERROR(DATA!ABL2,\"\"))","v":""},{"$f":"IF(DATA!ABM2=0,\"\",IFERROR(DATA!ABM2,\"\"))","v":""},{"$f":"IF(DATA!ABN2=0,\"\",IFERROR(DATA!ABN2,\"\"))","v":""},{"$f":"IF(DATA!ABO2=0,\"\",IFERROR(DATA!ABO2,\"\"))","v":""},{"$f":"IF(DATA!ABP2=0,\"\",IFERROR(DATA!ABP2,\"\"))","v":""},{"$f":"IF(DATA!ABQ2=0,\"\",IFERROR(DATA!ABQ2,\"\"))","v":""},{"$f":"IF(DATA!ABR2=0,\"\",IFERROR(DATA!ABR2,\"\"))","v":""},{"$f":"IF(DATA!ABS2=0,\"\",IFERROR(DATA!ABS2,\"\"))","v":""},{"$f":"IF(DATA!ABT2=0,\"\",IFERROR(DATA!ABT2,\"\"))","v":""},{"$f":"IF(DATA!ABU2=0,\"\",IFERROR(DATA!ABU2,\"\"))","v":""},{"$f":"IF(DATA!ABV2=0,\"\",IFERROR(DATA!ABV2,\"\"))","v":""},{"$f":"IF(DATA!ABW2=0,\"\",IFERROR(DATA!ABW2,\"\"))","v":""},{"$f":"IF(DATA!ABX2=0,\"\",IFERROR(DATA!ABX2,\"\"))","v":""},{"$f":"IF(DATA!ABY2=0,\"\",IFERROR(DATA!ABY2,\"\"))","v":""},{"$f":"IF(DATA!ABZ2=0,\"\",IFERROR(DATA!ABZ2,\"\"))","v":""},{"$f":"IF(DATA!ACA2=0,\"\",IFERROR(DATA!ACA2,\"\"))","v":""},{"$f":"IF(DATA!ACB2=0,\"\",IFERROR(DATA!ACB2,\"\"))","v":""},{"$f":"IF(DATA!ACC2=0,\"\",IFERROR(DATA!ACC2,\"\"))","v":""},{"$f":"IF(DATA!ACD2=0,\"\",IFERROR(DATA!ACD2,\"\"))","v":""},{"$f":"IF(DATA!ACE2=0,\"\",IFERROR(DATA!ACE2,\"\"))","v":""},{"$f":"IF(DATA!ACF2=0,\"\",IFERROR(DATA!ACF2,\"\"))","v":""},{"$f":"IF(DATA!ACG2=0,\"\",IFERROR(DATA!ACG2,\"\"))","v":""},{"$f":"IF(DATA!ACH2=0,\"\",IFERROR(DATA!ACH2,\"\"))","v":""},{"$f":"IF(DATA!ACI2=0,\"\",IFERROR(DATA!ACI2,\"\"))","v":""},{"$f":"IF(DATA!ACJ2=0,\"\",IFERROR(DATA!ACJ2,\"\"))","v":""},{"$f":"IF(DATA!ACK2=0,\"\",IFERROR(DATA!ACK2,\"\"))","v":""},{"$f":"IF(DATA!ACL2=0,\"\",IFERROR(DATA!ACL2,\"\"))","v":""},{"$f":"IF(DATA!ACM2=0,\"\",IFERROR(DATA!ACM2,\"\"))","v":""},{"$f":"IF(DATA!ACN2=0,\"\",IFERROR(DATA!ACN2,\"\"))","v":""},{"$f":"IF(DATA!ACO2=0,\"\",IFERROR(DATA!ACO2,\"\"))","v":""},{"$f":"IF(DATA!ACP2=0,\"\",IFERROR(DATA!ACP2,\"\"))","v":""},{"$f":"IF(DATA!ACQ2=0,\"\",IFERROR(DATA!ACQ2,\"\"))","v":""},{"$f":"IF(DATA!ACR2=0,\"\",IFERROR(DATA!ACR2,\"\"))","v":""},{"$f":"IF(DATA!ACS2=0,\"\",IFERROR(DATA!ACS2,\"\"))","v":""},{"$f":"IF(DATA!ACT2=0,\"\",IFERROR(DATA!ACT2,\"\"))","v":""},{"$f":"IF(DATA!ACU2=0,\"\",IFERROR(DATA!ACU2,\"\"))","v":""},{"$f":"IF(DATA!ACV2=0,\"\",IFERROR(DATA!ACV2,\"\"))","v":""},{"$f":"IF(DATA!ACW2=0,\"\",IFERROR(DATA!ACW2,\"\"))","v":""},{"$f":"IF(DATA!ACX2=0,\"\",IFERROR(DATA!ACX2,\"\"))","v":""},{"$f":"IF(DATA!ACY2=0,\"\",IFERROR(DATA!ACY2,\"\"))","v":""},{"$f":"IF(DATA!ACZ2=0,\"\",IFERROR(DATA!ACZ2,\"\"))","v":""},{"$f":"IF(DATA!ADA2=0,\"\",IFERROR(DATA!ADA2,\"\"))","v":""},{"$f":"IF(DATA!ADB2=0,\"\",IFERROR(DATA!ADB2,\"\"))","v":""},{"$f":"IF(DATA!ADC2=0,\"\",IFERROR(DATA!ADC2,\"\"))","v":""},{"$f":"IF(DATA!ADD2=0,\"\",IFERROR(DATA!ADD2,\"\"))","v":""},{"$f":"IF(DATA!ADE2=0,\"\",IFERROR(DATA!ADE2,\"\"))","v":""},{"$f":"IF(DATA!ADF2=0,\"\",IFERROR(DATA!ADF2,\"\"))","v":""},{"$f":"IF(DATA!ADG2=0,\"\",IFERROR(DATA!ADG2,\"\"))","v":""},{"$f":"IF(DATA!ADH2=0,\"\",IFERROR(DATA!ADH2,\"\"))","v":""},{"$f":"IF(DATA!ADI2=0,\"\",IFERROR(DATA!ADI2,\"\"))","v":""},{"$f":"IF(DATA!ADJ2=0,\"\",IFERROR(DATA!ADJ2,\"\"))","v":""},{"$f":"IF(DATA!ADK2=0,\"\",IFERROR(DATA!ADK2,\"\"))","v":""},{"$f":"IF(DATA!ADL2=0,\"\",IFERROR(DATA!ADL2,\"\"))","v":""},{"$f":"IF(DATA!ADM2=0,\"\",IFERROR(DATA!ADM2,\"\"))","v":""},{"$f":"IF(DATA!ADN2=0,\"\",IFERROR(DATA!ADN2,\"\"))","v":""},{"$f":"IF(DATA!ADO2=0,\"\",IFERROR(DATA!ADO2,\"\"))","v":""},{"$f":"IF(DATA!ADP2=0,\"\",IFERROR(DATA!ADP2,\"\"))","v":""},{"$f":"IF(DATA!ADQ2=0,\"\",IFERROR(DATA!ADQ2,\"\"))","v":""},{"$f":"IF(DATA!ADR2=0,\"\",IFERROR(DATA!ADR2,\"\"))","v":""},{"$f":"IF(DATA!ADS2=0,\"\",IFERROR(DATA!ADS2,\"\"))","v":""},{"$f":"IF(DATA!ADT2=0,\"\",IFERROR(DATA!ADT2,\"\"))","v":""},{"$f":"IF(DATA!ADU2=0,\"\",IFERROR(DATA!ADU2,\"\"))","v":""},{"$f":"IF(DATA!ADV2=0,\"\",IFERROR(DATA!ADV2,\"\"))","v":""},{"$f":"IF(DATA!ADW2=0,\"\",IFERROR(DATA!ADW2,\"\"))","v":""},{"$f":"IF(DATA!ADX2=0,\"\",IFERROR(DATA!ADX2,\"\"))","v":""},{"$f":"IF(DATA!ADY2=0,\"\",IFERROR(DATA!ADY2,\"\"))","v":""},{"$f":"IF(DATA!ADZ2=0,\"\",IFERROR(DATA!ADZ2,\"\"))","v":""},{"$f":"IF(DATA!AEA2=0,\"\",IFERROR(DATA!AEA2,\"\"))","v":""},{"$f":"IF(DATA!AEB2=0,\"\",IFERROR(DATA!AEB2,\"\"))","v":""},{"$f":"IF(DATA!AEC2=0,\"\",IFERROR(DATA!AEC2,\"\"))","v":""},{"$f":"IF(DATA!AED2=0,\"\",IFERROR(DATA!AED2,\"\"))","v":""},{"$f":"IF(DATA!AEE2=0,\"\",IFERROR(DATA!AEE2,\"\"))","v":""},{"$f":"IF(DATA!AEF2=0,\"\",IFERROR(DATA!AEF2,\"\"))","v":""},{"$f":"IF(DATA!AEG2=0,\"\",IFERROR(DATA!AEG2,\"\"))","v":""},{"$f":"IF(DATA!AEH2=0,\"\",IFERROR(DATA!AEH2,\"\"))","v":""},{"$f":"IF(DATA!AEI2=0,\"\",IFERROR(DATA!AEI2,\"\"))","v":""},{"$f":"IF(DATA!AEJ2=0,\"\",IFERROR(DATA!AEJ2,\"\"))","v":""},{"$f":"IF(DATA!AEK2=0,\"\",IFERROR(DATA!AEK2,\"\"))","v":""},{"$f":"IF(DATA!AEL2=0,\"\",IFERROR(DATA!AEL2,\"\"))","v":""},{"$f":"IF(DATA!AEM2=0,\"\",IFERROR(DATA!AEM2,\"\"))","v":""},{"$f":"IF(DATA!AEN2=0,\"\",IFERROR(DATA!AEN2,\"\"))","v":""},{"$f":"IF(DATA!AEO2=0,\"\",IFERROR(DATA!AEO2,\"\"))","v":""},{"$f":"IF(DATA!AEP2=0,\"\",IFERROR(DATA!AEP2,\"\"))","v":""},{"$f":"IF(DATA!AEQ2=0,\"\",IFERROR(DATA!AEQ2,\"\"))","v":""},{"$f":"IF(DATA!AER2=0,\"\",IFERROR(DATA!AER2,\"\"))","v":""},{"$f":"IF(DATA!AES2=0,\"\",IFERROR(DATA!AES2,\"\"))","v":""},{"$f":"IF(DATA!AET2=0,\"\",IFERROR(DATA!AET2,\"\"))","v":""},{"$f":"IF(DATA!AEU2=0,\"\",IFERROR(DATA!AEU2,\"\"))","v":""},{"$f":"IF(DATA!AEV2=0,\"\",IFERROR(DATA!AEV2,\"\"))","v":""},{"$f":"IF(DATA!AEW2=0,\"\",IFERROR(DATA!AEW2,\"\"))","v":""},{"$f":"IF(DATA!AEX2=0,\"\",IFERROR(DATA!AEX2,\"\"))","v":""},{"$f":"IF(DATA!AEY2=0,\"\",IFERROR(DATA!AEY2,\"\"))","v":""},{"$f":"IF(DATA!AEZ2=0,\"\",IFERROR(DATA!AEZ2,\"\"))","v":""},{"$f":"IF(DATA!AFA2=0,\"\",IFERROR(DATA!AFA2,\"\"))","v":""},{"$f":"IF(DATA!AFB2=0,\"\",IFERROR(DATA!AFB2,\"\"))","v":""},{"$f":"IF(DATA!AFC2=0,\"\",IFERROR(DATA!AFC2,\"\"))","v":""},{"$f":"IF(DATA!AFD2=0,\"\",IFERROR(DATA!AFD2,\"\"))","v":""},{"$f":"IF(DATA!AFE2=0,\"\",IFERROR(DATA!AFE2,\"\"))","v":""},{"$f":"IF(DATA!AFF2=0,\"\",IFERROR(DATA!AFF2,\"\"))","v":""},{"$f":"IF(DATA!AFG2=0,\"\",IFERROR(DATA!AFG2,\"\"))","v":""},{"$f":"IF(DATA!AFH2=0,\"\",IFERROR(DATA!AFH2,\"\"))","v":""},{"$f":"IF(DATA!AFI2=0,\"\",IFERROR(DATA!AFI2,\"\"))","v":""},{"$f":"IF(DATA!AFJ2=0,\"\",IFERROR(DATA!AFJ2,\"\"))","v":""},{"$f":"IF(DATA!AFK2=0,\"\",IFERROR(DATA!AFK2,\"\"))","v":""},{"$f":"IF(DATA!AFL2=0,\"\",IFERROR(DATA!AFL2,\"\"))","v":""},{"$f":"IF(DATA!AFM2=0,\"\",IFERROR(DATA!AFM2,\"\"))","v":""},{"$f":"IF(DATA!AFN2=0,\"\",IFERROR(DATA!AFN2,\"\"))","v":""},{"$f":"IF(DATA!AFO2=0,\"\",IFERROR(DATA!AFO2,\"\"))","v":""},{"$f":"IF(DATA!AFP2=0,\"\",IFERROR(DATA!AFP2,\"\"))","v":""},{"$f":"IF(DATA!AFQ2=0,\"\",IFERROR(DATA!AFQ2,\"\"))","v":""},{"$f":"IF(DATA!AFR2=0,\"\",IFERROR(DATA!AFR2,\"\"))","v":""},{"$f":"IF(DATA!AFS2=0,\"\",IFERROR(DATA!AFS2,\"\"))","v":""},{"$f":"IF(DATA!AFT2=0,\"\",IFERROR(DATA!AFT2,\"\"))","v":""},{"$f":"IF(DATA!AFU2=0,\"\",IFERROR(DATA!AFU2,\"\"))","v":""},{"$f":"IF(DATA!AFV2=0,\"\",IFERROR(DATA!AFV2,\"\"))","v":""},{"$f":"IF(DATA!AFW2=0,\"\",IFERROR(DATA!AFW2,\"\"))","v":""},{"$f":"IF(DATA!AFX2=0,\"\",IFERROR(DATA!AFX2,\"\"))","v":""},{"$f":"IF(DATA!AFY2=0,\"\",IFERROR(DATA!AFY2,\"\"))","v":""},{"$f":"IF(DATA!AFZ2=0,\"\",IFERROR(DATA!AFZ2,\"\"))","v":""},{"$f":"IF(DATA!AGA2=0,\"\",IFERROR(DATA!AGA2,\"\"))","v":""},{"$f":"IF(DATA!AGB2=0,\"\",IFERROR(DATA!AGB2,\"\"))","v":""},{"$f":"IF(DATA!AGC2=0,\"\",IFERROR(DATA!AGC2,\"\"))","v":""},{"$f":"IF(DATA!AGD2=0,\"\",IFERROR(DATA!AGD2,\"\"))","v":""},{"$f":"IF(DATA!AGE2=0,\"\",IFERROR(DATA!AGE2,\"\"))","v":""},{"$f":"IF(DATA!AGF2=0,\"\",IFERROR(DATA!AGF2,\"\"))","v":""},{"$f":"IF(DATA!AGG2=0,\"\",IFERROR(DATA!AGG2,\"\"))","v":""},{"$f":"IF(DATA!AGH2=0,\"\",IFERROR(DATA!AGH2,\"\"))","v":""},{"$f":"IF(DATA!AGI2=0,\"\",IFERROR(DATA!AGI2,\"\"))","v":""},{"$f":"IF(DATA!AGJ2=0,\"\",IFERROR(DATA!AGJ2,\"\"))","v":""},{"$f":"IF(DATA!AGK2=0,\"\",IFERROR(DATA!AGK2,\"\"))","v":""},{"$f":"IF(DATA!AGL2=0,\"\",IFERROR(DATA!AGL2,\"\"))","v":""},{"$f":"IF(DATA!AGM2=0,\"\",IFERROR(DATA!AGM2,\"\"))","v":""},{"$f":"IF(DATA!AGN2=0,\"\",IFERROR(DATA!AGN2,\"\"))","v":""},{"$f":"IF(DATA!AGO2=0,\"\",IFERROR(DATA!AGO2,\"\"))","v":""},{"$f":"IF(DATA!AGP2=0,\"\",IFERROR(DATA!AGP2,\"\"))","v":""},{"$f":"IF(DATA!AGQ2=0,\"\",IFERROR(DATA!AGQ2,\"\"))","v":""},{"$f":"IF(DATA!AGR2=0,\"\",IFERROR(DATA!AGR2,\"\"))","v":""},{"$f":"IF(DATA!AGS2=0,\"\",IFERROR(DATA!AGS2,\"\"))","v":""},{"$f":"IF(DATA!AGT2=0,\"\",IFERROR(DATA!AGT2,\"\"))","v":""},{"$f":"IF(DATA!AGU2=0,\"\",IFERROR(DATA!AGU2,\"\"))","v":""},{"$f":"IF(DATA!AGV2=0,\"\",IFERROR(DATA!AGV2,\"\"))","v":""},{"$f":"IF(DATA!AGW2=0,\"\",IFERROR(DATA!AGW2,\"\"))","v":""},{"$f":"IF(DATA!AGX2=0,\"\",IFERROR(DATA!AGX2,\"\"))","v":""},{"$f":"IF(DATA!AGY2=0,\"\",IFERROR(DATA!AGY2,\"\"))","v":""},{"$f":"IF(DATA!AGZ2=0,\"\",IFERROR(DATA!AGZ2,\"\"))","v":""},{"$f":"IF(DATA!AHA2=0,\"\",IFERROR(DATA!AHA2,\"\"))","v":""},{"$f":"IF(DATA!AHB2=0,\"\",IFERROR(DATA!AHB2,\"\"))","v":""},{"$f":"IF(DATA!AHC2=0,\"\",IFERROR(DATA!AHC2,\"\"))","v":""},{"$f":"IF(DATA!AHD2=0,\"\",IFERROR(DATA!AHD2,\"\"))","v":""},{"$f":"IF(DATA!AHE2=0,\"\",IFERROR(DATA!AHE2,\"\"))","v":""},{"$f":"IF(DATA!AHF2=0,\"\",IFERROR(DATA!AHF2,\"\"))","v":""},{"$f":"IF(DATA!AHG2=0,\"\",IFERROR(DATA!AHG2,\"\"))","v":""},{"$f":"IF(DATA!AHH2=0,\"\",IFERROR(DATA!AHH2,\"\"))","v":""},{"$f":"IF(DATA!AHI2=0,\"\",IFERROR(DATA!AHI2,\"\"))","v":""},{"$f":"IF(DATA!AHJ2=0,\"\",IFERROR(DATA!AHJ2,\"\"))","v":""},{"$f":"IF(DATA!AHK2=0,\"\",IFERROR(DATA!AHK2,\"\"))","v":""},{"$f":"IF(DATA!AHL2=0,\"\",IFERROR(DATA!AHL2,\"\"))","v":""},{"$f":"IF(DATA!AHM2=0,\"\",IFERROR(DATA!AHM2,\"\"))","v":""},{"$f":"IF(DATA!AHN2=0,\"\",IFERROR(DATA!AHN2,\"\"))","v":""},{"$f":"IF(DATA!AHO2=0,\"\",IFERROR(DATA!AHO2,\"\"))","v":""},{"$f":"IF(DATA!AHP2=0,\"\",IFERROR(DATA!AHP2,\"\"))","v":""},{"$f":"IF(DATA!AHQ2=0,\"\",IFERROR(DATA!AHQ2,\"\"))","v":""},{"$f":"IF(DATA!AHR2=0,\"\",IFERROR(DATA!AHR2,\"\"))","v":""},{"$f":"IF(DATA!AHS2=0,\"\",IFERROR(DATA!AHS2,\"\"))","v":""},{"$f":"IF(DATA!AHT2=0,\"\",IFERROR(DATA!AHT2,\"\"))","v":""},{"$f":"IF(DATA!AHU2=0,\"\",IFERROR(DATA!AHU2,\"\"))","v":""},{"$f":"IF(DATA!AHV2=0,\"\",IFERROR(DATA!AHV2,\"\"))","v":""},{"$f":"IF(DATA!AHW2=0,\"\",IFERROR(DATA!AHW2,\"\"))","v":""},{"$f":"IF(DATA!AHX2=0,\"\",IFERROR(DATA!AHX2,\"\"))","v":""},{"$f":"IF(DATA!AHY2=0,\"\",IFERROR(DATA!AHY2,\"\"))","v":""},{"$f":"IF(DATA!AHZ2=0,\"\",IFERROR(DATA!AHZ2,\"\"))","v":""},{"$f":"IF(DATA!AIA2=0,\"\",IFERROR(DATA!AIA2,\"\"))","v":""},{"$f":"IF(DATA!AIB2=0,\"\",IFERROR(DATA!AIB2,\"\"))","v":""},{"$f":"IF(DATA!AIC2=0,\"\",IFERROR(DATA!AIC2,\"\"))","v":""},{"$f":"IF(DATA!AID2=0,\"\",IFERROR(DATA!AID2,\"\"))","v":""},{"$f":"IF(DATA!AIE2=0,\"\",IFERROR(DATA!AIE2,\"\"))","v":""},{"$f":"IF(DATA!AIF2=0,\"\",IFERROR(DATA!AIF2,\"\"))","v":""},{"$f":"IF(DATA!AIG2=0,\"\",IFERROR(DATA!AIG2,\"\"))","v":""},{"$f":"IF(DATA!AIH2=0,\"\",IFERROR(DATA!AIH2,\"\"))","v":""},{"$f":"IF(DATA!AII2=0,\"\",IFERROR(DATA!AII2,\"\"))","v":""},{"$f":"IF(DATA!AIJ2=0,\"\",IFERROR(DATA!AIJ2,\"\"))","v":""},{"$f":"IF(DATA!AIK2=0,\"\",IFERROR(DATA!AIK2,\"\"))","v":""},{"$f":"IF(DATA!AIL2=0,\"\",IFERROR(DATA!AIL2,\"\"))","v":""},{"$f":"IF(DATA!AIM2=0,\"\",IFERROR(DATA!AIM2,\"\"))","v":""},{"$f":"IF(DATA!AIN2=0,\"\",IFERROR(DATA!AIN2,\"\"))","v":""},{"$f":"IF(DATA!AIO2=0,\"\",IFERROR(DATA!AIO2,\"\"))","v":""},{"$f":"IF(DATA!AIP2=0,\"\",IFERROR(DATA!AIP2,\"\"))","v":""},{"$f":"IF(DATA!AIQ2=0,\"\",IFERROR(DATA!AIQ2,\"\"))","v":""},{"$f":"IF(DATA!AIR2=0,\"\",IFERROR(DATA!AIR2,\"\"))","v":""},{"$f":"IF(DATA!AIS2=0,\"\",IFERROR(DATA!AIS2,\"\"))","v":""},{"$f":"IF(DATA!AIT2=0,\"\",IFERROR(DATA!AIT2,\"\"))","v":""},{"$f":"IF(DATA!AIU2=0,\"\",IFERROR(DATA!AIU2,\"\"))","v":""},{"$f":"IF(DATA!AIV2=0,\"\",IFERROR(DATA!AIV2,\"\"))","v":""},{"$f":"IF(DATA!AIW2=0,\"\",IFERROR(DATA!AIW2,\"\"))","v":""},{"$f":"IF(DATA!AIX2=0,\"\",IFERROR(DATA!AIX2,\"\"))","v":""},{"$f":"IF(DATA!AIY2=0,\"\",IFERROR(DATA!AIY2,\"\"))","v":""},{"$f":"IF(DATA!AIZ2=0,\"\",IFERROR(DATA!AIZ2,\"\"))","v":""},{"$f":"IF(DATA!AJA2=0,\"\",IFERROR(DATA!AJA2,\"\"))","v":""},{"$f":"IF(DATA!AJB2=0,\"\",IFERROR(DATA!AJB2,\"\"))","v":""},{"$f":"IF(DATA!AJC2=0,\"\",IFERROR(DATA!AJC2,\"\"))","v":""},{"$f":"IF(DATA!AJD2=0,\"\",IFERROR(DATA!AJD2,\"\"))","v":""},{"$f":"IF(DATA!AJE2=0,\"\",IFERROR(DATA!AJE2,\"\"))","v":""},{"$f":"IF(DATA!AJF2=0,\"\",IFERROR(DATA!AJF2,\"\"))","v":""},{"$f":"IF(DATA!AJG2=0,\"\",IFERROR(DATA!AJG2,\"\"))","v":""},{"$f":"IF(DATA!AJH2=0,\"\",IFERROR(DATA!AJH2,\"\"))","v":""},{"$f":"IF(DATA!AJI2=0,\"\",IFERROR(DATA!AJI2,\"\"))","v":""},{"$f":"IF(DATA!AJJ2=0,\"\",IFERROR(DATA!AJJ2,\"\"))","v":""},{"$f":"IF(DATA!AJK2=0,\"\",IFERROR(DATA!AJK2,\"\"))","v":""},{"$f":"IF(DATA!AJL2=0,\"\",IFERROR(DATA!AJL2,\"\"))","v":""},{"$f":"IF(DATA!AJM2=0,\"\",IFERROR(DATA!AJM2,\"\"))","v":""},{"$f":"IF(DATA!AJN2=0,\"\",IFERROR(DATA!AJN2,\"\"))","v":""},{"$f":"IF(DATA!AJO2=0,\"\",IFERROR(DATA!AJO2,\"\"))","v":""},{"$f":"IF(DATA!AJP2=0,\"\",IFERROR(DATA!AJP2,\"\"))","v":""},{"$f":"IF(DATA!AJQ2=0,\"\",IFERROR(DATA!AJQ2,\"\"))","v":""},{"$f":"IF(DATA!AJR2=0,\"\",IFERROR(DATA!AJR2,\"\"))","v":""},{"$f":"IF(DATA!AJS2=0,\"\",IFERROR(DATA!AJS2,\"\"))","v":""},{"$f":"IF(DATA!AJT2=0,\"\",IFERROR(DATA!AJT2,\"\"))","v":""},{"$f":"IF(DATA!AJU2=0,\"\",IFERROR(DATA!AJU2,\"\"))","v":""},{"$f":"IF(DATA!AJV2=0,\"\",IFERROR(DATA!AJV2,\"\"))","v":""},{"$f":"IF(DATA!AJW2=0,\"\",IFERROR(DATA!AJW2,\"\"))","v":""},{"$f":"IF(DATA!AJX2=0,\"\",IFERROR(DATA!AJX2,\"\"))","v":""},{"$f":"IF(DATA!AJY2=0,\"\",IFERROR(DATA!AJY2,\"\"))","v":""},{"$f":"IF(DATA!AJZ2=0,\"\",IFERROR(DATA!AJZ2,\"\"))","v":""},{"$f":"IF(DATA!AKA2=0,\"\",IFERROR(DATA!AKA2,\"\"))","v":""},{"$f":"IF(DATA!AKB2=0,\"\",IFERROR(DATA!AKB2,\"\"))","v":""},{"$f":"IF(DATA!AKC2=0,\"\",IFERROR(DATA!AKC2,\"\"))","v":""},{"$f":"IF(DATA!AKD2=0,\"\",IFERROR(DATA!AKD2,\"\"))","v":""},{"$f":"IF(DATA!AKE2=0,\"\",IFERROR(DATA!AKE2,\"\"))","v":""},{"$f":"IF(DATA!AKF2=0,\"\",IFERROR(DATA!AKF2,\"\"))","v":""},{"$f":"IF(DATA!AKG2=0,\"\",IFERROR(DATA!AKG2,\"\"))","v":""},{"$f":"IF(DATA!AKH2=0,\"\",IFERROR(DATA!AKH2,\"\"))","v":""},{"$f":"IF(DATA!AKI2=0,\"\",IFERROR(DATA!AKI2,\"\"))","v":""},{"$f":"IF(DATA!AKJ2=0,\"\",IFERROR(DATA!AKJ2,\"\"))","v":""},{"$f":"IF(DATA!AKK2=0,\"\",IFERROR(DATA!AKK2,\"\"))","v":""},{"$f":"IF(DATA!AKL2=0,\"\",IFERROR(DATA!AKL2,\"\"))","v":""},{"$f":"IF(DATA!AKM2=0,\"\",IFERROR(DATA!AKM2,\"\"))","v":""},{"$f":"IF(DATA!AKN2=0,\"\",IFERROR(DATA!AKN2,\"\"))","v":""},{"$f":"IF(DATA!AKO2=0,\"\",IFERROR(DATA!AKO2,\"\"))","v":""},{"$f":"IF(DATA!AKP2=0,\"\",IFERROR(DATA!AKP2,\"\"))","v":""},{"$f":"IF(DATA!AKQ2=0,\"\",IFERROR(DATA!AKQ2,\"\"))","v":""},{"$f":"IF(DATA!AKR2=0,\"\",IFERROR(DATA!AKR2,\"\"))","v":""},{"$f":"IF(DATA!AKS2=0,\"\",IFERROR(DATA!AKS2,\"\"))","v":""},{"$f":"IF(DATA!AKT2=0,\"\",IFERROR(DATA!AKT2,\"\"))","v":""},{"$f":"IF(DATA!AKU2=0,\"\",IFERROR(DATA!AKU2,\"\"))","v":""},{"$f":"IF(DATA!AKV2=0,\"\",IFERROR(DATA!AKV2,\"\"))","v":""},{"$f":"IF(DATA!AKW2=0,\"\",IFERROR(DATA!AKW2,\"\"))","v":""},{"$f":"IF(DATA!AKX2=0,\"\",IFERROR(DATA!AKX2,\"\"))","v":""},{"$f":"IF(DATA!AKY2=0,\"\",IFERROR(DATA!AKY2,\"\"))","v":""},{"$f":"IF(DATA!AKZ2=0,\"\",IFERROR(DATA!AKZ2,\"\"))","v":""},{"$f":"IF(DATA!ALA2=0,\"\",IFERROR(DATA!ALA2,\"\"))","v":""},{"$f":"IF(DATA!ALB2=0,\"\",IFERROR(DATA!ALB2,\"\"))","v":""},{"$f":"IF(DATA!ALC2=0,\"\",IFERROR(DATA!ALC2,\"\"))","v":""},{"$f":"IF(DATA!ALD2=0,\"\",IFERROR(DATA!ALD2,\"\"))","v":""},{"$f":"IF(DATA!ALE2=0,\"\",IFERROR(DATA!ALE2,\"\"))","v":""},{"$f":"IF(DATA!ALF2=0,\"\",IFERROR(DATA!ALF2,\"\"))","v":""},{"$f":"IF(DATA!ALG2=0,\"\",IFERROR(DATA!ALG2,\"\"))","v":""},{"$f":"IF(DATA!ALH2=0,\"\",IFERROR(DATA!ALH2,\"\"))","v":""},{"$f":"IF(DATA!ALI2=0,\"\",IFERROR(DATA!ALI2,\"\"))","v":""},{"$f":"IF(DATA!ALJ2=0,\"\",IFERROR(DATA!ALJ2,\"\"))","v":""},{"$f":"IF(DATA!ALK2=0,\"\",IFERROR(DATA!ALK2,\"\"))","v":""},{"$f":"IF(DATA!ALL2=0,\"\",IFERROR(DATA!ALL2,\"\"))","v":""},{"$f":"IF(DATA!ALM2=0,\"\",IFERROR(DATA!ALM2,\"\"))","v":""},{"$f":"IF(DATA!ALN2=0,\"\",IFERROR(DATA!ALN2,\"\"))","v":""},{"$f":"IF(DATA!ALO2=0,\"\",IFERROR(DATA!ALO2,\"\"))","v":""},{"$f":"IF(DATA!ALP2=0,\"\",IFERROR(DATA!ALP2,\"\"))","v":""},{"$f":"IF(DATA!ALQ2=0,\"\",IFERROR(DATA!ALQ2,\"\"))","v":""},{"$f":"IF(DATA!ALR2=0,\"\",IFERROR(DATA!ALR2,\"\"))","v":""},{"$f":"IF(DATA!ALS2=0,\"\",IFERROR(DATA!ALS2,\"\"))","v":""},{"$f":"IF(DATA!ALT2=0,\"\",IFERROR(DATA!ALT2,\"\"))","v":""},{"$f":"IF(DATA!ALU2=0,\"\",IFERROR(DATA!ALU2,\"\"))","v":""},{"$f":"IF(DATA!ALV2=0,\"\",IFERROR(DATA!ALV2,\"\"))","v":""},{"$f":"IF(DATA!ALW2=0,\"\",IFERROR(DATA!ALW2,\"\"))","v":""},{"$f":"IF(DATA!ALX2=0,\"\",IFERROR(DATA!ALX2,\"\"))","v":""},{"$f":"IF(DATA!ALY2=0,\"\",IFERROR(DATA!ALY2,\"\"))","v":""},{"$f":"IF(DATA!ALZ2=0,\"\",IFERROR(DATA!ALZ2,\"\"))","v":""},{"$f":"IF(DATA!AMA2=0,\"\",IFERROR(DATA!AMA2,\"\"))","v":""},{"$f":"IF(DATA!AMB2=0,\"\",IFERROR(DATA!AMB2,\"\"))","v":""},{"$f":"IF(DATA!AMC2=0,\"\",IFERROR(DATA!AMC2,\"\"))","v":""},{"$f":"IF(DATA!AMD2=0,\"\",IFERROR(DATA!AMD2,\"\"))","v":""},{"$f":"IF(DATA!AME2=0,\"\",IFERROR(DATA!AME2,\"\"))","v":""},{"$f":"IF(DATA!AMF2=0,\"\",IFERROR(DATA!AMF2,\"\"))","v":""},{"$f":"IF(DATA!AMG2=0,\"\",IFERROR(DATA!AMG2,\"\"))","v":""},{"$f":"IF(DATA!AMH2=0,\"\",IFERROR(DATA!AMH2,\"\"))","v":""},{"$f":"IF(DATA!AMI2=0,\"\",IFERROR(DATA!AMI2,\"\"))","v":""},{"$f":"IF(DATA!AMJ2=0,\"\",IFERROR(DATA!AMJ2,\"\"))","v":""},{"$f":"IF(DATA!AMK2=0,\"\",IFERROR(DATA!AMK2,\"\"))","v":""},{"$f":"IF(DATA!AML2=0,\"\",IFERROR(DATA!AML2,\"\"))","v":""},{"$f":"IF(DATA!AMM2=0,\"\",IFERROR(DATA!AMM2,\"\"))","v":""},{"$f":"IF(DATA!AMN2=0,\"\",IFERROR(DATA!AMN2,\"\"))","v":""},{"$f":"IF(DATA!AMO2=0,\"\",IFERROR(DATA!AMO2,\"\"))","v":""},{"$f":"IF(DATA!AMP2=0,\"\",IFERROR(DATA!AMP2,\"\"))","v":""},{"$f":"IF(DATA!AMQ2=0,\"\",IFERROR(DATA!AMQ2,\"\"))","v":""},{"$f":"IF(DATA!AMR2=0,\"\",IFERROR(DATA!AMR2,\"\"))","v":""},{"$f":"IF(DATA!AMS2=0,\"\",IFERROR(DATA!AMS2,\"\"))","v":""},{"$f":"IF(DATA!AMT2=0,\"\",IFERROR(DATA!AMT2,\"\"))","v":""},{"$f":"IF(DATA!AMU2=0,\"\",IFERROR(DATA!AMU2,\"\"))","v":""},{"$f":"IF(DATA!AMV2=0,\"\",IFERROR(DATA!AMV2,\"\"))","v":""},{"$f":"IF(DATA!AMW2=0,\"\",IFERROR(DATA!AMW2,\"\"))","v":""},{"$f":"IF(DATA!AMX2=0,\"\",IFERROR(DATA!AMX2,\"\"))","v":""},{"$f":"IF(DATA!AMY2=0,\"\",IFERROR(DATA!AMY2,\"\"))","v":""},{"$f":"IF(DATA!AMZ2=0,\"\",IFERROR(DATA!AMZ2,\"\"))","v":""},{"$f":"IF(DATA!ANA2=0,\"\",IFERROR(DATA!ANA2,\"\"))","v":""},{"$f":"IF(DATA!ANB2=0,\"\",IFERROR(DATA!ANB2,\"\"))","v":""},{"$f":"IF(DATA!ANC2=0,\"\",IFERROR(DATA!ANC2,\"\"))","v":""},{"$f":"IF(DATA!AND2=0,\"\",IFERROR(DATA!AND2,\"\"))","v":""},{"$f":"IF(DATA!ANE2=0,\"\",IFERROR(DATA!ANE2,\"\"))","v":""},{"$f":"IF(DATA!ANF2=0,\"\",IFERROR(DATA!ANF2,\"\"))","v":""},{"$f":"IF(DATA!ANG2=0,\"\",IFERROR(DATA!ANG2,\"\"))","v":""},{"$f":"IF(DATA!ANH2=0,\"\",IFERROR(DATA!ANH2,\"\"))","v":""},{"$f":"IF(DATA!ANI2=0,\"\",IFERROR(DATA!ANI2,\"\"))","v":""},{"$f":"IF(DATA!ANJ2=0,\"\",IFERROR(DATA!ANJ2,\"\"))","v":""},{"$f":"IF(DATA!ANK2=0,\"\",IFERROR(DATA!ANK2,\"\"))","v":""},{"$f":"IF(DATA!ANL2=0,\"\",IFERROR(DATA!ANL2,\"\"))","v":""},{"$f":"IF(DATA!ANM2=0,\"\",IFERROR(DATA!ANM2,\"\"))","v":""},{"$f":"IF(DATA!ANN2=0,\"\",IFERROR(DATA!ANN2,\"\"))","v":""},{"$f":"IF(DATA!ANO2=0,\"\",IFERROR(DATA!ANO2,\"\"))","v":""},{"$f":"IF(DATA!ANP2=0,\"\",IFERROR(DATA!ANP2,\"\"))","v":""},{"$f":"IF(DATA!ANQ2=0,\"\",IFERROR(DATA!ANQ2,\"\"))","v":""},{"$f":"IF(DATA!ANR2=0,\"\",IFERROR(DATA!ANR2,\"\"))","v":""},{"$f":"IF(DATA!ANS2=0,\"\",IFERROR(DATA!ANS2,\"\"))","v":""},{"$f":"IF(DATA!ANT2=0,\"\",IFERROR(DATA!ANT2,\"\"))","v":""},{"$f":"IF(DATA!ANU2=0,\"\",IFERROR(DATA!ANU2,\"\"))","v":""},{"$f":"IF(DATA!ANV2=0,\"\",IFERROR(DATA!ANV2,\"\"))","v":""},{"$f":"IF(DATA!ANW2=0,\"\",IFERROR(DATA!ANW2,\"\"))","v":""},{"$f":"IF(DATA!ANX2=0,\"\",IFERROR(DATA!ANX2,\"\"))","v":""},{"$f":"IF(DATA!ANY2=0,\"\",IFERROR(DATA!ANY2,\"\"))","v":""},{"$f":"IF(DATA!ANZ2=0,\"\",IFERROR(DATA!ANZ2,\"\"))","v":""},{"$f":"IF(DATA!AOA2=0,\"\",IFERROR(DATA!AOA2,\"\"))","v":""},{"$f":"IF(DATA!AOB2=0,\"\",IFERROR(DATA!AOB2,\"\"))","v":""},{"$f":"IF(DATA!AOC2=0,\"\",IFERROR(DATA!AOC2,\"\"))","v":""},{"$f":"IF(DATA!AOD2=0,\"\",IFERROR(DATA!AOD2,\"\"))","v":""},{"$f":"IF(DATA!AOE2=0,\"\",IFERROR(DATA!AOE2,\"\"))","v":""},{"$f":"IF(DATA!AOF2=0,\"\",IFERROR(DATA!AOF2,\"\"))","v":""},{"$f":"IF(DATA!AOG2=0,\"\",IFERROR(DATA!AOG2,\"\"))","v":""},{"$f":"IF(DATA!AOH2=0,\"\",IFERROR(DATA!AOH2,\"\"))","v":""},{"$f":"IF(DATA!AOI2=0,\"\",IFERROR(DATA!AOI2,\"\"))","v":""},{"$f":"IF(DATA!AOJ2=0,\"\",IFERROR(DATA!AOJ2,\"\"))","v":""},{"$f":"IF(DATA!AOK2=0,\"\",IFERROR(DATA!AOK2,\"\"))","v":""},{"$f":"IF(DATA!AOL2=0,\"\",IFERROR(DATA!AOL2,\"\"))","v":""},{"$f":"IF(DATA!AOM2=0,\"\",IFERROR(DATA!AOM2,\"\"))","v":""},{"$f":"IF(DATA!AON2=0,\"\",IFERROR(DATA!AON2,\"\"))","v":""},{"$f":"IF(DATA!AOO2=0,\"\",IFERROR(DATA!AOO2,\"\"))","v":""},{"$f":"IF(DATA!AOP2=0,\"\",IFERROR(DATA!AOP2,\"\"))","v":""},{"$f":"IF(DATA!AOQ2=0,\"\",IFERROR(DATA!AOQ2,\"\"))","v":""},{"$f":"IF(DATA!AOR2=0,\"\",IFERROR(DATA!AOR2,\"\"))","v":""},{"$f":"IF(DATA!AOS2=0,\"\",IFERROR(DATA!AOS2,\"\"))","v":""},{"$f":"IF(DATA!AOT2=0,\"\",IFERROR(DATA!AOT2,\"\"))","v":""},{"$f":"IF(DATA!AOU2=0,\"\",IFERROR(DATA!AOU2,\"\"))","v":""},{"$f":"IF(DATA!AOV2=0,\"\",IFERROR(DATA!AOV2,\"\"))","v":""},{"$f":"IF(DATA!AOW2=0,\"\",IFERROR(DATA!AOW2,\"\"))","v":""},{"$f":"IF(DATA!AOX2=0,\"\",IFERROR(DATA!AOX2,\"\"))","v":""},{"$f":"IF(DATA!AOY2=0,\"\",IFERROR(DATA!AOY2,\"\"))","v":""},{"$f":"IF(DATA!AOZ2=0,\"\",IFERROR(DATA!AOZ2,\"\"))","v":""},{"$f":"IF(DATA!APA2=0,\"\",IFERROR(DATA!APA2,\"\"))","v":""},{"$f":"IF(DATA!APB2=0,\"\",IFERROR(DATA!APB2,\"\"))","v":""},{"$f":"IF(DATA!APC2=0,\"\",IFERROR(DATA!APC2,\"\"))","v":""},{"$f":"IF(DATA!APD2=0,\"\",IFERROR(DATA!APD2,\"\"))","v":""},{"$f":"IF(DATA!APE2=0,\"\",IFERROR(DATA!APE2,\"\"))","v":""},{"$f":"IF(DATA!APF2=0,\"\",IFERROR(DATA!APF2,\"\"))","v":""},{"$f":"IF(DATA!APG2=0,\"\",IFERROR(DATA!APG2,\"\"))","v":""},{"$f":"IF(DATA!APH2=0,\"\",IFERROR(DATA!APH2,\"\"))","v":""},{"$f":"IF(DATA!API2=0,\"\",IFERROR(DATA!API2,\"\"))","v":""},{"$f":"IF(DATA!APJ2=0,\"\",IFERROR(DATA!APJ2,\"\"))","v":""},{"$f":"IF(DATA!APK2=0,\"\",IFERROR(DATA!APK2,\"\"))","v":""},{"$f":"IF(DATA!APL2=0,\"\",IFERROR(DATA!APL2,\"\"))","v":""},{"$f":"IF(DATA!APM2=0,\"\",IFERROR(DATA!APM2,\"\"))","v":""},{"$f":"IF(DATA!APN2=0,\"\",IFERROR(DATA!APN2,\"\"))","v":""},{"$f":"IF(DATA!APO2=0,\"\",IFERROR(DATA!APO2,\"\"))","v":""},{"$f":"IF(DATA!APP2=0,\"\",IFERROR(DATA!APP2,\"\"))","v":""},{"$f":"IF(DATA!APQ2=0,\"\",IFERROR(DATA!APQ2,\"\"))","v":""},{"$f":"IF(DATA!APR2=0,\"\",IFERROR(DATA!APR2,\"\"))","v":""},{"$f":"IF(DATA!APS2=0,\"\",IFERROR(DATA!APS2,\"\"))","v":""},{"$f":"IF(DATA!APT2=0,\"\",IFERROR(DATA!APT2,\"\"))","v":""},{"$f":"IF(DATA!APU2=0,\"\",IFERROR(DATA!APU2,\"\"))","v":""},{"$f":"IF(DATA!APV2=0,\"\",IFERROR(DATA!APV2,\"\"))","v":""},{"$f":"IF(DATA!APW2=0,\"\",IFERROR(DATA!APW2,\"\"))","v":""},{"$f":"IF(DATA!APX2=0,\"\",IFERROR(DATA!APX2,\"\"))","v":""},{"$f":"IF(DATA!APY2=0,\"\",IFERROR(DATA!APY2,\"\"))","v":""},{"$f":"IF(DATA!APZ2=0,\"\",IFERROR(DATA!APZ2,\"\"))","v":""},{"$f":"IF(DATA!AQA2=0,\"\",IFERROR(DATA!AQA2,\"\"))","v":""},{"$f":"IF(DATA!AQB2=0,\"\",IFERROR(DATA!AQB2,\"\"))","v":""},{"$f":"IF(DATA!AQC2=0,\"\",IFERROR(DATA!AQC2,\"\"))","v":""},{"$f":"IF(DATA!AQD2=0,\"\",IFERROR(DATA!AQD2,\"\"))","v":""},{"$f":"IF(DATA!AQE2=0,\"\",IFERROR(DATA!AQE2,\"\"))","v":""},{"$f":"IF(DATA!AQF2=0,\"\",IFERROR(DATA!AQF2,\"\"))","v":""},{"$f":"IF(DATA!AQG2=0,\"\",IFERROR(DATA!AQG2,\"\"))","v":""},{"$f":"IF(DATA!AQH2=0,\"\",IFERROR(DATA!AQH2,\"\"))","v":""},{"$f":"IF(DATA!AQI2=0,\"\",IFERROR(DATA!AQI2,\"\"))","v":""},{"$f":"IF(DATA!AQJ2=0,\"\",IFERROR(DATA!AQJ2,\"\"))","v":""},{"$f":"IF(DATA!AQK2=0,\"\",IFERROR(DATA!AQK2,\"\"))","v":""},{"$f":"IF(DATA!AQL2=0,\"\",IFERROR(DATA!AQL2,\"\"))","v":""},{"$f":"IF(DATA!AQM2=0,\"\",IFERROR(DATA!AQM2,\"\"))","v":""},{"$f":"IF(DATA!AQN2=0,\"\",IFERROR(DATA!AQN2,\"\"))","v":""},{"$f":"IF(DATA!AQO2=0,\"\",IFERROR(DATA!AQO2,\"\"))","v":""},{"$f":"IF(DATA!AQP2=0,\"\",IFERROR(DATA!AQP2,\"\"))","v":""},{"$f":"IF(DATA!AQQ2=0,\"\",IFERROR(DATA!AQQ2,\"\"))","v":""},{"$f":"IF(DATA!AQR2=0,\"\",IFERROR(DATA!AQR2,\"\"))","v":""},{"$f":"IF(DATA!AQS2=0,\"\",IFERROR(DATA!AQS2,\"\"))","v":""},{"$f":"IF(DATA!AQT2=0,\"\",IFERROR(DATA!AQT2,\"\"))","v":""},{"$f":"IF(DATA!AQU2=0,\"\",IFERROR(DATA!AQU2,\"\"))","v":""},{"$f":"IF(DATA!AQV2=0,\"\",IFERROR(DATA!AQV2,\"\"))","v":""},{"$f":"IF(DATA!AQW2=0,\"\",IFERROR(DATA!AQW2,\"\"))","v":""},{"$f":"IF(DATA!AQX2=0,\"\",IFERROR(DATA!AQX2,\"\"))","v":""},{"$f":"IF(DATA!AQY2=0,\"\",IFERROR(DATA!AQY2,\"\"))","v":""},{"$f":"IF(DATA!AQZ2=0,\"\",IFERROR(DATA!AQZ2,\"\"))","v":""},{"$f":"IF(DATA!ARA2=0,\"\",IFERROR(DATA!ARA2,\"\"))","v":""},{"$f":"IF(DATA!ARB2=0,\"\",IFERROR(DATA!ARB2,\"\"))","v":""},{"$f":"IF(DATA!ARC2=0,\"\",IFERROR(DATA!ARC2,\"\"))","v":""},{"$f":"IF(DATA!ARD2=0,\"\",IFERROR(DATA!ARD2,\"\"))","v":""},{"$f":"IF(DATA!ARE2=0,\"\",IFERROR(DATA!ARE2,\"\"))","v":""},{"$f":"IF(DATA!ARF2=0,\"\",IFERROR(DATA!ARF2,\"\"))","v":""},{"$f":"IF(DATA!ARG2=0,\"\",IFERROR(DATA!ARG2,\"\"))","v":""},{"$f":"IF(DATA!ARH2=0,\"\",IFERROR(DATA!ARH2,\"\"))","v":""},{"$f":"IF(DATA!ARI2=0,\"\",IFERROR(DATA!ARI2,\"\"))","v":""},{"$f":"IF(DATA!ARJ2=0,\"\",IFERROR(DATA!ARJ2,\"\"))","v":""},{"$f":"IF(DATA!ARK2=0,\"\",IFERROR(DATA!ARK2,\"\"))","v":""},{"$f":"IF(DATA!ARL2=0,\"\",IFERROR(DATA!ARL2,\"\"))","v":""},{"$f":"IF(DATA!ARM2=0,\"\",IFERROR(DATA!ARM2,\"\"))","v":""},{"$f":"IF(DATA!ARN2=0,\"\",IFERROR(DATA!ARN2,\"\"))","v":""},{"$f":"IF(DATA!ARO2=0,\"\",IFERROR(DATA!ARO2,\"\"))","v":""},{"$f":"IF(DATA!ARP2=0,\"\",IFERROR(DATA!ARP2,\"\"))","v":""},{"$f":"IF(DATA!ARQ2=0,\"\",IFERROR(DATA!ARQ2,\"\"))","v":""},{"$f":"IF(DATA!ARR2=0,\"\",IFERROR(DATA!ARR2,\"\"))","v":""},{"$f":"IF(DATA!ARS2=0,\"\",IFERROR(DATA!ARS2,\"\"))","v":""},{"$f":"IF(DATA!ART2=0,\"\",IFERROR(DATA!ART2,\"\"))","v":""},{"$f":"IF(DATA!ARU2=0,\"\",IFERROR(DATA!ARU2,\"\"))","v":""},{"$f":"IF(DATA!ARV2=0,\"\",IFERROR(DATA!ARV2,\"\"))","v":""},{"$f":"IF(DATA!ARW2=0,\"\",IFERROR(DATA!ARW2,\"\"))","v":""},{"$f":"IF(DATA!ARX2=0,\"\",IFERROR(DATA!ARX2,\"\"))","v":""},{"$f":"IF(DATA!ARY2=0,\"\",IFERROR(DATA!ARY2,\"\"))","v":""},{"$f":"IF(DATA!ARZ2=0,\"\",IFERROR(DATA!ARZ2,\"\"))","v":""},{"$f":"IF(DATA!ASA2=0,\"\",IFERROR(DATA!ASA2,\"\"))","v":""},{"$f":"IF(DATA!ASB2=0,\"\",IFERROR(DATA!ASB2,\"\"))","v":""},{"$f":"IF(DATA!ASC2=0,\"\",IFERROR(DATA!ASC2,\"\"))","v":""},{"$f":"IF(DATA!ASD2=0,\"\",IFERROR(DATA!ASD2,\"\"))","v":""},{"$f":"IF(DATA!ASE2=0,\"\",IFERROR(DATA!ASE2,\"\"))","v":""},{"$f":"IF(DATA!ASF2=0,\"\",IFERROR(DATA!ASF2,\"\"))","v":""},{"$f":"IF(DATA!ASG2=0,\"\",IFERROR(DATA!ASG2,\"\"))","v":""},{"$f":"IF(DATA!ASH2=0,\"\",IFERROR(DATA!ASH2,\"\"))","v":""},{"$f":"IF(DATA!ASI2=0,\"\",IFERROR(DATA!ASI2,\"\"))","v":""},{"$f":"IF(DATA!ASJ2=0,\"\",IFERROR(DATA!ASJ2,\"\"))","v":""},{"$f":"IF(DATA!ASK2=0,\"\",IFERROR(DATA!ASK2,\"\"))","v":""},{"$f":"IF(DATA!ASL2=0,\"\",IFERROR(DATA!ASL2,\"\"))","v":""},{"$f":"IF(DATA!ASM2=0,\"\",IFERROR(DATA!ASM2,\"\"))","v":""},{"$f":"IF(DATA!ASN2=0,\"\",IFERROR(DATA!ASN2,\"\"))","v":""},{"$f":"IF(DATA!ASO2=0,\"\",IFERROR(DATA!ASO2,\"\"))","v":""},{"$f":"IF(DATA!ASP2=0,\"\",IFERROR(DATA!ASP2,\"\"))","v":""},{"$f":"IF(DATA!ASQ2=0,\"\",IFERROR(DATA!ASQ2,\"\"))","v":""},{"$f":"IF(DATA!ASR2=0,\"\",IFERROR(DATA!ASR2,\"\"))","v":""},{"$f":"IF(DATA!ASS2=0,\"\",IFERROR(DATA!ASS2,\"\"))","v":""},{"$f":"IF(DATA!AST2=0,\"\",IFERROR(DATA!AST2,\"\"))","v":""},{"$f":"IF(DATA!ASU2=0,\"\",IFERROR(DATA!ASU2,\"\"))","v":""},{"$f":"IF(DATA!ASV2=0,\"\",IFERROR(DATA!ASV2,\"\"))","v":""},{"$f":"IF(DATA!ASW2=0,\"\",IFERROR(DATA!ASW2,\"\"))","v":""},{"$f":"IF(DATA!ASX2=0,\"\",IFERROR(DATA!ASX2,\"\"))","v":""},{"$f":"IF(DATA!ASY2=0,\"\",IFERROR(DATA!ASY2,\"\"))","v":""},{"$f":"IF(DATA!ASZ2=0,\"\",IFERROR(DATA!ASZ2,\"\"))","v":""},{"$f":"IF(DATA!ATA2=0,\"\",IFERROR(DATA!ATA2,\"\"))","v":""},{"$f":"IF(DATA!ATB2=0,\"\",IFERROR(DATA!ATB2,\"\"))","v":""},{"$f":"IF(DATA!ATC2=0,\"\",IFERROR(DATA!ATC2,\"\"))","v":""},{"$f":"IF(DATA!ATD2=0,\"\",IFERROR(DATA!ATD2,\"\"))","v":""},{"$f":"IF(DATA!ATE2=0,\"\",IFERROR(DATA!ATE2,\"\"))","v":""},{"$f":"IF(DATA!ATF2=0,\"\",IFERROR(DATA!ATF2,\"\"))","v":""},{"$f":"IF(DATA!ATG2=0,\"\",IFERROR(DATA!ATG2,\"\"))","v":""},{"$f":"IF(DATA!ATH2=0,\"\",IFERROR(DATA!ATH2,\"\"))","v":""},{"$f":"IF(DATA!ATI2=0,\"\",IFERROR(DATA!ATI2,\"\"))","v":""},{"$f":"IF(DATA!ATJ2=0,\"\",IFERROR(DATA!ATJ2,\"\"))","v":""},{"$f":"IF(DATA!ATK2=0,\"\",IFERROR(DATA!ATK2,\"\"))","v":""},{"$f":"IF(DATA!ATL2=0,\"\",IFERROR(DATA!ATL2,\"\"))","v":""},{"$f":"IF(DATA!ATM2=0,\"\",IFERROR(DATA!ATM2,\"\"))","v":""},{"$f":"IF(DATA!ATN2=0,\"\",IFERROR(DATA!ATN2,\"\"))","v":""},{"$f":"IF(DATA!ATO2=0,\"\",IFERROR(DATA!ATO2,\"\"))","v":""},{"$f":"IF(DATA!ATP2=0,\"\",IFERROR(DATA!ATP2,\"\"))","v":""},{"$f":"IF(DATA!ATQ2=0,\"\",IFERROR(DATA!ATQ2,\"\"))","v":""},{"$f":"IF(DATA!ATR2=0,\"\",IFERROR(DATA!ATR2,\"\"))","v":""},{"$f":"IF(DATA!ATS2=0,\"\",IFERROR(DATA!ATS2,\"\"))","v":""},{"$f":"IF(DATA!ATT2=0,\"\",IFERROR(DATA!ATT2,\"\"))","v":""},{"$f":"IF(DATA!ATU2=0,\"\",IFERROR(DATA!ATU2,\"\"))","v":""},{"$f":"IF(DATA!ATV2=0,\"\",IFERROR(DATA!ATV2,\"\"))","v":""},{"$f":"IF(DATA!ATW2=0,\"\",IFERROR(DATA!ATW2,\"\"))","v":""},{"$f":"IF(DATA!ATX2=0,\"\",IFERROR(DATA!ATX2,\"\"))","v":""},{"$f":"IF(DATA!ATY2=0,\"\",IFERROR(DATA!ATY2,\"\"))","v":""},{"$f":"IF(DATA!ATZ2=0,\"\",IFERROR(DATA!ATZ2,\"\"))","v":""},{"$f":"IF(DATA!AUA2=0,\"\",IFERROR(DATA!AUA2,\"\"))","v":""},{"$f":"IF(DATA!AUB2=0,\"\",IFERROR(DATA!AUB2,\"\"))","v":""},{"$f":"IF(DATA!AUC2=0,\"\",IFERROR(DATA!AUC2,\"\"))","v":""},{"$f":"IF(DATA!AUD2=0,\"\",IFERROR(DATA!AUD2,\"\"))","v":""},{"$f":"IF(DATA!AUE2=0,\"\",IFERROR(DATA!AUE2,\"\"))","v":""},{"$f":"IF(DATA!AUF2=0,\"\",IFERROR(DATA!AUF2,\"\"))","v":""},{"$f":"IF(DATA!AUG2=0,\"\",IFERROR(DATA!AUG2,\"\"))","v":""},{"$f":"IF(DATA!AUH2=0,\"\",IFERROR(DATA!AUH2,\"\"))","v":""},{"$f":"IF(DATA!AUI2=0,\"\",IFERROR(DATA!AUI2,\"\"))","v":""},{"$f":"IF(DATA!AUJ2=0,\"\",IFERROR(DATA!AUJ2,\"\"))","v":""},{"$f":"IF(DATA!AUK2=0,\"\",IFERROR(DATA!AUK2,\"\"))","v":""},{"$f":"IF(DATA!AUL2=0,\"\",IFERROR(DATA!AUL2,\"\"))","v":""},{"$f":"IF(DATA!AUM2=0,\"\",IFERROR(DATA!AUM2,\"\"))","v":""},{"$f":"IF(DATA!AUN2=0,\"\",IFERROR(DATA!AUN2,\"\"))","v":""},{"$f":"IF(DATA!AUO2=0,\"\",IFERROR(DATA!AUO2,\"\"))","v":""},{"$f":"IF(DATA!AUP2=0,\"\",IFERROR(DATA!AUP2,\"\"))","v":""},{"$f":"IF(DATA!AUQ2=0,\"\",IFERROR(DATA!AUQ2,\"\"))","v":""},{"$f":"IF(DATA!AUR2=0,\"\",IFERROR(DATA!AUR2,\"\"))","v":""},{"$f":"IF(DATA!AUS2=0,\"\",IFERROR(DATA!AUS2,\"\"))","v":""},{"$f":"IF(DATA!AUT2=0,\"\",IFERROR(DATA!AUT2,\"\"))","v":""},{"$f":"IF(DATA!AUU2=0,\"\",IFERROR(DATA!AUU2,\"\"))","v":""},{"$f":"IF(DATA!AUV2=0,\"\",IFERROR(DATA!AUV2,\"\"))","v":""},{"$f":"IF(DATA!AUW2=0,\"\",IFERROR(DATA!AUW2,\"\"))","v":""},{"$f":"IF(DATA!AUX2=0,\"\",IFERROR(DATA!AUX2,\"\"))","v":""},{"$f":"IF(DATA!AUY2=0,\"\",IFERROR(DATA!AUY2,\"\"))","v":""},{"$f":"IF(DATA!AUZ2=0,\"\",IFERROR(DATA!AUZ2,\"\"))","v":""},{"$f":"IF(DATA!AVA2=0,\"\",IFERROR(DATA!AVA2,\"\"))","v":""},{"$f":"IF(DATA!AVB2=0,\"\",IFERROR(DATA!AVB2,\"\"))","v":""},{"$f":"IF(DATA!AVC2=0,\"\",IFERROR(DATA!AVC2,\"\"))","v":""},{"$f":"IF(DATA!AVD2=0,\"\",IFERROR(DATA!AVD2,\"\"))","v":""},{"$f":"IF(DATA!AVE2=0,\"\",IFERROR(DATA!AVE2,\"\"))","v":""},{"$f":"IF(DATA!AVF2=0,\"\",IFERROR(DATA!AVF2,\"\"))","v":""},{"$f":"IF(DATA!AVG2=0,\"\",IFERROR(DATA!AVG2,\"\"))","v":""},{"$f":"IF(DATA!AVH2=0,\"\",IFERROR(DATA!AVH2,\"\"))","v":""},{"$f":"IF(DATA!AVI2=0,\"\",IFERROR(DATA!AVI2,\"\"))","v":""},{"$f":"IF(DATA!AVJ2=0,\"\",IFERROR(DATA!AVJ2,\"\"))","v":""},{"$f":"IF(DATA!AVK2=0,\"\",IFERROR(DATA!AVK2,\"\"))","v":""},{"$f":"IF(DATA!AVL2=0,\"\",IFERROR(DATA!AVL2,\"\"))","v":""},{"$f":"IF(DATA!AVM2=0,\"\",IFERROR(DATA!AVM2,\"\"))","v":""},{"$f":"IF(DATA!AVN2=0,\"\",IFERROR(DATA!AVN2,\"\"))","v":""},{"$f":"IF(DATA!AVO2=0,\"\",IFERROR(DATA!AVO2,\"\"))","v":""},{"$f":"IF(DATA!AVP2=0,\"\",IFERROR(DATA!AVP2,\"\"))","v":""},{"$f":"IF(DATA!AVQ2=0,\"\",IFERROR(DATA!AVQ2,\"\"))","v":""},{"$f":"IF(DATA!AVR2=0,\"\",IFERROR(DATA!AVR2,\"\"))","v":""},{"$f":"IF(DATA!AVS2=0,\"\",IFERROR(DATA!AVS2,\"\"))","v":""},{"$f":"IF(DATA!AVT2=0,\"\",IFERROR(DATA!AVT2,\"\"))","v":""},{"$f":"IF(DATA!AVU2=0,\"\",IFERROR(DATA!AVU2,\"\"))","v":""},{"$f":"IF(DATA!AVV2=0,\"\",IFERROR(DATA!AVV2,\"\"))","v":""},{"$f":"IF(DATA!AVW2=0,\"\",IFERROR(DATA!AVW2,\"\"))","v":""},{"$f":"IF(DATA!AVX2=0,\"\",IFERROR(DATA!AVX2,\"\"))","v":""},{"$f":"IF(DATA!AVY2=0,\"\",IFERROR(DATA!AVY2,\"\"))","v":""},{"$f":"IF(DATA!AVZ2=0,\"\",IFERROR(DATA!AVZ2,\"\"))","v":""},{"$f":"IF(DATA!AWA2=0,\"\",IFERROR(DATA!AWA2,\"\"))","v":""},{"$f":"IF(DATA!AWB2=0,\"\",IFERROR(DATA!AWB2,\"\"))","v":""},{"$f":"IF(DATA!AWC2=0,\"\",IFERROR(DATA!AWC2,\"\"))","v":""},{"$f":"IF(DATA!AWD2=0,\"\",IFERROR(DATA!AWD2,\"\"))","v":""},{"$f":"IF(DATA!AWE2=0,\"\",IFERROR(DATA!AWE2,\"\"))","v":""},{"$f":"IF(DATA!AWF2=0,\"\",IFERROR(DATA!AWF2,\"\"))","v":""},{"$f":"IF(DATA!AWG2=0,\"\",IFERROR(DATA!AWG2,\"\"))","v":""},{"$f":"IF(DATA!AWH2=0,\"\",IFERROR(DATA!AWH2,\"\"))","v":""},{"$f":"IF(DATA!AWI2=0,\"\",IFERROR(DATA!AWI2,\"\"))","v":""},{"$f":"IF(DATA!AWJ2=0,\"\",IFERROR(DATA!AWJ2,\"\"))","v":""},{"$f":"IF(DATA!AWK2=0,\"\",IFERROR(DATA!AWK2,\"\"))","v":""},{"$f":"IF(DATA!AWL2=0,\"\",IFERROR(DATA!AWL2,\"\"))","v":""},{"$f":"IF(DATA!AWM2=0,\"\",IFERROR(DATA!AWM2,\"\"))","v":""},{"$f":"IF(DATA!AWN2=0,\"\",IFERROR(DATA!AWN2,\"\"))","v":""},{"$f":"IF(DATA!AWO2=0,\"\",IFERROR(DATA!AWO2,\"\"))","v":""},{"$f":"IF(DATA!AWP2=0,\"\",IFERROR(DATA!AWP2,\"\"))","v":""},{"$f":"IF(DATA!AWQ2=0,\"\",IFERROR(DATA!AWQ2,\"\"))","v":""},{"$f":"IF(DATA!AWR2=0,\"\",IFERROR(DATA!AWR2,\"\"))","v":""},{"$f":"IF(DATA!AWS2=0,\"\",IFERROR(DATA!AWS2,\"\"))","v":""},{"$f":"IF(DATA!AWT2=0,\"\",IFERROR(DATA!AWT2,\"\"))","v":""},{"$f":"IF(DATA!AWU2=0,\"\",IFERROR(DATA!AWU2,\"\"))","v":""},{"$f":"IF(DATA!AWV2=0,\"\",IFERROR(DATA!AWV2,\"\"))","v":""},{"$f":"IF(DATA!AWW2=0,\"\",IFERROR(DATA!AWW2,\"\"))","v":""},{"$f":"IF(DATA!AWX2=0,\"\",IFERROR(DATA!AWX2,\"\"))","v":""},{"$f":"IF(DATA!AWY2=0,\"\",IFERROR(DATA!AWY2,\"\"))","v":""},{"$f":"IF(DATA!AWZ2=0,\"\",IFERROR(DATA!AWZ2,\"\"))","v":""},{"$f":"IF(DATA!AXA2=0,\"\",IFERROR(DATA!AXA2,\"\"))","v":""},{"$f":"IF(DATA!AXB2=0,\"\",IFERROR(DATA!AXB2,\"\"))","v":""},{"$f":"IF(DATA!AXC2=0,\"\",IFERROR(DATA!AXC2,\"\"))","v":""},{"$f":"IF(DATA!AXD2=0,\"\",IFERROR(DATA!AXD2,\"\"))","v":""},{"$f":"IF(DATA!AXE2=0,\"\",IFERROR(DATA!AXE2,\"\"))","v":""},{"$f":"IF(DATA!AXF2=0,\"\",IFERROR(DATA!AXF2,\"\"))","v":""},{"$f":"IF(DATA!AXG2=0,\"\",IFERROR(DATA!AXG2,\"\"))","v":""},{"$f":"IF(DATA!AXH2=0,\"\",IFERROR(DATA!AXH2,\"\"))","v":""},{"$f":"IF(DATA!AXI2=0,\"\",IFERROR(DATA!AXI2,\"\"))","v":""},{"$f":"IF(DATA!AXJ2=0,\"\",IFERROR(DATA!AXJ2,\"\"))","v":""},{"$f":"IF(DATA!AXK2=0,\"\",IFERROR(DATA!AXK2,\"\"))","v":""},{"$f":"IF(DATA!AXL2=0,\"\",IFERROR(DATA!AXL2,\"\"))","v":""},{"$f":"IF(DATA!AXM2=0,\"\",IFERROR(DATA!AXM2,\"\"))","v":""},{"$f":"IF(DATA!AXN2=0,\"\",IFERROR(DATA!AXN2,\"\"))","v":""},{"$f":"IF(DATA!AXO2=0,\"\",IFERROR(DATA!AXO2,\"\"))","v":""},{"$f":"IF(DATA!AXP2=0,\"\",IFERROR(DATA!AXP2,\"\"))","v":""},{"$f":"IF(DATA!AXQ2=0,\"\",IFERROR(DATA!AXQ2,\"\"))","v":""},{"$f":"IF(DATA!AXR2=0,\"\",IFERROR(DATA!AXR2,\"\"))","v":""},{"$f":"IF(DATA!AXS2=0,\"\",IFERROR(DATA!AXS2,\"\"))","v":""},{"$f":"IF(DATA!AXT2=0,\"\",IFERROR(DATA!AXT2,\"\"))","v":""},{"$f":"IF(DATA!AXU2=0,\"\",IFERROR(DATA!AXU2,\"\"))","v":""},{"$f":"IF(DATA!AXV2=0,\"\",IFERROR(DATA!AXV2,\"\"))","v":""},{"$f":"IF(DATA!AXW2=0,\"\",IFERROR(DATA!AXW2,\"\"))","v":""},{"$f":"IF(DATA!AXX2=0,\"\",IFERROR(DATA!AXX2,\"\"))","v":""},{"$f":"IF(DATA!AXY2=0,\"\",IFERROR(DATA!AXY2,\"\"))","v":""},{"$f":"IF(DATA!AXZ2=0,\"\",IFERROR(DATA!AXZ2,\"\"))","v":""},{"$f":"IF(DATA!AYA2=0,\"\",IFERROR(DATA!AYA2,\"\"))","v":""},{"$f":"IF(DATA!AYB2=0,\"\",IFERROR(DATA!AYB2,\"\"))","v":""},{"$f":"IF(DATA!AYC2=0,\"\",IFERROR(DATA!AYC2,\"\"))","v":""},{"$f":"IF(DATA!AYD2=0,\"\",IFERROR(DATA!AYD2,\"\"))","v":""},{"$f":"IF(DATA!AYE2=0,\"\",IFERROR(DATA!AYE2,\"\"))","v":""},{"$f":"IF(DATA!AYF2=0,\"\",IFERROR(DATA!AYF2,\"\"))","v":""},{"$f":"IF(DATA!AYG2=0,\"\",IFERROR(DATA!AYG2,\"\"))","v":""},{"$f":"IF(DATA!AYH2=0,\"\",IFERROR(DATA!AYH2,\"\"))","v":""},{"$f":"IF(DATA!AYI2=0,\"\",IFERROR(DATA!AYI2,\"\"))","v":""},{"$f":"IF(DATA!AYJ2=0,\"\",IFERROR(DATA!AYJ2,\"\"))","v":""},{"$f":"IF(DATA!AYK2=0,\"\",IFERROR(DATA!AYK2,\"\"))","v":""},{"$f":"IF(DATA!AYL2=0,\"\",IFERROR(DATA!AYL2,\"\"))","v":""},{"$f":"IF(DATA!AYM2=0,\"\",IFERROR(DATA!AYM2,\"\"))","v":""},{"$f":"IF(DATA!AYN2=0,\"\",IFERROR(DATA!AYN2,\"\"))","v":""},{"$f":"IF(DATA!AYO2=0,\"\",IFERROR(DATA!AYO2,\"\"))","v":""},{"$f":"IF(DATA!AYP2=0,\"\",IFERROR(DATA!AYP2,\"\"))","v":""},{"$f":"IF(DATA!AYQ2=0,\"\",IFERROR(DATA!AYQ2,\"\"))","v":""},{"$f":"IF(DATA!AYR2=0,\"\",IFERROR(DATA!AYR2,\"\"))","v":""},{"$f":"IF(DATA!AYS2=0,\"\",IFERROR(DATA!AYS2,\"\"))","v":""},{"$f":"IF(DATA!AYT2=0,\"\",IFERROR(DATA!AYT2,\"\"))","v":""},{"$f":"IF(DATA!AYU2=0,\"\",IFERROR(DATA!AYU2,\"\"))","v":""},{"$f":"IF(DATA!AYV2=0,\"\",IFERROR(DATA!AYV2,\"\"))","v":""},{"$f":"IF(DATA!AYW2=0,\"\",IFERROR(DATA!AYW2,\"\"))","v":""},{"$f":"IF(DATA!AYX2=0,\"\",IFERROR(DATA!AYX2,\"\"))","v":""},{"$f":"IF(DATA!AYY2=0,\"\",IFERROR(DATA!AYY2,\"\"))","v":""},{"$f":"IF(DATA!AYZ2=0,\"\",IFERROR(DATA!AYZ2,\"\"))","v":""},{"$f":"IF(DATA!AZA2=0,\"\",IFERROR(DATA!AZA2,\"\"))","v":""},{"$f":"IF(DATA!AZB2=0,\"\",IFERROR(DATA!AZB2,\"\"))","v":""},{"$f":"IF(DATA!AZC2=0,\"\",IFERROR(DATA!AZC2,\"\"))","v":""},{"$f":"IF(DATA!AZD2=0,\"\",IFERROR(DATA!AZD2,\"\"))","v":""},{"$f":"IF(DATA!AZE2=0,\"\",IFERROR(DATA!AZE2,\"\"))","v":""},{"$f":"IF(DATA!AZF2=0,\"\",IFERROR(DATA!AZF2,\"\"))","v":""},{"$f":"IF(DATA!AZG2=0,\"\",IFERROR(DATA!AZG2,\"\"))","v":""},{"$f":"IF(DATA!AZH2=0,\"\",IFERROR(DATA!AZH2,\"\"))","v":""},{"$f":"IF(DATA!AZI2=0,\"\",IFERROR(DATA!AZI2,\"\"))","v":""},{"$f":"IF(DATA!AZJ2=0,\"\",IFERROR(DATA!AZJ2,\"\"))","v":""},{"$f":"IF(DATA!AZK2=0,\"\",IFERROR(DATA!AZK2,\"\"))","v":""},{"$f":"IF(DATA!AZL2=0,\"\",IFERROR(DATA!AZL2,\"\"))","v":""},{"$f":"IF(DATA!AZM2=0,\"\",IFERROR(DATA!AZM2,\"\"))","v":""},{"$f":"IF(DATA!AZN2=0,\"\",IFERROR(DATA!AZN2,\"\"))","v":""},{"$f":"IF(DATA!AZO2=0,\"\",IFERROR(DATA!AZO2,\"\"))","v":""},{"$f":"IF(DATA!AZP2=0,\"\",IFERROR(DATA!AZP2,\"\"))","v":""},{"$f":"IF(DATA!AZQ2=0,\"\",IFERROR(DATA!AZQ2,\"\"))","v":""},{"$f":"IF(DATA!AZR2=0,\"\",IFERROR(DATA!AZR2,\"\"))","v":""},{"$f":"IF(DATA!AZS2=0,\"\",IFERROR(DATA!AZS2,\"\"))","v":""},{"$f":"IF(DATA!AZT2=0,\"\",IFERROR(DATA!AZT2,\"\"))","v":""},{"$f":"IF(DATA!AZU2=0,\"\",IFERROR(DATA!AZU2,\"\"))","v":""},{"$f":"IF(DATA!AZV2=0,\"\",IFERROR(DATA!AZV2,\"\"))","v":""},{"$f":"IF(DATA!AZW2=0,\"\",IFERROR(DATA!AZW2,\"\"))","v":""},{"$f":"IF(DATA!AZX2=0,\"\",IFERROR(DATA!AZX2,\"\"))","v":""},{"$f":"IF(DATA!AZY2=0,\"\",IFERROR(DATA!AZY2,\"\"))","v":""},{"$f":"IF(DATA!AZZ2=0,\"\",IFERROR(DATA!AZZ2,\"\"))","v":""},{"$f":"IF(DATA!BAA2=0,\"\",IFERROR(DATA!BAA2,\"\"))","v":""},{"$f":"IF(DATA!BAB2=0,\"\",IFERROR(DATA!BAB2,\"\"))","v":""},{"$f":"IF(DATA!BAC2=0,\"\",IFERROR(DATA!BAC2,\"\"))","v":""},{"$f":"IF(DATA!BAD2=0,\"\",IFERROR(DATA!BAD2,\"\"))","v":""},{"$f":"IF(DATA!BAE2=0,\"\",IFERROR(DATA!BAE2,\"\"))","v":""},{"$f":"IF(DATA!BAF2=0,\"\",IFERROR(DATA!BAF2,\"\"))","v":""},{"$f":"IF(DATA!BAG2=0,\"\",IFERROR(DATA!BAG2,\"\"))","v":""},{"$f":"IF(DATA!BAH2=0,\"\",IFERROR(DATA!BAH2,\"\"))","v":""},{"$f":"IF(DATA!BAI2=0,\"\",IFERROR(DATA!BAI2,\"\"))","v":""},{"$f":"IF(DATA!BAJ2=0,\"\",IFERROR(DATA!BAJ2,\"\"))","v":""},{"$f":"IF(DATA!BAK2=0,\"\",IFERROR(DATA!BAK2,\"\"))","v":""},{"$f":"IF(DATA!BAL2=0,\"\",IFERROR(DATA!BAL2,\"\"))","v":""},{"$f":"IF(DATA!BAM2=0,\"\",IFERROR(DATA!BAM2,\"\"))","v":""},{"$f":"IF(DATA!BAN2=0,\"\",IFERROR(DATA!BAN2,\"\"))","v":""},{"$f":"IF(DATA!BAO2=0,\"\",IFERROR(DATA!BAO2,\"\"))","v":""},{"$f":"IF(DATA!BAP2=0,\"\",IFERROR(DATA!BAP2,\"\"))","v":""},{"$f":"IF(DATA!BAQ2=0,\"\",IFERROR(DATA!BAQ2,\"\"))","v":""},{"$f":"IF(DATA!BAR2=0,\"\",IFERROR(DATA!BAR2,\"\"))","v":""},{"$f":"IF(DATA!BAS2=0,\"\",IFERROR(DATA!BAS2,\"\"))","v":""},{"$f":"IF(DATA!BAT2=0,\"\",IFERROR(DATA!BAT2,\"\"))","v":""},{"$f":"IF(DATA!BAU2=0,\"\",IFERROR(DATA!BAU2,\"\"))","v":""},{"$f":"IF(DATA!BAV2=0,\"\",IFERROR(DATA!BAV2,\"\"))","v":""},{"$f":"IF(DATA!BAW2=0,\"\",IFERROR(DATA!BAW2,\"\"))","v":""},{"$f":"IF(DATA!BAX2=0,\"\",IFERROR(DATA!BAX2,\"\"))","v":""},{"$f":"IF(DATA!BAY2=0,\"\",IFERROR(DATA!BAY2,\"\"))","v":""},{"$f":"IF(DATA!BAZ2=0,\"\",IFERROR(DATA!BAZ2,\"\"))","v":""},{"$f":"IF(DATA!BBA2=0,\"\",IFERROR(DATA!BBA2,\"\"))","v":""},{"$f":"IF(DATA!BBB2=0,\"\",IFERROR(DATA!BBB2,\"\"))","v":""},{"$f":"IF(DATA!BBC2=0,\"\",IFERROR(DATA!BBC2,\"\"))","v":""},{"$f":"IF(DATA!BBD2=0,\"\",IFERROR(DATA!BBD2,\"\"))","v":""},{"$f":"IF(DATA!BBE2=0,\"\",IFERROR(DATA!BBE2,\"\"))","v":""},{"$f":"IF(DATA!BBF2=0,\"\",IFERROR(DATA!BBF2,\"\"))","v":""},{"$f":"IF(DATA!BBG2=0,\"\",IFERROR(DATA!BBG2,\"\"))","v":""},{"$f":"IF(DATA!BBH2=0,\"\",IFERROR(DATA!BBH2,\"\"))","v":""},{"$f":"IF(DATA!BBI2=0,\"\",IFERROR(DATA!BBI2,\"\"))","v":""},{"$f":"IF(DATA!BBJ2=0,\"\",IFERROR(DATA!BBJ2,\"\"))","v":""},{"$f":"IF(DATA!BBK2=0,\"\",IFERROR(DATA!BBK2,\"\"))","v":""},{"$f":"IF(DATA!BBL2=0,\"\",IFERROR(DATA!BBL2,\"\"))","v":""},{"$f":"IF(DATA!BBM2=0,\"\",IFERROR(DATA!BBM2,\"\"))","v":""},{"$f":"IF(DATA!BBN2=0,\"\",IFERROR(DATA!BBN2,\"\"))","v":""},{"$f":"IF(DATA!BBO2=0,\"\",IFERROR(DATA!BBO2,\"\"))","v":""},{"$f":"IF(DATA!BBP2=0,\"\",IFERROR(DATA!BBP2,\"\"))","v":""},{"$f":"IF(DATA!BBQ2=0,\"\",IFERROR(DATA!BBQ2,\"\"))","v":""},{"$f":"IF(DATA!BBR2=0,\"\",IFERROR(DATA!BBR2,\"\"))","v":""},{"$f":"IF(DATA!BBS2=0,\"\",IFERROR(DATA!BBS2,\"\"))","v":""},{"$f":"IF(DATA!BBT2=0,\"\",IFERROR(DATA!BBT2,\"\"))","v":""},{"$f":"IF(DATA!BBU2=0,\"\",IFERROR(DATA!BBU2,\"\"))","v":""},{"$f":"IF(DATA!BBV2=0,\"\",IFERROR(DATA!BBV2,\"\"))","v":""},{"$f":"IF(DATA!BBW2=0,\"\",IFERROR(DATA!BBW2,\"\"))","v":""},{"$f":"IF(DATA!BBX2=0,\"\",IFERROR(DATA!BBX2,\"\"))","v":""},{"$f":"IF(DATA!BBY2=0,\"\",IFERROR(DATA!BBY2,\"\"))","v":""},{"$f":"IF(DATA!BBZ2=0,\"\",IFERROR(DATA!BBZ2,\"\"))","v":""},{"$f":"IF(DATA!BCA2=0,\"\",IFERROR(DATA!BCA2,\"\"))","v":""},{"$f":"IF(DATA!BCB2=0,\"\",IFERROR(DATA!BCB2,\"\"))","v":""},{"$f":"IF(DATA!BCC2=0,\"\",IFERROR(DATA!BCC2,\"\"))","v":""},{"$f":"IF(DATA!BCD2=0,\"\",IFERROR(DATA!BCD2,\"\"))","v":""},{"$f":"IF(DATA!BCE2=0,\"\",IFERROR(DATA!BCE2,\"\"))","v":""},{"$f":"IF(DATA!BCF2=0,\"\",IFERROR(DATA!BCF2,\"\"))","v":""},{"$f":"IF(DATA!BCG2=0,\"\",IFERROR(DATA!BCG2,\"\"))","v":""},{"$f":"IF(DATA!BCH2=0,\"\",IFERROR(DATA!BCH2,\"\"))","v":""},{"$f":"IF(DATA!BCI2=0,\"\",IFERROR(DATA!BCI2,\"\"))","v":""},{"$f":"IF(DATA!BCJ2=0,\"\",IFERROR(DATA!BCJ2,\"\"))","v":""},{"$f":"IF(DATA!BCK2=0,\"\",IFERROR(DATA!BCK2,\"\"))","v":""},{"$f":"IF(DATA!BCL2=0,\"\",IFERROR(DATA!BCL2,\"\"))","v":""},{"$f":"IF(DATA!BCM2=0,\"\",IFERROR(DATA!BCM2,\"\"))","v":""},{"$f":"IF(DATA!BCN2=0,\"\",IFERROR(DATA!BCN2,\"\"))","v":""},{"$f":"IF(DATA!BCO2=0,\"\",IFERROR(DATA!BCO2,\"\"))","v":""},{"$f":"IF(DATA!BCP2=0,\"\",IFERROR(DATA!BCP2,\"\"))","v":""},{"$f":"IF(DATA!BCQ2=0,\"\",IFERROR(DATA!BCQ2,\"\"))","v":""},{"$f":"IF(DATA!BCR2=0,\"\",IFERROR(DATA!BCR2,\"\"))","v":""},{"$f":"IF(DATA!BCS2=0,\"\",IFERROR(DATA!BCS2,\"\"))","v":""},{"$f":"IF(DATA!BCT2=0,\"\",IFERROR(DATA!BCT2,\"\"))","v":""},{"$f":"IF(DATA!BCU2=0,\"\",IFERROR(DATA!BCU2,\"\"))","v":""},{"$f":"IF(DATA!BCV2=0,\"\",IFERROR(DATA!BCV2,\"\"))","v":""},{"$f":"IF(DATA!BCW2=0,\"\",IFERROR(DATA!BCW2,\"\"))","v":""},{"$f":"IF(DATA!BCX2=0,\"\",IFERROR(DATA!BCX2,\"\"))","v":""},{"$f":"IF(DATA!BCY2=0,\"\",IFERROR(DATA!BCY2,\"\"))","v":""},{"$f":"IF(DATA!BCZ2=0,\"\",IFERROR(DATA!BCZ2,\"\"))","v":""},{"$f":"IF(DATA!BDA2=0,\"\",IFERROR(DATA!BDA2,\"\"))","v":""},{"$f":"IF(DATA!BDB2=0,\"\",IFERROR(DATA!BDB2,\"\"))","v":""},{"$f":"IF(DATA!BDC2=0,\"\",IFERROR(DATA!BDC2,\"\"))","v":""},{"$f":"IF(DATA!BDD2=0,\"\",IFERROR(DATA!BDD2,\"\"))","v":""},{"$f":"IF(DATA!BDE2=0,\"\",IFERROR(DATA!BDE2,\"\"))","v":""},{"$f":"IF(DATA!BDF2=0,\"\",IFERROR(DATA!BDF2,\"\"))","v":""},{"$f":"IF(DATA!BDG2=0,\"\",IFERROR(DATA!BDG2,\"\"))","v":""},{"$f":"IF(DATA!BDH2=0,\"\",IFERROR(DATA!BDH2,\"\"))","v":""},{"$f":"IF(DATA!BDI2=0,\"\",IFERROR(DATA!BDI2,\"\"))","v":""},{"$f":"IF(DATA!BDJ2=0,\"\",IFERROR(DATA!BDJ2,\"\"))","v":""},{"$f":"IF(DATA!BDK2=0,\"\",IFERROR(DATA!BDK2,\"\"))","v":""},{"$f":"IF(DATA!BDL2=0,\"\",IFERROR(DATA!BDL2,\"\"))","v":""},{"$f":"IF(DATA!BDM2=0,\"\",IFERROR(DATA!BDM2,\"\"))","v":""},{"$f":"IF(DATA!BDN2=0,\"\",IFERROR(DATA!BDN2,\"\"))","v":""},{"$f":"IF(DATA!BDO2=0,\"\",IFERROR(DATA!BDO2,\"\"))","v":""},{"$f":"IF(DATA!BDP2=0,\"\",IFERROR(DATA!BDP2,\"\"))","v":""},{"$f":"IF(DATA!BDQ2=0,\"\",IFERROR(DATA!BDQ2,\"\"))","v":""},{"$f":"IF(DATA!BDR2=0,\"\",IFERROR(DATA!BDR2,\"\"))","v":""},{"$f":"IF(DATA!BDS2=0,\"\",IFERROR(DATA!BDS2,\"\"))","v":""},{"$f":"IF(DATA!BDT2=0,\"\",IFERROR(DATA!BDT2,\"\"))","v":""},{"$f":"IF(DATA!BDU2=0,\"\",IFERROR(DATA!BDU2,\"\"))","v":""},{"$f":"IF(DATA!BDV2=0,\"\",IFERROR(DATA!BDV2,\"\"))","v":""},{"$f":"IF(DATA!BDW2=0,\"\",IFERROR(DATA!BDW2,\"\"))","v":""},{"$f":"IF(DATA!BDX2=0,\"\",IFERROR(DATA!BDX2,\"\"))","v":""},{"$f":"IF(DATA!BDY2=0,\"\",IFERROR(DATA!BDY2,\"\"))","v":""},{"$f":"IF(DATA!BDZ2=0,\"\",IFERROR(DATA!BDZ2,\"\"))","v":""},{"$f":"IF(DATA!BEA2=0,\"\",IFERROR(DATA!BEA2,\"\"))","v":""},{"$f":"IF(DATA!BEB2=0,\"\",IFERROR(DATA!BEB2,\"\"))","v":""},{"$f":"IF(DATA!BEC2=0,\"\",IFERROR(DATA!BEC2,\"\"))","v":""},{"$f":"IF(DATA!BED2=0,\"\",IFERROR(DATA!BED2,\"\"))","v":""},{"$f":"IF(DATA!BEE2=0,\"\",IFERROR(DATA!BEE2,\"\"))","v":""},{"$f":"IF(DATA!BEF2=0,\"\",IFERROR(DATA!BEF2,\"\"))","v":""},{"$f":"IF(DATA!BEG2=0,\"\",IFERROR(DATA!BEG2,\"\"))","v":""},{"$f":"IF(DATA!BEH2=0,\"\",IFERROR(DATA!BEH2,\"\"))","v":""},{"$f":"IF(DATA!BEI2=0,\"\",IFERROR(DATA!BEI2,\"\"))","v":""},{"$f":"IF(DATA!BEJ2=0,\"\",IFERROR(DATA!BEJ2,\"\"))","v":""},{"$f":"IF(DATA!BEK2=0,\"\",IFERROR(DATA!BEK2,\"\"))","v":""},{"$f":"IF(DATA!BEL2=0,\"\",IFERROR(DATA!BEL2,\"\"))","v":""},{"$f":"IF(DATA!BEM2=0,\"\",IFERROR(DATA!BEM2,\"\"))","v":""},{"$f":"IF(DATA!BEN2=0,\"\",IFERROR(DATA!BEN2,\"\"))","v":""},{"$f":"IF(DATA!BEO2=0,\"\",IFERROR(DATA!BEO2,\"\"))","v":""},{"$f":"IF(DATA!BEP2=0,\"\",IFERROR(DATA!BEP2,\"\"))","v":""},{"$f":"IF(DATA!BEQ2=0,\"\",IFERROR(DATA!BEQ2,\"\"))","v":""},{"$f":"IF(DATA!BER2=0,\"\",IFERROR(DATA!BER2,\"\"))","v":""},{"$f":"IF(DATA!BES2=0,\"\",IFERROR(DATA!BES2,\"\"))","v":""},{"$f":"IF(DATA!BET2=0,\"\",IFERROR(DATA!BET2,\"\"))","v":""},{"$f":"IF(DATA!BEU2=0,\"\",IFERROR(DATA!BEU2,\"\"))","v":""},{"$f":"IF(DATA!BEV2=0,\"\",IFERROR(DATA!BEV2,\"\"))","v":""},{"$f":"IF(DATA!BEW2=0,\"\",IFERROR(DATA!BEW2,\"\"))","v":""},{"$f":"IF(DATA!BEX2=0,\"\",IFERROR(DATA!BEX2,\"\"))","v":""},{"$f":"IF(DATA!BEY2=0,\"\",IFERROR(DATA!BEY2,\"\"))","v":""},{"$f":"IF(DATA!BEZ2=0,\"\",IFERROR(DATA!BEZ2,\"\"))","v":""},{"$f":"IF(DATA!BFA2=0,\"\",IFERROR(DATA!BFA2,\"\"))","v":""},{"$f":"IF(DATA!BFB2=0,\"\",IFERROR(DATA!BFB2,\"\"))","v":""},{"$f":"IF(DATA!BFC2=0,\"\",IFERROR(DATA!BFC2,\"\"))","v":""},{"$f":"IF(DATA!BFD2=0,\"\",IFERROR(DATA!BFD2,\"\"))","v":""},{"$f":"IF(DATA!BFE2=0,\"\",IFERROR(DATA!BFE2,\"\"))","v":""},{"$f":"IF(DATA!BFF2=0,\"\",IFERROR(DATA!BFF2,\"\"))","v":""},{"$f":"IF(DATA!BFG2=0,\"\",IFERROR(DATA!BFG2,\"\"))","v":""},{"$f":"IF(DATA!BFH2=0,\"\",IFERROR(DATA!BFH2,\"\"))","v":""},{"$f":"IF(DATA!BFI2=0,\"\",IFERROR(DATA!BFI2,\"\"))","v":""},{"$f":"IF(DATA!BFJ2=0,\"\",IFERROR(DATA!BFJ2,\"\"))","v":""},{"$f":"IF(DATA!BFK2=0,\"\",IFERROR(DATA!BFK2,\"\"))","v":""},{"$f":"IF(DATA!BFL2=0,\"\",IFERROR(DATA!BFL2,\"\"))","v":""},{"$f":"IF(DATA!BFM2=0,\"\",IFERROR(DATA!BFM2,\"\"))","v":""},{"$f":"IF(DATA!BFN2=0,\"\",IFERROR(DATA!BFN2,\"\"))","v":""},{"$f":"IF(DATA!BFO2=0,\"\",IFERROR(DATA!BFO2,\"\"))","v":""},{"$f":"IF(DATA!BFP2=0,\"\",IFERROR(DATA!BFP2,\"\"))","v":""},{"$f":"IF(DATA!BFQ2=0,\"\",IFERROR(DATA!BFQ2,\"\"))","v":""},{"$f":"IF(DATA!BFR2=0,\"\",IFERROR(DATA!BFR2,\"\"))","v":""},{"$f":"IF(DATA!BFS2=0,\"\",IFERROR(DATA!BFS2,\"\"))","v":""},{"$f":"IF(DATA!BFT2=0,\"\",IFERROR(DATA!BFT2,\"\"))","v":""},{"$f":"IF(DATA!BFU2=0,\"\",IFERROR(DATA!BFU2,\"\"))","v":""},{"$f":"IF(DATA!BFV2=0,\"\",IFERROR(DATA!BFV2,\"\"))","v":""},{"$f":"IF(DATA!BFW2=0,\"\",IFERROR(DATA!BFW2,\"\"))","v":""},{"$f":"IF(DATA!BFX2=0,\"\",IFERROR(DATA!BFX2,\"\"))","v":""},{"$f":"IF(DATA!BFY2=0,\"\",IFERROR(DATA!BFY2,\"\"))","v":""},{"$f":"IF(DATA!BFZ2=0,\"\",IFERROR(DATA!BFZ2,\"\"))","v":""},{"$f":"IF(DATA!BGA2=0,\"\",IFERROR(DATA!BGA2,\"\"))","v":""},{"$f":"IF(DATA!BGB2=0,\"\",IFERROR(DATA!BGB2,\"\"))","v":""},{"$f":"IF(DATA!BGC2=0,\"\",IFERROR(DATA!BGC2,\"\"))","v":""},{"$f":"IF(DATA!BGD2=0,\"\",IFERROR(DATA!BGD2,\"\"))","v":""},{"$f":"IF(DATA!BGE2=0,\"\",IFERROR(DATA!BGE2,\"\"))","v":""},{"$f":"IF(DATA!BGF2=0,\"\",IFERROR(DATA!BGF2,\"\"))","v":""},{"$f":"IF(DATA!BGG2=0,\"\",IFERROR(DATA!BGG2,\"\"))","v":""},{"$f":"IF(DATA!BGH2=0,\"\",IFERROR(DATA!BGH2,\"\"))","v":""},{"$f":"IF(DATA!BGI2=0,\"\",IFERROR(DATA!BGI2,\"\"))","v":""},{"$f":"IF(DATA!BGJ2=0,\"\",IFERROR(DATA!BGJ2,\"\"))","v":""},{"$f":"IF(DATA!BGK2=0,\"\",IFERROR(DATA!BGK2,\"\"))","v":""},{"$f":"IF(DATA!BGL2=0,\"\",IFERROR(DATA!BGL2,\"\"))","v":""},{"$f":"IF(DATA!BGM2=0,\"\",IFERROR(DATA!BGM2,\"\"))","v":""},{"$f":"IF(DATA!BGN2=0,\"\",IFERROR(DATA!BGN2,\"\"))","v":""},{"$f":"IF(DATA!BGO2=0,\"\",IFERROR(DATA!BGO2,\"\"))","v":""},{"$f":"IF(DATA!BGP2=0,\"\",IFERROR(DATA!BGP2,\"\"))","v":""},{"$f":"IF(DATA!BGQ2=0,\"\",IFERROR(DATA!BGQ2,\"\"))","v":""},{"$f":"IF(DATA!BGR2=0,\"\",IFERROR(DATA!BGR2,\"\"))","v":""},{"$f":"IF(DATA!BGS2=0,\"\",IFERROR(DATA!BGS2,\"\"))","v":""},{"$f":"IF(DATA!BGT2=0,\"\",IFERROR(DATA!BGT2,\"\"))","v":""},{"$f":"IF(DATA!BGU2=0,\"\",IFERROR(DATA!BGU2,\"\"))","v":""},{"$f":"IF(DATA!BGV2=0,\"\",IFERROR(DATA!BGV2,\"\"))","v":""},{"$f":"IF(DATA!BGW2=0,\"\",IFERROR(DATA!BGW2,\"\"))","v":""},{"$f":"IF(DATA!BGX2=0,\"\",IFERROR(DATA!BGX2,\"\"))","v":""},{"$f":"IF(DATA!BGY2=0,\"\",IFERROR(DATA!BGY2,\"\"))","v":""},{"$f":"IF(DATA!BGZ2=0,\"\",IFERROR(DATA!BGZ2,\"\"))","v":""},{"$f":"IF(DATA!BHA2=0,\"\",IFERROR(DATA!BHA2,\"\"))","v":""},{"$f":"IF(DATA!BHB2=0,\"\",IFERROR(DATA!BHB2,\"\"))","v":""},{"$f":"IF(DATA!BHC2=0,\"\",IFERROR(DATA!BHC2,\"\"))","v":""},{"$f":"IF(DATA!BHD2=0,\"\",IFERROR(DATA!BHD2,\"\"))","v":""},{"$f":"IF(DATA!BHE2=0,\"\",IFERROR(DATA!BHE2,\"\"))","v":""},{"$f":"IF(DATA!BHF2=0,\"\",IFERROR(DATA!BHF2,\"\"))","v":""},{"$f":"IF(DATA!BHG2=0,\"\",IFERROR(DATA!BHG2,\"\"))","v":""},{"$f":"IF(DATA!BHH2=0,\"\",IFERROR(DATA!BHH2,\"\"))","v":""},{"$f":"IF(DATA!BHI2=0,\"\",IFERROR(DATA!BHI2,\"\"))","v":""},{"$f":"IF(DATA!BHJ2=0,\"\",IFERROR(DATA!BHJ2,\"\"))","v":""},{"$f":"IF(DATA!BHK2=0,\"\",IFERROR(DATA!BHK2,\"\"))","v":""},{"$f":"IF(DATA!BHL2=0,\"\",IFERROR(DATA!BHL2,\"\"))","v":""},{"$f":"IF(DATA!BHM2=0,\"\",IFERROR(DATA!BHM2,\"\"))","v":""},{"$f":"IF(DATA!BHN2=0,\"\",IFERROR(DATA!BHN2,\"\"))","v":""},{"$f":"IF(DATA!BHO2=0,\"\",IFERROR(DATA!BHO2,\"\"))","v":""},{"$f":"IF(DATA!BHP2=0,\"\",IFERROR(DATA!BHP2,\"\"))","v":""},{"$f":"IF(DATA!BHQ2=0,\"\",IFERROR(DATA!BHQ2,\"\"))","v":""},{"$f":"IF(DATA!BHR2=0,\"\",IFERROR(DATA!BHR2,\"\"))","v":""},{"$f":"IF(DATA!BHS2=0,\"\",IFERROR(DATA!BHS2,\"\"))","v":""},{"$f":"IF(DATA!BHT2=0,\"\",IFERROR(DATA!BHT2,\"\"))","v":""},{"$f":"IF(DATA!BHU2=0,\"\",IFERROR(DATA!BHU2,\"\"))","v":""},{"$f":"IF(DATA!BHV2=0,\"\",IFERROR(DATA!BHV2,\"\"))","v":""},{"$f":"IF(DATA!BHW2=0,\"\",IFERROR(DATA!BHW2,\"\"))","v":""},{"$f":"IF(DATA!BHX2=0,\"\",IFERROR(DATA!BHX2,\"\"))","v":""},{"$f":"IF(DATA!BHY2=0,\"\",IFERROR(DATA!BHY2,\"\"))","v":""},{"$f":"IF(DATA!BHZ2=0,\"\",IFERROR(DATA!BHZ2,\"\"))","v":""},{"$f":"IF(DATA!BIA2=0,\"\",IFERROR(DATA!BIA2,\"\"))","v":""},{"$f":"IF(DATA!BIB2=0,\"\",IFERROR(DATA!BIB2,\"\"))","v":""},{"$f":"IF(DATA!BIC2=0,\"\",IFERROR(DATA!BIC2,\"\"))","v":""},{"$f":"IF(DATA!BID2=0,\"\",IFERROR(DATA!BID2,\"\"))","v":""},{"$f":"IF(DATA!BIE2=0,\"\",IFERROR(DATA!BIE2,\"\"))","v":""},{"$f":"IF(DATA!BIF2=0,\"\",IFERROR(DATA!BIF2,\"\"))","v":""},{"$f":"IF(DATA!BIG2=0,\"\",IFERROR(DATA!BIG2,\"\"))","v":""},{"$f":"IF(DATA!BIH2=0,\"\",IFERROR(DATA!BIH2,\"\"))","v":""},{"$f":"IF(DATA!BII2=0,\"\",IFERROR(DATA!BII2,\"\"))","v":""},{"$f":"IF(DATA!BIJ2=0,\"\",IFERROR(DATA!BIJ2,\"\"))","v":""},{"$f":"IF(DATA!BIK2=0,\"\",IFERROR(DATA!BIK2,\"\"))","v":""},{"$f":"IF(DATA!BIL2=0,\"\",IFERROR(DATA!BIL2,\"\"))","v":""},{"$f":"IF(DATA!BIM2=0,\"\",IFERROR(DATA!BIM2,\"\"))","v":""},{"$f":"IF(DATA!BIN2=0,\"\",IFERROR(DATA!BIN2,\"\"))","v":""},{"$f":"IF(DATA!BIO2=0,\"\",IFERROR(DATA!BIO2,\"\"))","v":""},{"$f":"IF(DATA!BIP2=0,\"\",IFERROR(DATA!BIP2,\"\"))","v":""},{"$f":"IF(DATA!BIQ2=0,\"\",IFERROR(DATA!BIQ2,\"\"))","v":""},{"$f":"IF(DATA!BIR2=0,\"\",IFERROR(DATA!BIR2,\"\"))","v":""},{"$f":"IF(DATA!BIS2=0,\"\",IFERROR(DATA!BIS2,\"\"))","v":""},{"$f":"IF(DATA!BIT2=0,\"\",IFERROR(DATA!BIT2,\"\"))","v":""},{"$f":"IF(DATA!BIU2=0,\"\",IFERROR(DATA!BIU2,\"\"))","v":""},{"$f":"IF(DATA!BIV2=0,\"\",IFERROR(DATA!BIV2,\"\"))","v":""},{"$f":"IF(DATA!BIW2=0,\"\",IFERROR(DATA!BIW2,\"\"))","v":""},{"$f":"IF(DATA!BIX2=0,\"\",IFERROR(DATA!BIX2,\"\"))","v":""},{"$f":"IF(DATA!BIY2=0,\"\",IFERROR(DATA!BIY2,\"\"))","v":""},{"$f":"IF(DATA!BIZ2=0,\"\",IFERROR(DATA!BIZ2,\"\"))","v":""},{"$f":"IF(DATA!BJA2=0,\"\",IFERROR(DATA!BJA2,\"\"))","v":""},{"$f":"IF(DATA!BJB2=0,\"\",IFERROR(DATA!BJB2,\"\"))","v":""},{"$f":"IF(DATA!BJC2=0,\"\",IFERROR(DATA!BJC2,\"\"))","v":""},{"$f":"IF(DATA!BJD2=0,\"\",IFERROR(DATA!BJD2,\"\"))","v":""},{"$f":"IF(DATA!BJE2=0,\"\",IFERROR(DATA!BJE2,\"\"))","v":""},{"$f":"IF(DATA!BJF2=0,\"\",IFERROR(DATA!BJF2,\"\"))","v":""},{"$f":"IF(DATA!BJG2=0,\"\",IFERROR(DATA!BJG2,\"\"))","v":""},{"$f":"IF(DATA!BJH2=0,\"\",IFERROR(DATA!BJH2,\"\"))","v":""},{"$f":"IF(DATA!BJI2=0,\"\",IFERROR(DATA!BJI2,\"\"))","v":""},{"$f":"IF(DATA!BJJ2=0,\"\",IFERROR(DATA!BJJ2,\"\"))","v":""},{"$f":"IF(DATA!BJK2=0,\"\",IFERROR(DATA!BJK2,\"\"))","v":""},{"$f":"IF(DATA!BJL2=0,\"\",IFERROR(DATA!BJL2,\"\"))","v":""},{"$f":"IF(DATA!BJM2=0,\"\",IFERROR(DATA!BJM2,\"\"))","v":""},{"$f":"IF(DATA!BJN2=0,\"\",IFERROR(DATA!BJN2,\"\"))","v":""},{"$f":"IF(DATA!BJO2=0,\"\",IFERROR(DATA!BJO2,\"\"))","v":""},{"$f":"IF(DATA!BJP2=0,\"\",IFERROR(DATA!BJP2,\"\"))","v":""},{"$f":"IF(DATA!BJQ2=0,\"\",IFERROR(DATA!BJQ2,\"\"))","v":""},{"$f":"IF(DATA!BJR2=0,\"\",IFERROR(DATA!BJR2,\"\"))","v":""},{"$f":"IF(DATA!BJS2=0,\"\",IFERROR(DATA!BJS2,\"\"))","v":""},{"$f":"IF(DATA!BJT2=0,\"\",IFERROR(DATA!BJT2,\"\"))","v":""},{"$f":"IF(DATA!BJU2=0,\"\",IFERROR(DATA!BJU2,\"\"))","v":""},{"$f":"IF(DATA!BJV2=0,\"\",IFERROR(DATA!BJV2,\"\"))","v":""},{"$f":"IF(DATA!BJW2=0,\"\",IFERROR(DATA!BJW2,\"\"))","v":""},{"$f":"IF(DATA!BJX2=0,\"\",IFERROR(DATA!BJX2,\"\"))","v":""},{"$f":"IF(DATA!BJY2=0,\"\",IFERROR(DATA!BJY2,\"\"))","v":""},{"$f":"IF(DATA!BJZ2=0,\"\",IFERROR(DATA!BJZ2,\"\"))","v":""},{"$f":"IF(DATA!BKA2=0,\"\",IFERROR(DATA!BKA2,\"\"))","v":""},{"$f":"IF(DATA!BKB2=0,\"\",IFERROR(DATA!BKB2,\"\"))","v":""},{"$f":"IF(DATA!BKC2=0,\"\",IFERROR(DATA!BKC2,\"\"))","v":""},{"$f":"IF(DATA!BKD2=0,\"\",IFERROR(DATA!BKD2,\"\"))","v":""},{"$f":"IF(DATA!BKE2=0,\"\",IFERROR(DATA!BKE2,\"\"))","v":""},{"$f":"IF(DATA!BKF2=0,\"\",IFERROR(DATA!BKF2,\"\"))","v":""},{"$f":"IF(DATA!BKG2=0,\"\",IFERROR(DATA!BKG2,\"\"))","v":""},{"$f":"IF(DATA!BKH2=0,\"\",IFERROR(DATA!BKH2,\"\"))","v":""},{"$f":"IF(DATA!BKI2=0,\"\",IFERROR(DATA!BKI2,\"\"))","v":""},{"$f":"IF(DATA!BKJ2=0,\"\",IFERROR(DATA!BKJ2,\"\"))","v":""},{"$f":"IF(DATA!BKK2=0,\"\",IFERROR(DATA!BKK2,\"\"))","v":""},{"$f":"IF(DATA!BKL2=0,\"\",IFERROR(DATA!BKL2,\"\"))","v":""},{"$f":"IF(DATA!BKM2=0,\"\",IFERROR(DATA!BKM2,\"\"))","v":""},{"$f":"IF(DATA!BKN2=0,\"\",IFERROR(DATA!BKN2,\"\"))","v":""},{"$f":"IF(DATA!BKO2=0,\"\",IFERROR(DATA!BKO2,\"\"))","v":""},{"$f":"IF(DATA!BKP2=0,\"\",IFERROR(DATA!BKP2,\"\"))","v":""},{"$f":"IF(DATA!BKQ2=0,\"\",IFERROR(DATA!BKQ2,\"\"))","v":""},{"$f":"IF(DATA!BKR2=0,\"\",IFERROR(DATA!BKR2,\"\"))","v":""},{"$f":"IF(DATA!BKS2=0,\"\",IFERROR(DATA!BKS2,\"\"))","v":""},{"$f":"IF(DATA!BKT2=0,\"\",IFERROR(DATA!BKT2,\"\"))","v":""},{"$f":"IF(DATA!BKU2=0,\"\",IFERROR(DATA!BKU2,\"\"))","v":""},{"$f":"IF(DATA!BKV2=0,\"\",IFERROR(DATA!BKV2,\"\"))","v":""},{"$f":"IF(DATA!BKW2=0,\"\",IFERROR(DATA!BKW2,\"\"))","v":""},{"$f":"IF(DATA!BKX2=0,\"\",IFERROR(DATA!BKX2,\"\"))","v":""},{"$f":"IF(DATA!BKY2=0,\"\",IFERROR(DATA!BKY2,\"\"))","v":""},{"$f":"IF(DATA!BKZ2=0,\"\",IFERROR(DATA!BKZ2,\"\"))","v":""},{"$f":"IF(DATA!BLA2=0,\"\",IFERROR(DATA!BLA2,\"\"))","v":""},{"$f":"IF(DATA!BLB2=0,\"\",IFERROR(DATA!BLB2,\"\"))","v":""},{"$f":"IF(DATA!BLC2=0,\"\",IFERROR(DATA!BLC2,\"\"))","v":""},{"$f":"IF(DATA!BLD2=0,\"\",IFERROR(DATA!BLD2,\"\"))","v":""},{"$f":"IF(DATA!BLE2=0,\"\",IFERROR(DATA!BLE2,\"\"))","v":""},{"$f":"IF(DATA!BLF2=0,\"\",IFERROR(DATA!BLF2,\"\"))","v":""},{"$f":"IF(DATA!BLG2=0,\"\",IFERROR(DATA!BLG2,\"\"))","v":""},{"$f":"IF(DATA!BLH2=0,\"\",IFERROR(DATA!BLH2,\"\"))","v":""},{"$f":"IF(DATA!BLI2=0,\"\",IFERROR(DATA!BLI2,\"\"))","v":""},{"$f":"IF(DATA!BLJ2=0,\"\",IFERROR(DATA!BLJ2,\"\"))","v":""},{"$f":"IF(DATA!BLK2=0,\"\",IFERROR(DATA!BLK2,\"\"))","v":""},{"$f":"IF(DATA!BLL2=0,\"\",IFERROR(DATA!BLL2,\"\"))","v":""},{"$f":"IF(DATA!BLM2=0,\"\",IFERROR(DATA!BLM2,\"\"))","v":""},{"$f":"IF(DATA!BLN2=0,\"\",IFERROR(DATA!BLN2,\"\"))","v":""},{"$f":"IF(DATA!BLO2=0,\"\",IFERROR(DATA!BLO2,\"\"))","v":""},{"$f":"IF(DATA!BLP2=0,\"\",IFERROR(DATA!BLP2,\"\"))","v":""},{"$f":"IF(DATA!BLQ2=0,\"\",IFERROR(DATA!BLQ2,\"\"))","v":""},{"$f":"IF(DATA!BLR2=0,\"\",IFERROR(DATA!BLR2,\"\"))","v":""},{"$f":"IF(DATA!BLS2=0,\"\",IFERROR(DATA!BLS2,\"\"))","v":""},{"$f":"IF(DATA!BLT2=0,\"\",IFERROR(DATA!BLT2,\"\"))","v":""},{"$f":"IF(DATA!BLU2=0,\"\",IFERROR(DATA!BLU2,\"\"))","v":""},{"$f":"IF(DATA!BLV2=0,\"\",IFERROR(DATA!BLV2,\"\"))","v":""},{"$f":"IF(DATA!BLW2=0,\"\",IFERROR(DATA!BLW2,\"\"))","v":""},{"$f":"IF(DATA!BLX2=0,\"\",IFERROR(DATA!BLX2,\"\"))","v":""},{"$f":"IF(DATA!BLY2=0,\"\",IFERROR(DATA!BLY2,\"\"))","v":""},{"$f":"IF(DATA!BLZ2=0,\"\",IFERROR(DATA!BLZ2,\"\"))","v":""},{"$f":"IF(DATA!BMA2=0,\"\",IFERROR(DATA!BMA2,\"\"))","v":""},{"$f":"IF(DATA!BMB2=0,\"\",IFERROR(DATA!BMB2,\"\"))","v":""},{"$f":"IF(DATA!BMC2=0,\"\",IFERROR(DATA!BMC2,\"\"))","v":""},{"$f":"IF(DATA!BMD2=0,\"\",IFERROR(DATA!BMD2,\"\"))","v":""},{"$f":"IF(DATA!BME2=0,\"\",IFERROR(DATA!BME2,\"\"))","v":""},{"$f":"IF(DATA!BMF2=0,\"\",IFERROR(DATA!BMF2,\"\"))","v":""},{"$f":"IF(DATA!BMG2=0,\"\",IFERROR(DATA!BMG2,\"\"))","v":""},{"$f":"IF(DATA!BMH2=0,\"\",IFERROR(DATA!BMH2,\"\"))","v":""},{"$f":"IF(DATA!BMI2=0,\"\",IFERROR(DATA!BMI2,\"\"))","v":""},{"$f":"IF(DATA!BMJ2=0,\"\",IFERROR(DATA!BMJ2,\"\"))","v":""},{"$f":"IF(DATA!BMK2=0,\"\",IFERROR(DATA!BMK2,\"\"))","v":""},{"$f":"IF(DATA!BML2=0,\"\",IFERROR(DATA!BML2,\"\"))","v":""},{"$f":"IF(DATA!BMM2=0,\"\",IFERROR(DATA!BMM2,\"\"))","v":""},{"$f":"IF(DATA!BMN2=0,\"\",IFERROR(DATA!BMN2,\"\"))","v":""},{"$f":"IF(DATA!BMO2=0,\"\",IFERROR(DATA!BMO2,\"\"))","v":""},{"$f":"IF(DATA!BMP2=0,\"\",IFERROR(DATA!BMP2,\"\"))","v":""},{"$f":"IF(DATA!BMQ2=0,\"\",IFERROR(DATA!BMQ2,\"\"))","v":""},{"$f":"IF(DATA!BMR2=0,\"\",IFERROR(DATA!BMR2,\"\"))","v":""},{"$f":"IF(DATA!BMS2=0,\"\",IFERROR(DATA!BMS2,\"\"))","v":""},{"$f":"IF(DATA!BMT2=0,\"\",IFERROR(DATA!BMT2,\"\"))","v":""},{"$f":"IF(DATA!BMU2=0,\"\",IFERROR(DATA!BMU2,\"\"))","v":""},{"$f":"IF(DATA!BMV2=0,\"\",IFERROR(DATA!BMV2,\"\"))","v":""},{"$f":"IF(DATA!BMW2=0,\"\",IFERROR(DATA!BMW2,\"\"))","v":""},{"$f":"IF(DATA!BMX2=0,\"\",IFERROR(DATA!BMX2,\"\"))","v":""},{"$f":"IF(DATA!BMY2=0,\"\",IFERROR(DATA!BMY2,\"\"))","v":""},{"$f":"IF(DATA!BMZ2=0,\"\",IFERROR(DATA!BMZ2,\"\"))","v":""},{"$f":"IF(DATA!BNA2=0,\"\",IFERROR(DATA!BNA2,\"\"))","v":""},{"$f":"IF(DATA!BNB2=0,\"\",IFERROR(DATA!BNB2,\"\"))","v":""},{"$f":"IF(DATA!BNC2=0,\"\",IFERROR(DATA!BNC2,\"\"))","v":""},{"$f":"IF(DATA!BND2=0,\"\",IFERROR(DATA!BND2,\"\"))","v":""},{"$f":"IF(DATA!BNE2=0,\"\",IFERROR(DATA!BNE2,\"\"))","v":""},{"$f":"IF(DATA!BNF2=0,\"\",IFERROR(DATA!BNF2,\"\"))","v":""},{"$f":"IF(DATA!BNG2=0,\"\",IFERROR(DATA!BNG2,\"\"))","v":""},{"$f":"IF(DATA!BNH2=0,\"\",IFERROR(DATA!BNH2,\"\"))","v":""},{"$f":"IF(DATA!BNI2=0,\"\",IFERROR(DATA!BNI2,\"\"))","v":""},{"$f":"IF(DATA!BNJ2=0,\"\",IFERROR(DATA!BNJ2,\"\"))","v":""},{"$f":"IF(DATA!BNK2=0,\"\",IFERROR(DATA!BNK2,\"\"))","v":""},{"$f":"IF(DATA!BNL2=0,\"\",IFERROR(DATA!BNL2,\"\"))","v":""},{"$f":"IF(DATA!BNM2=0,\"\",IFERROR(DATA!BNM2,\"\"))","v":""},{"$f":"IF(DATA!BNN2=0,\"\",IFERROR(DATA!BNN2,\"\"))","v":""},{"$f":"IF(DATA!BNO2=0,\"\",IFERROR(DATA!BNO2,\"\"))","v":""},{"$f":"IF(DATA!BNP2=0,\"\",IFERROR(DATA!BNP2,\"\"))","v":""},{"$f":"IF(DATA!BNQ2=0,\"\",IFERROR(DATA!BNQ2,\"\"))","v":""},{"$f":"IF(DATA!BNR2=0,\"\",IFERROR(DATA!BNR2,\"\"))","v":""},{"$f":"IF(DATA!BNS2=0,\"\",IFERROR(DATA!BNS2,\"\"))","v":""},{"$f":"IF(DATA!BNT2=0,\"\",IFERROR(DATA!BNT2,\"\"))","v":""},{"$f":"IF(DATA!BNU2=0,\"\",IFERROR(DATA!BNU2,\"\"))","v":""},{"$f":"IF(DATA!BNV2=0,\"\",IFERROR(DATA!BNV2,\"\"))","v":""},{"$f":"IF(DATA!BNW2=0,\"\",IFERROR(DATA!BNW2,\"\"))","v":""},{"$f":"IF(DATA!BNX2=0,\"\",IFERROR(DATA!BNX2,\"\"))","v":""},{"$f":"IF(DATA!BNY2=0,\"\",IFERROR(DATA!BNY2,\"\"))","v":""},{"$f":"IF(DATA!BNZ2=0,\"\",IFERROR(DATA!BNZ2,\"\"))","v":""},{"$f":"IF(DATA!BOA2=0,\"\",IFERROR(DATA!BOA2,\"\"))","v":""},{"$f":"IF(DATA!BOB2=0,\"\",IFERROR(DATA!BOB2,\"\"))","v":""},{"$f":"IF(DATA!BOC2=0,\"\",IFERROR(DATA!BOC2,\"\"))","v":""},{"$f":"IF(DATA!BOD2=0,\"\",IFERROR(DATA!BOD2,\"\"))","v":""},{"$f":"IF(DATA!BOE2=0,\"\",IFERROR(DATA!BOE2,\"\"))","v":""},{"$f":"IF(DATA!BOF2=0,\"\",IFERROR(DATA!BOF2,\"\"))","v":""},{"$f":"IF(DATA!BOG2=0,\"\",IFERROR(DATA!BOG2,\"\"))","v":""},{"$f":"IF(DATA!BOH2=0,\"\",IFERROR(DATA!BOH2,\"\"))","v":""},{"$f":"IF(DATA!BOI2=0,\"\",IFERROR(DATA!BOI2,\"\"))","v":""},{"$f":"IF(DATA!BOJ2=0,\"\",IFERROR(DATA!BOJ2,\"\"))","v":""},{"$f":"IF(DATA!BOK2=0,\"\",IFERROR(DATA!BOK2,\"\"))","v":""},{"$f":"IF(DATA!BOL2=0,\"\",IFERROR(DATA!BOL2,\"\"))","v":""},{"$f":"IF(DATA!BOM2=0,\"\",IFERROR(DATA!BOM2,\"\"))","v":""},{"$f":"IF(DATA!BON2=0,\"\",IFERROR(DATA!BON2,\"\"))","v":""},{"$f":"IF(DATA!BOO2=0,\"\",IFERROR(DATA!BOO2,\"\"))","v":""},{"$f":"IF(DATA!BOP2=0,\"\",IFERROR(DATA!BOP2,\"\"))","v":""},{"$f":"IF(DATA!BOQ2=0,\"\",IFERROR(DATA!BOQ2,\"\"))","v":""},{"$f":"IF(DATA!BOR2=0,\"\",IFERROR(DATA!BOR2,\"\"))","v":""},{"$f":"IF(DATA!BOS2=0,\"\",IFERROR(DATA!BOS2,\"\"))","v":""},{"$f":"IF(DATA!BOT2=0,\"\",IFERROR(DATA!BOT2,\"\"))","v":""},{"$f":"IF(DATA!BOU2=0,\"\",IFERROR(DATA!BOU2,\"\"))","v":""},{"$f":"IF(DATA!BOV2=0,\"\",IFERROR(DATA!BOV2,\"\"))","v":""},{"$f":"IF(DATA!BOW2=0,\"\",IFERROR(DATA!BOW2,\"\"))","v":""},{"$f":"IF(DATA!BOX2=0,\"\",IFERROR(DATA!BOX2,\"\"))","v":""},{"$f":"IF(DATA!BOY2=0,\"\",IFERROR(DATA!BOY2,\"\"))","v":""},{"$f":"IF(DATA!BOZ2=0,\"\",IFERROR(DATA!BOZ2,\"\"))","v":""},{"$f":"IF(DATA!BPA2=0,\"\",IFERROR(DATA!BPA2,\"\"))","v":""},{"$f":"IF(DATA!BPB2=0,\"\",IFERROR(DATA!BPB2,\"\"))","v":""},{"$f":"IF(DATA!BPC2=0,\"\",IFERROR(DATA!BPC2,\"\"))","v":""},{"$f":"IF(DATA!BPD2=0,\"\",IFERROR(DATA!BPD2,\"\"))","v":""},{"$f":"IF(DATA!BPE2=0,\"\",IFERROR(DATA!BPE2,\"\"))","v":""},{"$f":"IF(DATA!BPF2=0,\"\",IFERROR(DATA!BPF2,\"\"))","v":""},{"$f":"IF(DATA!BPG2=0,\"\",IFERROR(DATA!BPG2,\"\"))","v":""},{"$f":"IF(DATA!BPH2=0,\"\",IFERROR(DATA!BPH2,\"\"))","v":""},{"$f":"IF(DATA!BPI2=0,\"\",IFERROR(DATA!BPI2,\"\"))","v":""},{"$f":"IF(DATA!BPJ2=0,\"\",IFERROR(DATA!BPJ2,\"\"))","v":""},{"$f":"IF(DATA!BPK2=0,\"\",IFERROR(DATA!BPK2,\"\"))","v":""},{"$f":"IF(DATA!BPL2=0,\"\",IFERROR(DATA!BPL2,\"\"))","v":""},{"$f":"IF(DATA!BPM2=0,\"\",IFERROR(DATA!BPM2,\"\"))","v":""},{"$f":"IF(DATA!BPN2=0,\"\",IFERROR(DATA!BPN2,\"\"))","v":""},{"$f":"IF(DATA!BPO2=0,\"\",IFERROR(DATA!BPO2,\"\"))","v":""},{"$f":"IF(DATA!BPP2=0,\"\",IFERROR(DATA!BPP2,\"\"))","v":""},{"$f":"IF(DATA!BPQ2=0,\"\",IFERROR(DATA!BPQ2,\"\"))","v":""},{"$f":"IF(DATA!BPR2=0,\"\",IFERROR(DATA!BPR2,\"\"))","v":""},{"$f":"IF(DATA!BPS2=0,\"\",IFERROR(DATA!BPS2,\"\"))","v":""},{"$f":"IF(DATA!BPT2=0,\"\",IFERROR(DATA!BPT2,\"\"))","v":""},{"$f":"IF(DATA!BPU2=0,\"\",IFERROR(DATA!BPU2,\"\"))","v":""},{"$f":"IF(DATA!BPV2=0,\"\",IFERROR(DATA!BPV2,\"\"))","v":""},{"$f":"IF(DATA!BPW2=0,\"\",IFERROR(DATA!BPW2,\"\"))","v":""},{"$f":"IF(DATA!BPX2=0,\"\",IFERROR(DATA!BPX2,\"\"))","v":""},{"$f":"IF(DATA!BPY2=0,\"\",IFERROR(DATA!BPY2,\"\"))","v":""},{"$f":"IF(DATA!BPZ2=0,\"\",IFERROR(DATA!BPZ2,\"\"))","v":""},{"$f":"IF(DATA!BQA2=0,\"\",IFERROR(DATA!BQA2,\"\"))","v":""},{"$f":"IF(DATA!BQB2=0,\"\",IFERROR(DATA!BQB2,\"\"))","v":""},{"$f":"IF(DATA!BQC2=0,\"\",IFERROR(DATA!BQC2,\"\"))","v":""},{"$f":"IF(DATA!BQD2=0,\"\",IFERROR(DATA!BQD2,\"\"))","v":""},{"$f":"IF(DATA!BQE2=0,\"\",IFERROR(DATA!BQE2,\"\"))","v":""},{"$f":"IF(DATA!BQF2=0,\"\",IFERROR(DATA!BQF2,\"\"))","v":""},{"$f":"IF(DATA!BQG2=0,\"\",IFERROR(DATA!BQG2,\"\"))","v":""},{"$f":"IF(DATA!BQH2=0,\"\",IFERROR(DATA!BQH2,\"\"))","v":""},{"$f":"IF(DATA!BQI2=0,\"\",IFERROR(DATA!BQI2,\"\"))","v":""},{"$f":"IF(DATA!BQJ2=0,\"\",IFERROR(DATA!BQJ2,\"\"))","v":""},{"$f":"IF(DATA!BQK2=0,\"\",IFERROR(DATA!BQK2,\"\"))","v":""},{"$f":"IF(DATA!BQL2=0,\"\",IFERROR(DATA!BQL2,\"\"))","v":""},{"$f":"IF(DATA!BQM2=0,\"\",IFERROR(DATA!BQM2,\"\"))","v":""},{"$f":"IF(DATA!BQN2=0,\"\",IFERROR(DATA!BQN2,\"\"))","v":""},{"$f":"IF(DATA!BQO2=0,\"\",IFERROR(DATA!BQO2,\"\"))","v":""},{"$f":"IF(DATA!BQP2=0,\"\",IFERROR(DATA!BQP2,\"\"))","v":""},{"$f":"IF(DATA!BQQ2=0,\"\",IFERROR(DATA!BQQ2,\"\"))","v":""},{"$f":"IF(DATA!BQR2=0,\"\",IFERROR(DATA!BQR2,\"\"))","v":""},{"$f":"IF(DATA!BQS2=0,\"\",IFERROR(DATA!BQS2,\"\"))","v":""},{"$f":"IF(DATA!BQT2=0,\"\",IFERROR(DATA!BQT2,\"\"))","v":""},{"$f":"IF(DATA!BQU2=0,\"\",IFERROR(DATA!BQU2,\"\"))","v":""},{"$f":"IF(DATA!BQV2=0,\"\",IFERROR(DATA!BQV2,\"\"))","v":""},{"$f":"IF(DATA!BQW2=0,\"\",IFERROR(DATA!BQW2,\"\"))","v":""},{"$f":"IF(DATA!BQX2=0,\"\",IFERROR(DATA!BQX2,\"\"))","v":""},{"$f":"IF(DATA!BQY2=0,\"\",IFERROR(DATA!BQY2,\"\"))","v":""},{"$f":"IF(DATA!BQZ2=0,\"\",IFERROR(DATA!BQZ2,\"\"))","v":""},{"$f":"IF(DATA!BRA2=0,\"\",IFERROR(DATA!BRA2,\"\"))","v":""},{"$f":"IF(DATA!BRB2=0,\"\",IFERROR(DATA!BRB2,\"\"))","v":""},{"$f":"IF(DATA!BRC2=0,\"\",IFERROR(DATA!BRC2,\"\"))","v":""},{"$f":"IF(DATA!BRD2=0,\"\",IFERROR(DATA!BRD2,\"\"))","v":""},{"$f":"IF(DATA!BRE2=0,\"\",IFERROR(DATA!BRE2,\"\"))","v":""},{"$f":"IF(DATA!BRF2=0,\"\",IFERROR(DATA!BRF2,\"\"))","v":""},{"$f":"IF(DATA!BRG2=0,\"\",IFERROR(DATA!BRG2,\"\"))","v":""},{"$f":"IF(DATA!BRH2=0,\"\",IFERROR(DATA!BRH2,\"\"))","v":""},{"$f":"IF(DATA!BRI2=0,\"\",IFERROR(DATA!BRI2,\"\"))","v":""},{"$f":"IF(DATA!BRJ2=0,\"\",IFERROR(DATA!BRJ2,\"\"))","v":""},{"$f":"IF(DATA!BRK2=0,\"\",IFERROR(DATA!BRK2,\"\"))","v":""},{"$f":"IF(DATA!BRL2=0,\"\",IFERROR(DATA!BRL2,\"\"))","v":""},{"$f":"IF(DATA!BRM2=0,\"\",IFERROR(DATA!BRM2,\"\"))","v":""},{"$f":"IF(DATA!BRN2=0,\"\",IFERROR(DATA!BRN2,\"\"))","v":""},{"$f":"IF(DATA!BRO2=0,\"\",IFERROR(DATA!BRO2,\"\"))","v":""},{"$f":"IF(DATA!BRP2=0,\"\",IFERROR(DATA!BRP2,\"\"))","v":""},{"$f":"IF(DATA!BRQ2=0,\"\",IFERROR(DATA!BRQ2,\"\"))","v":""},{"$f":"IF(DATA!BRR2=0,\"\",IFERROR(DATA!BRR2,\"\"))","v":""},{"$f":"IF(DATA!BRS2=0,\"\",IFERROR(DATA!BRS2,\"\"))","v":""},{"$f":"IF(DATA!BRT2=0,\"\",IFERROR(DATA!BRT2,\"\"))","v":""},{"$f":"IF(DATA!BRU2=0,\"\",IFERROR(DATA!BRU2,\"\"))","v":""},{"$f":"IF(DATA!BRV2=0,\"\",IFERROR(DATA!BRV2,\"\"))","v":""},{"$f":"IF(DATA!BRW2=0,\"\",IFERROR(DATA!BRW2,\"\"))","v":""},{"$f":"IF(DATA!BRX2=0,\"\",IFERROR(DATA!BRX2,\"\"))","v":""},{"$f":"IF(DATA!BRY2=0,\"\",IFERROR(DATA!BRY2,\"\"))","v":""},{"$f":"IF(DATA!BRZ2=0,\"\",IFERROR(DATA!BRZ2,\"\"))","v":""},{"$f":"IF(DATA!BSA2=0,\"\",IFERROR(DATA!BSA2,\"\"))","v":""},{"$f":"IF(DATA!BSB2=0,\"\",IFERROR(DATA!BSB2,\"\"))","v":""},{"$f":"IF(DATA!BSC2=0,\"\",IFERROR(DATA!BSC2,\"\"))","v":""},{"$f":"IF(DATA!BSD2=0,\"\",IFERROR(DATA!BSD2,\"\"))","v":""},{"$f":"IF(DATA!BSE2=0,\"\",IFERROR(DATA!BSE2,\"\"))","v":""},{"$f":"IF(DATA!BSF2=0,\"\",IFERROR(DATA!BSF2,\"\"))","v":""},{"$f":"IF(DATA!BSG2=0,\"\",IFERROR(DATA!BSG2,\"\"))","v":""},{"$f":"IF(DATA!BSH2=0,\"\",IFERROR(DATA!BSH2,\"\"))","v":""},{"$f":"IF(DATA!BSI2=0,\"\",IFERROR(DATA!BSI2,\"\"))","v":""},{"$f":"IF(DATA!BSJ2=0,\"\",IFERROR(DATA!BSJ2,\"\"))","v":""},{"$f":"IF(DATA!BSK2=0,\"\",IFERROR(DATA!BSK2,\"\"))","v":""},{"$f":"IF(DATA!BSL2=0,\"\",IFERROR(DATA!BSL2,\"\"))","v":""},{"$f":"IF(DATA!BSM2=0,\"\",IFERROR(DATA!BSM2,\"\"))","v":""},{"$f":"IF(DATA!BSN2=0,\"\",IFERROR(DATA!BSN2,\"\"))","v":""},{"$f":"IF(DATA!BSO2=0,\"\",IFERROR(DATA!BSO2,\"\"))","v":""},{"$f":"IF(DATA!BSP2=0,\"\",IFERROR(DATA!BSP2,\"\"))","v":""},{"$f":"IF(DATA!BSQ2=0,\"\",IFERROR(DATA!BSQ2,\"\"))","v":""},{"$f":"IF(DATA!BSR2=0,\"\",IFERROR(DATA!BSR2,\"\"))","v":""},{"$f":"IF(DATA!BSS2=0,\"\",IFERROR(DATA!BSS2,\"\"))","v":""},{"$f":"IF(DATA!BST2=0,\"\",IFERROR(DATA!BST2,\"\"))","v":""},{"$f":"IF(DATA!BSU2=0,\"\",IFERROR(DATA!BSU2,\"\"))","v":""},{"$f":"IF(DATA!BSV2=0,\"\",IFERROR(DATA!BSV2,\"\"))","v":""},{"$f":"IF(DATA!BSW2=0,\"\",IFERROR(DATA!BSW2,\"\"))","v":""},{"$f":"IF(DATA!BSX2=0,\"\",IFERROR(DATA!BSX2,\"\"))","v":""},{"$f":"IF(DATA!BSY2=0,\"\",IFERROR(DATA!BSY2,\"\"))","v":""},{"$f":"IF(DATA!BSZ2=0,\"\",IFERROR(DATA!BSZ2,\"\"))","v":""},{"$f":"IF(DATA!BTA2=0,\"\",IFERROR(DATA!BTA2,\"\"))","v":""},{"$f":"IF(DATA!BTB2=0,\"\",IFERROR(DATA!BTB2,\"\"))","v":""},{"$f":"IF(DATA!BTC2=0,\"\",IFERROR(DATA!BTC2,\"\"))","v":""},{"$f":"IF(DATA!BTD2=0,\"\",IFERROR(DATA!BTD2,\"\"))","v":""},{"$f":"IF(DATA!BTE2=0,\"\",IFERROR(DATA!BTE2,\"\"))","v":""},{"$f":"IF(DATA!BTF2=0,\"\",IFERROR(DATA!BTF2,\"\"))","v":""},{"$f":"IF(DATA!BTG2=0,\"\",IFERROR(DATA!BTG2,\"\"))","v":""},{"$f":"IF(DATA!BTH2=0,\"\",IFERROR(DATA!BTH2,\"\"))","v":""},{"$f":"IF(DATA!BTI2=0,\"\",IFERROR(DATA!BTI2,\"\"))","v":""},{"$f":"IF(DATA!BTJ2=0,\"\",IFERROR(DATA!BTJ2,\"\"))","v":""},{"$f":"IF(DATA!BTK2=0,\"\",IFERROR(DATA!BTK2,\"\"))","v":""},{"$f":"IF(DATA!BTL2=0,\"\",IFERROR(DATA!BTL2,\"\"))","v":""},{"$f":"IF(DATA!BTM2=0,\"\",IFERROR(DATA!BTM2,\"\"))","v":""},{"$f":"IF(DATA!BTN2=0,\"\",IFERROR(DATA!BTN2,\"\"))","v":""},{"$f":"IF(DATA!BTO2=0,\"\",IFERROR(DATA!BTO2,\"\"))","v":""},{"$f":"IF(DATA!BTP2=0,\"\",IFERROR(DATA!BTP2,\"\"))","v":""},{"$f":"IF(DATA!BTQ2=0,\"\",IFERROR(DATA!BTQ2,\"\"))","v":""},{"$f":"IF(DATA!BTR2=0,\"\",IFERROR(DATA!BTR2,\"\"))","v":""},{"$f":"IF(DATA!BTS2=0,\"\",IFERROR(DATA!BTS2,\"\"))","v":""},{"$f":"IF(DATA!BTT2=0,\"\",IFERROR(DATA!BTT2,\"\"))","v":""},{"$f":"IF(DATA!BTU2=0,\"\",IFERROR(DATA!BTU2,\"\"))","v":""},{"$f":"IF(DATA!BTV2=0,\"\",IFERROR(DATA!BTV2,\"\"))","v":""},{"$f":"IF(DATA!BTW2=0,\"\",IFERROR(DATA!BTW2,\"\"))","v":""},{"$f":"IF(DATA!BTX2=0,\"\",IFERROR(DATA!BTX2,\"\"))","v":""},{"$f":"IF(DATA!BTY2=0,\"\",IFERROR(DATA!BTY2,\"\"))","v":""},{"$f":"IF(DATA!BTZ2=0,\"\",IFERROR(DATA!BTZ2,\"\"))","v":""},{"$f":"IF(DATA!BUA2=0,\"\",IFERROR(DATA!BUA2,\"\"))","v":""},{"$f":"IF(DATA!BUB2=0,\"\",IFERROR(DATA!BUB2,\"\"))","v":""},{"$f":"IF(DATA!BUC2=0,\"\",IFERROR(DATA!BUC2,\"\"))","v":""},{"$f":"IF(DATA!BUD2=0,\"\",IFERROR(DATA!BUD2,\"\"))","v":""},{"$f":"IF(DATA!BUE2=0,\"\",IFERROR(DATA!BUE2,\"\"))","v":""},{"$f":"IF(DATA!BUF2=0,\"\",IFERROR(DATA!BUF2,\"\"))","v":""},{"$f":"IF(DATA!BUG2=0,\"\",IFERROR(DATA!BUG2,\"\"))","v":""},{"$f":"IF(DATA!BUH2=0,\"\",IFERROR(DATA!BUH2,\"\"))","v":""},{"$f":"IF(DATA!BUI2=0,\"\",IFERROR(DATA!BUI2,\"\"))","v":""},{"$f":"IF(DATA!BUJ2=0,\"\",IFERROR(DATA!BUJ2,\"\"))","v":""},{"$f":"IF(DATA!BUK2=0,\"\",IFERROR(DATA!BUK2,\"\"))","v":""},{"$f":"IF(DATA!BUL2=0,\"\",IFERROR(DATA!BUL2,\"\"))","v":""},{"$f":"IF(DATA!BUM2=0,\"\",IFERROR(DATA!BUM2,\"\"))","v":""},{"$f":"IF(DATA!BUN2=0,\"\",IFERROR(DATA!BUN2,\"\"))","v":""},{"$f":"IF(DATA!BUO2=0,\"\",IFERROR(DATA!BUO2,\"\"))","v":""},{"$f":"IF(DATA!BUP2=0,\"\",IFERROR(DATA!BUP2,\"\"))","v":""},{"$f":"IF(DATA!BUQ2=0,\"\",IFERROR(DATA!BUQ2,\"\"))","v":""},{"$f":"IF(DATA!BUR2=0,\"\",IFERROR(DATA!BUR2,\"\"))","v":""},{"$f":"IF(DATA!BUS2=0,\"\",IFERROR(DATA!BUS2,\"\"))","v":""},{"$f":"IF(DATA!BUT2=0,\"\",IFERROR(DATA!BUT2,\"\"))","v":""},{"$f":"IF(DATA!BUU2=0,\"\",IFERROR(DATA!BUU2,\"\"))","v":""},{"$f":"IF(DATA!BUV2=0,\"\",IFERROR(DATA!BUV2,\"\"))","v":""},{"$f":"IF(DATA!BUW2=0,\"\",IFERROR(DATA!BUW2,\"\"))","v":""},{"$f":"IF(DATA!BUX2=0,\"\",IFERROR(DATA!BUX2,\"\"))","v":""},{"$f":"IF(DATA!BUY2=0,\"\",IFERROR(DATA!BUY2,\"\"))","v":""},{"$f":"IF(DATA!BUZ2=0,\"\",IFERROR(DATA!BUZ2,\"\"))","v":""},{"$f":"IF(DATA!BVA2=0,\"\",IFERROR(DATA!BVA2,\"\"))","v":""},{"$f":"IF(DATA!BVB2=0,\"\",IFERROR(DATA!BVB2,\"\"))","v":""},{"$f":"IF(DATA!BVC2=0,\"\",IFERROR(DATA!BVC2,\"\"))","v":""},{"$f":"IF(DATA!BVD2=0,\"\",IFERROR(DATA!BVD2,\"\"))","v":""},{"$f":"IF(DATA!BVE2=0,\"\",IFERROR(DATA!BVE2,\"\"))","v":""},{"$f":"IF(DATA!BVF2=0,\"\",IFERROR(DATA!BVF2,\"\"))","v":""},{"$f":"IF(DATA!BVG2=0,\"\",IFERROR(DATA!BVG2,\"\"))","v":""},{"$f":"IF(DATA!BVH2=0,\"\",IFERROR(DATA!BVH2,\"\"))","v":""},{"$f":"IF(DATA!BVI2=0,\"\",IFERROR(DATA!BVI2,\"\"))","v":""},{"$f":"IF(DATA!BVJ2=0,\"\",IFERROR(DATA!BVJ2,\"\"))","v":""},{"$f":"IF(DATA!BVK2=0,\"\",IFERROR(DATA!BVK2,\"\"))","v":""},{"$f":"IF(DATA!BVL2=0,\"\",IFERROR(DATA!BVL2,\"\"))","v":""},{"$f":"IF(DATA!BVM2=0,\"\",IFERROR(DATA!BVM2,\"\"))","v":""},{"$f":"IF(DATA!BVN2=0,\"\",IFERROR(DATA!BVN2,\"\"))","v":""},{"$f":"IF(DATA!BVO2=0,\"\",IFERROR(DATA!BVO2,\"\"))","v":""},{"$f":"IF(DATA!BVP2=0,\"\",IFERROR(DATA!BVP2,\"\"))","v":""},{"$f":"IF(DATA!BVQ2=0,\"\",IFERROR(DATA!BVQ2,\"\"))","v":""},{"$f":"IF(DATA!BVR2=0,\"\",IFERROR(DATA!BVR2,\"\"))","v":""},{"$f":"IF(DATA!BVS2=0,\"\",IFERROR(DATA!BVS2,\"\"))","v":""},{"$f":"IF(DATA!BVT2=0,\"\",IFERROR(DATA!BVT2,\"\"))","v":""},{"$f":"IF(DATA!BVU2=0,\"\",IFERROR(DATA!BVU2,\"\"))","v":""},{"$f":"IF(DATA!BVV2=0,\"\",IFERROR(DATA!BVV2,\"\"))","v":""},{"$f":"IF(DATA!BVW2=0,\"\",IFERROR(DATA!BVW2,\"\"))","v":""},{"$f":"IF(DATA!BVX2=0,\"\",IFERROR(DATA!BVX2,\"\"))","v":""},{"$f":"IF(DATA!BVY2=0,\"\",IFERROR(DATA!BVY2,\"\"))","v":""},{"$f":"IF(DATA!BVZ2=0,\"\",IFERROR(DATA!BVZ2,\"\"))","v":""},{"$f":"IF(DATA!BWA2=0,\"\",IFERROR(DATA!BWA2,\"\"))","v":""},{"$f":"IF(DATA!BWB2=0,\"\",IFERROR(DATA!BWB2,\"\"))","v":""},{"$f":"IF(DATA!BWC2=0,\"\",IFERROR(DATA!BWC2,\"\"))","v":""},{"$f":"IF(DATA!BWD2=0,\"\",IFERROR(DATA!BWD2,\"\"))","v":""},{"$f":"IF(DATA!BWE2=0,\"\",IFERROR(DATA!BWE2,\"\"))","v":""},{"$f":"IF(DATA!BWF2=0,\"\",IFERROR(DATA!BWF2,\"\"))","v":""},{"$f":"IF(DATA!BWG2=0,\"\",IFERROR(DATA!BWG2,\"\"))","v":""},{"$f":"IF(DATA!BWH2=0,\"\",IFERROR(DATA!BWH2,\"\"))","v":""},{"$f":"IF(DATA!BWI2=0,\"\",IFERROR(DATA!BWI2,\"\"))","v":""},{"$f":"IF(DATA!BWJ2=0,\"\",IFERROR(DATA!BWJ2,\"\"))","v":""},{"$f":"IF(DATA!BWK2=0,\"\",IFERROR(DATA!BWK2,\"\"))","v":""},{"$f":"IF(DATA!BWL2=0,\"\",IFERROR(DATA!BWL2,\"\"))","v":""},{"$f":"IF(DATA!BWM2=0,\"\",IFERROR(DATA!BWM2,\"\"))","v":""},{"$f":"IF(DATA!BWN2=0,\"\",IFERROR(DATA!BWN2,\"\"))","v":""},{"$f":"IF(DATA!BWO2=0,\"\",IFERROR(DATA!BWO2,\"\"))","v":""},{"$f":"IF(DATA!BWP2=0,\"\",IFERROR(DATA!BWP2,\"\"))","v":""},{"$f":"IF(DATA!BWQ2=0,\"\",IFERROR(DATA!BWQ2,\"\"))","v":""},{"$f":"IF(DATA!BWR2=0,\"\",IFERROR(DATA!BWR2,\"\"))","v":""},{"$f":"IF(DATA!BWS2=0,\"\",IFERROR(DATA!BWS2,\"\"))","v":""},{"$f":"IF(DATA!BWT2=0,\"\",IFERROR(DATA!BWT2,\"\"))","v":""},{"$f":"IF(DATA!BWU2=0,\"\",IFERROR(DATA!BWU2,\"\"))","v":""},{"$f":"IF(DATA!BWV2=0,\"\",IFERROR(DATA!BWV2,\"\"))","v":""},{"$f":"IF(DATA!BWW2=0,\"\",IFERROR(DATA!BWW2,\"\"))","v":""},{"$f":"IF(DATA!BWX2=0,\"\",IFERROR(DATA!BWX2,\"\"))","v":""},{"$f":"IF(DATA!BWY2=0,\"\",IFERROR(DATA!BWY2,\"\"))","v":""},{"$f":"IF(DATA!BWZ2=0,\"\",IFERROR(DATA!BWZ2,\"\"))","v":""},{"$f":"IF(DATA!BXA2=0,\"\",IFERROR(DATA!BXA2,\"\"))","v":""},{"$f":"IF(DATA!BXB2=0,\"\",IFERROR(DATA!BXB2,\"\"))","v":""},{"$f":"IF(DATA!BXC2=0,\"\",IFERROR(DATA!BXC2,\"\"))","v":""},{"$f":"IF(DATA!BXD2=0,\"\",IFERROR(DATA!BXD2,\"\"))","v":""},{"$f":"IF(DATA!BXE2=0,\"\",IFERROR(DATA!BXE2,\"\"))","v":""},{"$f":"IF(DATA!BXF2=0,\"\",IFERROR(DATA!BXF2,\"\"))","v":""},{"$f":"IF(DATA!BXG2=0,\"\",IFERROR(DATA!BXG2,\"\"))","v":""},{"$f":"IF(DATA!BXH2=0,\"\",IFERROR(DATA!BXH2,\"\"))","v":""},{"$f":"IF(DATA!BXI2=0,\"\",IFERROR(DATA!BXI2,\"\"))","v":""},{"$f":"IF(DATA!BXJ2=0,\"\",IFERROR(DATA!BXJ2,\"\"))","v":""},{"$f":"IF(DATA!BXK2=0,\"\",IFERROR(DATA!BXK2,\"\"))","v":""},{"$f":"IF(DATA!BXL2=0,\"\",IFERROR(DATA!BXL2,\"\"))","v":""},{"$f":"IF(DATA!BXM2=0,\"\",IFERROR(DATA!BXM2,\"\"))","v":""},{"$f":"IF(DATA!BXN2=0,\"\",IFERROR(DATA!BXN2,\"\"))","v":""},{"$f":"IF(DATA!BXO2=0,\"\",IFERROR(DATA!BXO2,\"\"))","v":""},{"$f":"IF(DATA!BXP2=0,\"\",IFERROR(DATA!BXP2,\"\"))","v":""},{"$f":"IF(DATA!BXQ2=0,\"\",IFERROR(DATA!BXQ2,\"\"))","v":""},{"$f":"IF(DATA!BXR2=0,\"\",IFERROR(DATA!BXR2,\"\"))","v":""},{"$f":"IF(DATA!BXS2=0,\"\",IFERROR(DATA!BXS2,\"\"))","v":""},{"$f":"IF(DATA!BXT2=0,\"\",IFERROR(DATA!BXT2,\"\"))","v":""},{"$f":"IF(DATA!BXU2=0,\"\",IFERROR(DATA!BXU2,\"\"))","v":""},{"$f":"IF(DATA!BXV2=0,\"\",IFERROR(DATA!BXV2,\"\"))","v":""},{"$f":"IF(DATA!BXW2=0,\"\",IFERROR(DATA!BXW2,\"\"))","v":""},{"$f":"IF(DATA!BXX2=0,\"\",IFERROR(DATA!BXX2,\"\"))","v":""},{"$f":"IF(DATA!BXY2=0,\"\",IFERROR(DATA!BXY2,\"\"))","v":""},{"$f":"IF(DATA!BXZ2=0,\"\",IFERROR(DATA!BXZ2,\"\"))","v":""},{"$f":"IF(DATA!BYA2=0,\"\",IFERROR(DATA!BYA2,\"\"))","v":""},{"$f":"IF(DATA!BYB2=0,\"\",IFERROR(DATA!BYB2,\"\"))","v":""},{"$f":"IF(DATA!BYC2=0,\"\",IFERROR(DATA!BYC2,\"\"))","v":""},{"$f":"IF(DATA!BYD2=0,\"\",IFERROR(DATA!BYD2,\"\"))","v":""},{"$f":"IF(DATA!BYE2=0,\"\",IFERROR(DATA!BYE2,\"\"))","v":""},{"$f":"IF(DATA!BYF2=0,\"\",IFERROR(DATA!BYF2,\"\"))","v":""},{"$f":"IF(DATA!BYG2=0,\"\",IFERROR(DATA!BYG2,\"\"))","v":""},{"$f":"IF(DATA!BYH2=0,\"\",IFERROR(DATA!BYH2,\"\"))","v":""},{"$f":"IF(DATA!BYI2=0,\"\",IFERROR(DATA!BYI2,\"\"))","v":""},{"$f":"IF(DATA!BYJ2=0,\"\",IFERROR(DATA!BYJ2,\"\"))","v":""},{"$f":"IF(DATA!BYK2=0,\"\",IFERROR(DATA!BYK2,\"\"))","v":""},{"$f":"IF(DATA!BYL2=0,\"\",IFERROR(DATA!BYL2,\"\"))","v":""},{"$f":"IF(DATA!BYM2=0,\"\",IFERROR(DATA!BYM2,\"\"))","v":""},{"$f":"IF(DATA!BYN2=0,\"\",IFERROR(DATA!BYN2,\"\"))","v":""},{"$f":"IF(DATA!BYO2=0,\"\",IFERROR(DATA!BYO2,\"\"))","v":""},{"$f":"IF(DATA!BYP2=0,\"\",IFERROR(DATA!BYP2,\"\"))","v":""},{"$f":"IF(DATA!BYQ2=0,\"\",IFERROR(DATA!BYQ2,\"\"))","v":""},{"$f":"IF(DATA!BYR2=0,\"\",IFERROR(DATA!BYR2,\"\"))","v":""},{"$f":"IF(DATA!BYS2=0,\"\",IFERROR(DATA!BYS2,\"\"))","v":""},{"$f":"IF(DATA!BYT2=0,\"\",IFERROR(DATA!BYT2,\"\"))","v":""},{"$f":"IF(DATA!BYU2=0,\"\",IFERROR(DATA!BYU2,\"\"))","v":""},{"$f":"IF(DATA!BYV2=0,\"\",IFERROR(DATA!BYV2,\"\"))","v":""},{"$f":"IF(DATA!BYW2=0,\"\",IFERROR(DATA!BYW2,\"\"))","v":""},{"$f":"IF(DATA!BYX2=0,\"\",IFERROR(DATA!BYX2,\"\"))","v":""},{"$f":"IF(DATA!BYY2=0,\"\",IFERROR(DATA!BYY2,\"\"))","v":""},{"$f":"IF(DATA!BYZ2=0,\"\",IFERROR(DATA!BYZ2,\"\"))","v":""},{"$f":"IF(DATA!BZA2=0,\"\",IFERROR(DATA!BZA2,\"\"))","v":""},{"$f":"IF(DATA!BZB2=0,\"\",IFERROR(DATA!BZB2,\"\"))","v":""},{"$f":"IF(DATA!BZC2=0,\"\",IFERROR(DATA!BZC2,\"\"))","v":""},{"$f":"IF(DATA!BZD2=0,\"\",IFERROR(DATA!BZD2,\"\"))","v":""},{"$f":"IF(DATA!BZE2=0,\"\",IFERROR(DATA!BZE2,\"\"))","v":""},{"$f":"IF(DATA!BZF2=0,\"\",IFERROR(DATA!BZF2,\"\"))","v":""},{"$f":"IF(DATA!BZG2=0,\"\",IFERROR(DATA!BZG2,\"\"))","v":""},{"$f":"IF(DATA!BZH2=0,\"\",IFERROR(DATA!BZH2,\"\"))","v":""},{"$f":"IF(DATA!BZI2=0,\"\",IFERROR(DATA!BZI2,\"\"))","v":""},{"$f":"IF(DATA!BZJ2=0,\"\",IFERROR(DATA!BZJ2,\"\"))","v":""},{"$f":"IF(DATA!BZK2=0,\"\",IFERROR(DATA!BZK2,\"\"))","v":""},{"$f":"IF(DATA!BZL2=0,\"\",IFERROR(DATA!BZL2,\"\"))","v":""},{"$f":"IF(DATA!BZM2=0,\"\",IFERROR(DATA!BZM2,\"\"))","v":""},{"$f":"IF(DATA!BZN2=0,\"\",IFERROR(DATA!BZN2,\"\"))","v":""},{"$f":"IF(DATA!BZO2=0,\"\",IFERROR(DATA!BZO2,\"\"))","v":""},{"$f":"IF(DATA!BZP2=0,\"\",IFERROR(DATA!BZP2,\"\"))","v":""},{"$f":"IF(DATA!BZQ2=0,\"\",IFERROR(DATA!BZQ2,\"\"))","v":""},{"$f":"IF(DATA!BZR2=0,\"\",IFERROR(DATA!BZR2,\"\"))","v":""},{"$f":"IF(DATA!BZS2=0,\"\",IFERROR(DATA!BZS2,\"\"))","v":""},{"$f":"IF(DATA!BZT2=0,\"\",IFERROR(DATA!BZT2,\"\"))","v":""},{"$f":"IF(DATA!BZU2=0,\"\",IFERROR(DATA!BZU2,\"\"))","v":""},{"$f":"IF(DATA!BZV2=0,\"\",IFERROR(DATA!BZV2,\"\"))","v":""},{"$f":"IF(DATA!BZW2=0,\"\",IFERROR(DATA!BZW2,\"\"))","v":""},{"$f":"IF(DATA!BZX2=0,\"\",IFERROR(DATA!BZX2,\"\"))","v":""},{"$f":"IF(DATA!BZY2=0,\"\",IFERROR(DATA!BZY2,\"\"))","v":""},{"$f":"IF(DATA!BZZ2=0,\"\",IFERROR(DATA!BZZ2,\"\"))","v":""},{"$f":"IF(DATA!CAA2=0,\"\",IFERROR(DATA!CAA2,\"\"))","v":""},{"$f":"IF(DATA!CAB2=0,\"\",IFERROR(DATA!CAB2,\"\"))","v":""},{"$f":"IF(DATA!CAC2=0,\"\",IFERROR(DATA!CAC2,\"\"))","v":""},{"$f":"IF(DATA!CAD2=0,\"\",IFERROR(DATA!CAD2,\"\"))","v":""},{"$f":"IF(DATA!CAE2=0,\"\",IFERROR(DATA!CAE2,\"\"))","v":""},{"$f":"IF(DATA!CAF2=0,\"\",IFERROR(DATA!CAF2,\"\"))","v":""},{"$f":"IF(DATA!CAG2=0,\"\",IFERROR(DATA!CAG2,\"\"))","v":""},{"$f":"IF(DATA!CAH2=0,\"\",IFERROR(DATA!CAH2,\"\"))","v":""},{"$f":"IF(DATA!CAI2=0,\"\",IFERROR(DATA!CAI2,\"\"))","v":""},{"$f":"IF(DATA!CAJ2=0,\"\",IFERROR(DATA!CAJ2,\"\"))","v":""},{"$f":"IF(DATA!CAK2=0,\"\",IFERROR(DATA!CAK2,\"\"))","v":""},{"$f":"IF(DATA!CAL2=0,\"\",IFERROR(DATA!CAL2,\"\"))","v":""},{"$f":"IF(DATA!CAM2=0,\"\",IFERROR(DATA!CAM2,\"\"))","v":""},{"$f":"IF(DATA!CAN2=0,\"\",IFERROR(DATA!CAN2,\"\"))","v":""},{"$f":"IF(DATA!CAO2=0,\"\",IFERROR(DATA!CAO2,\"\"))","v":""},{"$f":"IF(DATA!CAP2=0,\"\",IFERROR(DATA!CAP2,\"\"))","v":""},{"$f":"IF(DATA!CAQ2=0,\"\",IFERROR(DATA!CAQ2,\"\"))","v":""},{"$f":"IF(DATA!CAR2=0,\"\",IFERROR(DATA!CAR2,\"\"))","v":""},{"$f":"IF(DATA!CAS2=0,\"\",IFERROR(DATA!CAS2,\"\"))","v":""},{"$f":"IF(DATA!CAT2=0,\"\",IFERROR(DATA!CAT2,\"\"))","v":""},{"$f":"IF(DATA!CAU2=0,\"\",IFERROR(DATA!CAU2,\"\"))","v":""},{"$f":"IF(DATA!CAV2=0,\"\",IFERROR(DATA!CAV2,\"\"))","v":""},{"$f":"IF(DATA!CAW2=0,\"\",IFERROR(DATA!CAW2,\"\"))","v":""},{"$f":"IF(DATA!CAX2=0,\"\",IFERROR(DATA!CAX2,\"\"))","v":""},{"$f":"IF(DATA!CAY2=0,\"\",IFERROR(DATA!CAY2,\"\"))","v":""},{"$f":"IF(DATA!CAZ2=0,\"\",IFERROR(DATA!CAZ2,\"\"))","v":""},{"$f":"IF(DATA!CBA2=0,\"\",IFERROR(DATA!CBA2,\"\"))","v":""},{"$f":"IF(DATA!CBB2=0,\"\",IFERROR(DATA!CBB2,\"\"))","v":""},{"$f":"IF(DATA!CBC2=0,\"\",IFERROR(DATA!CBC2,\"\"))","v":""},{"$f":"IF(DATA!CBD2=0,\"\",IFERROR(DATA!CBD2,\"\"))","v":""},{"$f":"IF(DATA!CBE2=0,\"\",IFERROR(DATA!CBE2,\"\"))","v":""},{"$f":"IF(DATA!CBF2=0,\"\",IFERROR(DATA!CBF2,\"\"))","v":""},{"$f":"IF(DATA!CBG2=0,\"\",IFERROR(DATA!CBG2,\"\"))","v":""},{"$f":"IF(DATA!CBH2=0,\"\",IFERROR(DATA!CBH2,\"\"))","v":""},{"$f":"IF(DATA!CBI2=0,\"\",IFERROR(DATA!CBI2,\"\"))","v":""},{"$f":"IF(DATA!CBJ2=0,\"\",IFERROR(DATA!CBJ2,\"\"))","v":""},{"$f":"IF(DATA!CBK2=0,\"\",IFERROR(DATA!CBK2,\"\"))","v":""},{"$f":"IF(DATA!CBL2=0,\"\",IFERROR(DATA!CBL2,\"\"))","v":""},{"$f":"IF(DATA!CBM2=0,\"\",IFERROR(DATA!CBM2,\"\"))","v":""},{"$f":"IF(DATA!CBN2=0,\"\",IFERROR(DATA!CBN2,\"\"))","v":""},{"$f":"IF(DATA!CBO2=0,\"\",IFERROR(DATA!CBO2,\"\"))","v":""},{"$f":"IF(DATA!CBP2=0,\"\",IFERROR(DATA!CBP2,\"\"))","v":""},{"$f":"IF(DATA!CBQ2=0,\"\",IFERROR(DATA!CBQ2,\"\"))","v":""},{"$f":"IF(DATA!CBR2=0,\"\",IFERROR(DATA!CBR2,\"\"))","v":""},{"$f":"IF(DATA!CBS2=0,\"\",IFERROR(DATA!CBS2,\"\"))","v":""},{"$f":"IF(DATA!CBT2=0,\"\",IFERROR(DATA!CBT2,\"\"))","v":""},{"$f":"IF(DATA!CBU2=0,\"\",IFERROR(DATA!CBU2,\"\"))","v":""},{"$f":"IF(DATA!CBV2=0,\"\",IFERROR(DATA!CBV2,\"\"))","v":""},{"$f":"IF(DATA!CBW2=0,\"\",IFERROR(DATA!CBW2,\"\"))","v":""},{"$f":"IF(DATA!CBX2=0,\"\",IFERROR(DATA!CBX2,\"\"))","v":""},{"$f":"IF(DATA!CBY2=0,\"\",IFERROR(DATA!CBY2,\"\"))","v":""},{"$f":"IF(DATA!CBZ2=0,\"\",IFERROR(DATA!CBZ2,\"\"))","v":""},{"$f":"IF(DATA!CCA2=0,\"\",IFERROR(DATA!CCA2,\"\"))","v":""},{"$f":"IF(DATA!CCB2=0,\"\",IFERROR(DATA!CCB2,\"\"))","v":""},{"$f":"IF(DATA!CCC2=0,\"\",IFERROR(DATA!CCC2,\"\"))","v":""},{"$f":"IF(DATA!CCD2=0,\"\",IFERROR(DATA!CCD2,\"\"))","v":""},{"$f":"IF(DATA!CCE2=0,\"\",IFERROR(DATA!CCE2,\"\"))","v":""},{"$f":"IF(DATA!CCF2=0,\"\",IFERROR(DATA!CCF2,\"\"))","v":""},{"$f":"IF(DATA!CCG2=0,\"\",IFERROR(DATA!CCG2,\"\"))","v":""},{"$f":"IF(DATA!CCH2=0,\"\",IFERROR(DATA!CCH2,\"\"))","v":""},{"$f":"IF(DATA!CCI2=0,\"\",IFERROR(DATA!CCI2,\"\"))","v":""},{"$f":"IF(DATA!CCJ2=0,\"\",IFERROR(DATA!CCJ2,\"\"))","v":""},{"$f":"IF(DATA!CCK2=0,\"\",IFERROR(DATA!CCK2,\"\"))","v":""},{"$f":"IF(DATA!CCL2=0,\"\",IFERROR(DATA!CCL2,\"\"))","v":""},{"$f":"IF(DATA!CCM2=0,\"\",IFERROR(DATA!CCM2,\"\"))","v":""},{"$f":"IF(DATA!CCN2=0,\"\",IFERROR(DATA!CCN2,\"\"))","v":""},{"$f":"IF(DATA!CCO2=0,\"\",IFERROR(DATA!CCO2,\"\"))","v":""},{"$f":"IF(DATA!CCP2=0,\"\",IFERROR(DATA!CCP2,\"\"))","v":""},{"$f":"IF(DATA!CCQ2=0,\"\",IFERROR(DATA!CCQ2,\"\"))","v":""},{"$f":"IF(DATA!CCR2=0,\"\",IFERROR(DATA!CCR2,\"\"))","v":""},{"$f":"IF(DATA!CCS2=0,\"\",IFERROR(DATA!CCS2,\"\"))","v":""},{"$f":"IF(DATA!CCT2=0,\"\",IFERROR(DATA!CCT2,\"\"))","v":""},{"$f":"IF(DATA!CCU2=0,\"\",IFERROR(DATA!CCU2,\"\"))","v":""},{"$f":"IF(DATA!CCV2=0,\"\",IFERROR(DATA!CCV2,\"\"))","v":""},{"$f":"IF(DATA!CCW2=0,\"\",IFERROR(DATA!CCW2,\"\"))","v":""},{"$f":"IF(DATA!CCX2=0,\"\",IFERROR(DATA!CCX2,\"\"))","v":""},{"$f":"IF(DATA!CCY2=0,\"\",IFERROR(DATA!CCY2,\"\"))","v":""},{"$f":"IF(DATA!CCZ2=0,\"\",IFERROR(DATA!CCZ2,\"\"))","v":""},{"$f":"IF(DATA!CDA2=0,\"\",IFERROR(DATA!CDA2,\"\"))","v":""},{"$f":"IF(DATA!CDB2=0,\"\",IFERROR(DATA!CDB2,\"\"))","v":""},{"$f":"IF(DATA!CDC2=0,\"\",IFERROR(DATA!CDC2,\"\"))","v":""},{"$f":"IF(DATA!CDD2=0,\"\",IFERROR(DATA!CDD2,\"\"))","v":""},{"$f":"IF(DATA!CDE2=0,\"\",IFERROR(DATA!CDE2,\"\"))","v":""},{"$f":"IF(DATA!CDF2=0,\"\",IFERROR(DATA!CDF2,\"\"))","v":""},{"$f":"IF(DATA!CDG2=0,\"\",IFERROR(DATA!CDG2,\"\"))","v":""},{"$f":"IF(DATA!CDH2=0,\"\",IFERROR(DATA!CDH2,\"\"))","v":""},{"$f":"IF(DATA!CDI2=0,\"\",IFERROR(DATA!CDI2,\"\"))","v":""},{"$f":"IF(DATA!CDJ2=0,\"\",IFERROR(DATA!CDJ2,\"\"))","v":""},{"$f":"IF(DATA!CDK2=0,\"\",IFERROR(DATA!CDK2,\"\"))","v":""},{"$f":"IF(DATA!CDL2=0,\"\",IFERROR(DATA!CDL2,\"\"))","v":""},{"$f":"IF(DATA!CDM2=0,\"\",IFERROR(DATA!CDM2,\"\"))","v":""},{"$f":"IF(DATA!CDN2=0,\"\",IFERROR(DATA!CDN2,\"\"))","v":""},{"$f":"IF(DATA!CDO2=0,\"\",IFERROR(DATA!CDO2,\"\"))","v":""},{"$f":"IF(DATA!CDP2=0,\"\",IFERROR(DATA!CDP2,\"\"))","v":""},{"$f":"IF(DATA!CDQ2=0,\"\",IFERROR(DATA!CDQ2,\"\"))","v":""},{"$f":"IF(DATA!CDR2=0,\"\",IFERROR(DATA!CDR2,\"\"))","v":""},{"$f":"IF(DATA!CDS2=0,\"\",IFERROR(DATA!CDS2,\"\"))","v":""},{"$f":"IF(DATA!CDT2=0,\"\",IFERROR(DATA!CDT2,\"\"))","v":""},{"$f":"IF(DATA!CDU2=0,\"\",IFERROR(DATA!CDU2,\"\"))","v":""},{"$f":"IF(DATA!CDV2=0,\"\",IFERROR(DATA!CDV2,\"\"))","v":""},{"$f":"IF(DATA!CDW2=0,\"\",IFERROR(DATA!CDW2,\"\"))","v":""},{"$f":"IF(DATA!CDX2=0,\"\",IFERROR(DATA!CDX2,\"\"))","v":""},{"$f":"IF(DATA!CDY2=0,\"\",IFERROR(DATA!CDY2,\"\"))","v":""},{"$f":"IF(DATA!CDZ2=0,\"\",IFERROR(DATA!CDZ2,\"\"))","v":""},{"$f":"IF(DATA!CEA2=0,\"\",IFERROR(DATA!CEA2,\"\"))","v":""},{"$f":"IF(DATA!CEB2=0,\"\",IFERROR(DATA!CEB2,\"\"))","v":""},{"$f":"IF(DATA!CEC2=0,\"\",IFERROR(DATA!CEC2,\"\"))","v":""},{"$f":"IF(DATA!CED2=0,\"\",IFERROR(DATA!CED2,\"\"))","v":""},{"$f":"IF(DATA!CEE2=0,\"\",IFERROR(DATA!CEE2,\"\"))","v":""},{"$f":"IF(DATA!CEF2=0,\"\",IFERROR(DATA!CEF2,\"\"))","v":""},{"$f":"IF(DATA!CEG2=0,\"\",IFERROR(DATA!CEG2,\"\"))","v":""},{"$f":"IF(DATA!CEH2=0,\"\",IFERROR(DATA!CEH2,\"\"))","v":""},{"$f":"IF(DATA!CEI2=0,\"\",IFERROR(DATA!CEI2,\"\"))","v":""},{"$f":"IF(DATA!CEJ2=0,\"\",IFERROR(DATA!CEJ2,\"\"))","v":""},{"$f":"IF(DATA!CEK2=0,\"\",IFERROR(DATA!CEK2,\"\"))","v":""},{"$f":"IF(DATA!CEL2=0,\"\",IFERROR(DATA!CEL2,\"\"))","v":""},{"$f":"IF(DATA!CEM2=0,\"\",IFERROR(DATA!CEM2,\"\"))","v":""},{"$f":"IF(DATA!CEN2=0,\"\",IFERROR(DATA!CEN2,\"\"))","v":""},{"$f":"IF(DATA!CEO2=0,\"\",IFERROR(DATA!CEO2,\"\"))","v":""},{"$f":"IF(DATA!CEP2=0,\"\",IFERROR(DATA!CEP2,\"\"))","v":""},{"$f":"IF(DATA!CEQ2=0,\"\",IFERROR(DATA!CEQ2,\"\"))","v":""},{"$f":"IF(DATA!CER2=0,\"\",IFERROR(DATA!CER2,\"\"))","v":""},{"$f":"IF(DATA!CES2=0,\"\",IFERROR(DATA!CES2,\"\"))","v":""},{"$f":"IF(DATA!CET2=0,\"\",IFERROR(DATA!CET2,\"\"))","v":""},{"$f":"IF(DATA!CEU2=0,\"\",IFERROR(DATA!CEU2,\"\"))","v":""},{"$f":"IF(DATA!CEV2=0,\"\",IFERROR(DATA!CEV2,\"\"))","v":""},{"$f":"IF(DATA!CEW2=0,\"\",IFERROR(DATA!CEW2,\"\"))","v":""},{"$f":"IF(DATA!CEX2=0,\"\",IFERROR(DATA!CEX2,\"\"))","v":""},{"$f":"IF(DATA!CEY2=0,\"\",IFERROR(DATA!CEY2,\"\"))","v":""},{"$f":"IF(DATA!CEZ2=0,\"\",IFERROR(DATA!CEZ2,\"\"))","v":""},{"$f":"IF(DATA!CFA2=0,\"\",IFERROR(DATA!CFA2,\"\"))","v":""},{"$f":"IF(DATA!CFB2=0,\"\",IFERROR(DATA!CFB2,\"\"))","v":""},{"$f":"IF(DATA!CFC2=0,\"\",IFERROR(DATA!CFC2,\"\"))","v":""},{"$f":"IF(DATA!CFD2=0,\"\",IFERROR(DATA!CFD2,\"\"))","v":""},{"$f":"IF(DATA!CFE2=0,\"\",IFERROR(DATA!CFE2,\"\"))","v":""},{"$f":"IF(DATA!CFF2=0,\"\",IFERROR(DATA!CFF2,\"\"))","v":""},{"$f":"IF(DATA!CFG2=0,\"\",IFERROR(DATA!CFG2,\"\"))","v":""},{"$f":"IF(DATA!CFH2=0,\"\",IFERROR(DATA!CFH2,\"\"))","v":""},{"$f":"IF(DATA!CFI2=0,\"\",IFERROR(DATA!CFI2,\"\"))","v":""},{"$f":"IF(DATA!CFJ2=0,\"\",IFERROR(DATA!CFJ2,\"\"))","v":""},{"$f":"IF(DATA!CFK2=0,\"\",IFERROR(DATA!CFK2,\"\"))","v":""},{"$f":"IF(DATA!CFL2=0,\"\",IFERROR(DATA!CFL2,\"\"))","v":""},{"$f":"IF(DATA!CFM2=0,\"\",IFERROR(DATA!CFM2,\"\"))","v":""},{"$f":"IF(DATA!CFN2=0,\"\",IFERROR(DATA!CFN2,\"\"))","v":""},{"$f":"IF(DATA!CFO2=0,\"\",IFERROR(DATA!CFO2,\"\"))","v":""},{"$f":"IF(DATA!CFP2=0,\"\",IFERROR(DATA!CFP2,\"\"))","v":""},{"$f":"IF(DATA!CFQ2=0,\"\",IFERROR(DATA!CFQ2,\"\"))","v":""},{"$f":"IF(DATA!CFR2=0,\"\",IFERROR(DATA!CFR2,\"\"))","v":""},{"$f":"IF(DATA!CFS2=0,\"\",IFERROR(DATA!CFS2,\"\"))","v":""},{"$f":"IF(DATA!CFT2=0,\"\",IFERROR(DATA!CFT2,\"\"))","v":""},{"$f":"IF(DATA!CFU2=0,\"\",IFERROR(DATA!CFU2,\"\"))","v":""},{"$f":"IF(DATA!CFV2=0,\"\",IFERROR(DATA!CFV2,\"\"))","v":""},{"$f":"IF(DATA!CFW2=0,\"\",IFERROR(DATA!CFW2,\"\"))","v":""},{"$f":"IF(DATA!CFX2=0,\"\",IFERROR(DATA!CFX2,\"\"))","v":""},{"$f":"IF(DATA!CFY2=0,\"\",IFERROR(DATA!CFY2,\"\"))","v":""},{"$f":"IF(DATA!CFZ2=0,\"\",IFERROR(DATA!CFZ2,\"\"))","v":""},{"$f":"IF(DATA!CGA2=0,\"\",IFERROR(DATA!CGA2,\"\"))","v":""},{"$f":"IF(DATA!CGB2=0,\"\",IFERROR(DATA!CGB2,\"\"))","v":""},{"$f":"IF(DATA!CGC2=0,\"\",IFERROR(DATA!CGC2,\"\"))","v":""},{"$f":"IF(DATA!CGD2=0,\"\",IFERROR(DATA!CGD2,\"\"))","v":""},{"$f":"IF(DATA!CGE2=0,\"\",IFERROR(DATA!CGE2,\"\"))","v":""},{"$f":"IF(DATA!CGF2=0,\"\",IFERROR(DATA!CGF2,\"\"))","v":""},{"$f":"IF(DATA!CGG2=0,\"\",IFERROR(DATA!CGG2,\"\"))","v":""},{"$f":"IF(DATA!CGH2=0,\"\",IFERROR(DATA!CGH2,\"\"))","v":""},{"$f":"IF(DATA!CGI2=0,\"\",IFERROR(DATA!CGI2,\"\"))","v":""},{"$f":"IF(DATA!CGJ2=0,\"\",IFERROR(DATA!CGJ2,\"\"))","v":""},{"$f":"IF(DATA!CGK2=0,\"\",IFERROR(DATA!CGK2,\"\"))","v":""},{"$f":"IF(DATA!CGL2=0,\"\",IFERROR(DATA!CGL2,\"\"))","v":""},{"$f":"IF(DATA!CGM2=0,\"\",IFERROR(DATA!CGM2,\"\"))","v":""},{"$f":"IF(DATA!CGN2=0,\"\",IFERROR(DATA!CGN2,\"\"))","v":""},{"$f":"IF(DATA!CGO2=0,\"\",IFERROR(DATA!CGO2,\"\"))","v":""},{"$f":"IF(DATA!CGP2=0,\"\",IFERROR(DATA!CGP2,\"\"))","v":""},{"$f":"IF(DATA!CGQ2=0,\"\",IFERROR(DATA!CGQ2,\"\"))","v":""},{"$f":"IF(DATA!CGR2=0,\"\",IFERROR(DATA!CGR2,\"\"))","v":""},{"$f":"IF(DATA!CGS2=0,\"\",IFERROR(DATA!CGS2,\"\"))","v":""},{"$f":"IF(DATA!CGT2=0,\"\",IFERROR(DATA!CGT2,\"\"))","v":""},{"$f":"IF(DATA!CGU2=0,\"\",IFERROR(DATA!CGU2,\"\"))","v":""},{"$f":"IF(DATA!CGV2=0,\"\",IFERROR(DATA!CGV2,\"\"))","v":""},{"$f":"IF(DATA!CGW2=0,\"\",IFERROR(DATA!CGW2,\"\"))","v":""},{"$f":"IF(DATA!CGX2=0,\"\",IFERROR(DATA!CGX2,\"\"))","v":""},{"$f":"IF(DATA!CGY2=0,\"\",IFERROR(DATA!CGY2,\"\"))","v":""},{"$f":"IF(DATA!CGZ2=0,\"\",IFERROR(DATA!CGZ2,\"\"))","v":""},{"$f":"IF(DATA!CHA2=0,\"\",IFERROR(DATA!CHA2,\"\"))","v":""},{"$f":"IF(DATA!CHB2=0,\"\",IFERROR(DATA!CHB2,\"\"))","v":""},{"$f":"IF(DATA!CHC2=0,\"\",IFERROR(DATA!CHC2,\"\"))","v":""},{"$f":"IF(DATA!CHD2=0,\"\",IFERROR(DATA!CHD2,\"\"))","v":""},{"$f":"IF(DATA!CHE2=0,\"\",IFERROR(DATA!CHE2,\"\"))","v":""},{"$f":"IF(DATA!CHF2=0,\"\",IFERROR(DATA!CHF2,\"\"))","v":""},{"$f":"IF(DATA!CHG2=0,\"\",IFERROR(DATA!CHG2,\"\"))","v":""},{"$f":"IF(DATA!CHH2=0,\"\",IFERROR(DATA!CHH2,\"\"))","v":""},{"$f":"IF(DATA!CHI2=0,\"\",IFERROR(DATA!CHI2,\"\"))","v":""},{"$f":"IF(DATA!CHJ2=0,\"\",IFERROR(DATA!CHJ2,\"\"))","v":""},{"$f":"IF(DATA!CHK2=0,\"\",IFERROR(DATA!CHK2,\"\"))","v":""},{"$f":"IF(DATA!CHL2=0,\"\",IFERROR(DATA!CHL2,\"\"))","v":""},{"$f":"IF(DATA!CHM2=0,\"\",IFERROR(DATA!CHM2,\"\"))","v":""},{"$f":"IF(DATA!CHN2=0,\"\",IFERROR(DATA!CHN2,\"\"))","v":""},{"$f":"IF(DATA!CHO2=0,\"\",IFERROR(DATA!CHO2,\"\"))","v":""},{"$f":"IF(DATA!CHP2=0,\"\",IFERROR(DATA!CHP2,\"\"))","v":""},{"$f":"IF(DATA!CHQ2=0,\"\",IFERROR(DATA!CHQ2,\"\"))","v":""},{"$f":"IF(DATA!CHR2=0,\"\",IFERROR(DATA!CHR2,\"\"))","v":""},{"$f":"IF(DATA!CHS2=0,\"\",IFERROR(DATA!CHS2,\"\"))","v":""},{"$f":"IF(DATA!CHT2=0,\"\",IFERROR(DATA!CHT2,\"\"))","v":""},{"$f":"IF(DATA!CHU2=0,\"\",IFERROR(DATA!CHU2,\"\"))","v":""},{"$f":"IF(DATA!CHV2=0,\"\",IFERROR(DATA!CHV2,\"\"))","v":""},{"$f":"IF(DATA!CHW2=0,\"\",IFERROR(DATA!CHW2,\"\"))","v":""},{"$f":"IF(DATA!CHX2=0,\"\",IFERROR(DATA!CHX2,\"\"))","v":""},{"$f":"IF(DATA!CHY2=0,\"\",IFERROR(DATA!CHY2,\"\"))","v":""},{"$f":"IF(DATA!CHZ2=0,\"\",IFERROR(DATA!CHZ2,\"\"))","v":""},{"$f":"IF(DATA!CIA2=0,\"\",IFERROR(DATA!CIA2,\"\"))","v":""},{"$f":"IF(DATA!CIB2=0,\"\",IFERROR(DATA!CIB2,\"\"))","v":""},{"$f":"IF(DATA!CIC2=0,\"\",IFERROR(DATA!CIC2,\"\"))","v":""},{"$f":"IF(DATA!CID2=0,\"\",IFERROR(DATA!CID2,\"\"))","v":""},{"$f":"IF(DATA!CIE2=0,\"\",IFERROR(DATA!CIE2,\"\"))","v":""},{"$f":"IF(DATA!CIF2=0,\"\",IFERROR(DATA!CIF2,\"\"))","v":""},{"$f":"IF(DATA!CIG2=0,\"\",IFERROR(DATA!CIG2,\"\"))","v":""},{"$f":"IF(DATA!CIH2=0,\"\",IFERROR(DATA!CIH2,\"\"))","v":""},{"$f":"IF(DATA!CII2=0,\"\",IFERROR(DATA!CII2,\"\"))","v":""},{"$f":"IF(DATA!CIJ2=0,\"\",IFERROR(DATA!CIJ2,\"\"))","v":""},{"$f":"IF(DATA!CIK2=0,\"\",IFERROR(DATA!CIK2,\"\"))","v":""},{"$f":"IF(DATA!CIL2=0,\"\",IFERROR(DATA!CIL2,\"\"))","v":""},{"$f":"IF(DATA!CIM2=0,\"\",IFERROR(DATA!CIM2,\"\"))","v":""},{"$f":"IF(DATA!CIN2=0,\"\",IFERROR(DATA!CIN2,\"\"))","v":""},{"$f":"IF(DATA!CIO2=0,\"\",IFERROR(DATA!CIO2,\"\"))","v":""},{"$f":"IF(DATA!CIP2=0,\"\",IFERROR(DATA!CIP2,\"\"))","v":""},{"$f":"IF(DATA!CIQ2=0,\"\",IFERROR(DATA!CIQ2,\"\"))","v":""},{"$f":"IF(DATA!CIR2=0,\"\",IFERROR(DATA!CIR2,\"\"))","v":""},{"$f":"IF(DATA!CIS2=0,\"\",IFERROR(DATA!CIS2,\"\"))","v":""},{"$f":"IF(DATA!CIT2=0,\"\",IFERROR(DATA!CIT2,\"\"))","v":""},{"$f":"IF(DATA!CIU2=0,\"\",IFERROR(DATA!CIU2,\"\"))","v":""},{"$f":"IF(DATA!CIV2=0,\"\",IFERROR(DATA!CIV2,\"\"))","v":""},{"$f":"IF(DATA!CIW2=0,\"\",IFERROR(DATA!CIW2,\"\"))","v":""},{"$f":"IF(DATA!CIX2=0,\"\",IFERROR(DATA!CIX2,\"\"))","v":""},{"$f":"IF(DATA!CIY2=0,\"\",IFERROR(DATA!CIY2,\"\"))","v":""},{"$f":"IF(DATA!CIZ2=0,\"\",IFERROR(DATA!CIZ2,\"\"))","v":""},{"$f":"IF(DATA!CJA2=0,\"\",IFERROR(DATA!CJA2,\"\"))","v":""},{"$f":"IF(DATA!CJB2=0,\"\",IFERROR(DATA!CJB2,\"\"))","v":""},{"$f":"IF(DATA!CJC2=0,\"\",IFERROR(DATA!CJC2,\"\"))","v":""},{"$f":"IF(DATA!CJD2=0,\"\",IFERROR(DATA!CJD2,\"\"))","v":""},{"$f":"IF(DATA!CJE2=0,\"\",IFERROR(DATA!CJE2,\"\"))","v":""},{"$f":"IF(DATA!CJF2=0,\"\",IFERROR(DATA!CJF2,\"\"))","v":""},{"$f":"IF(DATA!CJG2=0,\"\",IFERROR(DATA!CJG2,\"\"))","v":""},{"$f":"IF(DATA!CJH2=0,\"\",IFERROR(DATA!CJH2,\"\"))","v":""},{"$f":"IF(DATA!CJI2=0,\"\",IFERROR(DATA!CJI2,\"\"))","v":""},{"$f":"IF(DATA!CJJ2=0,\"\",IFERROR(DATA!CJJ2,\"\"))","v":""},{"$f":"IF(DATA!CJK2=0,\"\",IFERROR(DATA!CJK2,\"\"))","v":""},{"$f":"IF(DATA!CJL2=0,\"\",IFERROR(DATA!CJL2,\"\"))","v":""},{"$f":"IF(DATA!CJM2=0,\"\",IFERROR(DATA!CJM2,\"\"))","v":""},{"$f":"IF(DATA!CJN2=0,\"\",IFERROR(DATA!CJN2,\"\"))","v":""},{"$f":"IF(DATA!CJO2=0,\"\",IFERROR(DATA!CJO2,\"\"))","v":""},{"$f":"IF(DATA!CJP2=0,\"\",IFERROR(DATA!CJP2,\"\"))","v":""},{"$f":"IF(DATA!CJQ2=0,\"\",IFERROR(DATA!CJQ2,\"\"))","v":""},{"$f":"IF(DATA!CJR2=0,\"\",IFERROR(DATA!CJR2,\"\"))","v":""},{"$f":"IF(DATA!CJS2=0,\"\",IFERROR(DATA!CJS2,\"\"))","v":""},{"$f":"IF(DATA!CJT2=0,\"\",IFERROR(DATA!CJT2,\"\"))","v":""},{"$f":"IF(DATA!CJU2=0,\"\",IFERROR(DATA!CJU2,\"\"))","v":""},{"$f":"IF(DATA!CJV2=0,\"\",IFERROR(DATA!CJV2,\"\"))","v":""},{"$f":"IF(DATA!CJW2=0,\"\",IFERROR(DATA!CJW2,\"\"))","v":""},{"$f":"IF(DATA!CJX2=0,\"\",IFERROR(DATA!CJX2,\"\"))","v":""},{"$f":"IF(DATA!CJY2=0,\"\",IFERROR(DATA!CJY2,\"\"))","v":""},{"$f":"IF(DATA!CJZ2=0,\"\",IFERROR(DATA!CJZ2,\"\"))","v":""},{"$f":"IF(DATA!CKA2=0,\"\",IFERROR(DATA!CKA2,\"\"))","v":""},{"$f":"IF(DATA!CKB2=0,\"\",IFERROR(DATA!CKB2,\"\"))","v":""},{"$f":"IF(DATA!CKC2=0,\"\",IFERROR(DATA!CKC2,\"\"))","v":""},{"$f":"IF(DATA!CKD2=0,\"\",IFERROR(DATA!CKD2,\"\"))","v":""},{"$f":"IF(DATA!CKE2=0,\"\",IFERROR(DATA!CKE2,\"\"))","v":""},{"$f":"IF(DATA!CKF2=0,\"\",IFERROR(DATA!CKF2,\"\"))","v":""},{"$f":"IF(DATA!CKG2=0,\"\",IFERROR(DATA!CKG2,\"\"))","v":""},{"$f":"IF(DATA!CKH2=0,\"\",IFERROR(DATA!CKH2,\"\"))","v":""},{"$f":"IF(DATA!CKI2=0,\"\",IFERROR(DATA!CKI2,\"\"))","v":""},{"$f":"IF(DATA!CKJ2=0,\"\",IFERROR(DATA!CKJ2,\"\"))","v":""},{"$f":"IF(DATA!CKK2=0,\"\",IFERROR(DATA!CKK2,\"\"))","v":""},{"$f":"IF(DATA!CKL2=0,\"\",IFERROR(DATA!CKL2,\"\"))","v":""},{"$f":"IF(DATA!CKM2=0,\"\",IFERROR(DATA!CKM2,\"\"))","v":""},{"$f":"IF(DATA!CKN2=0,\"\",IFERROR(DATA!CKN2,\"\"))","v":""},{"$f":"IF(DATA!CKO2=0,\"\",IFERROR(DATA!CKO2,\"\"))","v":""},{"$f":"IF(DATA!CKP2=0,\"\",IFERROR(DATA!CKP2,\"\"))","v":""},{"$f":"IF(DATA!CKQ2=0,\"\",IFERROR(DATA!CKQ2,\"\"))","v":""},{"$f":"IF(DATA!CKR2=0,\"\",IFERROR(DATA!CKR2,\"\"))","v":""},{"$f":"IF(DATA!CKS2=0,\"\",IFERROR(DATA!CKS2,\"\"))","v":""},{"$f":"IF(DATA!CKT2=0,\"\",IFERROR(DATA!CKT2,\"\"))","v":""},{"$f":"IF(DATA!CKU2=0,\"\",IFERROR(DATA!CKU2,\"\"))","v":""},{"$f":"IF(DATA!CKV2=0,\"\",IFERROR(DATA!CKV2,\"\"))","v":""},{"$f":"IF(DATA!CKW2=0,\"\",IFERROR(DATA!CKW2,\"\"))","v":""},{"$f":"IF(DATA!CKX2=0,\"\",IFERROR(DATA!CKX2,\"\"))","v":""},{"$f":"IF(DATA!CKY2=0,\"\",IFERROR(DATA!CKY2,\"\"))","v":""},{"$f":"IF(DATA!CKZ2=0,\"\",IFERROR(DATA!CKZ2,\"\"))","v":""},{"$f":"IF(DATA!CLA2=0,\"\",IFERROR(DATA!CLA2,\"\"))","v":""},{"$f":"IF(DATA!CLB2=0,\"\",IFERROR(DATA!CLB2,\"\"))","v":""},{"$f":"IF(DATA!CLC2=0,\"\",IFERROR(DATA!CLC2,\"\"))","v":""},{"$f":"IF(DATA!CLD2=0,\"\",IFERROR(DATA!CLD2,\"\"))","v":""},{"$f":"IF(DATA!CLE2=0,\"\",IFERROR(DATA!CLE2,\"\"))","v":""},{"$f":"IF(DATA!CLF2=0,\"\",IFERROR(DATA!CLF2,\"\"))","v":""},{"$f":"IF(DATA!CLG2=0,\"\",IFERROR(DATA!CLG2,\"\"))","v":""},{"$f":"IF(DATA!CLH2=0,\"\",IFERROR(DATA!CLH2,\"\"))","v":""},{"$f":"IF(DATA!CLI2=0,\"\",IFERROR(DATA!CLI2,\"\"))","v":""},{"$f":"IF(DATA!CLJ2=0,\"\",IFERROR(DATA!CLJ2,\"\"))","v":""},{"$f":"IF(DATA!CLK2=0,\"\",IFERROR(DATA!CLK2,\"\"))","v":""},{"$f":"IF(DATA!CLL2=0,\"\",IFERROR(DATA!CLL2,\"\"))","v":""},{"$f":"IF(DATA!CLM2=0,\"\",IFERROR(DATA!CLM2,\"\"))","v":""},{"$f":"IF(DATA!CLN2=0,\"\",IFERROR(DATA!CLN2,\"\"))","v":""},{"$f":"IF(DATA!CLO2=0,\"\",IFERROR(DATA!CLO2,\"\"))","v":""},{"$f":"IF(DATA!CLP2=0,\"\",IFERROR(DATA!CLP2,\"\"))","v":""},{"$f":"IF(DATA!CLQ2=0,\"\",IFERROR(DATA!CLQ2,\"\"))","v":""},{"$f":"IF(DATA!CLR2=0,\"\",IFERROR(DATA!CLR2,\"\"))","v":""},{"$f":"IF(DATA!CLS2=0,\"\",IFERROR(DATA!CLS2,\"\"))","v":""},{"$f":"IF(DATA!CLT2=0,\"\",IFERROR(DATA!CLT2,\"\"))","v":""},{"$f":"IF(DATA!CLU2=0,\"\",IFERROR(DATA!CLU2,\"\"))","v":""},{"$f":"IF(DATA!CLV2=0,\"\",IFERROR(DATA!CLV2,\"\"))","v":""},{"$f":"IF(DATA!CLW2=0,\"\",IFERROR(DATA!CLW2,\"\"))","v":""},{"$f":"IF(DATA!CLX2=0,\"\",IFERROR(DATA!CLX2,\"\"))","v":""},{"$f":"IF(DATA!CLY2=0,\"\",IFERROR(DATA!CLY2,\"\"))","v":""},{"$f":"IF(DATA!CLZ2=0,\"\",IFERROR(DATA!CLZ2,\"\"))","v":""},{"$f":"IF(DATA!CMA2=0,\"\",IFERROR(DATA!CMA2,\"\"))","v":""},{"$f":"IF(DATA!CMB2=0,\"\",IFERROR(DATA!CMB2,\"\"))","v":""},{"$f":"IF(DATA!CMC2=0,\"\",IFERROR(DATA!CMC2,\"\"))","v":""},{"$f":"IF(DATA!CMD2=0,\"\",IFERROR(DATA!CMD2,\"\"))","v":""},{"$f":"IF(DATA!CME2=0,\"\",IFERROR(DATA!CME2,\"\"))","v":""},{"$f":"IF(DATA!CMF2=0,\"\",IFERROR(DATA!CMF2,\"\"))","v":""},{"$f":"IF(DATA!CMG2=0,\"\",IFERROR(DATA!CMG2,\"\"))","v":""},{"$f":"IF(DATA!CMH2=0,\"\",IFERROR(DATA!CMH2,\"\"))","v":""},{"$f":"IF(DATA!CMI2=0,\"\",IFERROR(DATA!CMI2,\"\"))","v":""},{"$f":"IF(DATA!CMJ2=0,\"\",IFERROR(DATA!CMJ2,\"\"))","v":""},{"$f":"IF(DATA!CMK2=0,\"\",IFERROR(DATA!CMK2,\"\"))","v":""},{"$f":"IF(DATA!CML2=0,\"\",IFERROR(DATA!CML2,\"\"))","v":""},{"$f":"IF(DATA!CMM2=0,\"\",IFERROR(DATA!CMM2,\"\"))","v":""},{"$f":"IF(DATA!CMN2=0,\"\",IFERROR(DATA!CMN2,\"\"))","v":""},{"$f":"IF(DATA!CMO2=0,\"\",IFERROR(DATA!CMO2,\"\"))","v":""},{"$f":"IF(DATA!CMP2=0,\"\",IFERROR(DATA!CMP2,\"\"))","v":""},{"$f":"IF(DATA!CMQ2=0,\"\",IFERROR(DATA!CMQ2,\"\"))","v":""},{"$f":"IF(DATA!CMR2=0,\"\",IFERROR(DATA!CMR2,\"\"))","v":""},{"$f":"IF(DATA!CMS2=0,\"\",IFERROR(DATA!CMS2,\"\"))","v":""},{"$f":"IF(DATA!CMT2=0,\"\",IFERROR(DATA!CMT2,\"\"))","v":""},{"$f":"IF(DATA!CMU2=0,\"\",IFERROR(DATA!CMU2,\"\"))","v":""},{"$f":"IF(DATA!CMV2=0,\"\",IFERROR(DATA!CMV2,\"\"))","v":""},{"$f":"IF(DATA!CMW2=0,\"\",IFERROR(DATA!CMW2,\"\"))","v":""},{"$f":"IF(DATA!CMX2=0,\"\",IFERROR(DATA!CMX2,\"\"))","v":""},{"$f":"IF(DATA!CMY2=0,\"\",IFERROR(DATA!CMY2,\"\"))","v":""},{"$f":"IF(DATA!CMZ2=0,\"\",IFERROR(DATA!CMZ2,\"\"))","v":""},{"$f":"IF(DATA!CNA2=0,\"\",IFERROR(DATA!CNA2,\"\"))","v":""},{"$f":"IF(DATA!CNB2=0,\"\",IFERROR(DATA!CNB2,\"\"))","v":""},{"$f":"IF(DATA!CNC2=0,\"\",IFERROR(DATA!CNC2,\"\"))","v":""},{"$f":"IF(DATA!CND2=0,\"\",IFERROR(DATA!CND2,\"\"))","v":""},{"$f":"IF(DATA!CNE2=0,\"\",IFERROR(DATA!CNE2,\"\"))","v":""},{"$f":"IF(DATA!CNF2=0,\"\",IFERROR(DATA!CNF2,\"\"))","v":""},{"$f":"IF(DATA!CNG2=0,\"\",IFERROR(DATA!CNG2,\"\"))","v":""},{"$f":"IF(DATA!CNH2=0,\"\",IFERROR(DATA!CNH2,\"\"))","v":""},{"$f":"IF(DATA!CNI2=0,\"\",IFERROR(DATA!CNI2,\"\"))","v":""},{"$f":"IF(DATA!CNJ2=0,\"\",IFERROR(DATA!CNJ2,\"\"))","v":""},{"$f":"IF(DATA!CNK2=0,\"\",IFERROR(DATA!CNK2,\"\"))","v":""},{"$f":"IF(DATA!CNL2=0,\"\",IFERROR(DATA!CNL2,\"\"))","v":""},{"$f":"IF(DATA!CNM2=0,\"\",IFERROR(DATA!CNM2,\"\"))","v":""},{"$f":"IF(DATA!CNN2=0,\"\",IFERROR(DATA!CNN2,\"\"))","v":""},{"$f":"IF(DATA!CNO2=0,\"\",IFERROR(DATA!CNO2,\"\"))","v":""},{"$f":"IF(DATA!CNP2=0,\"\",IFERROR(DATA!CNP2,\"\"))","v":""},{"$f":"IF(DATA!CNQ2=0,\"\",IFERROR(DATA!CNQ2,\"\"))","v":""},{"$f":"IF(DATA!CNR2=0,\"\",IFERROR(DATA!CNR2,\"\"))","v":""},{"$f":"IF(DATA!CNS2=0,\"\",IFERROR(DATA!CNS2,\"\"))","v":""},{"$f":"IF(DATA!CNT2=0,\"\",IFERROR(DATA!CNT2,\"\"))","v":""},{"$f":"IF(DATA!CNU2=0,\"\",IFERROR(DATA!CNU2,\"\"))","v":""},{"$f":"IF(DATA!CNV2=0,\"\",IFERROR(DATA!CNV2,\"\"))","v":""},{"$f":"IF(DATA!CNW2=0,\"\",IFERROR(DATA!CNW2,\"\"))","v":""},{"$f":"IF(DATA!CNX2=0,\"\",IFERROR(DATA!CNX2,\"\"))","v":""},{"$f":"IF(DATA!CNY2=0,\"\",IFERROR(DATA!CNY2,\"\"))","v":""},{"$f":"IF(DATA!CNZ2=0,\"\",IFERROR(DATA!CNZ2,\"\"))","v":""},{"$f":"IF(DATA!COA2=0,\"\",IFERROR(DATA!COA2,\"\"))","v":""},{"$f":"IF(DATA!COB2=0,\"\",IFERROR(DATA!COB2,\"\"))","v":""},{"$f":"IF(DATA!COC2=0,\"\",IFERROR(DATA!COC2,\"\"))","v":""},{"$f":"IF(DATA!COD2=0,\"\",IFERROR(DATA!COD2,\"\"))","v":""},{"$f":"IF(DATA!COE2=0,\"\",IFERROR(DATA!COE2,\"\"))","v":""},{"$f":"IF(DATA!COF2=0,\"\",IFERROR(DATA!COF2,\"\"))","v":""},{"$f":"IF(DATA!COG2=0,\"\",IFERROR(DATA!COG2,\"\"))","v":""},{"$f":"IF(DATA!COH2=0,\"\",IFERROR(DATA!COH2,\"\"))","v":""},{"$f":"IF(DATA!COI2=0,\"\",IFERROR(DATA!COI2,\"\"))","v":""},{"$f":"IF(DATA!COJ2=0,\"\",IFERROR(DATA!COJ2,\"\"))","v":""},{"$f":"IF(DATA!COK2=0,\"\",IFERROR(DATA!COK2,\"\"))","v":""},{"$f":"IF(DATA!COL2=0,\"\",IFERROR(DATA!COL2,\"\"))","v":""},{"$f":"IF(DATA!COM2=0,\"\",IFERROR(DATA!COM2,\"\"))","v":""},{"$f":"IF(DATA!CON2=0,\"\",IFERROR(DATA!CON2,\"\"))","v":""},{"$f":"IF(DATA!COO2=0,\"\",IFERROR(DATA!COO2,\"\"))","v":""},{"$f":"IF(DATA!COP2=0,\"\",IFERROR(DATA!COP2,\"\"))","v":""},{"$f":"IF(DATA!COQ2=0,\"\",IFERROR(DATA!COQ2,\"\"))","v":""},{"$f":"IF(DATA!COR2=0,\"\",IFERROR(DATA!COR2,\"\"))","v":""},{"$f":"IF(DATA!COS2=0,\"\",IFERROR(DATA!COS2,\"\"))","v":""},{"$f":"IF(DATA!COT2=0,\"\",IFERROR(DATA!COT2,\"\"))","v":""},{"$f":"IF(DATA!COU2=0,\"\",IFERROR(DATA!COU2,\"\"))","v":""},{"$f":"IF(DATA!COV2=0,\"\",IFERROR(DATA!COV2,\"\"))","v":""},{"$f":"IF(DATA!COW2=0,\"\",IFERROR(DATA!COW2,\"\"))","v":""},{"$f":"IF(DATA!COX2=0,\"\",IFERROR(DATA!COX2,\"\"))","v":""},{"$f":"IF(DATA!COY2=0,\"\",IFERROR(DATA!COY2,\"\"))","v":""},{"$f":"IF(DATA!COZ2=0,\"\",IFERROR(DATA!COZ2,\"\"))","v":""},{"$f":"IF(DATA!CPA2=0,\"\",IFERROR(DATA!CPA2,\"\"))","v":""},{"$f":"IF(DATA!CPB2=0,\"\",IFERROR(DATA!CPB2,\"\"))","v":""},{"$f":"IF(DATA!CPC2=0,\"\",IFERROR(DATA!CPC2,\"\"))","v":""},{"$f":"IF(DATA!CPD2=0,\"\",IFERROR(DATA!CPD2,\"\"))","v":""},{"$f":"IF(DATA!CPE2=0,\"\",IFERROR(DATA!CPE2,\"\"))","v":""},{"$f":"IF(DATA!CPF2=0,\"\",IFERROR(DATA!CPF2,\"\"))","v":""},{"$f":"IF(DATA!CPG2=0,\"\",IFERROR(DATA!CPG2,\"\"))","v":""},{"$f":"IF(DATA!CPH2=0,\"\",IFERROR(DATA!CPH2,\"\"))","v":""},{"$f":"IF(DATA!CPI2=0,\"\",IFERROR(DATA!CPI2,\"\"))","v":""},{"$f":"IF(DATA!CPJ2=0,\"\",IFERROR(DATA!CPJ2,\"\"))","v":""},{"$f":"IF(DATA!CPK2=0,\"\",IFERROR(DATA!CPK2,\"\"))","v":""},{"$f":"IF(DATA!CPL2=0,\"\",IFERROR(DATA!CPL2,\"\"))","v":""},{"$f":"IF(DATA!CPM2=0,\"\",IFERROR(DATA!CPM2,\"\"))","v":""},{"$f":"IF(DATA!CPN2=0,\"\",IFERROR(DATA!CPN2,\"\"))","v":""},{"$f":"IF(DATA!CPO2=0,\"\",IFERROR(DATA!CPO2,\"\"))","v":""},{"$f":"IF(DATA!CPP2=0,\"\",IFERROR(DATA!CPP2,\"\"))","v":""},{"$f":"IF(DATA!CPQ2=0,\"\",IFERROR(DATA!CPQ2,\"\"))","v":""},{"$f":"IF(DATA!CPR2=0,\"\",IFERROR(DATA!CPR2,\"\"))","v":""},{"$f":"IF(DATA!CPS2=0,\"\",IFERROR(DATA!CPS2,\"\"))","v":""},{"$f":"IF(DATA!CPT2=0,\"\",IFERROR(DATA!CPT2,\"\"))","v":""},{"$f":"IF(DATA!CPU2=0,\"\",IFERROR(DATA!CPU2,\"\"))","v":""},{"$f":"IF(DATA!CPV2=0,\"\",IFERROR(DATA!CPV2,\"\"))","v":""},{"$f":"IF(DATA!CPW2=0,\"\",IFERROR(DATA!CPW2,\"\"))","v":""},{"$f":"IF(DATA!CPX2=0,\"\",IFERROR(DATA!CPX2,\"\"))","v":""},{"$f":"IF(DATA!CPY2=0,\"\",IFERROR(DATA!CPY2,\"\"))","v":""},{"$f":"IF(DATA!CPZ2=0,\"\",IFERROR(DATA!CPZ2,\"\"))","v":""},{"$f":"IF(DATA!CQA2=0,\"\",IFERROR(DATA!CQA2,\"\"))","v":""},{"$f":"IF(DATA!CQB2=0,\"\",IFERROR(DATA!CQB2,\"\"))","v":""},{"$f":"IF(DATA!CQC2=0,\"\",IFERROR(DATA!CQC2,\"\"))","v":""},{"$f":"IF(DATA!CQD2=0,\"\",IFERROR(DATA!CQD2,\"\"))","v":""},{"$f":"IF(DATA!CQE2=0,\"\",IFERROR(DATA!CQE2,\"\"))","v":""},{"$f":"IF(DATA!CQF2=0,\"\",IFERROR(DATA!CQF2,\"\"))","v":""},{"$f":"IF(DATA!CQG2=0,\"\",IFERROR(DATA!CQG2,\"\"))","v":""},{"$f":"IF(DATA!CQH2=0,\"\",IFERROR(DATA!CQH2,\"\"))","v":""},{"$f":"IF(DATA!CQI2=0,\"\",IFERROR(DATA!CQI2,\"\"))","v":""},{"$f":"IF(DATA!CQJ2=0,\"\",IFERROR(DATA!CQJ2,\"\"))","v":""},{"$f":"IF(DATA!CQK2=0,\"\",IFERROR(DATA!CQK2,\"\"))","v":""},{"$f":"IF(DATA!CQL2=0,\"\",IFERROR(DATA!CQL2,\"\"))","v":""},{"$f":"IF(DATA!CQM2=0,\"\",IFERROR(DATA!CQM2,\"\"))","v":""},{"$f":"IF(DATA!CQN2=0,\"\",IFERROR(DATA!CQN2,\"\"))","v":""},{"$f":"IF(DATA!CQO2=0,\"\",IFERROR(DATA!CQO2,\"\"))","v":""},{"$f":"IF(DATA!CQP2=0,\"\",IFERROR(DATA!CQP2,\"\"))","v":""},{"$f":"IF(DATA!CQQ2=0,\"\",IFERROR(DATA!CQQ2,\"\"))","v":""},{"$f":"IF(DATA!CQR2=0,\"\",IFERROR(DATA!CQR2,\"\"))","v":""},{"$f":"IF(DATA!CQS2=0,\"\",IFERROR(DATA!CQS2,\"\"))","v":""},{"$f":"IF(DATA!CQT2=0,\"\",IFERROR(DATA!CQT2,\"\"))","v":""},{"$f":"IF(DATA!CQU2=0,\"\",IFERROR(DATA!CQU2,\"\"))","v":""},{"$f":"IF(DATA!CQV2=0,\"\",IFERROR(DATA!CQV2,\"\"))","v":""},{"$f":"IF(DATA!CQW2=0,\"\",IFERROR(DATA!CQW2,\"\"))","v":""},{"$f":"IF(DATA!CQX2=0,\"\",IFERROR(DATA!CQX2,\"\"))","v":""},{"$f":"IF(DATA!CQY2=0,\"\",IFERROR(DATA!CQY2,\"\"))","v":""},{"$f":"IF(DATA!CQZ2=0,\"\",IFERROR(DATA!CQZ2,\"\"))","v":""},{"$f":"IF(DATA!CRA2=0,\"\",IFERROR(DATA!CRA2,\"\"))","v":""},{"$f":"IF(DATA!CRB2=0,\"\",IFERROR(DATA!CRB2,\"\"))","v":""},{"$f":"IF(DATA!CRC2=0,\"\",IFERROR(DATA!CRC2,\"\"))","v":""},{"$f":"IF(DATA!CRD2=0,\"\",IFERROR(DATA!CRD2,\"\"))","v":""},{"$f":"IF(DATA!CRE2=0,\"\",IFERROR(DATA!CRE2,\"\"))","v":""},{"$f":"IF(DATA!CRF2=0,\"\",IFERROR(DATA!CRF2,\"\"))","v":""},{"$f":"IF(DATA!CRG2=0,\"\",IFERROR(DATA!CRG2,\"\"))","v":""},{"$f":"IF(DATA!CRH2=0,\"\",IFERROR(DATA!CRH2,\"\"))","v":""},{"$f":"IF(DATA!CRI2=0,\"\",IFERROR(DATA!CRI2,\"\"))","v":""},{"$f":"IF(DATA!CRJ2=0,\"\",IFERROR(DATA!CRJ2,\"\"))","v":""},{"$f":"IF(DATA!CRK2=0,\"\",IFERROR(DATA!CRK2,\"\"))","v":""},{"$f":"IF(DATA!CRL2=0,\"\",IFERROR(DATA!CRL2,\"\"))","v":""},{"$f":"IF(DATA!CRM2=0,\"\",IFERROR(DATA!CRM2,\"\"))","v":""},{"$f":"IF(DATA!CRN2=0,\"\",IFERROR(DATA!CRN2,\"\"))","v":""},{"$f":"IF(DATA!CRO2=0,\"\",IFERROR(DATA!CRO2,\"\"))","v":""},{"$f":"IF(DATA!CRP2=0,\"\",IFERROR(DATA!CRP2,\"\"))","v":""},{"$f":"IF(DATA!CRQ2=0,\"\",IFERROR(DATA!CRQ2,\"\"))","v":""},{"$f":"IF(DATA!CRR2=0,\"\",IFERROR(DATA!CRR2,\"\"))","v":""},{"$f":"IF(DATA!CRS2=0,\"\",IFERROR(DATA!CRS2,\"\"))","v":""},{"$f":"IF(DATA!CRT2=0,\"\",IFERROR(DATA!CRT2,\"\"))","v":""},{"$f":"IF(DATA!CRU2=0,\"\",IFERROR(DATA!CRU2,\"\"))","v":""},{"$f":"IF(DATA!CRV2=0,\"\",IFERROR(DATA!CRV2,\"\"))","v":""},{"$f":"IF(DATA!CRW2=0,\"\",IFERROR(DATA!CRW2,\"\"))","v":""},{"$f":"IF(DATA!CRX2=0,\"\",IFERROR(DATA!CRX2,\"\"))","v":""},{"$f":"IF(DATA!CRY2=0,\"\",IFERROR(DATA!CRY2,\"\"))","v":""},{"$f":"IF(DATA!CRZ2=0,\"\",IFERROR(DATA!CRZ2,\"\"))","v":""},{"$f":"IF(DATA!CSA2=0,\"\",IFERROR(DATA!CSA2,\"\"))","v":""},{"$f":"IF(DATA!CSB2=0,\"\",IFERROR(DATA!CSB2,\"\"))","v":""},{"$f":"IF(DATA!CSC2=0,\"\",IFERROR(DATA!CSC2,\"\"))","v":""},{"$f":"IF(DATA!CSD2=0,\"\",IFERROR(DATA!CSD2,\"\"))","v":""},{"$f":"IF(DATA!CSE2=0,\"\",IFERROR(DATA!CSE2,\"\"))","v":""},{"$f":"IF(DATA!CSF2=0,\"\",IFERROR(DATA!CSF2,\"\"))","v":""},{"$f":"IF(DATA!CSG2=0,\"\",IFERROR(DATA!CSG2,\"\"))","v":""},{"$f":"IF(DATA!CSH2=0,\"\",IFERROR(DATA!CSH2,\"\"))","v":""},{"$f":"IF(DATA!CSI2=0,\"\",IFERROR(DATA!CSI2,\"\"))","v":""},{"$f":"IF(DATA!CSJ2=0,\"\",IFERROR(DATA!CSJ2,\"\"))","v":""},{"$f":"IF(DATA!CSK2=0,\"\",IFERROR(DATA!CSK2,\"\"))","v":""},{"$f":"IF(DATA!CSL2=0,\"\",IFERROR(DATA!CSL2,\"\"))","v":""},{"$f":"IF(DATA!CSM2=0,\"\",IFERROR(DATA!CSM2,\"\"))","v":""},{"$f":"IF(DATA!CSN2=0,\"\",IFERROR(DATA!CSN2,\"\"))","v":""},{"$f":"IF(DATA!CSO2=0,\"\",IFERROR(DATA!CSO2,\"\"))","v":""},{"$f":"IF(DATA!CSP2=0,\"\",IFERROR(DATA!CSP2,\"\"))","v":""},{"$f":"IF(DATA!CSQ2=0,\"\",IFERROR(DATA!CSQ2,\"\"))","v":""},{"$f":"IF(DATA!CSR2=0,\"\",IFERROR(DATA!CSR2,\"\"))","v":""},{"$f":"IF(DATA!CSS2=0,\"\",IFERROR(DATA!CSS2,\"\"))","v":""},{"$f":"IF(DATA!CST2=0,\"\",IFERROR(DATA!CST2,\"\"))","v":""},{"$f":"IF(DATA!CSU2=0,\"\",IFERROR(DATA!CSU2,\"\"))","v":""},{"$f":"IF(DATA!CSV2=0,\"\",IFERROR(DATA!CSV2,\"\"))","v":""},{"$f":"IF(DATA!CSW2=0,\"\",IFERROR(DATA!CSW2,\"\"))","v":""},{"$f":"IF(DATA!CSX2=0,\"\",IFERROR(DATA!CSX2,\"\"))","v":""},{"$f":"IF(DATA!CSY2=0,\"\",IFERROR(DATA!CSY2,\"\"))","v":""},{"$f":"IF(DATA!CSZ2=0,\"\",IFERROR(DATA!CSZ2,\"\"))","v":""},{"$f":"IF(DATA!CTA2=0,\"\",IFERROR(DATA!CTA2,\"\"))","v":""},{"$f":"IF(DATA!CTB2=0,\"\",IFERROR(DATA!CTB2,\"\"))","v":""},{"$f":"IF(DATA!CTC2=0,\"\",IFERROR(DATA!CTC2,\"\"))","v":""},{"$f":"IF(DATA!CTD2=0,\"\",IFERROR(DATA!CTD2,\"\"))","v":""},{"$f":"IF(DATA!CTE2=0,\"\",IFERROR(DATA!CTE2,\"\"))","v":""},{"$f":"IF(DATA!CTF2=0,\"\",IFERROR(DATA!CTF2,\"\"))","v":""},{"$f":"IF(DATA!CTG2=0,\"\",IFERROR(DATA!CTG2,\"\"))","v":""},{"$f":"IF(DATA!CTH2=0,\"\",IFERROR(DATA!CTH2,\"\"))","v":""},{"$f":"IF(DATA!CTI2=0,\"\",IFERROR(DATA!CTI2,\"\"))","v":""},{"$f":"IF(DATA!CTJ2=0,\"\",IFERROR(DATA!CTJ2,\"\"))","v":""},{"$f":"IF(DATA!CTK2=0,\"\",IFERROR(DATA!CTK2,\"\"))","v":""},{"$f":"IF(DATA!CTL2=0,\"\",IFERROR(DATA!CTL2,\"\"))","v":""},{"$f":"IF(DATA!CTM2=0,\"\",IFERROR(DATA!CTM2,\"\"))","v":""},{"$f":"IF(DATA!CTN2=0,\"\",IFERROR(DATA!CTN2,\"\"))","v":""},{"$f":"IF(DATA!CTO2=0,\"\",IFERROR(DATA!CTO2,\"\"))","v":""},{"$f":"IF(DATA!CTP2=0,\"\",IFERROR(DATA!CTP2,\"\"))","v":""},{"$f":"IF(DATA!CTQ2=0,\"\",IFERROR(DATA!CTQ2,\"\"))","v":""},{"$f":"IF(DATA!CTR2=0,\"\",IFERROR(DATA!CTR2,\"\"))","v":""},{"$f":"IF(DATA!CTS2=0,\"\",IFERROR(DATA!CTS2,\"\"))","v":""},{"$f":"IF(DATA!CTT2=0,\"\",IFERROR(DATA!CTT2,\"\"))","v":""},{"$f":"IF(DATA!CTU2=0,\"\",IFERROR(DATA!CTU2,\"\"))","v":""},{"$f":"IF(DATA!CTV2=0,\"\",IFERROR(DATA!CTV2,\"\"))","v":""},{"$f":"IF(DATA!CTW2=0,\"\",IFERROR(DATA!CTW2,\"\"))","v":""},{"$f":"IF(DATA!CTX2=0,\"\",IFERROR(DATA!CTX2,\"\"))","v":""},{"$f":"IF(DATA!CTY2=0,\"\",IFERROR(DATA!CTY2,\"\"))","v":""},{"$f":"IF(DATA!CTZ2=0,\"\",IFERROR(DATA!CTZ2,\"\"))","v":""},{"$f":"IF(DATA!CUA2=0,\"\",IFERROR(DATA!CUA2,\"\"))","v":""},{"$f":"IF(DATA!CUB2=0,\"\",IFERROR(DATA!CUB2,\"\"))","v":""},{"$f":"IF(DATA!CUC2=0,\"\",IFERROR(DATA!CUC2,\"\"))","v":""},{"$f":"IF(DATA!CUD2=0,\"\",IFERROR(DATA!CUD2,\"\"))","v":""},{"$f":"IF(DATA!CUE2=0,\"\",IFERROR(DATA!CUE2,\"\"))","v":""},{"$f":"IF(DATA!CUF2=0,\"\",IFERROR(DATA!CUF2,\"\"))","v":""},{"$f":"IF(DATA!CUG2=0,\"\",IFERROR(DATA!CUG2,\"\"))","v":""},{"$f":"IF(DATA!CUH2=0,\"\",IFERROR(DATA!CUH2,\"\"))","v":""},{"$f":"IF(DATA!CUI2=0,\"\",IFERROR(DATA!CUI2,\"\"))","v":""},{"$f":"IF(DATA!CUJ2=0,\"\",IFERROR(DATA!CUJ2,\"\"))","v":""},{"$f":"IF(DATA!CUK2=0,\"\",IFERROR(DATA!CUK2,\"\"))","v":""},{"$f":"IF(DATA!CUL2=0,\"\",IFERROR(DATA!CUL2,\"\"))","v":""},{"$f":"IF(DATA!CUM2=0,\"\",IFERROR(DATA!CUM2,\"\"))","v":""},{"$f":"IF(DATA!CUN2=0,\"\",IFERROR(DATA!CUN2,\"\"))","v":""},{"$f":"IF(DATA!CUO2=0,\"\",IFERROR(DATA!CUO2,\"\"))","v":""},{"$f":"IF(DATA!CUP2=0,\"\",IFERROR(DATA!CUP2,\"\"))","v":""},{"$f":"IF(DATA!CUQ2=0,\"\",IFERROR(DATA!CUQ2,\"\"))","v":""},{"$f":"IF(DATA!CUR2=0,\"\",IFERROR(DATA!CUR2,\"\"))","v":""},{"$f":"IF(DATA!CUS2=0,\"\",IFERROR(DATA!CUS2,\"\"))","v":""},{"$f":"IF(DATA!CUT2=0,\"\",IFERROR(DATA!CUT2,\"\"))","v":""},{"$f":"IF(DATA!CUU2=0,\"\",IFERROR(DATA!CUU2,\"\"))","v":""},{"$f":"IF(DATA!CUV2=0,\"\",IFERROR(DATA!CUV2,\"\"))","v":""},{"$f":"IF(DATA!CUW2=0,\"\",IFERROR(DATA!CUW2,\"\"))","v":""},{"$f":"IF(DATA!CUX2=0,\"\",IFERROR(DATA!CUX2,\"\"))","v":""},{"$f":"IF(DATA!CUY2=0,\"\",IFERROR(DATA!CUY2,\"\"))","v":""},{"$f":"IF(DATA!CUZ2=0,\"\",IFERROR(DATA!CUZ2,\"\"))","v":""},{"$f":"IF(DATA!CVA2=0,\"\",IFERROR(DATA!CVA2,\"\"))","v":""},{"$f":"IF(DATA!CVB2=0,\"\",IFERROR(DATA!CVB2,\"\"))","v":""},{"$f":"IF(DATA!CVC2=0,\"\",IFERROR(DATA!CVC2,\"\"))","v":""},{"$f":"IF(DATA!CVD2=0,\"\",IFERROR(DATA!CVD2,\"\"))","v":""},{"$f":"IF(DATA!CVE2=0,\"\",IFERROR(DATA!CVE2,\"\"))","v":""},{"$f":"IF(DATA!CVF2=0,\"\",IFERROR(DATA!CVF2,\"\"))","v":""},{"$f":"IF(DATA!CVG2=0,\"\",IFERROR(DATA!CVG2,\"\"))","v":""},{"$f":"IF(DATA!CVH2=0,\"\",IFERROR(DATA!CVH2,\"\"))","v":""},{"$f":"IF(DATA!CVI2=0,\"\",IFERROR(DATA!CVI2,\"\"))","v":""},{"$f":"IF(DATA!CVJ2=0,\"\",IFERROR(DATA!CVJ2,\"\"))","v":""},{"$f":"IF(DATA!CVK2=0,\"\",IFERROR(DATA!CVK2,\"\"))","v":""},{"$f":"IF(DATA!CVL2=0,\"\",IFERROR(DATA!CVL2,\"\"))","v":""},{"$f":"IF(DATA!CVM2=0,\"\",IFERROR(DATA!CVM2,\"\"))","v":""},{"$f":"IF(DATA!CVN2=0,\"\",IFERROR(DATA!CVN2,\"\"))","v":""},{"$f":"IF(DATA!CVO2=0,\"\",IFERROR(DATA!CVO2,\"\"))","v":""},{"$f":"IF(DATA!CVP2=0,\"\",IFERROR(DATA!CVP2,\"\"))","v":""},{"$f":"IF(DATA!CVQ2=0,\"\",IFERROR(DATA!CVQ2,\"\"))","v":""},{"$f":"IF(DATA!CVR2=0,\"\",IFERROR(DATA!CVR2,\"\"))","v":""},{"$f":"IF(DATA!CVS2=0,\"\",IFERROR(DATA!CVS2,\"\"))","v":""},{"$f":"IF(DATA!CVT2=0,\"\",IFERROR(DATA!CVT2,\"\"))","v":""},{"$f":"IF(DATA!CVU2=0,\"\",IFERROR(DATA!CVU2,\"\"))","v":""},{"$f":"IF(DATA!CVV2=0,\"\",IFERROR(DATA!CVV2,\"\"))","v":""},{"$f":"IF(DATA!CVW2=0,\"\",IFERROR(DATA!CVW2,\"\"))","v":""},{"$f":"IF(DATA!CVX2=0,\"\",IFERROR(DATA!CVX2,\"\"))","v":""},{"$f":"IF(DATA!CVY2=0,\"\",IFERROR(DATA!CVY2,\"\"))","v":""},{"$f":"IF(DATA!CVZ2=0,\"\",IFERROR(DATA!CVZ2,\"\"))","v":""},{"$f":"IF(DATA!CWA2=0,\"\",IFERROR(DATA!CWA2,\"\"))","v":""},{"$f":"IF(DATA!CWB2=0,\"\",IFERROR(DATA!CWB2,\"\"))","v":""},{"$f":"IF(DATA!CWC2=0,\"\",IFERROR(DATA!CWC2,\"\"))","v":""},{"$f":"IF(DATA!CWD2=0,\"\",IFERROR(DATA!CWD2,\"\"))","v":""},{"$f":"IF(DATA!CWE2=0,\"\",IFERROR(DATA!CWE2,\"\"))","v":""},{"$f":"IF(DATA!CWF2=0,\"\",IFERROR(DATA!CWF2,\"\"))","v":""},{"$f":"IF(DATA!CWG2=0,\"\",IFERROR(DATA!CWG2,\"\"))","v":""},{"$f":"IF(DATA!CWH2=0,\"\",IFERROR(DATA!CWH2,\"\"))","v":""},{"$f":"IF(DATA!CWI2=0,\"\",IFERROR(DATA!CWI2,\"\"))","v":""},{"$f":"IF(DATA!CWJ2=0,\"\",IFERROR(DATA!CWJ2,\"\"))","v":""},{"$f":"IF(DATA!CWK2=0,\"\",IFERROR(DATA!CWK2,\"\"))","v":""},{"$f":"IF(DATA!CWL2=0,\"\",IFERROR(DATA!CWL2,\"\"))","v":""},{"$f":"IF(DATA!CWM2=0,\"\",IFERROR(DATA!CWM2,\"\"))","v":""},{"$f":"IF(DATA!CWN2=0,\"\",IFERROR(DATA!CWN2,\"\"))","v":""},{"$f":"IF(DATA!CWO2=0,\"\",IFERROR(DATA!CWO2,\"\"))","v":""},{"$f":"IF(DATA!CWP2=0,\"\",IFERROR(DATA!CWP2,\"\"))","v":""},{"$f":"IF(DATA!CWQ2=0,\"\",IFERROR(DATA!CWQ2,\"\"))","v":""},{"$f":"IF(DATA!CWR2=0,\"\",IFERROR(DATA!CWR2,\"\"))","v":""},{"$f":"IF(DATA!CWS2=0,\"\",IFERROR(DATA!CWS2,\"\"))","v":""},{"$f":"IF(DATA!CWT2=0,\"\",IFERROR(DATA!CWT2,\"\"))","v":""},{"$f":"IF(DATA!CWU2=0,\"\",IFERROR(DATA!CWU2,\"\"))","v":""},{"$f":"IF(DATA!CWV2=0,\"\",IFERROR(DATA!CWV2,\"\"))","v":""},{"$f":"IF(DATA!CWW2=0,\"\",IFERROR(DATA!CWW2,\"\"))","v":""},{"$f":"IF(DATA!CWX2=0,\"\",IFERROR(DATA!CWX2,\"\"))","v":""},{"$f":"IF(DATA!CWY2=0,\"\",IFERROR(DATA!CWY2,\"\"))","v":""},{"$f":"IF(DATA!CWZ2=0,\"\",IFERROR(DATA!CWZ2,\"\"))","v":""},{"$f":"IF(DATA!CXA2=0,\"\",IFERROR(DATA!CXA2,\"\"))","v":""},{"$f":"IF(DATA!CXB2=0,\"\",IFERROR(DATA!CXB2,\"\"))","v":""},{"$f":"IF(DATA!CXC2=0,\"\",IFERROR(DATA!CXC2,\"\"))","v":""},{"$f":"IF(DATA!CXD2=0,\"\",IFERROR(DATA!CXD2,\"\"))","v":""},{"$f":"IF(DATA!CXE2=0,\"\",IFERROR(DATA!CXE2,\"\"))","v":""},{"$f":"IF(DATA!CXF2=0,\"\",IFERROR(DATA!CXF2,\"\"))","v":""},{"$f":"IF(DATA!CXG2=0,\"\",IFERROR(DATA!CXG2,\"\"))","v":""},{"$f":"IF(DATA!CXH2=0,\"\",IFERROR(DATA!CXH2,\"\"))","v":""},{"$f":"IF(DATA!CXI2=0,\"\",IFERROR(DATA!CXI2,\"\"))","v":""},{"$f":"IF(DATA!CXJ2=0,\"\",IFERROR(DATA!CXJ2,\"\"))","v":""},{"$f":"IF(DATA!CXK2=0,\"\",IFERROR(DATA!CXK2,\"\"))","v":""},{"$f":"IF(DATA!CXL2=0,\"\",IFERROR(DATA!CXL2,\"\"))","v":""},{"$f":"IF(DATA!CXM2=0,\"\",IFERROR(DATA!CXM2,\"\"))","v":""},{"$f":"IF(DATA!CXN2=0,\"\",IFERROR(DATA!CXN2,\"\"))","v":""},{"$f":"IF(DATA!CXO2=0,\"\",IFERROR(DATA!CXO2,\"\"))","v":""},{"$f":"IF(DATA!CXP2=0,\"\",IFERROR(DATA!CXP2,\"\"))","v":""},{"$f":"IF(DATA!CXQ2=0,\"\",IFERROR(DATA!CXQ2,\"\"))","v":""},{"$f":"IF(DATA!CXR2=0,\"\",IFERROR(DATA!CXR2,\"\"))","v":""},{"$f":"IF(DATA!CXS2=0,\"\",IFERROR(DATA!CXS2,\"\"))","v":""},{"$f":"IF(DATA!CXT2=0,\"\",IFERROR(DATA!CXT2,\"\"))","v":""},{"$f":"IF(DATA!CXU2=0,\"\",IFERROR(DATA!CXU2,\"\"))","v":""},{"$f":"IF(DATA!CXV2=0,\"\",IFERROR(DATA!CXV2,\"\"))","v":""},{"$f":"IF(DATA!CXW2=0,\"\",IFERROR(DATA!CXW2,\"\"))","v":""},{"$f":"IF(DATA!CXX2=0,\"\",IFERROR(DATA!CXX2,\"\"))","v":""},{"$f":"IF(DATA!CXY2=0,\"\",IFERROR(DATA!CXY2,\"\"))","v":""},{"$f":"IF(DATA!CXZ2=0,\"\",IFERROR(DATA!CXZ2,\"\"))","v":""},{"$f":"IF(DATA!CYA2=0,\"\",IFERROR(DATA!CYA2,\"\"))","v":""},{"$f":"IF(DATA!CYB2=0,\"\",IFERROR(DATA!CYB2,\"\"))","v":""},{"$f":"IF(DATA!CYC2=0,\"\",IFERROR(DATA!CYC2,\"\"))","v":""},{"$f":"IF(DATA!CYD2=0,\"\",IFERROR(DATA!CYD2,\"\"))","v":""},{"$f":"IF(DATA!CYE2=0,\"\",IFERROR(DATA!CYE2,\"\"))","v":""},{"$f":"IF(DATA!CYF2=0,\"\",IFERROR(DATA!CYF2,\"\"))","v":""},{"$f":"IF(DATA!CYG2=0,\"\",IFERROR(DATA!CYG2,\"\"))","v":""},{"$f":"IF(DATA!CYH2=0,\"\",IFERROR(DATA!CYH2,\"\"))","v":""},{"$f":"IF(DATA!CYI2=0,\"\",IFERROR(DATA!CYI2,\"\"))","v":""},{"$f":"IF(DATA!CYJ2=0,\"\",IFERROR(DATA!CYJ2,\"\"))","v":""},{"$f":"IF(DATA!CYK2=0,\"\",IFERROR(DATA!CYK2,\"\"))","v":""},{"$f":"IF(DATA!CYL2=0,\"\",IFERROR(DATA!CYL2,\"\"))","v":""},{"$f":"IF(DATA!CYM2=0,\"\",IFERROR(DATA!CYM2,\"\"))","v":""},{"$f":"IF(DATA!CYN2=0,\"\",IFERROR(DATA!CYN2,\"\"))","v":""},{"$f":"IF(DATA!CYO2=0,\"\",IFERROR(DATA!CYO2,\"\"))","v":""},{"$f":"IF(DATA!CYP2=0,\"\",IFERROR(DATA!CYP2,\"\"))","v":""},{"$f":"IF(DATA!CYQ2=0,\"\",IFERROR(DATA!CYQ2,\"\"))","v":""},{"$f":"IF(DATA!CYR2=0,\"\",IFERROR(DATA!CYR2,\"\"))","v":""},{"$f":"IF(DATA!CYS2=0,\"\",IFERROR(DATA!CYS2,\"\"))","v":""},{"$f":"IF(DATA!CYT2=0,\"\",IFERROR(DATA!CYT2,\"\"))","v":""},{"$f":"IF(DATA!CYU2=0,\"\",IFERROR(DATA!CYU2,\"\"))","v":""},{"$f":"IF(DATA!CYV2=0,\"\",IFERROR(DATA!CYV2,\"\"))","v":""},{"$f":"IF(DATA!CYW2=0,\"\",IFERROR(DATA!CYW2,\"\"))","v":""},{"$f":"IF(DATA!CYX2=0,\"\",IFERROR(DATA!CYX2,\"\"))","v":""},{"$f":"IF(DATA!CYY2=0,\"\",IFERROR(DATA!CYY2,\"\"))","v":""},{"$f":"IF(DATA!CYZ2=0,\"\",IFERROR(DATA!CYZ2,\"\"))","v":""},{"$f":"IF(DATA!CZA2=0,\"\",IFERROR(DATA!CZA2,\"\"))","v":""},{"$f":"IF(DATA!CZB2=0,\"\",IFERROR(DATA!CZB2,\"\"))","v":""},{"$f":"IF(DATA!CZC2=0,\"\",IFERROR(DATA!CZC2,\"\"))","v":""},{"$f":"IF(DATA!CZD2=0,\"\",IFERROR(DATA!CZD2,\"\"))","v":""},{"$f":"IF(DATA!CZE2=0,\"\",IFERROR(DATA!CZE2,\"\"))","v":""},{"$f":"IF(DATA!CZF2=0,\"\",IFERROR(DATA!CZF2,\"\"))","v":""},{"$f":"IF(DATA!CZG2=0,\"\",IFERROR(DATA!CZG2,\"\"))","v":""},{"$f":"IF(DATA!CZH2=0,\"\",IFERROR(DATA!CZH2,\"\"))","v":""},{"$f":"IF(DATA!CZI2=0,\"\",IFERROR(DATA!CZI2,\"\"))","v":""},{"$f":"IF(DATA!CZJ2=0,\"\",IFERROR(DATA!CZJ2,\"\"))","v":""},{"$f":"IF(DATA!CZK2=0,\"\",IFERROR(DATA!CZK2,\"\"))","v":""},{"$f":"IF(DATA!CZL2=0,\"\",IFERROR(DATA!CZL2,\"\"))","v":""},{"$f":"IF(DATA!CZM2=0,\"\",IFERROR(DATA!CZM2,\"\"))","v":""},{"$f":"IF(DATA!CZN2=0,\"\",IFERROR(DATA!CZN2,\"\"))","v":""},{"$f":"IF(DATA!CZO2=0,\"\",IFERROR(DATA!CZO2,\"\"))","v":""},{"$f":"IF(DATA!CZP2=0,\"\",IFERROR(DATA!CZP2,\"\"))","v":""},{"$f":"IF(DATA!CZQ2=0,\"\",IFERROR(DATA!CZQ2,\"\"))","v":""},{"$f":"IF(DATA!CZR2=0,\"\",IFERROR(DATA!CZR2,\"\"))","v":""},{"$f":"IF(DATA!CZS2=0,\"\",IFERROR(DATA!CZS2,\"\"))","v":""},{"$f":"IF(DATA!CZT2=0,\"\",IFERROR(DATA!CZT2,\"\"))","v":""},{"$f":"IF(DATA!CZU2=0,\"\",IFERROR(DATA!CZU2,\"\"))","v":""},{"$f":"IF(DATA!CZV2=0,\"\",IFERROR(DATA!CZV2,\"\"))","v":""},{"$f":"IF(DATA!CZW2=0,\"\",IFERROR(DATA!CZW2,\"\"))","v":""},{"$f":"IF(DATA!CZX2=0,\"\",IFERROR(DATA!CZX2,\"\"))","v":""},{"$f":"IF(DATA!CZY2=0,\"\",IFERROR(DATA!CZY2,\"\"))","v":""},{"$f":"IF(DATA!CZZ2=0,\"\",IFERROR(DATA!CZZ2,\"\"))","v":""},{"$f":"IF(DATA!DAA2=0,\"\",IFERROR(DATA!DAA2,\"\"))","v":""},{"$f":"IF(DATA!DAB2=0,\"\",IFERROR(DATA!DAB2,\"\"))","v":""},{"$f":"IF(DATA!DAC2=0,\"\",IFERROR(DATA!DAC2,\"\"))","v":""},{"$f":"IF(DATA!DAD2=0,\"\",IFERROR(DATA!DAD2,\"\"))","v":""},{"$f":"IF(DATA!DAE2=0,\"\",IFERROR(DATA!DAE2,\"\"))","v":""},{"$f":"IF(DATA!DAF2=0,\"\",IFERROR(DATA!DAF2,\"\"))","v":""},{"$f":"IF(DATA!DAG2=0,\"\",IFERROR(DATA!DAG2,\"\"))","v":""},{"$f":"IF(DATA!DAH2=0,\"\",IFERROR(DATA!DAH2,\"\"))","v":""},{"$f":"IF(DATA!DAI2=0,\"\",IFERROR(DATA!DAI2,\"\"))","v":""},{"$f":"IF(DATA!DAJ2=0,\"\",IFERROR(DATA!DAJ2,\"\"))","v":""},{"$f":"IF(DATA!DAK2=0,\"\",IFERROR(DATA!DAK2,\"\"))","v":""},{"$f":"IF(DATA!DAL2=0,\"\",IFERROR(DATA!DAL2,\"\"))","v":""},{"$f":"IF(DATA!DAM2=0,\"\",IFERROR(DATA!DAM2,\"\"))","v":""},{"$f":"IF(DATA!DAN2=0,\"\",IFERROR(DATA!DAN2,\"\"))","v":""},{"$f":"IF(DATA!DAO2=0,\"\",IFERROR(DATA!DAO2,\"\"))","v":""},{"$f":"IF(DATA!DAP2=0,\"\",IFERROR(DATA!DAP2,\"\"))","v":""},{"$f":"IF(DATA!DAQ2=0,\"\",IFERROR(DATA!DAQ2,\"\"))","v":""},{"$f":"IF(DATA!DAR2=0,\"\",IFERROR(DATA!DAR2,\"\"))","v":""},{"$f":"IF(DATA!DAS2=0,\"\",IFERROR(DATA!DAS2,\"\"))","v":""},{"$f":"IF(DATA!DAT2=0,\"\",IFERROR(DATA!DAT2,\"\"))","v":""},{"$f":"IF(DATA!DAU2=0,\"\",IFERROR(DATA!DAU2,\"\"))","v":""},{"$f":"IF(DATA!DAV2=0,\"\",IFERROR(DATA!DAV2,\"\"))","v":""},{"$f":"IF(DATA!DAW2=0,\"\",IFERROR(DATA!DAW2,\"\"))","v":""},{"$f":"IF(DATA!DAX2=0,\"\",IFERROR(DATA!DAX2,\"\"))","v":""},{"$f":"IF(DATA!DAY2=0,\"\",IFERROR(DATA!DAY2,\"\"))","v":""},{"$f":"IF(DATA!DAZ2=0,\"\",IFERROR(DATA!DAZ2,\"\"))","v":""},{"$f":"IF(DATA!DBA2=0,\"\",IFERROR(DATA!DBA2,\"\"))","v":""},{"$f":"IF(DATA!DBB2=0,\"\",IFERROR(DATA!DBB2,\"\"))","v":""},{"$f":"IF(DATA!DBC2=0,\"\",IFERROR(DATA!DBC2,\"\"))","v":""},{"$f":"IF(DATA!DBD2=0,\"\",IFERROR(DATA!DBD2,\"\"))","v":""},{"$f":"IF(DATA!DBE2=0,\"\",IFERROR(DATA!DBE2,\"\"))","v":""},{"$f":"IF(DATA!DBF2=0,\"\",IFERROR(DATA!DBF2,\"\"))","v":""},{"$f":"IF(DATA!DBG2=0,\"\",IFERROR(DATA!DBG2,\"\"))","v":""},{"$f":"IF(DATA!DBH2=0,\"\",IFERROR(DATA!DBH2,\"\"))","v":""},{"$f":"IF(DATA!DBI2=0,\"\",IFERROR(DATA!DBI2,\"\"))","v":""},{"$f":"IF(DATA!DBJ2=0,\"\",IFERROR(DATA!DBJ2,\"\"))","v":""},{"$f":"IF(DATA!DBK2=0,\"\",IFERROR(DATA!DBK2,\"\"))","v":""},{"$f":"IF(DATA!DBL2=0,\"\",IFERROR(DATA!DBL2,\"\"))","v":""},{"$f":"IF(DATA!DBM2=0,\"\",IFERROR(DATA!DBM2,\"\"))","v":""},{"$f":"IF(DATA!DBN2=0,\"\",IFERROR(DATA!DBN2,\"\"))","v":""},{"$f":"IF(DATA!DBO2=0,\"\",IFERROR(DATA!DBO2,\"\"))","v":""},{"$f":"IF(DATA!DBP2=0,\"\",IFERROR(DATA!DBP2,\"\"))","v":""},{"$f":"IF(DATA!DBQ2=0,\"\",IFERROR(DATA!DBQ2,\"\"))","v":""},{"$f":"IF(DATA!DBR2=0,\"\",IFERROR(DATA!DBR2,\"\"))","v":""},{"$f":"IF(DATA!DBS2=0,\"\",IFERROR(DATA!DBS2,\"\"))","v":""},{"$f":"IF(DATA!DBT2=0,\"\",IFERROR(DATA!DBT2,\"\"))","v":""},{"$f":"IF(DATA!DBU2=0,\"\",IFERROR(DATA!DBU2,\"\"))","v":""},{"$f":"IF(DATA!DBV2=0,\"\",IFERROR(DATA!DBV2,\"\"))","v":""},{"$f":"IF(DATA!DBW2=0,\"\",IFERROR(DATA!DBW2,\"\"))","v":""},{"$f":"IF(DATA!DBX2=0,\"\",IFERROR(DATA!DBX2,\"\"))","v":""},{"$f":"IF(DATA!DBY2=0,\"\",IFERROR(DATA!DBY2,\"\"))","v":""},{"$f":"IF(DATA!DBZ2=0,\"\",IFERROR(DATA!DBZ2,\"\"))","v":""},{"$f":"IF(DATA!DCA2=0,\"\",IFERROR(DATA!DCA2,\"\"))","v":""},{"$f":"IF(DATA!DCB2=0,\"\",IFERROR(DATA!DCB2,\"\"))","v":""},{"$f":"IF(DATA!DCC2=0,\"\",IFERROR(DATA!DCC2,\"\"))","v":""},{"$f":"IF(DATA!DCD2=0,\"\",IFERROR(DATA!DCD2,\"\"))","v":""},{"$f":"IF(DATA!DCE2=0,\"\",IFERROR(DATA!DCE2,\"\"))","v":""},{"$f":"IF(DATA!DCF2=0,\"\",IFERROR(DATA!DCF2,\"\"))","v":""},{"$f":"IF(DATA!DCG2=0,\"\",IFERROR(DATA!DCG2,\"\"))","v":""},{"$f":"IF(DATA!DCH2=0,\"\",IFERROR(DATA!DCH2,\"\"))","v":""},{"$f":"IF(DATA!DCI2=0,\"\",IFERROR(DATA!DCI2,\"\"))","v":""},{"$f":"IF(DATA!DCJ2=0,\"\",IFERROR(DATA!DCJ2,\"\"))","v":""},{"$f":"IF(DATA!DCK2=0,\"\",IFERROR(DATA!DCK2,\"\"))","v":""},{"$f":"IF(DATA!DCL2=0,\"\",IFERROR(DATA!DCL2,\"\"))","v":""},{"$f":"IF(DATA!DCM2=0,\"\",IFERROR(DATA!DCM2,\"\"))","v":""},{"$f":"IF(DATA!DCN2=0,\"\",IFERROR(DATA!DCN2,\"\"))","v":""},{"$f":"IF(DATA!DCO2=0,\"\",IFERROR(DATA!DCO2,\"\"))","v":""},{"$f":"IF(DATA!DCP2=0,\"\",IFERROR(DATA!DCP2,\"\"))","v":""},{"$f":"IF(DATA!DCQ2=0,\"\",IFERROR(DATA!DCQ2,\"\"))","v":""},{"$f":"IF(DATA!DCR2=0,\"\",IFERROR(DATA!DCR2,\"\"))","v":""},{"$f":"IF(DATA!DCS2=0,\"\",IFERROR(DATA!DCS2,\"\"))","v":""},{"$f":"IF(DATA!DCT2=0,\"\",IFERROR(DATA!DCT2,\"\"))","v":""},{"$f":"IF(DATA!DCU2=0,\"\",IFERROR(DATA!DCU2,\"\"))","v":""},{"$f":"IF(DATA!DCV2=0,\"\",IFERROR(DATA!DCV2,\"\"))","v":""},{"$f":"IF(DATA!DCW2=0,\"\",IFERROR(DATA!DCW2,\"\"))","v":""},{"$f":"IF(DATA!DCX2=0,\"\",IFERROR(DATA!DCX2,\"\"))","v":""},{"$f":"IF(DATA!DCY2=0,\"\",IFERROR(DATA!DCY2,\"\"))","v":""},{"$f":"IF(DATA!DCZ2=0,\"\",IFERROR(DATA!DCZ2,\"\"))","v":""},{"$f":"IF(DATA!DDA2=0,\"\",IFERROR(DATA!DDA2,\"\"))","v":""},{"$f":"IF(DATA!DDB2=0,\"\",IFERROR(DATA!DDB2,\"\"))","v":""},{"$f":"IF(DATA!DDC2=0,\"\",IFERROR(DATA!DDC2,\"\"))","v":""},{"$f":"IF(DATA!DDD2=0,\"\",IFERROR(DATA!DDD2,\"\"))","v":""},{"$f":"IF(DATA!DDE2=0,\"\",IFERROR(DATA!DDE2,\"\"))","v":""},{"$f":"IF(DATA!DDF2=0,\"\",IFERROR(DATA!DDF2,\"\"))","v":""},{"$f":"IF(DATA!DDG2=0,\"\",IFERROR(DATA!DDG2,\"\"))","v":""},{"$f":"IF(DATA!DDH2=0,\"\",IFERROR(DATA!DDH2,\"\"))","v":""},{"$f":"IF(DATA!DDI2=0,\"\",IFERROR(DATA!DDI2,\"\"))","v":""},{"$f":"IF(DATA!DDJ2=0,\"\",IFERROR(DATA!DDJ2,\"\"))","v":""},{"$f":"IF(DATA!DDK2=0,\"\",IFERROR(DATA!DDK2,\"\"))","v":""},{"$f":"IF(DATA!DDL2=0,\"\",IFERROR(DATA!DDL2,\"\"))","v":""},{"$f":"IF(DATA!DDM2=0,\"\",IFERROR(DATA!DDM2,\"\"))","v":""},{"$f":"IF(DATA!DDN2=0,\"\",IFERROR(DATA!DDN2,\"\"))","v":""},{"$f":"IF(DATA!DDO2=0,\"\",IFERROR(DATA!DDO2,\"\"))","v":""},{"$f":"IF(DATA!DDP2=0,\"\",IFERROR(DATA!DDP2,\"\"))","v":""},{"$f":"IF(DATA!DDQ2=0,\"\",IFERROR(DATA!DDQ2,\"\"))","v":""},{"$f":"IF(DATA!DDR2=0,\"\",IFERROR(DATA!DDR2,\"\"))","v":""},{"$f":"IF(DATA!DDS2=0,\"\",IFERROR(DATA!DDS2,\"\"))","v":""},{"$f":"IF(DATA!DDT2=0,\"\",IFERROR(DATA!DDT2,\"\"))","v":""},{"$f":"IF(DATA!DDU2=0,\"\",IFERROR(DATA!DDU2,\"\"))","v":""},{"$f":"IF(DATA!DDV2=0,\"\",IFERROR(DATA!DDV2,\"\"))","v":""},{"$f":"IF(DATA!DDW2=0,\"\",IFERROR(DATA!DDW2,\"\"))","v":""},{"$f":"IF(DATA!DDX2=0,\"\",IFERROR(DATA!DDX2,\"\"))","v":""},{"$f":"IF(DATA!DDY2=0,\"\",IFERROR(DATA!DDY2,\"\"))","v":""},{"$f":"IF(DATA!DDZ2=0,\"\",IFERROR(DATA!DDZ2,\"\"))","v":""},{"$f":"IF(DATA!DEA2=0,\"\",IFERROR(DATA!DEA2,\"\"))","v":""},{"$f":"IF(DATA!DEB2=0,\"\",IFERROR(DATA!DEB2,\"\"))","v":""},{"$f":"IF(DATA!DEC2=0,\"\",IFERROR(DATA!DEC2,\"\"))","v":""},{"$f":"IF(DATA!DED2=0,\"\",IFERROR(DATA!DED2,\"\"))","v":""},{"$f":"IF(DATA!DEE2=0,\"\",IFERROR(DATA!DEE2,\"\"))","v":""},{"$f":"IF(DATA!DEF2=0,\"\",IFERROR(DATA!DEF2,\"\"))","v":""},{"$f":"IF(DATA!DEG2=0,\"\",IFERROR(DATA!DEG2,\"\"))","v":""},{"$f":"IF(DATA!DEH2=0,\"\",IFERROR(DATA!DEH2,\"\"))","v":""},{"$f":"IF(DATA!DEI2=0,\"\",IFERROR(DATA!DEI2,\"\"))","v":""},{"$f":"IF(DATA!DEJ2=0,\"\",IFERROR(DATA!DEJ2,\"\"))","v":""},{"$f":"IF(DATA!DEK2=0,\"\",IFERROR(DATA!DEK2,\"\"))","v":""},{"$f":"IF(DATA!DEL2=0,\"\",IFERROR(DATA!DEL2,\"\"))","v":""},{"$f":"IF(DATA!DEM2=0,\"\",IFERROR(DATA!DEM2,\"\"))","v":""},{"$f":"IF(DATA!DEN2=0,\"\",IFERROR(DATA!DEN2,\"\"))","v":""},{"$f":"IF(DATA!DEO2=0,\"\",IFERROR(DATA!DEO2,\"\"))","v":""},{"$f":"IF(DATA!DEP2=0,\"\",IFERROR(DATA!DEP2,\"\"))","v":""},{"$f":"IF(DATA!DEQ2=0,\"\",IFERROR(DATA!DEQ2,\"\"))","v":""},{"$f":"IF(DATA!DER2=0,\"\",IFERROR(DATA!DER2,\"\"))","v":""},{"$f":"IF(DATA!DES2=0,\"\",IFERROR(DATA!DES2,\"\"))","v":""},{"$f":"IF(DATA!DET2=0,\"\",IFERROR(DATA!DET2,\"\"))","v":""},{"$f":"IF(DATA!DEU2=0,\"\",IFERROR(DATA!DEU2,\"\"))","v":""},{"$f":"IF(DATA!DEV2=0,\"\",IFERROR(DATA!DEV2,\"\"))","v":""},{"$f":"IF(DATA!DEW2=0,\"\",IFERROR(DATA!DEW2,\"\"))","v":""},{"$f":"IF(DATA!DEX2=0,\"\",IFERROR(DATA!DEX2,\"\"))","v":""},{"$f":"IF(DATA!DEY2=0,\"\",IFERROR(DATA!DEY2,\"\"))","v":""},{"$f":"IF(DATA!DEZ2=0,\"\",IFERROR(DATA!DEZ2,\"\"))","v":""},{"$f":"IF(DATA!DFA2=0,\"\",IFERROR(DATA!DFA2,\"\"))","v":""},{"$f":"IF(DATA!DFB2=0,\"\",IFERROR(DATA!DFB2,\"\"))","v":""},{"$f":"IF(DATA!DFC2=0,\"\",IFERROR(DATA!DFC2,\"\"))","v":""},{"$f":"IF(DATA!DFD2=0,\"\",IFERROR(DATA!DFD2,\"\"))","v":""},{"$f":"IF(DATA!DFE2=0,\"\",IFERROR(DATA!DFE2,\"\"))","v":""},{"$f":"IF(DATA!DFF2=0,\"\",IFERROR(DATA!DFF2,\"\"))","v":""},{"$f":"IF(DATA!DFG2=0,\"\",IFERROR(DATA!DFG2,\"\"))","v":""},{"$f":"IF(DATA!DFH2=0,\"\",IFERROR(DATA!DFH2,\"\"))","v":""},{"$f":"IF(DATA!DFI2=0,\"\",IFERROR(DATA!DFI2,\"\"))","v":""},{"$f":"IF(DATA!DFJ2=0,\"\",IFERROR(DATA!DFJ2,\"\"))","v":""},{"$f":"IF(DATA!DFK2=0,\"\",IFERROR(DATA!DFK2,\"\"))","v":""},{"$f":"IF(DATA!DFL2=0,\"\",IFERROR(DATA!DFL2,\"\"))","v":""},{"$f":"IF(DATA!DFM2=0,\"\",IFERROR(DATA!DFM2,\"\"))","v":""},{"$f":"IF(DATA!DFN2=0,\"\",IFERROR(DATA!DFN2,\"\"))","v":""},{"$f":"IF(DATA!DFO2=0,\"\",IFERROR(DATA!DFO2,\"\"))","v":""},{"$f":"IF(DATA!DFP2=0,\"\",IFERROR(DATA!DFP2,\"\"))","v":""},{"$f":"IF(DATA!DFQ2=0,\"\",IFERROR(DATA!DFQ2,\"\"))","v":""},{"$f":"IF(DATA!DFR2=0,\"\",IFERROR(DATA!DFR2,\"\"))","v":""},{"$f":"IF(DATA!DFS2=0,\"\",IFERROR(DATA!DFS2,\"\"))","v":""},{"$f":"IF(DATA!DFT2=0,\"\",IFERROR(DATA!DFT2,\"\"))","v":""},{"$f":"IF(DATA!DFU2=0,\"\",IFERROR(DATA!DFU2,\"\"))","v":""},{"$f":"IF(DATA!DFV2=0,\"\",IFERROR(DATA!DFV2,\"\"))","v":""},{"$f":"IF(DATA!DFW2=0,\"\",IFERROR(DATA!DFW2,\"\"))","v":""},{"$f":"IF(DATA!DFX2=0,\"\",IFERROR(DATA!DFX2,\"\"))","v":""},{"$f":"IF(DATA!DFY2=0,\"\",IFERROR(DATA!DFY2,\"\"))","v":""},{"$f":"IF(DATA!DFZ2=0,\"\",IFERROR(DATA!DFZ2,\"\"))","v":""},{"$f":"IF(DATA!DGA2=0,\"\",IFERROR(DATA!DGA2,\"\"))","v":""},{"$f":"IF(DATA!DGB2=0,\"\",IFERROR(DATA!DGB2,\"\"))","v":""},{"$f":"IF(DATA!DGC2=0,\"\",IFERROR(DATA!DGC2,\"\"))","v":""},{"$f":"IF(DATA!DGD2=0,\"\",IFERROR(DATA!DGD2,\"\"))","v":""},{"$f":"IF(DATA!DGE2=0,\"\",IFERROR(DATA!DGE2,\"\"))","v":""},{"$f":"IF(DATA!DGF2=0,\"\",IFERROR(DATA!DGF2,\"\"))","v":""},{"$f":"IF(DATA!DGG2=0,\"\",IFERROR(DATA!DGG2,\"\"))","v":""},{"$f":"IF(DATA!DGH2=0,\"\",IFERROR(DATA!DGH2,\"\"))","v":""},{"$f":"IF(DATA!DGI2=0,\"\",IFERROR(DATA!DGI2,\"\"))","v":""},{"$f":"IF(DATA!DGJ2=0,\"\",IFERROR(DATA!DGJ2,\"\"))","v":""},{"$f":"IF(DATA!DGK2=0,\"\",IFERROR(DATA!DGK2,\"\"))","v":""},{"$f":"IF(DATA!DGL2=0,\"\",IFERROR(DATA!DGL2,\"\"))","v":""},{"$f":"IF(DATA!DGM2=0,\"\",IFERROR(DATA!DGM2,\"\"))","v":""},{"$f":"IF(DATA!DGN2=0,\"\",IFERROR(DATA!DGN2,\"\"))","v":""},{"$f":"IF(DATA!DGO2=0,\"\",IFERROR(DATA!DGO2,\"\"))","v":""},{"$f":"IF(DATA!DGP2=0,\"\",IFERROR(DATA!DGP2,\"\"))","v":""},{"$f":"IF(DATA!DGQ2=0,\"\",IFERROR(DATA!DGQ2,\"\"))","v":""},{"$f":"IF(DATA!DGR2=0,\"\",IFERROR(DATA!DGR2,\"\"))","v":""},{"$f":"IF(DATA!DGS2=0,\"\",IFERROR(DATA!DGS2,\"\"))","v":""},{"$f":"IF(DATA!DGT2=0,\"\",IFERROR(DATA!DGT2,\"\"))","v":""},{"$f":"IF(DATA!DGU2=0,\"\",IFERROR(DATA!DGU2,\"\"))","v":""},{"$f":"IF(DATA!DGV2=0,\"\",IFERROR(DATA!DGV2,\"\"))","v":""},{"$f":"IF(DATA!DGW2=0,\"\",IFERROR(DATA!DGW2,\"\"))","v":""},{"$f":"IF(DATA!DGX2=0,\"\",IFERROR(DATA!DGX2,\"\"))","v":""},{"$f":"IF(DATA!DGY2=0,\"\",IFERROR(DATA!DGY2,\"\"))","v":""},{"$f":"IF(DATA!DGZ2=0,\"\",IFERROR(DATA!DGZ2,\"\"))","v":""},{"$f":"IF(DATA!DHA2=0,\"\",IFERROR(DATA!DHA2,\"\"))","v":""},{"$f":"IF(DATA!DHB2=0,\"\",IFERROR(DATA!DHB2,\"\"))","v":""},{"$f":"IF(DATA!DHC2=0,\"\",IFERROR(DATA!DHC2,\"\"))","v":""},{"$f":"IF(DATA!DHD2=0,\"\",IFERROR(DATA!DHD2,\"\"))","v":""},{"$f":"IF(DATA!DHE2=0,\"\",IFERROR(DATA!DHE2,\"\"))","v":""},{"$f":"IF(DATA!DHF2=0,\"\",IFERROR(DATA!DHF2,\"\"))","v":""},{"$f":"IF(DATA!DHG2=0,\"\",IFERROR(DATA!DHG2,\"\"))","v":""},{"$f":"IF(DATA!DHH2=0,\"\",IFERROR(DATA!DHH2,\"\"))","v":""},{"$f":"IF(DATA!DHI2=0,\"\",IFERROR(DATA!DHI2,\"\"))","v":""},{"$f":"IF(DATA!DHJ2=0,\"\",IFERROR(DATA!DHJ2,\"\"))","v":""},{"$f":"IF(DATA!DHK2=0,\"\",IFERROR(DATA!DHK2,\"\"))","v":""},{"$f":"IF(DATA!DHL2=0,\"\",IFERROR(DATA!DHL2,\"\"))","v":""},{"$f":"IF(DATA!DHM2=0,\"\",IFERROR(DATA!DHM2,\"\"))","v":""},{"$f":"IF(DATA!DHN2=0,\"\",IFERROR(DATA!DHN2,\"\"))","v":""},{"$f":"IF(DATA!DHO2=0,\"\",IFERROR(DATA!DHO2,\"\"))","v":""},{"$f":"IF(DATA!DHP2=0,\"\",IFERROR(DATA!DHP2,\"\"))","v":""},{"$f":"IF(DATA!DHQ2=0,\"\",IFERROR(DATA!DHQ2,\"\"))","v":""},{"$f":"IF(DATA!DHR2=0,\"\",IFERROR(DATA!DHR2,\"\"))","v":""},{"$f":"IF(DATA!DHS2=0,\"\",IFERROR(DATA!DHS2,\"\"))","v":""},{"$f":"IF(DATA!DHT2=0,\"\",IFERROR(DATA!DHT2,\"\"))","v":""},{"$f":"IF(DATA!DHU2=0,\"\",IFERROR(DATA!DHU2,\"\"))","v":""},{"$f":"IF(DATA!DHV2=0,\"\",IFERROR(DATA!DHV2,\"\"))","v":""},{"$f":"IF(DATA!DHW2=0,\"\",IFERROR(DATA!DHW2,\"\"))","v":""},{"$f":"IF(DATA!DHX2=0,\"\",IFERROR(DATA!DHX2,\"\"))","v":""},{"$f":"IF(DATA!DHY2=0,\"\",IFERROR(DATA!DHY2,\"\"))","v":""},{"$f":"IF(DATA!DHZ2=0,\"\",IFERROR(DATA!DHZ2,\"\"))","v":""},{"$f":"IF(DATA!DIA2=0,\"\",IFERROR(DATA!DIA2,\"\"))","v":""},{"$f":"IF(DATA!DIB2=0,\"\",IFERROR(DATA!DIB2,\"\"))","v":""},{"$f":"IF(DATA!DIC2=0,\"\",IFERROR(DATA!DIC2,\"\"))","v":""},{"$f":"IF(DATA!DID2=0,\"\",IFERROR(DATA!DID2,\"\"))","v":""},{"$f":"IF(DATA!DIE2=0,\"\",IFERROR(DATA!DIE2,\"\"))","v":""},{"$f":"IF(DATA!DIF2=0,\"\",IFERROR(DATA!DIF2,\"\"))","v":""},{"$f":"IF(DATA!DIG2=0,\"\",IFERROR(DATA!DIG2,\"\"))","v":""},{"$f":"IF(DATA!DIH2=0,\"\",IFERROR(DATA!DIH2,\"\"))","v":""},{"$f":"IF(DATA!DII2=0,\"\",IFERROR(DATA!DII2,\"\"))","v":""},{"$f":"IF(DATA!DIJ2=0,\"\",IFERROR(DATA!DIJ2,\"\"))","v":""},{"$f":"IF(DATA!DIK2=0,\"\",IFERROR(DATA!DIK2,\"\"))","v":""},{"$f":"IF(DATA!DIL2=0,\"\",IFERROR(DATA!DIL2,\"\"))","v":""},{"$f":"IF(DATA!DIM2=0,\"\",IFERROR(DATA!DIM2,\"\"))","v":""},{"$f":"IF(DATA!DIN2=0,\"\",IFERROR(DATA!DIN2,\"\"))","v":""},{"$f":"IF(DATA!DIO2=0,\"\",IFERROR(DATA!DIO2,\"\"))","v":""},{"$f":"IF(DATA!DIP2=0,\"\",IFERROR(DATA!DIP2,\"\"))","v":""},{"$f":"IF(DATA!DIQ2=0,\"\",IFERROR(DATA!DIQ2,\"\"))","v":""},{"$f":"IF(DATA!DIR2=0,\"\",IFERROR(DATA!DIR2,\"\"))","v":""},{"$f":"IF(DATA!DIS2=0,\"\",IFERROR(DATA!DIS2,\"\"))","v":""},{"$f":"IF(DATA!DIT2=0,\"\",IFERROR(DATA!DIT2,\"\"))","v":""},{"$f":"IF(DATA!DIU2=0,\"\",IFERROR(DATA!DIU2,\"\"))","v":""},{"$f":"IF(DATA!DIV2=0,\"\",IFERROR(DATA!DIV2,\"\"))","v":""},{"$f":"IF(DATA!DIW2=0,\"\",IFERROR(DATA!DIW2,\"\"))","v":""},{"$f":"IF(DATA!DIX2=0,\"\",IFERROR(DATA!DIX2,\"\"))","v":""},{"$f":"IF(DATA!DIY2=0,\"\",IFERROR(DATA!DIY2,\"\"))","v":""},{"$f":"IF(DATA!DIZ2=0,\"\",IFERROR(DATA!DIZ2,\"\"))","v":""},{"$f":"IF(DATA!DJA2=0,\"\",IFERROR(DATA!DJA2,\"\"))","v":""},{"$f":"IF(DATA!DJB2=0,\"\",IFERROR(DATA!DJB2,\"\"))","v":""},{"$f":"IF(DATA!DJC2=0,\"\",IFERROR(DATA!DJC2,\"\"))","v":""},{"$f":"IF(DATA!DJD2=0,\"\",IFERROR(DATA!DJD2,\"\"))","v":""},{"$f":"IF(DATA!DJE2=0,\"\",IFERROR(DATA!DJE2,\"\"))","v":""},{"$f":"IF(DATA!DJF2=0,\"\",IFERROR(DATA!DJF2,\"\"))","v":""},{"$f":"IF(DATA!DJG2=0,\"\",IFERROR(DATA!DJG2,\"\"))","v":""},{"$f":"IF(DATA!DJH2=0,\"\",IFERROR(DATA!DJH2,\"\"))","v":""},{"$f":"IF(DATA!DJI2=0,\"\",IFERROR(DATA!DJI2,\"\"))","v":""},{"$f":"IF(DATA!DJJ2=0,\"\",IFERROR(DATA!DJJ2,\"\"))","v":""},{"$f":"IF(DATA!DJK2=0,\"\",IFERROR(DATA!DJK2,\"\"))","v":""},{"$f":"IF(DATA!DJL2=0,\"\",IFERROR(DATA!DJL2,\"\"))","v":""},{"$f":"IF(DATA!DJM2=0,\"\",IFERROR(DATA!DJM2,\"\"))","v":""},{"$f":"IF(DATA!DJN2=0,\"\",IFERROR(DATA!DJN2,\"\"))","v":""},{"$f":"IF(DATA!DJO2=0,\"\",IFERROR(DATA!DJO2,\"\"))","v":""},{"$f":"IF(DATA!DJP2=0,\"\",IFERROR(DATA!DJP2,\"\"))","v":""},{"$f":"IF(DATA!DJQ2=0,\"\",IFERROR(DATA!DJQ2,\"\"))","v":""},{"$f":"IF(DATA!DJR2=0,\"\",IFERROR(DATA!DJR2,\"\"))","v":""},{"$f":"IF(DATA!DJS2=0,\"\",IFERROR(DATA!DJS2,\"\"))","v":""},{"$f":"IF(DATA!DJT2=0,\"\",IFERROR(DATA!DJT2,\"\"))","v":""},{"$f":"IF(DATA!DJU2=0,\"\",IFERROR(DATA!DJU2,\"\"))","v":""},{"$f":"IF(DATA!DJV2=0,\"\",IFERROR(DATA!DJV2,\"\"))","v":""},{"$f":"IF(DATA!DJW2=0,\"\",IFERROR(DATA!DJW2,\"\"))","v":""},{"$f":"IF(DATA!DJX2=0,\"\",IFERROR(DATA!DJX2,\"\"))","v":""},{"$f":"IF(DATA!DJY2=0,\"\",IFERROR(DATA!DJY2,\"\"))","v":""},{"$f":"IF(DATA!DJZ2=0,\"\",IFERROR(DATA!DJZ2,\"\"))","v":""},{"$f":"IF(DATA!DKA2=0,\"\",IFERROR(DATA!DKA2,\"\"))","v":""},{"$f":"IF(DATA!DKB2=0,\"\",IFERROR(DATA!DKB2,\"\"))","v":""},{"$f":"IF(DATA!DKC2=0,\"\",IFERROR(DATA!DKC2,\"\"))","v":""},{"$f":"IF(DATA!DKD2=0,\"\",IFERROR(DATA!DKD2,\"\"))","v":""},{"$f":"IF(DATA!DKE2=0,\"\",IFERROR(DATA!DKE2,\"\"))","v":""},{"$f":"IF(DATA!DKF2=0,\"\",IFERROR(DATA!DKF2,\"\"))","v":""},{"$f":"IF(DATA!DKG2=0,\"\",IFERROR(DATA!DKG2,\"\"))","v":""},{"$f":"IF(DATA!DKH2=0,\"\",IFERROR(DATA!DKH2,\"\"))","v":""},{"$f":"IF(DATA!DKI2=0,\"\",IFERROR(DATA!DKI2,\"\"))","v":""},{"$f":"IF(DATA!DKJ2=0,\"\",IFERROR(DATA!DKJ2,\"\"))","v":""},{"$f":"IF(DATA!DKK2=0,\"\",IFERROR(DATA!DKK2,\"\"))","v":""},{"$f":"IF(DATA!DKL2=0,\"\",IFERROR(DATA!DKL2,\"\"))","v":""},{"$f":"IF(DATA!DKM2=0,\"\",IFERROR(DATA!DKM2,\"\"))","v":""},{"$f":"IF(DATA!DKN2=0,\"\",IFERROR(DATA!DKN2,\"\"))","v":""},{"$f":"IF(DATA!DKO2=0,\"\",IFERROR(DATA!DKO2,\"\"))","v":""},{"$f":"IF(DATA!DKP2=0,\"\",IFERROR(DATA!DKP2,\"\"))","v":""},{"$f":"IF(DATA!DKQ2=0,\"\",IFERROR(DATA!DKQ2,\"\"))","v":""},{"$f":"IF(DATA!DKR2=0,\"\",IFERROR(DATA!DKR2,\"\"))","v":""},{"$f":"IF(DATA!DKS2=0,\"\",IFERROR(DATA!DKS2,\"\"))","v":""},{"$f":"IF(DATA!DKT2=0,\"\",IFERROR(DATA!DKT2,\"\"))","v":""},{"$f":"IF(DATA!DKU2=0,\"\",IFERROR(DATA!DKU2,\"\"))","v":""},{"$f":"IF(DATA!DKV2=0,\"\",IFERROR(DATA!DKV2,\"\"))","v":""},{"$f":"IF(DATA!DKW2=0,\"\",IFERROR(DATA!DKW2,\"\"))","v":""},{"$f":"IF(DATA!DKX2=0,\"\",IFERROR(DATA!DKX2,\"\"))","v":""},{"$f":"IF(DATA!DKY2=0,\"\",IFERROR(DATA!DKY2,\"\"))","v":""},{"$f":"IF(DATA!DKZ2=0,\"\",IFERROR(DATA!DKZ2,\"\"))","v":""},{"$f":"IF(DATA!DLA2=0,\"\",IFERROR(DATA!DLA2,\"\"))","v":""},{"$f":"IF(DATA!DLB2=0,\"\",IFERROR(DATA!DLB2,\"\"))","v":""},{"$f":"IF(DATA!DLC2=0,\"\",IFERROR(DATA!DLC2,\"\"))","v":""},{"$f":"IF(DATA!DLD2=0,\"\",IFERROR(DATA!DLD2,\"\"))","v":""},{"$f":"IF(DATA!DLE2=0,\"\",IFERROR(DATA!DLE2,\"\"))","v":""},{"$f":"IF(DATA!DLF2=0,\"\",IFERROR(DATA!DLF2,\"\"))","v":""},{"$f":"IF(DATA!DLG2=0,\"\",IFERROR(DATA!DLG2,\"\"))","v":""},{"$f":"IF(DATA!DLH2=0,\"\",IFERROR(DATA!DLH2,\"\"))","v":""},{"$f":"IF(DATA!DLI2=0,\"\",IFERROR(DATA!DLI2,\"\"))","v":""},{"$f":"IF(DATA!DLJ2=0,\"\",IFERROR(DATA!DLJ2,\"\"))","v":""},{"$f":"IF(DATA!DLK2=0,\"\",IFERROR(DATA!DLK2,\"\"))","v":""},{"$f":"IF(DATA!DLL2=0,\"\",IFERROR(DATA!DLL2,\"\"))","v":""},{"$f":"IF(DATA!DLM2=0,\"\",IFERROR(DATA!DLM2,\"\"))","v":""},{"$f":"IF(DATA!DLN2=0,\"\",IFERROR(DATA!DLN2,\"\"))","v":""},{"$f":"IF(DATA!DLO2=0,\"\",IFERROR(DATA!DLO2,\"\"))","v":""},{"$f":"IF(DATA!DLP2=0,\"\",IFERROR(DATA!DLP2,\"\"))","v":""},{"$f":"IF(DATA!DLQ2=0,\"\",IFERROR(DATA!DLQ2,\"\"))","v":""},{"$f":"IF(DATA!DLR2=0,\"\",IFERROR(DATA!DLR2,\"\"))","v":""},{"$f":"IF(DATA!DLS2=0,\"\",IFERROR(DATA!DLS2,\"\"))","v":""},{"$f":"IF(DATA!DLT2=0,\"\",IFERROR(DATA!DLT2,\"\"))","v":""},{"$f":"IF(DATA!DLU2=0,\"\",IFERROR(DATA!DLU2,\"\"))","v":""},{"$f":"IF(DATA!DLV2=0,\"\",IFERROR(DATA!DLV2,\"\"))","v":""},{"$f":"IF(DATA!DLW2=0,\"\",IFERROR(DATA!DLW2,\"\"))","v":""},{"$f":"IF(DATA!DLX2=0,\"\",IFERROR(DATA!DLX2,\"\"))","v":""},{"$f":"IF(DATA!DLY2=0,\"\",IFERROR(DATA!DLY2,\"\"))","v":""},{"$f":"IF(DATA!DLZ2=0,\"\",IFERROR(DATA!DLZ2,\"\"))","v":""},{"$f":"IF(DATA!DMA2=0,\"\",IFERROR(DATA!DMA2,\"\"))","v":""},{"$f":"IF(DATA!DMB2=0,\"\",IFERROR(DATA!DMB2,\"\"))","v":""},{"$f":"IF(DATA!DMC2=0,\"\",IFERROR(DATA!DMC2,\"\"))","v":""},{"$f":"IF(DATA!DMD2=0,\"\",IFERROR(DATA!DMD2,\"\"))","v":""},{"$f":"IF(DATA!DME2=0,\"\",IFERROR(DATA!DME2,\"\"))","v":""},{"$f":"IF(DATA!DMF2=0,\"\",IFERROR(DATA!DMF2,\"\"))","v":""},{"$f":"IF(DATA!DMG2=0,\"\",IFERROR(DATA!DMG2,\"\"))","v":""},{"$f":"IF(DATA!DMH2=0,\"\",IFERROR(DATA!DMH2,\"\"))","v":""},{"$f":"IF(DATA!DMI2=0,\"\",IFERROR(DATA!DMI2,\"\"))","v":""},{"$f":"IF(DATA!DMJ2=0,\"\",IFERROR(DATA!DMJ2,\"\"))","v":""},{"$f":"IF(DATA!DMK2=0,\"\",IFERROR(DATA!DMK2,\"\"))","v":""},{"$f":"IF(DATA!DML2=0,\"\",IFERROR(DATA!DML2,\"\"))","v":""},{"$f":"IF(DATA!DMM2=0,\"\",IFERROR(DATA!DMM2,\"\"))","v":""},{"$f":"IF(DATA!DMN2=0,\"\",IFERROR(DATA!DMN2,\"\"))","v":""},{"$f":"IF(DATA!DMO2=0,\"\",IFERROR(DATA!DMO2,\"\"))","v":""},{"$f":"IF(DATA!DMP2=0,\"\",IFERROR(DATA!DMP2,\"\"))","v":""},{"$f":"IF(DATA!DMQ2=0,\"\",IFERROR(DATA!DMQ2,\"\"))","v":""},{"$f":"IF(DATA!DMR2=0,\"\",IFERROR(DATA!DMR2,\"\"))","v":""},{"$f":"IF(DATA!DMS2=0,\"\",IFERROR(DATA!DMS2,\"\"))","v":""},{"$f":"IF(DATA!DMT2=0,\"\",IFERROR(DATA!DMT2,\"\"))","v":""},{"$f":"IF(DATA!DMU2=0,\"\",IFERROR(DATA!DMU2,\"\"))","v":""},{"$f":"IF(DATA!DMV2=0,\"\",IFERROR(DATA!DMV2,\"\"))","v":""},{"$f":"IF(DATA!DMW2=0,\"\",IFERROR(DATA!DMW2,\"\"))","v":""},{"$f":"IF(DATA!DMX2=0,\"\",IFERROR(DATA!DMX2,\"\"))","v":""},{"$f":"IF(DATA!DMY2=0,\"\",IFERROR(DATA!DMY2,\"\"))","v":""},{"$f":"IF(DATA!DMZ2=0,\"\",IFERROR(DATA!DMZ2,\"\"))","v":""},{"$f":"IF(DATA!DNA2=0,\"\",IFERROR(DATA!DNA2,\"\"))","v":""},{"$f":"IF(DATA!DNB2=0,\"\",IFERROR(DATA!DNB2,\"\"))","v":""},{"$f":"IF(DATA!DNC2=0,\"\",IFERROR(DATA!DNC2,\"\"))","v":""},{"$f":"IF(DATA!DND2=0,\"\",IFERROR(DATA!DND2,\"\"))","v":""},{"$f":"IF(DATA!DNE2=0,\"\",IFERROR(DATA!DNE2,\"\"))","v":""},{"$f":"IF(DATA!DNF2=0,\"\",IFERROR(DATA!DNF2,\"\"))","v":""},{"$f":"IF(DATA!DNG2=0,\"\",IFERROR(DATA!DNG2,\"\"))","v":""},{"$f":"IF(DATA!DNH2=0,\"\",IFERROR(DATA!DNH2,\"\"))","v":""},{"$f":"IF(DATA!DNI2=0,\"\",IFERROR(DATA!DNI2,\"\"))","v":""},{"$f":"IF(DATA!DNJ2=0,\"\",IFERROR(DATA!DNJ2,\"\"))","v":""},{"$f":"IF(DATA!DNK2=0,\"\",IFERROR(DATA!DNK2,\"\"))","v":""},{"$f":"IF(DATA!DNL2=0,\"\",IFERROR(DATA!DNL2,\"\"))","v":""},{"$f":"IF(DATA!DNM2=0,\"\",IFERROR(DATA!DNM2,\"\"))","v":""},{"$f":"IF(DATA!DNN2=0,\"\",IFERROR(DATA!DNN2,\"\"))","v":""},{"$f":"IF(DATA!DNO2=0,\"\",IFERROR(DATA!DNO2,\"\"))","v":""},{"$f":"IF(DATA!DNP2=0,\"\",IFERROR(DATA!DNP2,\"\"))","v":""},{"$f":"IF(DATA!DNQ2=0,\"\",IFERROR(DATA!DNQ2,\"\"))","v":""},{"$f":"IF(DATA!DNR2=0,\"\",IFERROR(DATA!DNR2,\"\"))","v":""},{"$f":"IF(DATA!DNS2=0,\"\",IFERROR(DATA!DNS2,\"\"))","v":""},{"$f":"IF(DATA!DNT2=0,\"\",IFERROR(DATA!DNT2,\"\"))","v":""},{"$f":"IF(DATA!DNU2=0,\"\",IFERROR(DATA!DNU2,\"\"))","v":""},{"$f":"IF(DATA!DNV2=0,\"\",IFERROR(DATA!DNV2,\"\"))","v":""},{"$f":"IF(DATA!DNW2=0,\"\",IFERROR(DATA!DNW2,\"\"))","v":""},{"$f":"IF(DATA!DNX2=0,\"\",IFERROR(DATA!DNX2,\"\"))","v":""},{"$f":"IF(DATA!DNY2=0,\"\",IFERROR(DATA!DNY2,\"\"))","v":""},{"$f":"IF(DATA!DNZ2=0,\"\",IFERROR(DATA!DNZ2,\"\"))","v":""},{"$f":"IF(DATA!DOA2=0,\"\",IFERROR(DATA!DOA2,\"\"))","v":""},{"$f":"IF(DATA!DOB2=0,\"\",IFERROR(DATA!DOB2,\"\"))","v":""},{"$f":"IF(DATA!DOC2=0,\"\",IFERROR(DATA!DOC2,\"\"))","v":""},{"$f":"IF(DATA!DOD2=0,\"\",IFERROR(DATA!DOD2,\"\"))","v":""},{"$f":"IF(DATA!DOE2=0,\"\",IFERROR(DATA!DOE2,\"\"))","v":""},{"$f":"IF(DATA!DOF2=0,\"\",IFERROR(DATA!DOF2,\"\"))","v":""},{"$f":"IF(DATA!DOG2=0,\"\",IFERROR(DATA!DOG2,\"\"))","v":""},{"$f":"IF(DATA!DOH2=0,\"\",IFERROR(DATA!DOH2,\"\"))","v":""},{"$f":"IF(DATA!DOI2=0,\"\",IFERROR(DATA!DOI2,\"\"))","v":""},{"$f":"IF(DATA!DOJ2=0,\"\",IFERROR(DATA!DOJ2,\"\"))","v":""},{"$f":"IF(DATA!DOK2=0,\"\",IFERROR(DATA!DOK2,\"\"))","v":""},{"$f":"IF(DATA!DOL2=0,\"\",IFERROR(DATA!DOL2,\"\"))","v":""},{"$f":"IF(DATA!DOM2=0,\"\",IFERROR(DATA!DOM2,\"\"))","v":""},{"$f":"IF(DATA!DON2=0,\"\",IFERROR(DATA!DON2,\"\"))","v":""},{"$f":"IF(DATA!DOO2=0,\"\",IFERROR(DATA!DOO2,\"\"))","v":""},{"$f":"IF(DATA!DOP2=0,\"\",IFERROR(DATA!DOP2,\"\"))","v":""},{"$f":"IF(DATA!DOQ2=0,\"\",IFERROR(DATA!DOQ2,\"\"))","v":""},{"$f":"IF(DATA!DOR2=0,\"\",IFERROR(DATA!DOR2,\"\"))","v":""},{"$f":"IF(DATA!DOS2=0,\"\",IFERROR(DATA!DOS2,\"\"))","v":""},{"$f":"IF(DATA!DOT2=0,\"\",IFERROR(DATA!DOT2,\"\"))","v":""},{"$f":"IF(DATA!DOU2=0,\"\",IFERROR(DATA!DOU2,\"\"))","v":""},{"$f":"IF(DATA!DOV2=0,\"\",IFERROR(DATA!DOV2,\"\"))","v":""},{"$f":"IF(DATA!DOW2=0,\"\",IFERROR(DATA!DOW2,\"\"))","v":""},{"$f":"IF(DATA!DOX2=0,\"\",IFERROR(DATA!DOX2,\"\"))","v":""},{"$f":"IF(DATA!DOY2=0,\"\",IFERROR(DATA!DOY2,\"\"))","v":""},{"$f":"IF(DATA!DOZ2=0,\"\",IFERROR(DATA!DOZ2,\"\"))","v":""},{"$f":"IF(DATA!DPA2=0,\"\",IFERROR(DATA!DPA2,\"\"))","v":""},{"$f":"IF(DATA!DPB2=0,\"\",IFERROR(DATA!DPB2,\"\"))","v":""},{"$f":"IF(DATA!DPC2=0,\"\",IFERROR(DATA!DPC2,\"\"))","v":""},{"$f":"IF(DATA!DPD2=0,\"\",IFERROR(DATA!DPD2,\"\"))","v":""},{"$f":"IF(DATA!DPE2=0,\"\",IFERROR(DATA!DPE2,\"\"))","v":""},{"$f":"IF(DATA!DPF2=0,\"\",IFERROR(DATA!DPF2,\"\"))","v":""},{"$f":"IF(DATA!DPG2=0,\"\",IFERROR(DATA!DPG2,\"\"))","v":""},{"$f":"IF(DATA!DPH2=0,\"\",IFERROR(DATA!DPH2,\"\"))","v":""},{"$f":"IF(DATA!DPI2=0,\"\",IFERROR(DATA!DPI2,\"\"))","v":""},{"$f":"IF(DATA!DPJ2=0,\"\",IFERROR(DATA!DPJ2,\"\"))","v":""},{"$f":"IF(DATA!DPK2=0,\"\",IFERROR(DATA!DPK2,\"\"))","v":""},{"$f":"IF(DATA!DPL2=0,\"\",IFERROR(DATA!DPL2,\"\"))","v":""},{"$f":"IF(DATA!DPM2=0,\"\",IFERROR(DATA!DPM2,\"\"))","v":""},{"$f":"IF(DATA!DPN2=0,\"\",IFERROR(DATA!DPN2,\"\"))","v":""},{"$f":"IF(DATA!DPO2=0,\"\",IFERROR(DATA!DPO2,\"\"))","v":""},{"$f":"IF(DATA!DPP2=0,\"\",IFERROR(DATA!DPP2,\"\"))","v":""},{"$f":"IF(DATA!DPQ2=0,\"\",IFERROR(DATA!DPQ2,\"\"))","v":""},{"$f":"IF(DATA!DPR2=0,\"\",IFERROR(DATA!DPR2,\"\"))","v":""},{"$f":"IF(DATA!DPS2=0,\"\",IFERROR(DATA!DPS2,\"\"))","v":""},{"$f":"IF(DATA!DPT2=0,\"\",IFERROR(DATA!DPT2,\"\"))","v":""},{"$f":"IF(DATA!DPU2=0,\"\",IFERROR(DATA!DPU2,\"\"))","v":""},{"$f":"IF(DATA!DPV2=0,\"\",IFERROR(DATA!DPV2,\"\"))","v":""},{"$f":"IF(DATA!DPW2=0,\"\",IFERROR(DATA!DPW2,\"\"))","v":""},{"$f":"IF(DATA!DPX2=0,\"\",IFERROR(DATA!DPX2,\"\"))","v":""},{"$f":"IF(DATA!DPY2=0,\"\",IFERROR(DATA!DPY2,\"\"))","v":""},{"$f":"IF(DATA!DPZ2=0,\"\",IFERROR(DATA!DPZ2,\"\"))","v":""},{"$f":"IF(DATA!DQA2=0,\"\",IFERROR(DATA!DQA2,\"\"))","v":""},{"$f":"IF(DATA!DQB2=0,\"\",IFERROR(DATA!DQB2,\"\"))","v":""},{"$f":"IF(DATA!DQC2=0,\"\",IFERROR(DATA!DQC2,\"\"))","v":""},{"$f":"IF(DATA!DQD2=0,\"\",IFERROR(DATA!DQD2,\"\"))","v":""},{"$f":"IF(DATA!DQE2=0,\"\",IFERROR(DATA!DQE2,\"\"))","v":""},{"$f":"IF(DATA!DQF2=0,\"\",IFERROR(DATA!DQF2,\"\"))","v":""},{"$f":"IF(DATA!DQG2=0,\"\",IFERROR(DATA!DQG2,\"\"))","v":""},{"$f":"IF(DATA!DQH2=0,\"\",IFERROR(DATA!DQH2,\"\"))","v":""},{"$f":"IF(DATA!DQI2=0,\"\",IFERROR(DATA!DQI2,\"\"))","v":""},{"$f":"IF(DATA!DQJ2=0,\"\",IFERROR(DATA!DQJ2,\"\"))","v":""},{"$f":"IF(DATA!DQK2=0,\"\",IFERROR(DATA!DQK2,\"\"))","v":""},{"$f":"IF(DATA!DQL2=0,\"\",IFERROR(DATA!DQL2,\"\"))","v":""},{"$f":"IF(DATA!DQM2=0,\"\",IFERROR(DATA!DQM2,\"\"))","v":""},{"$f":"IF(DATA!DQN2=0,\"\",IFERROR(DATA!DQN2,\"\"))","v":""},{"$f":"IF(DATA!DQO2=0,\"\",IFERROR(DATA!DQO2,\"\"))","v":""},{"$f":"IF(DATA!DQP2=0,\"\",IFERROR(DATA!DQP2,\"\"))","v":""},{"$f":"IF(DATA!DQQ2=0,\"\",IFERROR(DATA!DQQ2,\"\"))","v":""},{"$f":"IF(DATA!DQR2=0,\"\",IFERROR(DATA!DQR2,\"\"))","v":""},{"$f":"IF(DATA!DQS2=0,\"\",IFERROR(DATA!DQS2,\"\"))","v":""},{"$f":"IF(DATA!DQT2=0,\"\",IFERROR(DATA!DQT2,\"\"))","v":""},{"$f":"IF(DATA!DQU2=0,\"\",IFERROR(DATA!DQU2,\"\"))","v":""},{"$f":"IF(DATA!DQV2=0,\"\",IFERROR(DATA!DQV2,\"\"))","v":""},{"$f":"IF(DATA!DQW2=0,\"\",IFERROR(DATA!DQW2,\"\"))","v":""},{"$f":"IF(DATA!DQX2=0,\"\",IFERROR(DATA!DQX2,\"\"))","v":""},{"$f":"IF(DATA!DQY2=0,\"\",IFERROR(DATA!DQY2,\"\"))","v":""},{"$f":"IF(DATA!DQZ2=0,\"\",IFERROR(DATA!DQZ2,\"\"))","v":""},{"$f":"IF(DATA!DRA2=0,\"\",IFERROR(DATA!DRA2,\"\"))","v":""},{"$f":"IF(DATA!DRB2=0,\"\",IFERROR(DATA!DRB2,\"\"))","v":""},{"$f":"IF(DATA!DRC2=0,\"\",IFERROR(DATA!DRC2,\"\"))","v":""},{"$f":"IF(DATA!DRD2=0,\"\",IFERROR(DATA!DRD2,\"\"))","v":""},{"$f":"IF(DATA!DRE2=0,\"\",IFERROR(DATA!DRE2,\"\"))","v":""},{"$f":"IF(DATA!DRF2=0,\"\",IFERROR(DATA!DRF2,\"\"))","v":""},{"$f":"IF(DATA!DRG2=0,\"\",IFERROR(DATA!DRG2,\"\"))","v":""},{"$f":"IF(DATA!DRH2=0,\"\",IFERROR(DATA!DRH2,\"\"))","v":""},{"$f":"IF(DATA!DRI2=0,\"\",IFERROR(DATA!DRI2,\"\"))","v":""},{"$f":"IF(DATA!DRJ2=0,\"\",IFERROR(DATA!DRJ2,\"\"))","v":""},{"$f":"IF(DATA!DRK2=0,\"\",IFERROR(DATA!DRK2,\"\"))","v":""},{"$f":"IF(DATA!DRL2=0,\"\",IFERROR(DATA!DRL2,\"\"))","v":""},{"$f":"IF(DATA!DRM2=0,\"\",IFERROR(DATA!DRM2,\"\"))","v":""},{"$f":"IF(DATA!DRN2=0,\"\",IFERROR(DATA!DRN2,\"\"))","v":""},{"$f":"IF(DATA!DRO2=0,\"\",IFERROR(DATA!DRO2,\"\"))","v":""},{"$f":"IF(DATA!DRP2=0,\"\",IFERROR(DATA!DRP2,\"\"))","v":""},{"$f":"IF(DATA!DRQ2=0,\"\",IFERROR(DATA!DRQ2,\"\"))","v":""},{"$f":"IF(DATA!DRR2=0,\"\",IFERROR(DATA!DRR2,\"\"))","v":""},{"$f":"IF(DATA!DRS2=0,\"\",IFERROR(DATA!DRS2,\"\"))","v":""},{"$f":"IF(DATA!DRT2=0,\"\",IFERROR(DATA!DRT2,\"\"))","v":""},{"$f":"IF(DATA!DRU2=0,\"\",IFERROR(DATA!DRU2,\"\"))","v":""},{"$f":"IF(DATA!DRV2=0,\"\",IFERROR(DATA!DRV2,\"\"))","v":""},{"$f":"IF(DATA!DRW2=0,\"\",IFERROR(DATA!DRW2,\"\"))","v":""},{"$f":"IF(DATA!DRX2=0,\"\",IFERROR(DATA!DRX2,\"\"))","v":""},{"$f":"IF(DATA!DRY2=0,\"\",IFERROR(DATA!DRY2,\"\"))","v":""},{"$f":"IF(DATA!DRZ2=0,\"\",IFERROR(DATA!DRZ2,\"\"))","v":""},{"$f":"IF(DATA!DSA2=0,\"\",IFERROR(DATA!DSA2,\"\"))","v":""},{"$f":"IF(DATA!DSB2=0,\"\",IFERROR(DATA!DSB2,\"\"))","v":""},{"$f":"IF(DATA!DSC2=0,\"\",IFERROR(DATA!DSC2,\"\"))","v":""},{"$f":"IF(DATA!DSD2=0,\"\",IFERROR(DATA!DSD2,\"\"))","v":""},{"$f":"IF(DATA!DSE2=0,\"\",IFERROR(DATA!DSE2,\"\"))","v":""},{"$f":"IF(DATA!DSF2=0,\"\",IFERROR(DATA!DSF2,\"\"))","v":""},{"$f":"IF(DATA!DSG2=0,\"\",IFERROR(DATA!DSG2,\"\"))","v":""},{"$f":"IF(DATA!DSH2=0,\"\",IFERROR(DATA!DSH2,\"\"))","v":""},{"$f":"IF(DATA!DSI2=0,\"\",IFERROR(DATA!DSI2,\"\"))","v":""},{"$f":"IF(DATA!DSJ2=0,\"\",IFERROR(DATA!DSJ2,\"\"))","v":""},{"$f":"IF(DATA!DSK2=0,\"\",IFERROR(DATA!DSK2,\"\"))","v":""},{"$f":"IF(DATA!DSL2=0,\"\",IFERROR(DATA!DSL2,\"\"))","v":""},{"$f":"IF(DATA!DSM2=0,\"\",IFERROR(DATA!DSM2,\"\"))","v":""},{"$f":"IF(DATA!DSN2=0,\"\",IFERROR(DATA!DSN2,\"\"))","v":""},{"$f":"IF(DATA!DSO2=0,\"\",IFERROR(DATA!DSO2,\"\"))","v":""},{"$f":"IF(DATA!DSP2=0,\"\",IFERROR(DATA!DSP2,\"\"))","v":""},{"$f":"IF(DATA!DSQ2=0,\"\",IFERROR(DATA!DSQ2,\"\"))","v":""},{"$f":"IF(DATA!DSR2=0,\"\",IFERROR(DATA!DSR2,\"\"))","v":""},{"$f":"IF(DATA!DSS2=0,\"\",IFERROR(DATA!DSS2,\"\"))","v":""},{"$f":"IF(DATA!DST2=0,\"\",IFERROR(DATA!DST2,\"\"))","v":""},{"$f":"IF(DATA!DSU2=0,\"\",IFERROR(DATA!DSU2,\"\"))","v":""},{"$f":"IF(DATA!DSV2=0,\"\",IFERROR(DATA!DSV2,\"\"))","v":""},{"$f":"IF(DATA!DSW2=0,\"\",IFERROR(DATA!DSW2,\"\"))","v":""},{"$f":"IF(DATA!DSX2=0,\"\",IFERROR(DATA!DSX2,\"\"))","v":""},{"$f":"IF(DATA!DSY2=0,\"\",IFERROR(DATA!DSY2,\"\"))","v":""},{"$f":"IF(DATA!DSZ2=0,\"\",IFERROR(DATA!DSZ2,\"\"))","v":""},{"$f":"IF(DATA!DTA2=0,\"\",IFERROR(DATA!DTA2,\"\"))","v":""},{"$f":"IF(DATA!DTB2=0,\"\",IFERROR(DATA!DTB2,\"\"))","v":""},{"$f":"IF(DATA!DTC2=0,\"\",IFERROR(DATA!DTC2,\"\"))","v":""},{"$f":"IF(DATA!DTD2=0,\"\",IFERROR(DATA!DTD2,\"\"))","v":""},{"$f":"IF(DATA!DTE2=0,\"\",IFERROR(DATA!DTE2,\"\"))","v":""},{"$f":"IF(DATA!DTF2=0,\"\",IFERROR(DATA!DTF2,\"\"))","v":""},{"$f":"IF(DATA!DTG2=0,\"\",IFERROR(DATA!DTG2,\"\"))","v":""},{"$f":"IF(DATA!DTH2=0,\"\",IFERROR(DATA!DTH2,\"\"))","v":""},{"$f":"IF(DATA!DTI2=0,\"\",IFERROR(DATA!DTI2,\"\"))","v":""},{"$f":"IF(DATA!DTJ2=0,\"\",IFERROR(DATA!DTJ2,\"\"))","v":""},{"$f":"IF(DATA!DTK2=0,\"\",IFERROR(DATA!DTK2,\"\"))","v":""},{"$f":"IF(DATA!DTL2=0,\"\",IFERROR(DATA!DTL2,\"\"))","v":""},{"$f":"IF(DATA!DTM2=0,\"\",IFERROR(DATA!DTM2,\"\"))","v":""},{"$f":"IF(DATA!DTN2=0,\"\",IFERROR(DATA!DTN2,\"\"))","v":""},{"$f":"IF(DATA!DTO2=0,\"\",IFERROR(DATA!DTO2,\"\"))","v":""},{"$f":"IF(DATA!DTP2=0,\"\",IFERROR(DATA!DTP2,\"\"))","v":""},{"$f":"IF(DATA!DTQ2=0,\"\",IFERROR(DATA!DTQ2,\"\"))","v":""},{"$f":"IF(DATA!DTR2=0,\"\",IFERROR(DATA!DTR2,\"\"))","v":""},{"$f":"IF(DATA!DTS2=0,\"\",IFERROR(DATA!DTS2,\"\"))","v":""},{"$f":"IF(DATA!DTT2=0,\"\",IFERROR(DATA!DTT2,\"\"))","v":""},{"$f":"IF(DATA!DTU2=0,\"\",IFERROR(DATA!DTU2,\"\"))","v":""},{"$f":"IF(DATA!DTV2=0,\"\",IFERROR(DATA!DTV2,\"\"))","v":""},{"$f":"IF(DATA!DTW2=0,\"\",IFERROR(DATA!DTW2,\"\"))","v":""},{"$f":"IF(DATA!DTX2=0,\"\",IFERROR(DATA!DTX2,\"\"))","v":""},{"$f":"IF(DATA!DTY2=0,\"\",IFERROR(DATA!DTY2,\"\"))","v":""},{"$f":"IF(DATA!DTZ2=0,\"\",IFERROR(DATA!DTZ2,\"\"))","v":""},{"$f":"IF(DATA!DUA2=0,\"\",IFERROR(DATA!DUA2,\"\"))","v":""},{"$f":"IF(DATA!DUB2=0,\"\",IFERROR(DATA!DUB2,\"\"))","v":""},{"$f":"IF(DATA!DUC2=0,\"\",IFERROR(DATA!DUC2,\"\"))","v":""},{"$f":"IF(DATA!DUD2=0,\"\",IFERROR(DATA!DUD2,\"\"))","v":""},{"$f":"IF(DATA!DUE2=0,\"\",IFERROR(DATA!DUE2,\"\"))","v":""},{"$f":"IF(DATA!DUF2=0,\"\",IFERROR(DATA!DUF2,\"\"))","v":""},{"$f":"IF(DATA!DUG2=0,\"\",IFERROR(DATA!DUG2,\"\"))","v":""},{"$f":"IF(DATA!DUH2=0,\"\",IFERROR(DATA!DUH2,\"\"))","v":""},{"$f":"IF(DATA!DUI2=0,\"\",IFERROR(DATA!DUI2,\"\"))","v":""},{"$f":"IF(DATA!DUJ2=0,\"\",IFERROR(DATA!DUJ2,\"\"))","v":""},{"$f":"IF(DATA!DUK2=0,\"\",IFERROR(DATA!DUK2,\"\"))","v":""},{"$f":"IF(DATA!DUL2=0,\"\",IFERROR(DATA!DUL2,\"\"))","v":""},{"$f":"IF(DATA!DUM2=0,\"\",IFERROR(DATA!DUM2,\"\"))","v":""},{"$f":"IF(DATA!DUN2=0,\"\",IFERROR(DATA!DUN2,\"\"))","v":""},{"$f":"IF(DATA!DUO2=0,\"\",IFERROR(DATA!DUO2,\"\"))","v":""},{"$f":"IF(DATA!DUP2=0,\"\",IFERROR(DATA!DUP2,\"\"))","v":""},{"$f":"IF(DATA!DUQ2=0,\"\",IFERROR(DATA!DUQ2,\"\"))","v":""},{"$f":"IF(DATA!DUR2=0,\"\",IFERROR(DATA!DUR2,\"\"))","v":""},{"$f":"IF(DATA!DUS2=0,\"\",IFERROR(DATA!DUS2,\"\"))","v":""},{"$f":"IF(DATA!DUT2=0,\"\",IFERROR(DATA!DUT2,\"\"))","v":""},{"$f":"IF(DATA!DUU2=0,\"\",IFERROR(DATA!DUU2,\"\"))","v":""},{"$f":"IF(DATA!DUV2=0,\"\",IFERROR(DATA!DUV2,\"\"))","v":""},{"$f":"IF(DATA!DUW2=0,\"\",IFERROR(DATA!DUW2,\"\"))","v":""},{"$f":"IF(DATA!DUX2=0,\"\",IFERROR(DATA!DUX2,\"\"))","v":""},{"$f":"IF(DATA!DUY2=0,\"\",IFERROR(DATA!DUY2,\"\"))","v":""},{"$f":"IF(DATA!DUZ2=0,\"\",IFERROR(DATA!DUZ2,\"\"))","v":""},{"$f":"IF(DATA!DVA2=0,\"\",IFERROR(DATA!DVA2,\"\"))","v":""},{"$f":"IF(DATA!DVB2=0,\"\",IFERROR(DATA!DVB2,\"\"))","v":""},{"$f":"IF(DATA!DVC2=0,\"\",IFERROR(DATA!DVC2,\"\"))","v":""},{"$f":"IF(DATA!DVD2=0,\"\",IFERROR(DATA!DVD2,\"\"))","v":""},{"$f":"IF(DATA!DVE2=0,\"\",IFERROR(DATA!DVE2,\"\"))","v":""},{"$f":"IF(DATA!DVF2=0,\"\",IFERROR(DATA!DVF2,\"\"))","v":""},{"$f":"IF(DATA!DVG2=0,\"\",IFERROR(DATA!DVG2,\"\"))","v":""},{"$f":"IF(DATA!DVH2=0,\"\",IFERROR(DATA!DVH2,\"\"))","v":""},{"$f":"IF(DATA!DVI2=0,\"\",IFERROR(DATA!DVI2,\"\"))","v":""},{"$f":"IF(DATA!DVJ2=0,\"\",IFERROR(DATA!DVJ2,\"\"))","v":""},{"$f":"IF(DATA!DVK2=0,\"\",IFERROR(DATA!DVK2,\"\"))","v":""},{"$f":"IF(DATA!DVL2=0,\"\",IFERROR(DATA!DVL2,\"\"))","v":""},{"$f":"IF(DATA!DVM2=0,\"\",IFERROR(DATA!DVM2,\"\"))","v":""},{"$f":"IF(DATA!DVN2=0,\"\",IFERROR(DATA!DVN2,\"\"))","v":""},{"$f":"IF(DATA!DVO2=0,\"\",IFERROR(DATA!DVO2,\"\"))","v":""},{"$f":"IF(DATA!DVP2=0,\"\",IFERROR(DATA!DVP2,\"\"))","v":""},{"$f":"IF(DATA!DVQ2=0,\"\",IFERROR(DATA!DVQ2,\"\"))","v":""},{"$f":"IF(DATA!DVR2=0,\"\",IFERROR(DATA!DVR2,\"\"))","v":""},{"$f":"IF(DATA!DVS2=0,\"\",IFERROR(DATA!DVS2,\"\"))","v":""},{"$f":"IF(DATA!DVT2=0,\"\",IFERROR(DATA!DVT2,\"\"))","v":""},{"$f":"IF(DATA!DVU2=0,\"\",IFERROR(DATA!DVU2,\"\"))","v":""},{"$f":"IF(DATA!DVV2=0,\"\",IFERROR(DATA!DVV2,\"\"))","v":""},{"$f":"IF(DATA!DVW2=0,\"\",IFERROR(DATA!DVW2,\"\"))","v":""},{"$f":"IF(DATA!DVX2=0,\"\",IFERROR(DATA!DVX2,\"\"))","v":""},{"$f":"IF(DATA!DVY2=0,\"\",IFERROR(DATA!DVY2,\"\"))","v":""},{"$f":"IF(DATA!DVZ2=0,\"\",IFERROR(DATA!DVZ2,\"\"))","v":""},{"$f":"IF(DATA!DWA2=0,\"\",IFERROR(DATA!DWA2,\"\"))","v":""},{"$f":"IF(DATA!DWB2=0,\"\",IFERROR(DATA!DWB2,\"\"))","v":""},{"$f":"IF(DATA!DWC2=0,\"\",IFERROR(DATA!DWC2,\"\"))","v":""},{"$f":"IF(DATA!DWD2=0,\"\",IFERROR(DATA!DWD2,\"\"))","v":""},{"$f":"IF(DATA!DWE2=0,\"\",IFERROR(DATA!DWE2,\"\"))","v":""},{"$f":"IF(DATA!DWF2=0,\"\",IFERROR(DATA!DWF2,\"\"))","v":""},{"$f":"IF(DATA!DWG2=0,\"\",IFERROR(DATA!DWG2,\"\"))","v":""},{"$f":"IF(DATA!DWH2=0,\"\",IFERROR(DATA!DWH2,\"\"))","v":""},{"$f":"IF(DATA!DWI2=0,\"\",IFERROR(DATA!DWI2,\"\"))","v":""},{"$f":"IF(DATA!DWJ2=0,\"\",IFERROR(DATA!DWJ2,\"\"))","v":""},{"$f":"IF(DATA!DWK2=0,\"\",IFERROR(DATA!DWK2,\"\"))","v":""},{"$f":"IF(DATA!DWL2=0,\"\",IFERROR(DATA!DWL2,\"\"))","v":""},{"$f":"IF(DATA!DWM2=0,\"\",IFERROR(DATA!DWM2,\"\"))","v":""},{"$f":"IF(DATA!DWN2=0,\"\",IFERROR(DATA!DWN2,\"\"))","v":""},{"$f":"IF(DATA!DWO2=0,\"\",IFERROR(DATA!DWO2,\"\"))","v":""},{"$f":"IF(DATA!DWP2=0,\"\",IFERROR(DATA!DWP2,\"\"))","v":""},{"$f":"IF(DATA!DWQ2=0,\"\",IFERROR(DATA!DWQ2,\"\"))","v":""},{"$f":"IF(DATA!DWR2=0,\"\",IFERROR(DATA!DWR2,\"\"))","v":""},{"$f":"IF(DATA!DWS2=0,\"\",IFERROR(DATA!DWS2,\"\"))","v":""},{"$f":"IF(DATA!DWT2=0,\"\",IFERROR(DATA!DWT2,\"\"))","v":""},{"$f":"IF(DATA!DWU2=0,\"\",IFERROR(DATA!DWU2,\"\"))","v":""},{"$f":"IF(DATA!DWV2=0,\"\",IFERROR(DATA!DWV2,\"\"))","v":""},{"$f":"IF(DATA!DWW2=0,\"\",IFERROR(DATA!DWW2,\"\"))","v":""},{"$f":"IF(DATA!DWX2=0,\"\",IFERROR(DATA!DWX2,\"\"))","v":""},{"$f":"IF(DATA!DWY2=0,\"\",IFERROR(DATA!DWY2,\"\"))","v":""},{"$f":"IF(DATA!DWZ2=0,\"\",IFERROR(DATA!DWZ2,\"\"))","v":""},{"$f":"IF(DATA!DXA2=0,\"\",IFERROR(DATA!DXA2,\"\"))","v":""},{"$f":"IF(DATA!DXB2=0,\"\",IFERROR(DATA!DXB2,\"\"))","v":""},{"$f":"IF(DATA!DXC2=0,\"\",IFERROR(DATA!DXC2,\"\"))","v":""},{"$f":"IF(DATA!DXD2=0,\"\",IFERROR(DATA!DXD2,\"\"))","v":""},{"$f":"IF(DATA!DXE2=0,\"\",IFERROR(DATA!DXE2,\"\"))","v":""},{"$f":"IF(DATA!DXF2=0,\"\",IFERROR(DATA!DXF2,\"\"))","v":""},{"$f":"IF(DATA!DXG2=0,\"\",IFERROR(DATA!DXG2,\"\"))","v":""},{"$f":"IF(DATA!DXH2=0,\"\",IFERROR(DATA!DXH2,\"\"))","v":""},{"$f":"IF(DATA!DXI2=0,\"\",IFERROR(DATA!DXI2,\"\"))","v":""},{"$f":"IF(DATA!DXJ2=0,\"\",IFERROR(DATA!DXJ2,\"\"))","v":""},{"$f":"IF(DATA!DXK2=0,\"\",IFERROR(DATA!DXK2,\"\"))","v":""},{"$f":"IF(DATA!DXL2=0,\"\",IFERROR(DATA!DXL2,\"\"))","v":""},{"$f":"IF(DATA!DXM2=0,\"\",IFERROR(DATA!DXM2,\"\"))","v":""},{"$f":"IF(DATA!DXN2=0,\"\",IFERROR(DATA!DXN2,\"\"))","v":""},{"$f":"IF(DATA!DXO2=0,\"\",IFERROR(DATA!DXO2,\"\"))","v":""},{"$f":"IF(DATA!DXP2=0,\"\",IFERROR(DATA!DXP2,\"\"))","v":""},{"$f":"IF(DATA!DXQ2=0,\"\",IFERROR(DATA!DXQ2,\"\"))","v":""},{"$f":"IF(DATA!DXR2=0,\"\",IFERROR(DATA!DXR2,\"\"))","v":""},{"$f":"IF(DATA!DXS2=0,\"\",IFERROR(DATA!DXS2,\"\"))","v":""},{"$f":"IF(DATA!DXT2=0,\"\",IFERROR(DATA!DXT2,\"\"))","v":""},{"$f":"IF(DATA!DXU2=0,\"\",IFERROR(DATA!DXU2,\"\"))","v":""},{"$f":"IF(DATA!DXV2=0,\"\",IFERROR(DATA!DXV2,\"\"))","v":""},{"$f":"IF(DATA!DXW2=0,\"\",IFERROR(DATA!DXW2,\"\"))","v":""},{"$f":"IF(DATA!DXX2=0,\"\",IFERROR(DATA!DXX2,\"\"))","v":""},{"$f":"IF(DATA!DXY2=0,\"\",IFERROR(DATA!DXY2,\"\"))","v":""},{"$f":"IF(DATA!DXZ2=0,\"\",IFERROR(DATA!DXZ2,\"\"))","v":""},{"$f":"IF(DATA!DYA2=0,\"\",IFERROR(DATA!DYA2,\"\"))","v":""},{"$f":"IF(DATA!DYB2=0,\"\",IFERROR(DATA!DYB2,\"\"))","v":""},{"$f":"IF(DATA!DYC2=0,\"\",IFERROR(DATA!DYC2,\"\"))","v":""},{"$f":"IF(DATA!DYD2=0,\"\",IFERROR(DATA!DYD2,\"\"))","v":""},{"$f":"IF(DATA!DYE2=0,\"\",IFERROR(DATA!DYE2,\"\"))","v":""},{"$f":"IF(DATA!DYF2=0,\"\",IFERROR(DATA!DYF2,\"\"))","v":""},{"$f":"IF(DATA!DYG2=0,\"\",IFERROR(DATA!DYG2,\"\"))","v":""},{"$f":"IF(DATA!DYH2=0,\"\",IFERROR(DATA!DYH2,\"\"))","v":""},{"$f":"IF(DATA!DYI2=0,\"\",IFERROR(DATA!DYI2,\"\"))","v":""},{"$f":"IF(DATA!DYJ2=0,\"\",IFERROR(DATA!DYJ2,\"\"))","v":""},{"$f":"IF(DATA!DYK2=0,\"\",IFERROR(DATA!DYK2,\"\"))","v":""},{"$f":"IF(DATA!DYL2=0,\"\",IFERROR(DATA!DYL2,\"\"))","v":""},{"$f":"IF(DATA!DYM2=0,\"\",IFERROR(DATA!DYM2,\"\"))","v":""},{"$f":"IF(DATA!DYN2=0,\"\",IFERROR(DATA!DYN2,\"\"))","v":""},{"$f":"IF(DATA!DYO2=0,\"\",IFERROR(DATA!DYO2,\"\"))","v":""},{"$f":"IF(DATA!DYP2=0,\"\",IFERROR(DATA!DYP2,\"\"))","v":""},{"$f":"IF(DATA!DYQ2=0,\"\",IFERROR(DATA!DYQ2,\"\"))","v":""},{"$f":"IF(DATA!DYR2=0,\"\",IFERROR(DATA!DYR2,\"\"))","v":""},{"$f":"IF(DATA!DYS2=0,\"\",IFERROR(DATA!DYS2,\"\"))","v":""},{"$f":"IF(DATA!DYT2=0,\"\",IFERROR(DATA!DYT2,\"\"))","v":""},{"$f":"IF(DATA!DYU2=0,\"\",IFERROR(DATA!DYU2,\"\"))","v":""},{"$f":"IF(DATA!DYV2=0,\"\",IFERROR(DATA!DYV2,\"\"))","v":""},{"$f":"IF(DATA!DYW2=0,\"\",IFERROR(DATA!DYW2,\"\"))","v":""},{"$f":"IF(DATA!DYX2=0,\"\",IFERROR(DATA!DYX2,\"\"))","v":""},{"$f":"IF(DATA!DYY2=0,\"\",IFERROR(DATA!DYY2,\"\"))","v":""},{"$f":"IF(DATA!DYZ2=0,\"\",IFERROR(DATA!DYZ2,\"\"))","v":""},{"$f":"IF(DATA!DZA2=0,\"\",IFERROR(DATA!DZA2,\"\"))","v":""},{"$f":"IF(DATA!DZB2=0,\"\",IFERROR(DATA!DZB2,\"\"))","v":""},{"$f":"IF(DATA!DZC2=0,\"\",IFERROR(DATA!DZC2,\"\"))","v":""},{"$f":"IF(DATA!DZD2=0,\"\",IFERROR(DATA!DZD2,\"\"))","v":""},{"$f":"IF(DATA!DZE2=0,\"\",IFERROR(DATA!DZE2,\"\"))","v":""},{"$f":"IF(DATA!DZF2=0,\"\",IFERROR(DATA!DZF2,\"\"))","v":""},{"$f":"IF(DATA!DZG2=0,\"\",IFERROR(DATA!DZG2,\"\"))","v":""},{"$f":"IF(DATA!DZH2=0,\"\",IFERROR(DATA!DZH2,\"\"))","v":""},{"$f":"IF(DATA!DZI2=0,\"\",IFERROR(DATA!DZI2,\"\"))","v":""},{"$f":"IF(DATA!DZJ2=0,\"\",IFERROR(DATA!DZJ2,\"\"))","v":""},{"$f":"IF(DATA!DZK2=0,\"\",IFERROR(DATA!DZK2,\"\"))","v":""},{"$f":"IF(DATA!DZL2=0,\"\",IFERROR(DATA!DZL2,\"\"))","v":""},{"$f":"IF(DATA!DZM2=0,\"\",IFERROR(DATA!DZM2,\"\"))","v":""},{"$f":"IF(DATA!DZN2=0,\"\",IFERROR(DATA!DZN2,\"\"))","v":""},{"$f":"IF(DATA!DZO2=0,\"\",IFERROR(DATA!DZO2,\"\"))","v":""},{"$f":"IF(DATA!DZP2=0,\"\",IFERROR(DATA!DZP2,\"\"))","v":""},{"$f":"IF(DATA!DZQ2=0,\"\",IFERROR(DATA!DZQ2,\"\"))","v":""},{"$f":"IF(DATA!DZR2=0,\"\",IFERROR(DATA!DZR2,\"\"))","v":""},{"$f":"IF(DATA!DZS2=0,\"\",IFERROR(DATA!DZS2,\"\"))","v":""},{"$f":"IF(DATA!DZT2=0,\"\",IFERROR(DATA!DZT2,\"\"))","v":""},{"$f":"IF(DATA!DZU2=0,\"\",IFERROR(DATA!DZU2,\"\"))","v":""},{"$f":"IF(DATA!DZV2=0,\"\",IFERROR(DATA!DZV2,\"\"))","v":""},{"$f":"IF(DATA!DZW2=0,\"\",IFERROR(DATA!DZW2,\"\"))","v":""},{"$f":"IF(DATA!DZX2=0,\"\",IFERROR(DATA!DZX2,\"\"))","v":""},{"$f":"IF(DATA!DZY2=0,\"\",IFERROR(DATA!DZY2,\"\"))","v":""},{"$f":"IF(DATA!DZZ2=0,\"\",IFERROR(DATA!DZZ2,\"\"))","v":""},{"$f":"IF(DATA!EAA2=0,\"\",IFERROR(DATA!EAA2,\"\"))","v":""},{"$f":"IF(DATA!EAB2=0,\"\",IFERROR(DATA!EAB2,\"\"))","v":""},{"$f":"IF(DATA!EAC2=0,\"\",IFERROR(DATA!EAC2,\"\"))","v":""},{"$f":"IF(DATA!EAD2=0,\"\",IFERROR(DATA!EAD2,\"\"))","v":""},{"$f":"IF(DATA!EAE2=0,\"\",IFERROR(DATA!EAE2,\"\"))","v":""},{"$f":"IF(DATA!EAF2=0,\"\",IFERROR(DATA!EAF2,\"\"))","v":""},{"$f":"IF(DATA!EAG2=0,\"\",IFERROR(DATA!EAG2,\"\"))","v":""},{"$f":"IF(DATA!EAH2=0,\"\",IFERROR(DATA!EAH2,\"\"))","v":""},{"$f":"IF(DATA!EAI2=0,\"\",IFERROR(DATA!EAI2,\"\"))","v":""},{"$f":"IF(DATA!EAJ2=0,\"\",IFERROR(DATA!EAJ2,\"\"))","v":""},{"$f":"IF(DATA!EAK2=0,\"\",IFERROR(DATA!EAK2,\"\"))","v":""},{"$f":"IF(DATA!EAL2=0,\"\",IFERROR(DATA!EAL2,\"\"))","v":""},{"$f":"IF(DATA!EAM2=0,\"\",IFERROR(DATA!EAM2,\"\"))","v":""},{"$f":"IF(DATA!EAN2=0,\"\",IFERROR(DATA!EAN2,\"\"))","v":""},{"$f":"IF(DATA!EAO2=0,\"\",IFERROR(DATA!EAO2,\"\"))","v":""},{"$f":"IF(DATA!EAP2=0,\"\",IFERROR(DATA!EAP2,\"\"))","v":""},{"$f":"IF(DATA!EAQ2=0,\"\",IFERROR(DATA!EAQ2,\"\"))","v":""},{"$f":"IF(DATA!EAR2=0,\"\",IFERROR(DATA!EAR2,\"\"))","v":""},{"$f":"IF(DATA!EAS2=0,\"\",IFERROR(DATA!EAS2,\"\"))","v":""},{"$f":"IF(DATA!EAT2=0,\"\",IFERROR(DATA!EAT2,\"\"))","v":""},{"$f":"IF(DATA!EAU2=0,\"\",IFERROR(DATA!EAU2,\"\"))","v":""},{"$f":"IF(DATA!EAV2=0,\"\",IFERROR(DATA!EAV2,\"\"))","v":""},{"$f":"IF(DATA!EAW2=0,\"\",IFERROR(DATA!EAW2,\"\"))","v":""},{"$f":"IF(DATA!EAX2=0,\"\",IFERROR(DATA!EAX2,\"\"))","v":""},{"$f":"IF(DATA!EAY2=0,\"\",IFERROR(DATA!EAY2,\"\"))","v":""},{"$f":"IF(DATA!EAZ2=0,\"\",IFERROR(DATA!EAZ2,\"\"))","v":""},{"$f":"IF(DATA!EBA2=0,\"\",IFERROR(DATA!EBA2,\"\"))","v":""},{"$f":"IF(DATA!EBB2=0,\"\",IFERROR(DATA!EBB2,\"\"))","v":""},{"$f":"IF(DATA!EBC2=0,\"\",IFERROR(DATA!EBC2,\"\"))","v":""},{"$f":"IF(DATA!EBD2=0,\"\",IFERROR(DATA!EBD2,\"\"))","v":""},{"$f":"IF(DATA!EBE2=0,\"\",IFERROR(DATA!EBE2,\"\"))","v":""},{"$f":"IF(DATA!EBF2=0,\"\",IFERROR(DATA!EBF2,\"\"))","v":""},{"$f":"IF(DATA!EBG2=0,\"\",IFERROR(DATA!EBG2,\"\"))","v":""},{"$f":"IF(DATA!EBH2=0,\"\",IFERROR(DATA!EBH2,\"\"))","v":""},{"$f":"IF(DATA!EBI2=0,\"\",IFERROR(DATA!EBI2,\"\"))","v":""},{"$f":"IF(DATA!EBJ2=0,\"\",IFERROR(DATA!EBJ2,\"\"))","v":""},{"$f":"IF(DATA!EBK2=0,\"\",IFERROR(DATA!EBK2,\"\"))","v":""},{"$f":"IF(DATA!EBL2=0,\"\",IFERROR(DATA!EBL2,\"\"))","v":""},{"$f":"IF(DATA!EBM2=0,\"\",IFERROR(DATA!EBM2,\"\"))","v":""},{"$f":"IF(DATA!EBN2=0,\"\",IFERROR(DATA!EBN2,\"\"))","v":""},{"$f":"IF(DATA!EBO2=0,\"\",IFERROR(DATA!EBO2,\"\"))","v":""},{"$f":"IF(DATA!EBP2=0,\"\",IFERROR(DATA!EBP2,\"\"))","v":""},{"$f":"IF(DATA!EBQ2=0,\"\",IFERROR(DATA!EBQ2,\"\"))","v":""},{"$f":"IF(DATA!EBR2=0,\"\",IFERROR(DATA!EBR2,\"\"))","v":""},{"$f":"IF(DATA!EBS2=0,\"\",IFERROR(DATA!EBS2,\"\"))","v":""},{"$f":"IF(DATA!EBT2=0,\"\",IFERROR(DATA!EBT2,\"\"))","v":""},{"$f":"IF(DATA!EBU2=0,\"\",IFERROR(DATA!EBU2,\"\"))","v":""},{"$f":"IF(DATA!EBV2=0,\"\",IFERROR(DATA!EBV2,\"\"))","v":""},{"$f":"IF(DATA!EBW2=0,\"\",IFERROR(DATA!EBW2,\"\"))","v":""},{"$f":"IF(DATA!EBX2=0,\"\",IFERROR(DATA!EBX2,\"\"))","v":""},{"$f":"IF(DATA!EBY2=0,\"\",IFERROR(DATA!EBY2,\"\"))","v":""},{"$f":"IF(DATA!EBZ2=0,\"\",IFERROR(DATA!EBZ2,\"\"))","v":""},{"$f":"IF(DATA!ECA2=0,\"\",IFERROR(DATA!ECA2,\"\"))","v":""},{"$f":"IF(DATA!ECB2=0,\"\",IFERROR(DATA!ECB2,\"\"))","v":""},{"$f":"IF(DATA!ECC2=0,\"\",IFERROR(DATA!ECC2,\"\"))","v":""},{"$f":"IF(DATA!ECD2=0,\"\",IFERROR(DATA!ECD2,\"\"))","v":""},{"$f":"IF(DATA!ECE2=0,\"\",IFERROR(DATA!ECE2,\"\"))","v":""},{"$f":"IF(DATA!ECF2=0,\"\",IFERROR(DATA!ECF2,\"\"))","v":""},{"$f":"IF(DATA!ECG2=0,\"\",IFERROR(DATA!ECG2,\"\"))","v":""},{"$f":"IF(DATA!ECH2=0,\"\",IFERROR(DATA!ECH2,\"\"))","v":""},{"$f":"IF(DATA!ECI2=0,\"\",IFERROR(DATA!ECI2,\"\"))","v":""},{"$f":"IF(DATA!ECJ2=0,\"\",IFERROR(DATA!ECJ2,\"\"))","v":""},{"$f":"IF(DATA!ECK2=0,\"\",IFERROR(DATA!ECK2,\"\"))","v":""},{"$f":"IF(DATA!ECL2=0,\"\",IFERROR(DATA!ECL2,\"\"))","v":""},{"$f":"IF(DATA!ECM2=0,\"\",IFERROR(DATA!ECM2,\"\"))","v":""},{"$f":"IF(DATA!ECN2=0,\"\",IFERROR(DATA!ECN2,\"\"))","v":""},{"$f":"IF(DATA!ECO2=0,\"\",IFERROR(DATA!ECO2,\"\"))","v":""},{"$f":"IF(DATA!ECP2=0,\"\",IFERROR(DATA!ECP2,\"\"))","v":""},{"$f":"IF(DATA!ECQ2=0,\"\",IFERROR(DATA!ECQ2,\"\"))","v":""},{"$f":"IF(DATA!ECR2=0,\"\",IFERROR(DATA!ECR2,\"\"))","v":""},{"$f":"IF(DATA!ECS2=0,\"\",IFERROR(DATA!ECS2,\"\"))","v":""},{"$f":"IF(DATA!ECT2=0,\"\",IFERROR(DATA!ECT2,\"\"))","v":""},{"$f":"IF(DATA!ECU2=0,\"\",IFERROR(DATA!ECU2,\"\"))","v":""},{"$f":"IF(DATA!ECV2=0,\"\",IFERROR(DATA!ECV2,\"\"))","v":""},{"$f":"IF(DATA!ECW2=0,\"\",IFERROR(DATA!ECW2,\"\"))","v":""},{"$f":"IF(DATA!ECX2=0,\"\",IFERROR(DATA!ECX2,\"\"))","v":""},{"$f":"IF(DATA!ECY2=0,\"\",IFERROR(DATA!ECY2,\"\"))","v":""},{"$f":"IF(DATA!ECZ2=0,\"\",IFERROR(DATA!ECZ2,\"\"))","v":""},{"$f":"IF(DATA!EDA2=0,\"\",IFERROR(DATA!EDA2,\"\"))","v":""},{"$f":"IF(DATA!EDB2=0,\"\",IFERROR(DATA!EDB2,\"\"))","v":""},{"$f":"IF(DATA!EDC2=0,\"\",IFERROR(DATA!EDC2,\"\"))","v":""},{"$f":"IF(DATA!EDD2=0,\"\",IFERROR(DATA!EDD2,\"\"))","v":""},{"$f":"IF(DATA!EDE2=0,\"\",IFERROR(DATA!EDE2,\"\"))","v":""},{"$f":"IF(DATA!EDF2=0,\"\",IFERROR(DATA!EDF2,\"\"))","v":""},{"$f":"IF(DATA!EDG2=0,\"\",IFERROR(DATA!EDG2,\"\"))","v":""},{"$f":"IF(DATA!EDH2=0,\"\",IFERROR(DATA!EDH2,\"\"))","v":""},{"$f":"IF(DATA!EDI2=0,\"\",IFERROR(DATA!EDI2,\"\"))","v":""},{"$f":"IF(DATA!EDJ2=0,\"\",IFERROR(DATA!EDJ2,\"\"))","v":""},{"$f":"IF(DATA!EDK2=0,\"\",IFERROR(DATA!EDK2,\"\"))","v":""},{"$f":"IF(DATA!EDL2=0,\"\",IFERROR(DATA!EDL2,\"\"))","v":""},{"$f":"IF(DATA!EDM2=0,\"\",IFERROR(DATA!EDM2,\"\"))","v":""},{"$f":"IF(DATA!EDN2=0,\"\",IFERROR(DATA!EDN2,\"\"))","v":""},{"$f":"IF(DATA!EDO2=0,\"\",IFERROR(DATA!EDO2,\"\"))","v":""},{"$f":"IF(DATA!EDP2=0,\"\",IFERROR(DATA!EDP2,\"\"))","v":""},{"$f":"IF(DATA!EDQ2=0,\"\",IFERROR(DATA!EDQ2,\"\"))","v":""},{"$f":"IF(DATA!EDR2=0,\"\",IFERROR(DATA!EDR2,\"\"))","v":""},{"$f":"IF(DATA!EDS2=0,\"\",IFERROR(DATA!EDS2,\"\"))","v":""},{"$f":"IF(DATA!EDT2=0,\"\",IFERROR(DATA!EDT2,\"\"))","v":""},{"$f":"IF(DATA!EDU2=0,\"\",IFERROR(DATA!EDU2,\"\"))","v":""},{"$f":"IF(DATA!EDV2=0,\"\",IFERROR(DATA!EDV2,\"\"))","v":""},{"$f":"IF(DATA!EDW2=0,\"\",IFERROR(DATA!EDW2,\"\"))","v":""},{"$f":"IF(DATA!EDX2=0,\"\",IFERROR(DATA!EDX2,\"\"))","v":""},{"$f":"IF(DATA!EDY2=0,\"\",IFERROR(DATA!EDY2,\"\"))","v":""},{"$f":"IF(DATA!EDZ2=0,\"\",IFERROR(DATA!EDZ2,\"\"))","v":""},{"$f":"IF(DATA!EEA2=0,\"\",IFERROR(DATA!EEA2,\"\"))","v":""},{"$f":"IF(DATA!EEB2=0,\"\",IFERROR(DATA!EEB2,\"\"))","v":""},{"$f":"IF(DATA!EEC2=0,\"\",IFERROR(DATA!EEC2,\"\"))","v":""},{"$f":"IF(DATA!EED2=0,\"\",IFERROR(DATA!EED2,\"\"))","v":""},{"$f":"IF(DATA!EEE2=0,\"\",IFERROR(DATA!EEE2,\"\"))","v":""},{"$f":"IF(DATA!EEF2=0,\"\",IFERROR(DATA!EEF2,\"\"))","v":""},{"$f":"IF(DATA!EEG2=0,\"\",IFERROR(DATA!EEG2,\"\"))","v":""},{"$f":"IF(DATA!EEH2=0,\"\",IFERROR(DATA!EEH2,\"\"))","v":""},{"$f":"IF(DATA!EEI2=0,\"\",IFERROR(DATA!EEI2,\"\"))","v":""},{"$f":"IF(DATA!EEJ2=0,\"\",IFERROR(DATA!EEJ2,\"\"))","v":""},{"$f":"IF(DATA!EEK2=0,\"\",IFERROR(DATA!EEK2,\"\"))","v":""},{"$f":"IF(DATA!EEL2=0,\"\",IFERROR(DATA!EEL2,\"\"))","v":""},{"$f":"IF(DATA!EEM2=0,\"\",IFERROR(DATA!EEM2,\"\"))","v":""},{"$f":"IF(DATA!EEN2=0,\"\",IFERROR(DATA!EEN2,\"\"))","v":""},{"$f":"IF(DATA!EEO2=0,\"\",IFERROR(DATA!EEO2,\"\"))","v":""},{"$f":"IF(DATA!EEP2=0,\"\",IFERROR(DATA!EEP2,\"\"))","v":""},{"$f":"IF(DATA!EEQ2=0,\"\",IFERROR(DATA!EEQ2,\"\"))","v":""},{"$f":"IF(DATA!EER2=0,\"\",IFERROR(DATA!EER2,\"\"))","v":""},{"$f":"IF(DATA!EES2=0,\"\",IFERROR(DATA!EES2,\"\"))","v":""},{"$f":"IF(DATA!EET2=0,\"\",IFERROR(DATA!EET2,\"\"))","v":""},{"$f":"IF(DATA!EEU2=0,\"\",IFERROR(DATA!EEU2,\"\"))","v":""},{"$f":"IF(DATA!EEV2=0,\"\",IFERROR(DATA!EEV2,\"\"))","v":""},{"$f":"IF(DATA!EEW2=0,\"\",IFERROR(DATA!EEW2,\"\"))","v":""},{"$f":"IF(DATA!EEX2=0,\"\",IFERROR(DATA!EEX2,\"\"))","v":""},{"$f":"IF(DATA!EEY2=0,\"\",IFERROR(DATA!EEY2,\"\"))","v":""},{"$f":"IF(DATA!EEZ2=0,\"\",IFERROR(DATA!EEZ2,\"\"))","v":""},{"$f":"IF(DATA!EFA2=0,\"\",IFERROR(DATA!EFA2,\"\"))","v":""},{"$f":"IF(DATA!EFB2=0,\"\",IFERROR(DATA!EFB2,\"\"))","v":""},{"$f":"IF(DATA!EFC2=0,\"\",IFERROR(DATA!EFC2,\"\"))","v":""},{"$f":"IF(DATA!EFD2=0,\"\",IFERROR(DATA!EFD2,\"\"))","v":""},{"$f":"IF(DATA!EFE2=0,\"\",IFERROR(DATA!EFE2,\"\"))","v":""},{"$f":"IF(DATA!EFF2=0,\"\",IFERROR(DATA!EFF2,\"\"))","v":""},{"$f":"IF(DATA!EFG2=0,\"\",IFERROR(DATA!EFG2,\"\"))","v":""},{"$f":"IF(DATA!EFH2=0,\"\",IFERROR(DATA!EFH2,\"\"))","v":""},{"$f":"IF(DATA!EFI2=0,\"\",IFERROR(DATA!EFI2,\"\"))","v":""},{"$f":"IF(DATA!EFJ2=0,\"\",IFERROR(DATA!EFJ2,\"\"))","v":""},{"$f":"IF(DATA!EFK2=0,\"\",IFERROR(DATA!EFK2,\"\"))","v":""},{"$f":"IF(DATA!EFL2=0,\"\",IFERROR(DATA!EFL2,\"\"))","v":""},{"$f":"IF(DATA!EFM2=0,\"\",IFERROR(DATA!EFM2,\"\"))","v":""},{"$f":"IF(DATA!EFN2=0,\"\",IFERROR(DATA!EFN2,\"\"))","v":""},{"$f":"IF(DATA!EFO2=0,\"\",IFERROR(DATA!EFO2,\"\"))","v":""},{"$f":"IF(DATA!EFP2=0,\"\",IFERROR(DATA!EFP2,\"\"))","v":""},{"$f":"IF(DATA!EFQ2=0,\"\",IFERROR(DATA!EFQ2,\"\"))","v":""},{"$f":"IF(DATA!EFR2=0,\"\",IFERROR(DATA!EFR2,\"\"))","v":""},{"$f":"IF(DATA!EFS2=0,\"\",IFERROR(DATA!EFS2,\"\"))","v":""},{"$f":"IF(DATA!EFT2=0,\"\",IFERROR(DATA!EFT2,\"\"))","v":""},{"$f":"IF(DATA!EFU2=0,\"\",IFERROR(DATA!EFU2,\"\"))","v":""},{"$f":"IF(DATA!EFV2=0,\"\",IFERROR(DATA!EFV2,\"\"))","v":""},{"$f":"IF(DATA!EFW2=0,\"\",IFERROR(DATA!EFW2,\"\"))","v":""},{"$f":"IF(DATA!EFX2=0,\"\",IFERROR(DATA!EFX2,\"\"))","v":""},{"$f":"IF(DATA!EFY2=0,\"\",IFERROR(DATA!EFY2,\"\"))","v":""},{"$f":"IF(DATA!EFZ2=0,\"\",IFERROR(DATA!EFZ2,\"\"))","v":""},{"$f":"IF(DATA!EGA2=0,\"\",IFERROR(DATA!EGA2,\"\"))","v":""},{"$f":"IF(DATA!EGB2=0,\"\",IFERROR(DATA!EGB2,\"\"))","v":""},{"$f":"IF(DATA!EGC2=0,\"\",IFERROR(DATA!EGC2,\"\"))","v":""},{"$f":"IF(DATA!EGD2=0,\"\",IFERROR(DATA!EGD2,\"\"))","v":""},{"$f":"IF(DATA!EGE2=0,\"\",IFERROR(DATA!EGE2,\"\"))","v":""},{"$f":"IF(DATA!EGF2=0,\"\",IFERROR(DATA!EGF2,\"\"))","v":""},{"$f":"IF(DATA!EGG2=0,\"\",IFERROR(DATA!EGG2,\"\"))","v":""},{"$f":"IF(DATA!EGH2=0,\"\",IFERROR(DATA!EGH2,\"\"))","v":""},{"$f":"IF(DATA!EGI2=0,\"\",IFERROR(DATA!EGI2,\"\"))","v":""},{"$f":"IF(DATA!EGJ2=0,\"\",IFERROR(DATA!EGJ2,\"\"))","v":""},{"$f":"IF(DATA!EGK2=0,\"\",IFERROR(DATA!EGK2,\"\"))","v":""},{"$f":"IF(DATA!EGL2=0,\"\",IFERROR(DATA!EGL2,\"\"))","v":""},{"$f":"IF(DATA!EGM2=0,\"\",IFERROR(DATA!EGM2,\"\"))","v":""},{"$f":"IF(DATA!EGN2=0,\"\",IFERROR(DATA!EGN2,\"\"))","v":""},{"$f":"IF(DATA!EGO2=0,\"\",IFERROR(DATA!EGO2,\"\"))","v":""},{"$f":"IF(DATA!EGP2=0,\"\",IFERROR(DATA!EGP2,\"\"))","v":""},{"$f":"IF(DATA!EGQ2=0,\"\",IFERROR(DATA!EGQ2,\"\"))","v":""},{"$f":"IF(DATA!EGR2=0,\"\",IFERROR(DATA!EGR2,\"\"))","v":""},{"$f":"IF(DATA!EGS2=0,\"\",IFERROR(DATA!EGS2,\"\"))","v":""},{"$f":"IF(DATA!EGT2=0,\"\",IFERROR(DATA!EGT2,\"\"))","v":""},{"$f":"IF(DATA!EGU2=0,\"\",IFERROR(DATA!EGU2,\"\"))","v":""},{"$f":"IF(DATA!EGV2=0,\"\",IFERROR(DATA!EGV2,\"\"))","v":""},{"$f":"IF(DATA!EGW2=0,\"\",IFERROR(DATA!EGW2,\"\"))","v":""},{"$f":"IF(DATA!EGX2=0,\"\",IFERROR(DATA!EGX2,\"\"))","v":""},{"$f":"IF(DATA!EGY2=0,\"\",IFERROR(DATA!EGY2,\"\"))","v":""},{"$f":"IF(DATA!EGZ2=0,\"\",IFERROR(DATA!EGZ2,\"\"))","v":""},{"$f":"IF(DATA!EHA2=0,\"\",IFERROR(DATA!EHA2,\"\"))","v":""},{"$f":"IF(DATA!EHB2=0,\"\",IFERROR(DATA!EHB2,\"\"))","v":""},{"$f":"IF(DATA!EHC2=0,\"\",IFERROR(DATA!EHC2,\"\"))","v":""},{"$f":"IF(DATA!EHD2=0,\"\",IFERROR(DATA!EHD2,\"\"))","v":""},{"$f":"IF(DATA!EHE2=0,\"\",IFERROR(DATA!EHE2,\"\"))","v":""},{"$f":"IF(DATA!EHF2=0,\"\",IFERROR(DATA!EHF2,\"\"))","v":""},{"$f":"IF(DATA!EHG2=0,\"\",IFERROR(DATA!EHG2,\"\"))","v":""},{"$f":"IF(DATA!EHH2=0,\"\",IFERROR(DATA!EHH2,\"\"))","v":""},{"$f":"IF(DATA!EHI2=0,\"\",IFERROR(DATA!EHI2,\"\"))","v":""},{"$f":"IF(DATA!EHJ2=0,\"\",IFERROR(DATA!EHJ2,\"\"))","v":""},{"$f":"IF(DATA!EHK2=0,\"\",IFERROR(DATA!EHK2,\"\"))","v":""},{"$f":"IF(DATA!EHL2=0,\"\",IFERROR(DATA!EHL2,\"\"))","v":""},{"$f":"IF(DATA!EHM2=0,\"\",IFERROR(DATA!EHM2,\"\"))","v":""},{"$f":"IF(DATA!EHN2=0,\"\",IFERROR(DATA!EHN2,\"\"))","v":""},{"$f":"IF(DATA!EHO2=0,\"\",IFERROR(DATA!EHO2,\"\"))","v":""},{"$f":"IF(DATA!EHP2=0,\"\",IFERROR(DATA!EHP2,\"\"))","v":""},{"$f":"IF(DATA!EHQ2=0,\"\",IFERROR(DATA!EHQ2,\"\"))","v":""},{"$f":"IF(DATA!EHR2=0,\"\",IFERROR(DATA!EHR2,\"\"))","v":""},{"$f":"IF(DATA!EHS2=0,\"\",IFERROR(DATA!EHS2,\"\"))","v":""},{"$f":"IF(DATA!EHT2=0,\"\",IFERROR(DATA!EHT2,\"\"))","v":""},{"$f":"IF(DATA!EHU2=0,\"\",IFERROR(DATA!EHU2,\"\"))","v":""},{"$f":"IF(DATA!EHV2=0,\"\",IFERROR(DATA!EHV2,\"\"))","v":""},{"$f":"IF(DATA!EHW2=0,\"\",IFERROR(DATA!EHW2,\"\"))","v":""},{"$f":"IF(DATA!EHX2=0,\"\",IFERROR(DATA!EHX2,\"\"))","v":""},{"$f":"IF(DATA!EHY2=0,\"\",IFERROR(DATA!EHY2,\"\"))","v":""},{"$f":"IF(DATA!EHZ2=0,\"\",IFERROR(DATA!EHZ2,\"\"))","v":""},{"$f":"IF(DATA!EIA2=0,\"\",IFERROR(DATA!EIA2,\"\"))","v":""},{"$f":"IF(DATA!EIB2=0,\"\",IFERROR(DATA!EIB2,\"\"))","v":""},{"$f":"IF(DATA!EIC2=0,\"\",IFERROR(DATA!EIC2,\"\"))","v":""},{"$f":"IF(DATA!EID2=0,\"\",IFERROR(DATA!EID2,\"\"))","v":""},{"$f":"IF(DATA!EIE2=0,\"\",IFERROR(DATA!EIE2,\"\"))","v":""},{"$f":"IF(DATA!EIF2=0,\"\",IFERROR(DATA!EIF2,\"\"))","v":""},{"$f":"IF(DATA!EIG2=0,\"\",IFERROR(DATA!EIG2,\"\"))","v":""},{"$f":"IF(DATA!EIH2=0,\"\",IFERROR(DATA!EIH2,\"\"))","v":""},{"$f":"IF(DATA!EII2=0,\"\",IFERROR(DATA!EII2,\"\"))","v":""},{"$f":"IF(DATA!EIJ2=0,\"\",IFERROR(DATA!EIJ2,\"\"))","v":""},{"$f":"IF(DATA!EIK2=0,\"\",IFERROR(DATA!EIK2,\"\"))","v":""},{"$f":"IF(DATA!EIL2=0,\"\",IFERROR(DATA!EIL2,\"\"))","v":""},{"$f":"IF(DATA!EIM2=0,\"\",IFERROR(DATA!EIM2,\"\"))","v":""},{"$f":"IF(DATA!EIN2=0,\"\",IFERROR(DATA!EIN2,\"\"))","v":""},{"$f":"IF(DATA!EIO2=0,\"\",IFERROR(DATA!EIO2,\"\"))","v":""},{"$f":"IF(DATA!EIP2=0,\"\",IFERROR(DATA!EIP2,\"\"))","v":""},{"$f":"IF(DATA!EIQ2=0,\"\",IFERROR(DATA!EIQ2,\"\"))","v":""},{"$f":"IF(DATA!EIR2=0,\"\",IFERROR(DATA!EIR2,\"\"))","v":""},{"$f":"IF(DATA!EIS2=0,\"\",IFERROR(DATA!EIS2,\"\"))","v":""},{"$f":"IF(DATA!EIT2=0,\"\",IFERROR(DATA!EIT2,\"\"))","v":""},{"$f":"IF(DATA!EIU2=0,\"\",IFERROR(DATA!EIU2,\"\"))","v":""},{"$f":"IF(DATA!EIV2=0,\"\",IFERROR(DATA!EIV2,\"\"))","v":""},{"$f":"IF(DATA!EIW2=0,\"\",IFERROR(DATA!EIW2,\"\"))","v":""},{"$f":"IF(DATA!EIX2=0,\"\",IFERROR(DATA!EIX2,\"\"))","v":""},{"$f":"IF(DATA!EIY2=0,\"\",IFERROR(DATA!EIY2,\"\"))","v":""},{"$f":"IF(DATA!EIZ2=0,\"\",IFERROR(DATA!EIZ2,\"\"))","v":""},{"$f":"IF(DATA!EJA2=0,\"\",IFERROR(DATA!EJA2,\"\"))","v":""},{"$f":"IF(DATA!EJB2=0,\"\",IFERROR(DATA!EJB2,\"\"))","v":""},{"$f":"IF(DATA!EJC2=0,\"\",IFERROR(DATA!EJC2,\"\"))","v":""},{"$f":"IF(DATA!EJD2=0,\"\",IFERROR(DATA!EJD2,\"\"))","v":""},{"$f":"IF(DATA!EJE2=0,\"\",IFERROR(DATA!EJE2,\"\"))","v":""},{"$f":"IF(DATA!EJF2=0,\"\",IFERROR(DATA!EJF2,\"\"))","v":""},{"$f":"IF(DATA!EJG2=0,\"\",IFERROR(DATA!EJG2,\"\"))","v":""},{"$f":"IF(DATA!EJH2=0,\"\",IFERROR(DATA!EJH2,\"\"))","v":""},{"$f":"IF(DATA!EJI2=0,\"\",IFERROR(DATA!EJI2,\"\"))","v":""},{"$f":"IF(DATA!EJJ2=0,\"\",IFERROR(DATA!EJJ2,\"\"))","v":""},{"$f":"IF(DATA!EJK2=0,\"\",IFERROR(DATA!EJK2,\"\"))","v":""},{"$f":"IF(DATA!EJL2=0,\"\",IFERROR(DATA!EJL2,\"\"))","v":""},{"$f":"IF(DATA!EJM2=0,\"\",IFERROR(DATA!EJM2,\"\"))","v":""},{"$f":"IF(DATA!EJN2=0,\"\",IFERROR(DATA!EJN2,\"\"))","v":""},{"$f":"IF(DATA!EJO2=0,\"\",IFERROR(DATA!EJO2,\"\"))","v":""},{"$f":"IF(DATA!EJP2=0,\"\",IFERROR(DATA!EJP2,\"\"))","v":""},{"$f":"IF(DATA!EJQ2=0,\"\",IFERROR(DATA!EJQ2,\"\"))","v":""},{"$f":"IF(DATA!EJR2=0,\"\",IFERROR(DATA!EJR2,\"\"))","v":""},{"$f":"IF(DATA!EJS2=0,\"\",IFERROR(DATA!EJS2,\"\"))","v":""},{"$f":"IF(DATA!EJT2=0,\"\",IFERROR(DATA!EJT2,\"\"))","v":""},{"$f":"IF(DATA!EJU2=0,\"\",IFERROR(DATA!EJU2,\"\"))","v":""},{"$f":"IF(DATA!EJV2=0,\"\",IFERROR(DATA!EJV2,\"\"))","v":""},{"$f":"IF(DATA!EJW2=0,\"\",IFERROR(DATA!EJW2,\"\"))","v":""},{"$f":"IF(DATA!EJX2=0,\"\",IFERROR(DATA!EJX2,\"\"))","v":""},{"$f":"IF(DATA!EJY2=0,\"\",IFERROR(DATA!EJY2,\"\"))","v":""},{"$f":"IF(DATA!EJZ2=0,\"\",IFERROR(DATA!EJZ2,\"\"))","v":""},{"$f":"IF(DATA!EKA2=0,\"\",IFERROR(DATA!EKA2,\"\"))","v":""},{"$f":"IF(DATA!EKB2=0,\"\",IFERROR(DATA!EKB2,\"\"))","v":""},{"$f":"IF(DATA!EKC2=0,\"\",IFERROR(DATA!EKC2,\"\"))","v":""},{"$f":"IF(DATA!EKD2=0,\"\",IFERROR(DATA!EKD2,\"\"))","v":""},{"$f":"IF(DATA!EKE2=0,\"\",IFERROR(DATA!EKE2,\"\"))","v":""},{"$f":"IF(DATA!EKF2=0,\"\",IFERROR(DATA!EKF2,\"\"))","v":""},{"$f":"IF(DATA!EKG2=0,\"\",IFERROR(DATA!EKG2,\"\"))","v":""},{"$f":"IF(DATA!EKH2=0,\"\",IFERROR(DATA!EKH2,\"\"))","v":""},{"$f":"IF(DATA!EKI2=0,\"\",IFERROR(DATA!EKI2,\"\"))","v":""},{"$f":"IF(DATA!EKJ2=0,\"\",IFERROR(DATA!EKJ2,\"\"))","v":""},{"$f":"IF(DATA!EKK2=0,\"\",IFERROR(DATA!EKK2,\"\"))","v":""},{"$f":"IF(DATA!EKL2=0,\"\",IFERROR(DATA!EKL2,\"\"))","v":""},{"$f":"IF(DATA!EKM2=0,\"\",IFERROR(DATA!EKM2,\"\"))","v":""},{"$f":"IF(DATA!EKN2=0,\"\",IFERROR(DATA!EKN2,\"\"))","v":""},{"$f":"IF(DATA!EKO2=0,\"\",IFERROR(DATA!EKO2,\"\"))","v":""},{"$f":"IF(DATA!EKP2=0,\"\",IFERROR(DATA!EKP2,\"\"))","v":""},{"$f":"IF(DATA!EKQ2=0,\"\",IFERROR(DATA!EKQ2,\"\"))","v":""},{"$f":"IF(DATA!EKR2=0,\"\",IFERROR(DATA!EKR2,\"\"))","v":""},{"$f":"IF(DATA!EKS2=0,\"\",IFERROR(DATA!EKS2,\"\"))","v":""},{"$f":"IF(DATA!EKT2=0,\"\",IFERROR(DATA!EKT2,\"\"))","v":""},{"$f":"IF(DATA!EKU2=0,\"\",IFERROR(DATA!EKU2,\"\"))","v":""},{"$f":"IF(DATA!EKV2=0,\"\",IFERROR(DATA!EKV2,\"\"))","v":""},{"$f":"IF(DATA!EKW2=0,\"\",IFERROR(DATA!EKW2,\"\"))","v":""},{"$f":"IF(DATA!EKX2=0,\"\",IFERROR(DATA!EKX2,\"\"))","v":""},{"$f":"IF(DATA!EKY2=0,\"\",IFERROR(DATA!EKY2,\"\"))","v":""},{"$f":"IF(DATA!EKZ2=0,\"\",IFERROR(DATA!EKZ2,\"\"))","v":""},{"$f":"IF(DATA!ELA2=0,\"\",IFERROR(DATA!ELA2,\"\"))","v":""},{"$f":"IF(DATA!ELB2=0,\"\",IFERROR(DATA!ELB2,\"\"))","v":""},{"$f":"IF(DATA!ELC2=0,\"\",IFERROR(DATA!ELC2,\"\"))","v":""},{"$f":"IF(DATA!ELD2=0,\"\",IFERROR(DATA!ELD2,\"\"))","v":""},{"$f":"IF(DATA!ELE2=0,\"\",IFERROR(DATA!ELE2,\"\"))","v":""},{"$f":"IF(DATA!ELF2=0,\"\",IFERROR(DATA!ELF2,\"\"))","v":""},{"$f":"IF(DATA!ELG2=0,\"\",IFERROR(DATA!ELG2,\"\"))","v":""},{"$f":"IF(DATA!ELH2=0,\"\",IFERROR(DATA!ELH2,\"\"))","v":""},{"$f":"IF(DATA!ELI2=0,\"\",IFERROR(DATA!ELI2,\"\"))","v":""},{"$f":"IF(DATA!ELJ2=0,\"\",IFERROR(DATA!ELJ2,\"\"))","v":""},{"$f":"IF(DATA!ELK2=0,\"\",IFERROR(DATA!ELK2,\"\"))","v":""},{"$f":"IF(DATA!ELL2=0,\"\",IFERROR(DATA!ELL2,\"\"))","v":""},{"$f":"IF(DATA!ELM2=0,\"\",IFERROR(DATA!ELM2,\"\"))","v":""},{"$f":"IF(DATA!ELN2=0,\"\",IFERROR(DATA!ELN2,\"\"))","v":""},{"$f":"IF(DATA!ELO2=0,\"\",IFERROR(DATA!ELO2,\"\"))","v":""},{"$f":"IF(DATA!ELP2=0,\"\",IFERROR(DATA!ELP2,\"\"))","v":""},{"$f":"IF(DATA!ELQ2=0,\"\",IFERROR(DATA!ELQ2,\"\"))","v":""},{"$f":"IF(DATA!ELR2=0,\"\",IFERROR(DATA!ELR2,\"\"))","v":""},{"$f":"IF(DATA!ELS2=0,\"\",IFERROR(DATA!ELS2,\"\"))","v":""},{"$f":"IF(DATA!ELT2=0,\"\",IFERROR(DATA!ELT2,\"\"))","v":""},{"$f":"IF(DATA!ELU2=0,\"\",IFERROR(DATA!ELU2,\"\"))","v":""},{"$f":"IF(DATA!ELV2=0,\"\",IFERROR(DATA!ELV2,\"\"))","v":""},{"$f":"IF(DATA!ELW2=0,\"\",IFERROR(DATA!ELW2,\"\"))","v":""},{"$f":"IF(DATA!ELX2=0,\"\",IFERROR(DATA!ELX2,\"\"))","v":""},{"$f":"IF(DATA!ELY2=0,\"\",IFERROR(DATA!ELY2,\"\"))","v":""},{"$f":"IF(DATA!ELZ2=0,\"\",IFERROR(DATA!ELZ2,\"\"))","v":""},{"$f":"IF(DATA!EMA2=0,\"\",IFERROR(DATA!EMA2,\"\"))","v":""},{"$f":"IF(DATA!EMB2=0,\"\",IFERROR(DATA!EMB2,\"\"))","v":""},{"$f":"IF(DATA!EMC2=0,\"\",IFERROR(DATA!EMC2,\"\"))","v":""},{"$f":"IF(DATA!EMD2=0,\"\",IFERROR(DATA!EMD2,\"\"))","v":""},{"$f":"IF(DATA!EME2=0,\"\",IFERROR(DATA!EME2,\"\"))","v":""},{"$f":"IF(DATA!EMF2=0,\"\",IFERROR(DATA!EMF2,\"\"))","v":""},{"$f":"IF(DATA!EMG2=0,\"\",IFERROR(DATA!EMG2,\"\"))","v":""},{"$f":"IF(DATA!EMH2=0,\"\",IFERROR(DATA!EMH2,\"\"))","v":""},{"$f":"IF(DATA!EMI2=0,\"\",IFERROR(DATA!EMI2,\"\"))","v":""},{"$f":"IF(DATA!EMJ2=0,\"\",IFERROR(DATA!EMJ2,\"\"))","v":""},{"$f":"IF(DATA!EMK2=0,\"\",IFERROR(DATA!EMK2,\"\"))","v":""},{"$f":"IF(DATA!EML2=0,\"\",IFERROR(DATA!EML2,\"\"))","v":""},{"$f":"IF(DATA!EMM2=0,\"\",IFERROR(DATA!EMM2,\"\"))","v":""},{"$f":"IF(DATA!EMN2=0,\"\",IFERROR(DATA!EMN2,\"\"))","v":""},{"$f":"IF(DATA!EMO2=0,\"\",IFERROR(DATA!EMO2,\"\"))","v":""},{"$f":"IF(DATA!EMP2=0,\"\",IFERROR(DATA!EMP2,\"\"))","v":""},{"$f":"IF(DATA!EMQ2=0,\"\",IFERROR(DATA!EMQ2,\"\"))","v":""},{"$f":"IF(DATA!EMR2=0,\"\",IFERROR(DATA!EMR2,\"\"))","v":""},{"$f":"IF(DATA!EMS2=0,\"\",IFERROR(DATA!EMS2,\"\"))","v":""},{"$f":"IF(DATA!EMT2=0,\"\",IFERROR(DATA!EMT2,\"\"))","v":""},{"$f":"IF(DATA!EMU2=0,\"\",IFERROR(DATA!EMU2,\"\"))","v":""},{"$f":"IF(DATA!EMV2=0,\"\",IFERROR(DATA!EMV2,\"\"))","v":""},{"$f":"IF(DATA!EMW2=0,\"\",IFERROR(DATA!EMW2,\"\"))","v":""},{"$f":"IF(DATA!EMX2=0,\"\",IFERROR(DATA!EMX2,\"\"))","v":""},{"$f":"IF(DATA!EMY2=0,\"\",IFERROR(DATA!EMY2,\"\"))","v":""},{"$f":"IF(DATA!EMZ2=0,\"\",IFERROR(DATA!EMZ2,\"\"))","v":""},{"$f":"IF(DATA!ENA2=0,\"\",IFERROR(DATA!ENA2,\"\"))","v":""},{"$f":"IF(DATA!ENB2=0,\"\",IFERROR(DATA!ENB2,\"\"))","v":""},{"$f":"IF(DATA!ENC2=0,\"\",IFERROR(DATA!ENC2,\"\"))","v":""},{"$f":"IF(DATA!END2=0,\"\",IFERROR(DATA!END2,\"\"))","v":""},{"$f":"IF(DATA!ENE2=0,\"\",IFERROR(DATA!ENE2,\"\"))","v":""},{"$f":"IF(DATA!ENF2=0,\"\",IFERROR(DATA!ENF2,\"\"))","v":""},{"$f":"IF(DATA!ENG2=0,\"\",IFERROR(DATA!ENG2,\"\"))","v":""},{"$f":"IF(DATA!ENH2=0,\"\",IFERROR(DATA!ENH2,\"\"))","v":""},{"$f":"IF(DATA!ENI2=0,\"\",IFERROR(DATA!ENI2,\"\"))","v":""},{"$f":"IF(DATA!ENJ2=0,\"\",IFERROR(DATA!ENJ2,\"\"))","v":""},{"$f":"IF(DATA!ENK2=0,\"\",IFERROR(DATA!ENK2,\"\"))","v":""},{"$f":"IF(DATA!ENL2=0,\"\",IFERROR(DATA!ENL2,\"\"))","v":""},{"$f":"IF(DATA!ENM2=0,\"\",IFERROR(DATA!ENM2,\"\"))","v":""},{"$f":"IF(DATA!ENN2=0,\"\",IFERROR(DATA!ENN2,\"\"))","v":""},{"$f":"IF(DATA!ENO2=0,\"\",IFERROR(DATA!ENO2,\"\"))","v":""},{"$f":"IF(DATA!ENP2=0,\"\",IFERROR(DATA!ENP2,\"\"))","v":""},{"$f":"IF(DATA!ENQ2=0,\"\",IFERROR(DATA!ENQ2,\"\"))","v":""},{"$f":"IF(DATA!ENR2=0,\"\",IFERROR(DATA!ENR2,\"\"))","v":""},{"$f":"IF(DATA!ENS2=0,\"\",IFERROR(DATA!ENS2,\"\"))","v":""},{"$f":"IF(DATA!ENT2=0,\"\",IFERROR(DATA!ENT2,\"\"))","v":""},{"$f":"IF(DATA!ENU2=0,\"\",IFERROR(DATA!ENU2,\"\"))","v":""},{"$f":"IF(DATA!ENV2=0,\"\",IFERROR(DATA!ENV2,\"\"))","v":""},{"$f":"IF(DATA!ENW2=0,\"\",IFERROR(DATA!ENW2,\"\"))","v":""},{"$f":"IF(DATA!ENX2=0,\"\",IFERROR(DATA!ENX2,\"\"))","v":""},{"$f":"IF(DATA!ENY2=0,\"\",IFERROR(DATA!ENY2,\"\"))","v":""},{"$f":"IF(DATA!ENZ2=0,\"\",IFERROR(DATA!ENZ2,\"\"))","v":""},{"$f":"IF(DATA!EOA2=0,\"\",IFERROR(DATA!EOA2,\"\"))","v":""},{"$f":"IF(DATA!EOB2=0,\"\",IFERROR(DATA!EOB2,\"\"))","v":""},{"$f":"IF(DATA!EOC2=0,\"\",IFERROR(DATA!EOC2,\"\"))","v":""},{"$f":"IF(DATA!EOD2=0,\"\",IFERROR(DATA!EOD2,\"\"))","v":""},{"$f":"IF(DATA!EOE2=0,\"\",IFERROR(DATA!EOE2,\"\"))","v":""},{"$f":"IF(DATA!EOF2=0,\"\",IFERROR(DATA!EOF2,\"\"))","v":""},{"$f":"IF(DATA!EOG2=0,\"\",IFERROR(DATA!EOG2,\"\"))","v":""},{"$f":"IF(DATA!EOH2=0,\"\",IFERROR(DATA!EOH2,\"\"))","v":""},{"$f":"IF(DATA!EOI2=0,\"\",IFERROR(DATA!EOI2,\"\"))","v":""},{"$f":"IF(DATA!EOJ2=0,\"\",IFERROR(DATA!EOJ2,\"\"))","v":""},{"$f":"IF(DATA!EOK2=0,\"\",IFERROR(DATA!EOK2,\"\"))","v":""},{"$f":"IF(DATA!EOL2=0,\"\",IFERROR(DATA!EOL2,\"\"))","v":""},{"$f":"IF(DATA!EOM2=0,\"\",IFERROR(DATA!EOM2,\"\"))","v":""},{"$f":"IF(DATA!EON2=0,\"\",IFERROR(DATA!EON2,\"\"))","v":""},{"$f":"IF(DATA!EOO2=0,\"\",IFERROR(DATA!EOO2,\"\"))","v":""},{"$f":"IF(DATA!EOP2=0,\"\",IFERROR(DATA!EOP2,\"\"))","v":""},{"$f":"IF(DATA!EOQ2=0,\"\",IFERROR(DATA!EOQ2,\"\"))","v":""},{"$f":"IF(DATA!EOR2=0,\"\",IFERROR(DATA!EOR2,\"\"))","v":""},{"$f":"IF(DATA!EOS2=0,\"\",IFERROR(DATA!EOS2,\"\"))","v":""},{"$f":"IF(DATA!EOT2=0,\"\",IFERROR(DATA!EOT2,\"\"))","v":""},{"$f":"IF(DATA!EOU2=0,\"\",IFERROR(DATA!EOU2,\"\"))","v":""},{"$f":"IF(DATA!EOV2=0,\"\",IFERROR(DATA!EOV2,\"\"))","v":""},{"$f":"IF(DATA!EOW2=0,\"\",IFERROR(DATA!EOW2,\"\"))","v":""},{"$f":"IF(DATA!EOX2=0,\"\",IFERROR(DATA!EOX2,\"\"))","v":""},{"$f":"IF(DATA!EOY2=0,\"\",IFERROR(DATA!EOY2,\"\"))","v":""},{"$f":"IF(DATA!EOZ2=0,\"\",IFERROR(DATA!EOZ2,\"\"))","v":""},{"$f":"IF(DATA!EPA2=0,\"\",IFERROR(DATA!EPA2,\"\"))","v":""},{"$f":"IF(DATA!EPB2=0,\"\",IFERROR(DATA!EPB2,\"\"))","v":""},{"$f":"IF(DATA!EPC2=0,\"\",IFERROR(DATA!EPC2,\"\"))","v":""},{"$f":"IF(DATA!EPD2=0,\"\",IFERROR(DATA!EPD2,\"\"))","v":""},{"$f":"IF(DATA!EPE2=0,\"\",IFERROR(DATA!EPE2,\"\"))","v":""},{"$f":"IF(DATA!EPF2=0,\"\",IFERROR(DATA!EPF2,\"\"))","v":""},{"$f":"IF(DATA!EPG2=0,\"\",IFERROR(DATA!EPG2,\"\"))","v":""},{"$f":"IF(DATA!EPH2=0,\"\",IFERROR(DATA!EPH2,\"\"))","v":""},{"$f":"IF(DATA!EPI2=0,\"\",IFERROR(DATA!EPI2,\"\"))","v":""},{"$f":"IF(DATA!EPJ2=0,\"\",IFERROR(DATA!EPJ2,\"\"))","v":""},{"$f":"IF(DATA!EPK2=0,\"\",IFERROR(DATA!EPK2,\"\"))","v":""},{"$f":"IF(DATA!EPL2=0,\"\",IFERROR(DATA!EPL2,\"\"))","v":""},{"$f":"IF(DATA!EPM2=0,\"\",IFERROR(DATA!EPM2,\"\"))","v":""},{"$f":"IF(DATA!EPN2=0,\"\",IFERROR(DATA!EPN2,\"\"))","v":""},{"$f":"IF(DATA!EPO2=0,\"\",IFERROR(DATA!EPO2,\"\"))","v":""},{"$f":"IF(DATA!EPP2=0,\"\",IFERROR(DATA!EPP2,\"\"))","v":""},{"$f":"IF(DATA!EPQ2=0,\"\",IFERROR(DATA!EPQ2,\"\"))","v":""},{"$f":"IF(DATA!EPR2=0,\"\",IFERROR(DATA!EPR2,\"\"))","v":""},{"$f":"IF(DATA!EPS2=0,\"\",IFERROR(DATA!EPS2,\"\"))","v":""},{"$f":"IF(DATA!EPT2=0,\"\",IFERROR(DATA!EPT2,\"\"))","v":""},{"$f":"IF(DATA!EPU2=0,\"\",IFERROR(DATA!EPU2,\"\"))","v":""},{"$f":"IF(DATA!EPV2=0,\"\",IFERROR(DATA!EPV2,\"\"))","v":""},{"$f":"IF(DATA!EPW2=0,\"\",IFERROR(DATA!EPW2,\"\"))","v":""},{"$f":"IF(DATA!EPX2=0,\"\",IFERROR(DATA!EPX2,\"\"))","v":""},{"$f":"IF(DATA!EPY2=0,\"\",IFERROR(DATA!EPY2,\"\"))","v":""},{"$f":"IF(DATA!EPZ2=0,\"\",IFERROR(DATA!EPZ2,\"\"))","v":""},{"$f":"IF(DATA!EQA2=0,\"\",IFERROR(DATA!EQA2,\"\"))","v":""},{"$f":"IF(DATA!EQB2=0,\"\",IFERROR(DATA!EQB2,\"\"))","v":""},{"$f":"IF(DATA!EQC2=0,\"\",IFERROR(DATA!EQC2,\"\"))","v":""},{"$f":"IF(DATA!EQD2=0,\"\",IFERROR(DATA!EQD2,\"\"))","v":""},{"$f":"IF(DATA!EQE2=0,\"\",IFERROR(DATA!EQE2,\"\"))","v":""},{"$f":"IF(DATA!EQF2=0,\"\",IFERROR(DATA!EQF2,\"\"))","v":""},{"$f":"IF(DATA!EQG2=0,\"\",IFERROR(DATA!EQG2,\"\"))","v":""},{"$f":"IF(DATA!EQH2=0,\"\",IFERROR(DATA!EQH2,\"\"))","v":""},{"$f":"IF(DATA!EQI2=0,\"\",IFERROR(DATA!EQI2,\"\"))","v":""},{"$f":"IF(DATA!EQJ2=0,\"\",IFERROR(DATA!EQJ2,\"\"))","v":""},{"$f":"IF(DATA!EQK2=0,\"\",IFERROR(DATA!EQK2,\"\"))","v":""},{"$f":"IF(DATA!EQL2=0,\"\",IFERROR(DATA!EQL2,\"\"))","v":""},{"$f":"IF(DATA!EQM2=0,\"\",IFERROR(DATA!EQM2,\"\"))","v":""},{"$f":"IF(DATA!EQN2=0,\"\",IFERROR(DATA!EQN2,\"\"))","v":""},{"$f":"IF(DATA!EQO2=0,\"\",IFERROR(DATA!EQO2,\"\"))","v":""},{"$f":"IF(DATA!EQP2=0,\"\",IFERROR(DATA!EQP2,\"\"))","v":""},{"$f":"IF(DATA!EQQ2=0,\"\",IFERROR(DATA!EQQ2,\"\"))","v":""},{"$f":"IF(DATA!EQR2=0,\"\",IFERROR(DATA!EQR2,\"\"))","v":""},{"$f":"IF(DATA!EQS2=0,\"\",IFERROR(DATA!EQS2,\"\"))","v":""},{"$f":"IF(DATA!EQT2=0,\"\",IFERROR(DATA!EQT2,\"\"))","v":""},{"$f":"IF(DATA!EQU2=0,\"\",IFERROR(DATA!EQU2,\"\"))","v":""},{"$f":"IF(DATA!EQV2=0,\"\",IFERROR(DATA!EQV2,\"\"))","v":""},{"$f":"IF(DATA!EQW2=0,\"\",IFERROR(DATA!EQW2,\"\"))","v":""},{"$f":"IF(DATA!EQX2=0,\"\",IFERROR(DATA!EQX2,\"\"))","v":""},{"$f":"IF(DATA!EQY2=0,\"\",IFERROR(DATA!EQY2,\"\"))","v":""},{"$f":"IF(DATA!EQZ2=0,\"\",IFERROR(DATA!EQZ2,\"\"))","v":""},{"$f":"IF(DATA!ERA2=0,\"\",IFERROR(DATA!ERA2,\"\"))","v":""},{"$f":"IF(DATA!ERB2=0,\"\",IFERROR(DATA!ERB2,\"\"))","v":""},{"$f":"IF(DATA!ERC2=0,\"\",IFERROR(DATA!ERC2,\"\"))","v":""},{"$f":"IF(DATA!ERD2=0,\"\",IFERROR(DATA!ERD2,\"\"))","v":""},{"$f":"IF(DATA!ERE2=0,\"\",IFERROR(DATA!ERE2,\"\"))","v":""},{"$f":"IF(DATA!ERF2=0,\"\",IFERROR(DATA!ERF2,\"\"))","v":""},{"$f":"IF(DATA!ERG2=0,\"\",IFERROR(DATA!ERG2,\"\"))","v":""},{"$f":"IF(DATA!ERH2=0,\"\",IFERROR(DATA!ERH2,\"\"))","v":""},{"$f":"IF(DATA!ERI2=0,\"\",IFERROR(DATA!ERI2,\"\"))","v":""},{"$f":"IF(DATA!ERJ2=0,\"\",IFERROR(DATA!ERJ2,\"\"))","v":""},{"$f":"IF(DATA!ERK2=0,\"\",IFERROR(DATA!ERK2,\"\"))","v":""},{"$f":"IF(DATA!ERL2=0,\"\",IFERROR(DATA!ERL2,\"\"))","v":""},{"$f":"IF(DATA!ERM2=0,\"\",IFERROR(DATA!ERM2,\"\"))","v":""},{"$f":"IF(DATA!ERN2=0,\"\",IFERROR(DATA!ERN2,\"\"))","v":""},{"$f":"IF(DATA!ERO2=0,\"\",IFERROR(DATA!ERO2,\"\"))","v":""},{"$f":"IF(DATA!ERP2=0,\"\",IFERROR(DATA!ERP2,\"\"))","v":""},{"$f":"IF(DATA!ERQ2=0,\"\",IFERROR(DATA!ERQ2,\"\"))","v":""},{"$f":"IF(DATA!ERR2=0,\"\",IFERROR(DATA!ERR2,\"\"))","v":""},{"$f":"IF(DATA!ERS2=0,\"\",IFERROR(DATA!ERS2,\"\"))","v":""},{"$f":"IF(DATA!ERT2=0,\"\",IFERROR(DATA!ERT2,\"\"))","v":""},{"$f":"IF(DATA!ERU2=0,\"\",IFERROR(DATA!ERU2,\"\"))","v":""},{"$f":"IF(DATA!ERV2=0,\"\",IFERROR(DATA!ERV2,\"\"))","v":""},{"$f":"IF(DATA!ERW2=0,\"\",IFERROR(DATA!ERW2,\"\"))","v":""},{"$f":"IF(DATA!ERX2=0,\"\",IFERROR(DATA!ERX2,\"\"))","v":""},{"$f":"IF(DATA!ERY2=0,\"\",IFERROR(DATA!ERY2,\"\"))","v":""},{"$f":"IF(DATA!ERZ2=0,\"\",IFERROR(DATA!ERZ2,\"\"))","v":""},{"$f":"IF(DATA!ESA2=0,\"\",IFERROR(DATA!ESA2,\"\"))","v":""},{"$f":"IF(DATA!ESB2=0,\"\",IFERROR(DATA!ESB2,\"\"))","v":""},{"$f":"IF(DATA!ESC2=0,\"\",IFERROR(DATA!ESC2,\"\"))","v":""},{"$f":"IF(DATA!ESD2=0,\"\",IFERROR(DATA!ESD2,\"\"))","v":""},{"$f":"IF(DATA!ESE2=0,\"\",IFERROR(DATA!ESE2,\"\"))","v":""},{"$f":"IF(DATA!ESF2=0,\"\",IFERROR(DATA!ESF2,\"\"))","v":""},{"$f":"IF(DATA!ESG2=0,\"\",IFERROR(DATA!ESG2,\"\"))","v":""},{"$f":"IF(DATA!ESH2=0,\"\",IFERROR(DATA!ESH2,\"\"))","v":""},{"$f":"IF(DATA!ESI2=0,\"\",IFERROR(DATA!ESI2,\"\"))","v":""},{"$f":"IF(DATA!ESJ2=0,\"\",IFERROR(DATA!ESJ2,\"\"))","v":""},{"$f":"IF(DATA!ESK2=0,\"\",IFERROR(DATA!ESK2,\"\"))","v":""},{"$f":"IF(DATA!ESL2=0,\"\",IFERROR(DATA!ESL2,\"\"))","v":""},{"$f":"IF(DATA!ESM2=0,\"\",IFERROR(DATA!ESM2,\"\"))","v":""},{"$f":"IF(DATA!ESN2=0,\"\",IFERROR(DATA!ESN2,\"\"))","v":""},{"$f":"IF(DATA!ESO2=0,\"\",IFERROR(DATA!ESO2,\"\"))","v":""},{"$f":"IF(DATA!ESP2=0,\"\",IFERROR(DATA!ESP2,\"\"))","v":""},{"$f":"IF(DATA!ESQ2=0,\"\",IFERROR(DATA!ESQ2,\"\"))","v":""},{"$f":"IF(DATA!ESR2=0,\"\",IFERROR(DATA!ESR2,\"\"))","v":""},{"$f":"IF(DATA!ESS2=0,\"\",IFERROR(DATA!ESS2,\"\"))","v":""},{"$f":"IF(DATA!EST2=0,\"\",IFERROR(DATA!EST2,\"\"))","v":""},{"$f":"IF(DATA!ESU2=0,\"\",IFERROR(DATA!ESU2,\"\"))","v":""},{"$f":"IF(DATA!ESV2=0,\"\",IFERROR(DATA!ESV2,\"\"))","v":""},{"$f":"IF(DATA!ESW2=0,\"\",IFERROR(DATA!ESW2,\"\"))","v":""},{"$f":"IF(DATA!ESX2=0,\"\",IFERROR(DATA!ESX2,\"\"))","v":""},{"$f":"IF(DATA!ESY2=0,\"\",IFERROR(DATA!ESY2,\"\"))","v":""},{"$f":"IF(DATA!ESZ2=0,\"\",IFERROR(DATA!ESZ2,\"\"))","v":""},{"$f":"IF(DATA!ETA2=0,\"\",IFERROR(DATA!ETA2,\"\"))","v":""},{"$f":"IF(DATA!ETB2=0,\"\",IFERROR(DATA!ETB2,\"\"))","v":""},{"$f":"IF(DATA!ETC2=0,\"\",IFERROR(DATA!ETC2,\"\"))","v":""},{"$f":"IF(DATA!ETD2=0,\"\",IFERROR(DATA!ETD2,\"\"))","v":""},{"$f":"IF(DATA!ETE2=0,\"\",IFERROR(DATA!ETE2,\"\"))","v":""},{"$f":"IF(DATA!ETF2=0,\"\",IFERROR(DATA!ETF2,\"\"))","v":""},{"$f":"IF(DATA!ETG2=0,\"\",IFERROR(DATA!ETG2,\"\"))","v":""},{"$f":"IF(DATA!ETH2=0,\"\",IFERROR(DATA!ETH2,\"\"))","v":""},{"$f":"IF(DATA!ETI2=0,\"\",IFERROR(DATA!ETI2,\"\"))","v":""},{"$f":"IF(DATA!ETJ2=0,\"\",IFERROR(DATA!ETJ2,\"\"))","v":""},{"$f":"IF(DATA!ETK2=0,\"\",IFERROR(DATA!ETK2,\"\"))","v":""},{"$f":"IF(DATA!ETL2=0,\"\",IFERROR(DATA!ETL2,\"\"))","v":""},{"$f":"IF(DATA!ETM2=0,\"\",IFERROR(DATA!ETM2,\"\"))","v":""},{"$f":"IF(DATA!ETN2=0,\"\",IFERROR(DATA!ETN2,\"\"))","v":""},{"$f":"IF(DATA!ETO2=0,\"\",IFERROR(DATA!ETO2,\"\"))","v":""},{"$f":"IF(DATA!ETP2=0,\"\",IFERROR(DATA!ETP2,\"\"))","v":""},{"$f":"IF(DATA!ETQ2=0,\"\",IFERROR(DATA!ETQ2,\"\"))","v":""},{"$f":"IF(DATA!ETR2=0,\"\",IFERROR(DATA!ETR2,\"\"))","v":""},{"$f":"IF(DATA!ETS2=0,\"\",IFERROR(DATA!ETS2,\"\"))","v":""},{"$f":"IF(DATA!ETT2=0,\"\",IFERROR(DATA!ETT2,\"\"))","v":""},{"$f":"IF(DATA!ETU2=0,\"\",IFERROR(DATA!ETU2,\"\"))","v":""},{"$f":"IF(DATA!ETV2=0,\"\",IFERROR(DATA!ETV2,\"\"))","v":""},{"$f":"IF(DATA!ETW2=0,\"\",IFERROR(DATA!ETW2,\"\"))","v":""},{"$f":"IF(DATA!ETX2=0,\"\",IFERROR(DATA!ETX2,\"\"))","v":""},{"$f":"IF(DATA!ETY2=0,\"\",IFERROR(DATA!ETY2,\"\"))","v":""},{"$f":"IF(DATA!ETZ2=0,\"\",IFERROR(DATA!ETZ2,\"\"))","v":""},{"$f":"IF(DATA!EUA2=0,\"\",IFERROR(DATA!EUA2,\"\"))","v":""},{"$f":"IF(DATA!EUB2=0,\"\",IFERROR(DATA!EUB2,\"\"))","v":""},{"$f":"IF(DATA!EUC2=0,\"\",IFERROR(DATA!EUC2,\"\"))","v":""},{"$f":"IF(DATA!EUD2=0,\"\",IFERROR(DATA!EUD2,\"\"))","v":""},{"$f":"IF(DATA!EUE2=0,\"\",IFERROR(DATA!EUE2,\"\"))","v":""},{"$f":"IF(DATA!EUF2=0,\"\",IFERROR(DATA!EUF2,\"\"))","v":""},{"$f":"IF(DATA!EUG2=0,\"\",IFERROR(DATA!EUG2,\"\"))","v":""},{"$f":"IF(DATA!EUH2=0,\"\",IFERROR(DATA!EUH2,\"\"))","v":""},{"$f":"IF(DATA!EUI2=0,\"\",IFERROR(DATA!EUI2,\"\"))","v":""},{"$f":"IF(DATA!EUJ2=0,\"\",IFERROR(DATA!EUJ2,\"\"))","v":""},{"$f":"IF(DATA!EUK2=0,\"\",IFERROR(DATA!EUK2,\"\"))","v":""},{"$f":"IF(DATA!EUL2=0,\"\",IFERROR(DATA!EUL2,\"\"))","v":""},{"$f":"IF(DATA!EUM2=0,\"\",IFERROR(DATA!EUM2,\"\"))","v":""},{"$f":"IF(DATA!EUN2=0,\"\",IFERROR(DATA!EUN2,\"\"))","v":""},{"$f":"IF(DATA!EUO2=0,\"\",IFERROR(DATA!EUO2,\"\"))","v":""},{"$f":"IF(DATA!EUP2=0,\"\",IFERROR(DATA!EUP2,\"\"))","v":""},{"$f":"IF(DATA!EUQ2=0,\"\",IFERROR(DATA!EUQ2,\"\"))","v":""},{"$f":"IF(DATA!EUR2=0,\"\",IFERROR(DATA!EUR2,\"\"))","v":""},{"$f":"IF(DATA!EUS2=0,\"\",IFERROR(DATA!EUS2,\"\"))","v":""},{"$f":"IF(DATA!EUT2=0,\"\",IFERROR(DATA!EUT2,\"\"))","v":""},{"$f":"IF(DATA!EUU2=0,\"\",IFERROR(DATA!EUU2,\"\"))","v":""},{"$f":"IF(DATA!EUV2=0,\"\",IFERROR(DATA!EUV2,\"\"))","v":""},{"$f":"IF(DATA!EUW2=0,\"\",IFERROR(DATA!EUW2,\"\"))","v":""},{"$f":"IF(DATA!EUX2=0,\"\",IFERROR(DATA!EUX2,\"\"))","v":""},{"$f":"IF(DATA!EUY2=0,\"\",IFERROR(DATA!EUY2,\"\"))","v":""},{"$f":"IF(DATA!EUZ2=0,\"\",IFERROR(DATA!EUZ2,\"\"))","v":""},{"$f":"IF(DATA!EVA2=0,\"\",IFERROR(DATA!EVA2,\"\"))","v":""},{"$f":"IF(DATA!EVB2=0,\"\",IFERROR(DATA!EVB2,\"\"))","v":""},{"$f":"IF(DATA!EVC2=0,\"\",IFERROR(DATA!EVC2,\"\"))","v":""},{"$f":"IF(DATA!EVD2=0,\"\",IFERROR(DATA!EVD2,\"\"))","v":""},{"$f":"IF(DATA!EVE2=0,\"\",IFERROR(DATA!EVE2,\"\"))","v":""},{"$f":"IF(DATA!EVF2=0,\"\",IFERROR(DATA!EVF2,\"\"))","v":""},{"$f":"IF(DATA!EVG2=0,\"\",IFERROR(DATA!EVG2,\"\"))","v":""},{"$f":"IF(DATA!EVH2=0,\"\",IFERROR(DATA!EVH2,\"\"))","v":""},{"$f":"IF(DATA!EVI2=0,\"\",IFERROR(DATA!EVI2,\"\"))","v":""},{"$f":"IF(DATA!EVJ2=0,\"\",IFERROR(DATA!EVJ2,\"\"))","v":""},{"$f":"IF(DATA!EVK2=0,\"\",IFERROR(DATA!EVK2,\"\"))","v":""},{"$f":"IF(DATA!EVL2=0,\"\",IFERROR(DATA!EVL2,\"\"))","v":""},{"$f":"IF(DATA!EVM2=0,\"\",IFERROR(DATA!EVM2,\"\"))","v":""},{"$f":"IF(DATA!EVN2=0,\"\",IFERROR(DATA!EVN2,\"\"))","v":""},{"$f":"IF(DATA!EVO2=0,\"\",IFERROR(DATA!EVO2,\"\"))","v":""},{"$f":"IF(DATA!EVP2=0,\"\",IFERROR(DATA!EVP2,\"\"))","v":""},{"$f":"IF(DATA!EVQ2=0,\"\",IFERROR(DATA!EVQ2,\"\"))","v":""},{"$f":"IF(DATA!EVR2=0,\"\",IFERROR(DATA!EVR2,\"\"))","v":""},{"$f":"IF(DATA!EVS2=0,\"\",IFERROR(DATA!EVS2,\"\"))","v":""},{"$f":"IF(DATA!EVT2=0,\"\",IFERROR(DATA!EVT2,\"\"))","v":""},{"$f":"IF(DATA!EVU2=0,\"\",IFERROR(DATA!EVU2,\"\"))","v":""},{"$f":"IF(DATA!EVV2=0,\"\",IFERROR(DATA!EVV2,\"\"))","v":""},{"$f":"IF(DATA!EVW2=0,\"\",IFERROR(DATA!EVW2,\"\"))","v":""},{"$f":"IF(DATA!EVX2=0,\"\",IFERROR(DATA!EVX2,\"\"))","v":""},{"$f":"IF(DATA!EVY2=0,\"\",IFERROR(DATA!EVY2,\"\"))","v":""},{"$f":"IF(DATA!EVZ2=0,\"\",IFERROR(DATA!EVZ2,\"\"))","v":""},{"$f":"IF(DATA!EWA2=0,\"\",IFERROR(DATA!EWA2,\"\"))","v":""},{"$f":"IF(DATA!EWB2=0,\"\",IFERROR(DATA!EWB2,\"\"))","v":""},{"$f":"IF(DATA!EWC2=0,\"\",IFERROR(DATA!EWC2,\"\"))","v":""},{"$f":"IF(DATA!EWD2=0,\"\",IFERROR(DATA!EWD2,\"\"))","v":""},{"$f":"IF(DATA!EWE2=0,\"\",IFERROR(DATA!EWE2,\"\"))","v":""},{"$f":"IF(DATA!EWF2=0,\"\",IFERROR(DATA!EWF2,\"\"))","v":""},{"$f":"IF(DATA!EWG2=0,\"\",IFERROR(DATA!EWG2,\"\"))","v":""},{"$f":"IF(DATA!EWH2=0,\"\",IFERROR(DATA!EWH2,\"\"))","v":""},{"$f":"IF(DATA!EWI2=0,\"\",IFERROR(DATA!EWI2,\"\"))","v":""},{"$f":"IF(DATA!EWJ2=0,\"\",IFERROR(DATA!EWJ2,\"\"))","v":""},{"$f":"IF(DATA!EWK2=0,\"\",IFERROR(DATA!EWK2,\"\"))","v":""},{"$f":"IF(DATA!EWL2=0,\"\",IFERROR(DATA!EWL2,\"\"))","v":""},{"$f":"IF(DATA!EWM2=0,\"\",IFERROR(DATA!EWM2,\"\"))","v":""},{"$f":"IF(DATA!EWN2=0,\"\",IFERROR(DATA!EWN2,\"\"))","v":""},{"$f":"IF(DATA!EWO2=0,\"\",IFERROR(DATA!EWO2,\"\"))","v":""},{"$f":"IF(DATA!EWP2=0,\"\",IFERROR(DATA!EWP2,\"\"))","v":""},{"$f":"IF(DATA!EWQ2=0,\"\",IFERROR(DATA!EWQ2,\"\"))","v":""},{"$f":"IF(DATA!EWR2=0,\"\",IFERROR(DATA!EWR2,\"\"))","v":""},{"$f":"IF(DATA!EWS2=0,\"\",IFERROR(DATA!EWS2,\"\"))","v":""},{"$f":"IF(DATA!EWT2=0,\"\",IFERROR(DATA!EWT2,\"\"))","v":""},{"$f":"IF(DATA!EWU2=0,\"\",IFERROR(DATA!EWU2,\"\"))","v":""},{"$f":"IF(DATA!EWV2=0,\"\",IFERROR(DATA!EWV2,\"\"))","v":""},{"$f":"IF(DATA!EWW2=0,\"\",IFERROR(DATA!EWW2,\"\"))","v":""},{"$f":"IF(DATA!EWX2=0,\"\",IFERROR(DATA!EWX2,\"\"))","v":""},{"$f":"IF(DATA!EWY2=0,\"\",IFERROR(DATA!EWY2,\"\"))","v":""},{"$f":"IF(DATA!EWZ2=0,\"\",IFERROR(DATA!EWZ2,\"\"))","v":""},{"$f":"IF(DATA!EXA2=0,\"\",IFERROR(DATA!EXA2,\"\"))","v":""},{"$f":"IF(DATA!EXB2=0,\"\",IFERROR(DATA!EXB2,\"\"))","v":""},{"$f":"IF(DATA!EXC2=0,\"\",IFERROR(DATA!EXC2,\"\"))","v":""},{"$f":"IF(DATA!EXD2=0,\"\",IFERROR(DATA!EXD2,\"\"))","v":""},{"$f":"IF(DATA!EXE2=0,\"\",IFERROR(DATA!EXE2,\"\"))","v":""},{"$f":"IF(DATA!EXF2=0,\"\",IFERROR(DATA!EXF2,\"\"))","v":""},{"$f":"IF(DATA!EXG2=0,\"\",IFERROR(DATA!EXG2,\"\"))","v":""},{"$f":"IF(DATA!EXH2=0,\"\",IFERROR(DATA!EXH2,\"\"))","v":""},{"$f":"IF(DATA!EXI2=0,\"\",IFERROR(DATA!EXI2,\"\"))","v":""},{"$f":"IF(DATA!EXJ2=0,\"\",IFERROR(DATA!EXJ2,\"\"))","v":""},{"$f":"IF(DATA!EXK2=0,\"\",IFERROR(DATA!EXK2,\"\"))","v":""},{"$f":"IF(DATA!EXL2=0,\"\",IFERROR(DATA!EXL2,\"\"))","v":""},{"$f":"IF(DATA!EXM2=0,\"\",IFERROR(DATA!EXM2,\"\"))","v":""},{"$f":"IF(DATA!EXN2=0,\"\",IFERROR(DATA!EXN2,\"\"))","v":""},{"$f":"IF(DATA!EXO2=0,\"\",IFERROR(DATA!EXO2,\"\"))","v":""},{"$f":"IF(DATA!EXP2=0,\"\",IFERROR(DATA!EXP2,\"\"))","v":""},{"$f":"IF(DATA!EXQ2=0,\"\",IFERROR(DATA!EXQ2,\"\"))","v":""},{"$f":"IF(DATA!EXR2=0,\"\",IFERROR(DATA!EXR2,\"\"))","v":""},{"$f":"IF(DATA!EXS2=0,\"\",IFERROR(DATA!EXS2,\"\"))","v":""},{"$f":"IF(DATA!EXT2=0,\"\",IFERROR(DATA!EXT2,\"\"))","v":""},{"$f":"IF(DATA!EXU2=0,\"\",IFERROR(DATA!EXU2,\"\"))","v":""},{"$f":"IF(DATA!EXV2=0,\"\",IFERROR(DATA!EXV2,\"\"))","v":""},{"$f":"IF(DATA!EXW2=0,\"\",IFERROR(DATA!EXW2,\"\"))","v":""},{"$f":"IF(DATA!EXX2=0,\"\",IFERROR(DATA!EXX2,\"\"))","v":""},{"$f":"IF(DATA!EXY2=0,\"\",IFERROR(DATA!EXY2,\"\"))","v":""},{"$f":"IF(DATA!EXZ2=0,\"\",IFERROR(DATA!EXZ2,\"\"))","v":""},{"$f":"IF(DATA!EYA2=0,\"\",IFERROR(DATA!EYA2,\"\"))","v":""},{"$f":"IF(DATA!EYB2=0,\"\",IFERROR(DATA!EYB2,\"\"))","v":""},{"$f":"IF(DATA!EYC2=0,\"\",IFERROR(DATA!EYC2,\"\"))","v":""},{"$f":"IF(DATA!EYD2=0,\"\",IFERROR(DATA!EYD2,\"\"))","v":""},{"$f":"IF(DATA!EYE2=0,\"\",IFERROR(DATA!EYE2,\"\"))","v":""},{"$f":"IF(DATA!EYF2=0,\"\",IFERROR(DATA!EYF2,\"\"))","v":""},{"$f":"IF(DATA!EYG2=0,\"\",IFERROR(DATA!EYG2,\"\"))","v":""},{"$f":"IF(DATA!EYH2=0,\"\",IFERROR(DATA!EYH2,\"\"))","v":""},{"$f":"IF(DATA!EYI2=0,\"\",IFERROR(DATA!EYI2,\"\"))","v":""},{"$f":"IF(DATA!EYJ2=0,\"\",IFERROR(DATA!EYJ2,\"\"))","v":""},{"$f":"IF(DATA!EYK2=0,\"\",IFERROR(DATA!EYK2,\"\"))","v":""},{"$f":"IF(DATA!EYL2=0,\"\",IFERROR(DATA!EYL2,\"\"))","v":""},{"$f":"IF(DATA!EYM2=0,\"\",IFERROR(DATA!EYM2,\"\"))","v":""},{"$f":"IF(DATA!EYN2=0,\"\",IFERROR(DATA!EYN2,\"\"))","v":""},{"$f":"IF(DATA!EYO2=0,\"\",IFERROR(DATA!EYO2,\"\"))","v":""},{"$f":"IF(DATA!EYP2=0,\"\",IFERROR(DATA!EYP2,\"\"))","v":""},{"$f":"IF(DATA!EYQ2=0,\"\",IFERROR(DATA!EYQ2,\"\"))","v":""},{"$f":"IF(DATA!EYR2=0,\"\",IFERROR(DATA!EYR2,\"\"))","v":""},{"$f":"IF(DATA!EYS2=0,\"\",IFERROR(DATA!EYS2,\"\"))","v":""},{"$f":"IF(DATA!EYT2=0,\"\",IFERROR(DATA!EYT2,\"\"))","v":""},{"$f":"IF(DATA!EYU2=0,\"\",IFERROR(DATA!EYU2,\"\"))","v":""},{"$f":"IF(DATA!EYV2=0,\"\",IFERROR(DATA!EYV2,\"\"))","v":""},{"$f":"IF(DATA!EYW2=0,\"\",IFERROR(DATA!EYW2,\"\"))","v":""},{"$f":"IF(DATA!EYX2=0,\"\",IFERROR(DATA!EYX2,\"\"))","v":""},{"$f":"IF(DATA!EYY2=0,\"\",IFERROR(DATA!EYY2,\"\"))","v":""},{"$f":"IF(DATA!EYZ2=0,\"\",IFERROR(DATA!EYZ2,\"\"))","v":""},{"$f":"IF(DATA!EZA2=0,\"\",IFERROR(DATA!EZA2,\"\"))","v":""},{"$f":"IF(DATA!EZB2=0,\"\",IFERROR(DATA!EZB2,\"\"))","v":""},{"$f":"IF(DATA!EZC2=0,\"\",IFERROR(DATA!EZC2,\"\"))","v":""},{"$f":"IF(DATA!EZD2=0,\"\",IFERROR(DATA!EZD2,\"\"))","v":""},{"$f":"IF(DATA!EZE2=0,\"\",IFERROR(DATA!EZE2,\"\"))","v":""},{"$f":"IF(DATA!EZF2=0,\"\",IFERROR(DATA!EZF2,\"\"))","v":""},{"$f":"IF(DATA!EZG2=0,\"\",IFERROR(DATA!EZG2,\"\"))","v":""},{"$f":"IF(DATA!EZH2=0,\"\",IFERROR(DATA!EZH2,\"\"))","v":""},{"$f":"IF(DATA!EZI2=0,\"\",IFERROR(DATA!EZI2,\"\"))","v":""},{"$f":"IF(DATA!EZJ2=0,\"\",IFERROR(DATA!EZJ2,\"\"))","v":""},{"$f":"IF(DATA!EZK2=0,\"\",IFERROR(DATA!EZK2,\"\"))","v":""},{"$f":"IF(DATA!EZL2=0,\"\",IFERROR(DATA!EZL2,\"\"))","v":""},{"$f":"IF(DATA!EZM2=0,\"\",IFERROR(DATA!EZM2,\"\"))","v":""},{"$f":"IF(DATA!EZN2=0,\"\",IFERROR(DATA!EZN2,\"\"))","v":""},{"$f":"IF(DATA!EZO2=0,\"\",IFERROR(DATA!EZO2,\"\"))","v":""},{"$f":"IF(DATA!EZP2=0,\"\",IFERROR(DATA!EZP2,\"\"))","v":""},{"$f":"IF(DATA!EZQ2=0,\"\",IFERROR(DATA!EZQ2,\"\"))","v":""},{"$f":"IF(DATA!EZR2=0,\"\",IFERROR(DATA!EZR2,\"\"))","v":""},{"$f":"IF(DATA!EZS2=0,\"\",IFERROR(DATA!EZS2,\"\"))","v":""},{"$f":"IF(DATA!EZT2=0,\"\",IFERROR(DATA!EZT2,\"\"))","v":""},{"$f":"IF(DATA!EZU2=0,\"\",IFERROR(DATA!EZU2,\"\"))","v":""},{"$f":"IF(DATA!EZV2=0,\"\",IFERROR(DATA!EZV2,\"\"))","v":""},{"$f":"IF(DATA!EZW2=0,\"\",IFERROR(DATA!EZW2,\"\"))","v":""},{"$f":"IF(DATA!EZX2=0,\"\",IFERROR(DATA!EZX2,\"\"))","v":""},{"$f":"IF(DATA!EZY2=0,\"\",IFERROR(DATA!EZY2,\"\"))","v":""},{"$f":"IF(DATA!EZZ2=0,\"\",IFERROR(DATA!EZZ2,\"\"))","v":""},{"$f":"IF(DATA!FAA2=0,\"\",IFERROR(DATA!FAA2,\"\"))","v":""},{"$f":"IF(DATA!FAB2=0,\"\",IFERROR(DATA!FAB2,\"\"))","v":""},{"$f":"IF(DATA!FAC2=0,\"\",IFERROR(DATA!FAC2,\"\"))","v":""},{"$f":"IF(DATA!FAD2=0,\"\",IFERROR(DATA!FAD2,\"\"))","v":""},{"$f":"IF(DATA!FAE2=0,\"\",IFERROR(DATA!FAE2,\"\"))","v":""},{"$f":"IF(DATA!FAF2=0,\"\",IFERROR(DATA!FAF2,\"\"))","v":""},{"$f":"IF(DATA!FAG2=0,\"\",IFERROR(DATA!FAG2,\"\"))","v":""},{"$f":"IF(DATA!FAH2=0,\"\",IFERROR(DATA!FAH2,\"\"))","v":""},{"$f":"IF(DATA!FAI2=0,\"\",IFERROR(DATA!FAI2,\"\"))","v":""},{"$f":"IF(DATA!FAJ2=0,\"\",IFERROR(DATA!FAJ2,\"\"))","v":""},{"$f":"IF(DATA!FAK2=0,\"\",IFERROR(DATA!FAK2,\"\"))","v":""},{"$f":"IF(DATA!FAL2=0,\"\",IFERROR(DATA!FAL2,\"\"))","v":""},{"$f":"IF(DATA!FAM2=0,\"\",IFERROR(DATA!FAM2,\"\"))","v":""},{"$f":"IF(DATA!FAN2=0,\"\",IFERROR(DATA!FAN2,\"\"))","v":""},{"$f":"IF(DATA!FAO2=0,\"\",IFERROR(DATA!FAO2,\"\"))","v":""},{"$f":"IF(DATA!FAP2=0,\"\",IFERROR(DATA!FAP2,\"\"))","v":""},{"$f":"IF(DATA!FAQ2=0,\"\",IFERROR(DATA!FAQ2,\"\"))","v":""},{"$f":"IF(DATA!FAR2=0,\"\",IFERROR(DATA!FAR2,\"\"))","v":""},{"$f":"IF(DATA!FAS2=0,\"\",IFERROR(DATA!FAS2,\"\"))","v":""},{"$f":"IF(DATA!FAT2=0,\"\",IFERROR(DATA!FAT2,\"\"))","v":""},{"$f":"IF(DATA!FAU2=0,\"\",IFERROR(DATA!FAU2,\"\"))","v":""},{"$f":"IF(DATA!FAV2=0,\"\",IFERROR(DATA!FAV2,\"\"))","v":""},{"$f":"IF(DATA!FAW2=0,\"\",IFERROR(DATA!FAW2,\"\"))","v":""},{"$f":"IF(DATA!FAX2=0,\"\",IFERROR(DATA!FAX2,\"\"))","v":""},{"$f":"IF(DATA!FAY2=0,\"\",IFERROR(DATA!FAY2,\"\"))","v":""},{"$f":"IF(DATA!FAZ2=0,\"\",IFERROR(DATA!FAZ2,\"\"))","v":""},{"$f":"IF(DATA!FBA2=0,\"\",IFERROR(DATA!FBA2,\"\"))","v":""},{"$f":"IF(DATA!FBB2=0,\"\",IFERROR(DATA!FBB2,\"\"))","v":""},{"$f":"IF(DATA!FBC2=0,\"\",IFERROR(DATA!FBC2,\"\"))","v":""},{"$f":"IF(DATA!FBD2=0,\"\",IFERROR(DATA!FBD2,\"\"))","v":""},{"$f":"IF(DATA!FBE2=0,\"\",IFERROR(DATA!FBE2,\"\"))","v":""},{"$f":"IF(DATA!FBF2=0,\"\",IFERROR(DATA!FBF2,\"\"))","v":""},{"$f":"IF(DATA!FBG2=0,\"\",IFERROR(DATA!FBG2,\"\"))","v":""},{"$f":"IF(DATA!FBH2=0,\"\",IFERROR(DATA!FBH2,\"\"))","v":""},{"$f":"IF(DATA!FBI2=0,\"\",IFERROR(DATA!FBI2,\"\"))","v":""},{"$f":"IF(DATA!FBJ2=0,\"\",IFERROR(DATA!FBJ2,\"\"))","v":""},{"$f":"IF(DATA!FBK2=0,\"\",IFERROR(DATA!FBK2,\"\"))","v":""},{"$f":"IF(DATA!FBL2=0,\"\",IFERROR(DATA!FBL2,\"\"))","v":""},{"$f":"IF(DATA!FBM2=0,\"\",IFERROR(DATA!FBM2,\"\"))","v":""},{"$f":"IF(DATA!FBN2=0,\"\",IFERROR(DATA!FBN2,\"\"))","v":""},{"$f":"IF(DATA!FBO2=0,\"\",IFERROR(DATA!FBO2,\"\"))","v":""},{"$f":"IF(DATA!FBP2=0,\"\",IFERROR(DATA!FBP2,\"\"))","v":""},{"$f":"IF(DATA!FBQ2=0,\"\",IFERROR(DATA!FBQ2,\"\"))","v":""},{"$f":"IF(DATA!FBR2=0,\"\",IFERROR(DATA!FBR2,\"\"))","v":""},{"$f":"IF(DATA!FBS2=0,\"\",IFERROR(DATA!FBS2,\"\"))","v":""},{"$f":"IF(DATA!FBT2=0,\"\",IFERROR(DATA!FBT2,\"\"))","v":""},{"$f":"IF(DATA!FBU2=0,\"\",IFERROR(DATA!FBU2,\"\"))","v":""},{"$f":"IF(DATA!FBV2=0,\"\",IFERROR(DATA!FBV2,\"\"))","v":""},{"$f":"IF(DATA!FBW2=0,\"\",IFERROR(DATA!FBW2,\"\"))","v":""},{"$f":"IF(DATA!FBX2=0,\"\",IFERROR(DATA!FBX2,\"\"))","v":""},{"$f":"IF(DATA!FBY2=0,\"\",IFERROR(DATA!FBY2,\"\"))","v":""},{"$f":"IF(DATA!FBZ2=0,\"\",IFERROR(DATA!FBZ2,\"\"))","v":""},{"$f":"IF(DATA!FCA2=0,\"\",IFERROR(DATA!FCA2,\"\"))","v":""},{"$f":"IF(DATA!FCB2=0,\"\",IFERROR(DATA!FCB2,\"\"))","v":""},{"$f":"IF(DATA!FCC2=0,\"\",IFERROR(DATA!FCC2,\"\"))","v":""},{"$f":"IF(DATA!FCD2=0,\"\",IFERROR(DATA!FCD2,\"\"))","v":""},{"$f":"IF(DATA!FCE2=0,\"\",IFERROR(DATA!FCE2,\"\"))","v":""},{"$f":"IF(DATA!FCF2=0,\"\",IFERROR(DATA!FCF2,\"\"))","v":""},{"$f":"IF(DATA!FCG2=0,\"\",IFERROR(DATA!FCG2,\"\"))","v":""},{"$f":"IF(DATA!FCH2=0,\"\",IFERROR(DATA!FCH2,\"\"))","v":""},{"$f":"IF(DATA!FCI2=0,\"\",IFERROR(DATA!FCI2,\"\"))","v":""},{"$f":"IF(DATA!FCJ2=0,\"\",IFERROR(DATA!FCJ2,\"\"))","v":""},{"$f":"IF(DATA!FCK2=0,\"\",IFERROR(DATA!FCK2,\"\"))","v":""},{"$f":"IF(DATA!FCL2=0,\"\",IFERROR(DATA!FCL2,\"\"))","v":""},{"$f":"IF(DATA!FCM2=0,\"\",IFERROR(DATA!FCM2,\"\"))","v":""},{"$f":"IF(DATA!FCN2=0,\"\",IFERROR(DATA!FCN2,\"\"))","v":""},{"$f":"IF(DATA!FCO2=0,\"\",IFERROR(DATA!FCO2,\"\"))","v":""},{"$f":"IF(DATA!FCP2=0,\"\",IFERROR(DATA!FCP2,\"\"))","v":""},{"$f":"IF(DATA!FCQ2=0,\"\",IFERROR(DATA!FCQ2,\"\"))","v":""},{"$f":"IF(DATA!FCR2=0,\"\",IFERROR(DATA!FCR2,\"\"))","v":""},{"$f":"IF(DATA!FCS2=0,\"\",IFERROR(DATA!FCS2,\"\"))","v":""},{"$f":"IF(DATA!FCT2=0,\"\",IFERROR(DATA!FCT2,\"\"))","v":""},{"$f":"IF(DATA!FCU2=0,\"\",IFERROR(DATA!FCU2,\"\"))","v":""},{"$f":"IF(DATA!FCV2=0,\"\",IFERROR(DATA!FCV2,\"\"))","v":""},{"$f":"IF(DATA!FCW2=0,\"\",IFERROR(DATA!FCW2,\"\"))","v":""},{"$f":"IF(DATA!FCX2=0,\"\",IFERROR(DATA!FCX2,\"\"))","v":""},{"$f":"IF(DATA!FCY2=0,\"\",IFERROR(DATA!FCY2,\"\"))","v":""},{"$f":"IF(DATA!FCZ2=0,\"\",IFERROR(DATA!FCZ2,\"\"))","v":""},{"$f":"IF(DATA!FDA2=0,\"\",IFERROR(DATA!FDA2,\"\"))","v":""},{"$f":"IF(DATA!FDB2=0,\"\",IFERROR(DATA!FDB2,\"\"))","v":""},{"$f":"IF(DATA!FDC2=0,\"\",IFERROR(DATA!FDC2,\"\"))","v":""},{"$f":"IF(DATA!FDD2=0,\"\",IFERROR(DATA!FDD2,\"\"))","v":""},{"$f":"IF(DATA!FDE2=0,\"\",IFERROR(DATA!FDE2,\"\"))","v":""},{"$f":"IF(DATA!FDF2=0,\"\",IFERROR(DATA!FDF2,\"\"))","v":""},{"$f":"IF(DATA!FDG2=0,\"\",IFERROR(DATA!FDG2,\"\"))","v":""},{"$f":"IF(DATA!FDH2=0,\"\",IFERROR(DATA!FDH2,\"\"))","v":""},{"$f":"IF(DATA!FDI2=0,\"\",IFERROR(DATA!FDI2,\"\"))","v":""},{"$f":"IF(DATA!FDJ2=0,\"\",IFERROR(DATA!FDJ2,\"\"))","v":""},{"$f":"IF(DATA!FDK2=0,\"\",IFERROR(DATA!FDK2,\"\"))","v":""},{"$f":"IF(DATA!FDL2=0,\"\",IFERROR(DATA!FDL2,\"\"))","v":""},{"$f":"IF(DATA!FDM2=0,\"\",IFERROR(DATA!FDM2,\"\"))","v":""},{"$f":"IF(DATA!FDN2=0,\"\",IFERROR(DATA!FDN2,\"\"))","v":""},{"$f":"IF(DATA!FDO2=0,\"\",IFERROR(DATA!FDO2,\"\"))","v":""},{"$f":"IF(DATA!FDP2=0,\"\",IFERROR(DATA!FDP2,\"\"))","v":""},{"$f":"IF(DATA!FDQ2=0,\"\",IFERROR(DATA!FDQ2,\"\"))","v":""},{"$f":"IF(DATA!FDR2=0,\"\",IFERROR(DATA!FDR2,\"\"))","v":""},{"$f":"IF(DATA!FDS2=0,\"\",IFERROR(DATA!FDS2,\"\"))","v":""},{"$f":"IF(DATA!FDT2=0,\"\",IFERROR(DATA!FDT2,\"\"))","v":""},{"$f":"IF(DATA!FDU2=0,\"\",IFERROR(DATA!FDU2,\"\"))","v":""},{"$f":"IF(DATA!FDV2=0,\"\",IFERROR(DATA!FDV2,\"\"))","v":""},{"$f":"IF(DATA!FDW2=0,\"\",IFERROR(DATA!FDW2,\"\"))","v":""},{"$f":"IF(DATA!FDX2=0,\"\",IFERROR(DATA!FDX2,\"\"))","v":""},{"$f":"IF(DATA!FDY2=0,\"\",IFERROR(DATA!FDY2,\"\"))","v":""},{"$f":"IF(DATA!FDZ2=0,\"\",IFERROR(DATA!FDZ2,\"\"))","v":""},{"$f":"IF(DATA!FEA2=0,\"\",IFERROR(DATA!FEA2,\"\"))","v":""},{"$f":"IF(DATA!FEB2=0,\"\",IFERROR(DATA!FEB2,\"\"))","v":""},{"$f":"IF(DATA!FEC2=0,\"\",IFERROR(DATA!FEC2,\"\"))","v":""},{"$f":"IF(DATA!FED2=0,\"\",IFERROR(DATA!FED2,\"\"))","v":""},{"$f":"IF(DATA!FEE2=0,\"\",IFERROR(DATA!FEE2,\"\"))","v":""},{"$f":"IF(DATA!FEF2=0,\"\",IFERROR(DATA!FEF2,\"\"))","v":""},{"$f":"IF(DATA!FEG2=0,\"\",IFERROR(DATA!FEG2,\"\"))","v":""},{"$f":"IF(DATA!FEH2=0,\"\",IFERROR(DATA!FEH2,\"\"))","v":""},{"$f":"IF(DATA!FEI2=0,\"\",IFERROR(DATA!FEI2,\"\"))","v":""},{"$f":"IF(DATA!FEJ2=0,\"\",IFERROR(DATA!FEJ2,\"\"))","v":""},{"$f":"IF(DATA!FEK2=0,\"\",IFERROR(DATA!FEK2,\"\"))","v":""},{"$f":"IF(DATA!FEL2=0,\"\",IFERROR(DATA!FEL2,\"\"))","v":""},{"$f":"IF(DATA!FEM2=0,\"\",IFERROR(DATA!FEM2,\"\"))","v":""},{"$f":"IF(DATA!FEN2=0,\"\",IFERROR(DATA!FEN2,\"\"))","v":""},{"$f":"IF(DATA!FEO2=0,\"\",IFERROR(DATA!FEO2,\"\"))","v":""},{"$f":"IF(DATA!FEP2=0,\"\",IFERROR(DATA!FEP2,\"\"))","v":""},{"$f":"IF(DATA!FEQ2=0,\"\",IFERROR(DATA!FEQ2,\"\"))","v":""},{"$f":"IF(DATA!FER2=0,\"\",IFERROR(DATA!FER2,\"\"))","v":""},{"$f":"IF(DATA!FES2=0,\"\",IFERROR(DATA!FES2,\"\"))","v":""},{"$f":"IF(DATA!FET2=0,\"\",IFERROR(DATA!FET2,\"\"))","v":""},{"$f":"IF(DATA!FEU2=0,\"\",IFERROR(DATA!FEU2,\"\"))","v":""},{"$f":"IF(DATA!FEV2=0,\"\",IFERROR(DATA!FEV2,\"\"))","v":""},{"$f":"IF(DATA!FEW2=0,\"\",IFERROR(DATA!FEW2,\"\"))","v":""},{"$f":"IF(DATA!FEX2=0,\"\",IFERROR(DATA!FEX2,\"\"))","v":""},{"$f":"IF(DATA!FEY2=0,\"\",IFERROR(DATA!FEY2,\"\"))","v":""},{"$f":"IF(DATA!FEZ2=0,\"\",IFERROR(DATA!FEZ2,\"\"))","v":""},{"$f":"IF(DATA!FFA2=0,\"\",IFERROR(DATA!FFA2,\"\"))","v":""},{"$f":"IF(DATA!FFB2=0,\"\",IFERROR(DATA!FFB2,\"\"))","v":""},{"$f":"IF(DATA!FFC2=0,\"\",IFERROR(DATA!FFC2,\"\"))","v":""},{"$f":"IF(DATA!FFD2=0,\"\",IFERROR(DATA!FFD2,\"\"))","v":""},{"$f":"IF(DATA!FFE2=0,\"\",IFERROR(DATA!FFE2,\"\"))","v":""},{"$f":"IF(DATA!FFF2=0,\"\",IFERROR(DATA!FFF2,\"\"))","v":""},{"$f":"IF(DATA!FFG2=0,\"\",IFERROR(DATA!FFG2,\"\"))","v":""},{"$f":"IF(DATA!FFH2=0,\"\",IFERROR(DATA!FFH2,\"\"))","v":""},{"$f":"IF(DATA!FFI2=0,\"\",IFERROR(DATA!FFI2,\"\"))","v":""},{"$f":"IF(DATA!FFJ2=0,\"\",IFERROR(DATA!FFJ2,\"\"))","v":""},{"$f":"IF(DATA!FFK2=0,\"\",IFERROR(DATA!FFK2,\"\"))","v":""},{"$f":"IF(DATA!FFL2=0,\"\",IFERROR(DATA!FFL2,\"\"))","v":""},{"$f":"IF(DATA!FFM2=0,\"\",IFERROR(DATA!FFM2,\"\"))","v":""},{"$f":"IF(DATA!FFN2=0,\"\",IFERROR(DATA!FFN2,\"\"))","v":""},{"$f":"IF(DATA!FFO2=0,\"\",IFERROR(DATA!FFO2,\"\"))","v":""},{"$f":"IF(DATA!FFP2=0,\"\",IFERROR(DATA!FFP2,\"\"))","v":""},{"$f":"IF(DATA!FFQ2=0,\"\",IFERROR(DATA!FFQ2,\"\"))","v":""},{"$f":"IF(DATA!FFR2=0,\"\",IFERROR(DATA!FFR2,\"\"))","v":""},{"$f":"IF(DATA!FFS2=0,\"\",IFERROR(DATA!FFS2,\"\"))","v":""},{"$f":"IF(DATA!FFT2=0,\"\",IFERROR(DATA!FFT2,\"\"))","v":""},{"$f":"IF(DATA!FFU2=0,\"\",IFERROR(DATA!FFU2,\"\"))","v":""},{"$f":"IF(DATA!FFV2=0,\"\",IFERROR(DATA!FFV2,\"\"))","v":""},{"$f":"IF(DATA!FFW2=0,\"\",IFERROR(DATA!FFW2,\"\"))","v":""},{"$f":"IF(DATA!FFX2=0,\"\",IFERROR(DATA!FFX2,\"\"))","v":""},{"$f":"IF(DATA!FFY2=0,\"\",IFERROR(DATA!FFY2,\"\"))","v":""},{"$f":"IF(DATA!FFZ2=0,\"\",IFERROR(DATA!FFZ2,\"\"))","v":""},{"$f":"IF(DATA!FGA2=0,\"\",IFERROR(DATA!FGA2,\"\"))","v":""},{"$f":"IF(DATA!FGB2=0,\"\",IFERROR(DATA!FGB2,\"\"))","v":""},{"$f":"IF(DATA!FGC2=0,\"\",IFERROR(DATA!FGC2,\"\"))","v":""},{"$f":"IF(DATA!FGD2=0,\"\",IFERROR(DATA!FGD2,\"\"))","v":""},{"$f":"IF(DATA!FGE2=0,\"\",IFERROR(DATA!FGE2,\"\"))","v":""},{"$f":"IF(DATA!FGF2=0,\"\",IFERROR(DATA!FGF2,\"\"))","v":""},{"$f":"IF(DATA!FGG2=0,\"\",IFERROR(DATA!FGG2,\"\"))","v":""},{"$f":"IF(DATA!FGH2=0,\"\",IFERROR(DATA!FGH2,\"\"))","v":""},{"$f":"IF(DATA!FGI2=0,\"\",IFERROR(DATA!FGI2,\"\"))","v":""},{"$f":"IF(DATA!FGJ2=0,\"\",IFERROR(DATA!FGJ2,\"\"))","v":""},{"$f":"IF(DATA!FGK2=0,\"\",IFERROR(DATA!FGK2,\"\"))","v":""},{"$f":"IF(DATA!FGL2=0,\"\",IFERROR(DATA!FGL2,\"\"))","v":""},{"$f":"IF(DATA!FGM2=0,\"\",IFERROR(DATA!FGM2,\"\"))","v":""},{"$f":"IF(DATA!FGN2=0,\"\",IFERROR(DATA!FGN2,\"\"))","v":""},{"$f":"IF(DATA!FGO2=0,\"\",IFERROR(DATA!FGO2,\"\"))","v":""},{"$f":"IF(DATA!FGP2=0,\"\",IFERROR(DATA!FGP2,\"\"))","v":""},{"$f":"IF(DATA!FGQ2=0,\"\",IFERROR(DATA!FGQ2,\"\"))","v":""},{"$f":"IF(DATA!FGR2=0,\"\",IFERROR(DATA!FGR2,\"\"))","v":""},{"$f":"IF(DATA!FGS2=0,\"\",IFERROR(DATA!FGS2,\"\"))","v":""},{"$f":"IF(DATA!FGT2=0,\"\",IFERROR(DATA!FGT2,\"\"))","v":""},{"$f":"IF(DATA!FGU2=0,\"\",IFERROR(DATA!FGU2,\"\"))","v":""},{"$f":"IF(DATA!FGV2=0,\"\",IFERROR(DATA!FGV2,\"\"))","v":""},{"$f":"IF(DATA!FGW2=0,\"\",IFERROR(DATA!FGW2,\"\"))","v":""},{"$f":"IF(DATA!FGX2=0,\"\",IFERROR(DATA!FGX2,\"\"))","v":""},{"$f":"IF(DATA!FGY2=0,\"\",IFERROR(DATA!FGY2,\"\"))","v":""},{"$f":"IF(DATA!FGZ2=0,\"\",IFERROR(DATA!FGZ2,\"\"))","v":""},{"$f":"IF(DATA!FHA2=0,\"\",IFERROR(DATA!FHA2,\"\"))","v":""},{"$f":"IF(DATA!FHB2=0,\"\",IFERROR(DATA!FHB2,\"\"))","v":""},{"$f":"IF(DATA!FHC2=0,\"\",IFERROR(DATA!FHC2,\"\"))","v":""},{"$f":"IF(DATA!FHD2=0,\"\",IFERROR(DATA!FHD2,\"\"))","v":""},{"$f":"IF(DATA!FHE2=0,\"\",IFERROR(DATA!FHE2,\"\"))","v":""},{"$f":"IF(DATA!FHF2=0,\"\",IFERROR(DATA!FHF2,\"\"))","v":""},{"$f":"IF(DATA!FHG2=0,\"\",IFERROR(DATA!FHG2,\"\"))","v":""},{"$f":"IF(DATA!FHH2=0,\"\",IFERROR(DATA!FHH2,\"\"))","v":""},{"$f":"IF(DATA!FHI2=0,\"\",IFERROR(DATA!FHI2,\"\"))","v":""},{"$f":"IF(DATA!FHJ2=0,\"\",IFERROR(DATA!FHJ2,\"\"))","v":""},{"$f":"IF(DATA!FHK2=0,\"\",IFERROR(DATA!FHK2,\"\"))","v":""},{"$f":"IF(DATA!FHL2=0,\"\",IFERROR(DATA!FHL2,\"\"))","v":""},{"$f":"IF(DATA!FHM2=0,\"\",IFERROR(DATA!FHM2,\"\"))","v":""},{"$f":"IF(DATA!FHN2=0,\"\",IFERROR(DATA!FHN2,\"\"))","v":""},{"$f":"IF(DATA!FHO2=0,\"\",IFERROR(DATA!FHO2,\"\"))","v":""},{"$f":"IF(DATA!FHP2=0,\"\",IFERROR(DATA!FHP2,\"\"))","v":""},{"$f":"IF(DATA!FHQ2=0,\"\",IFERROR(DATA!FHQ2,\"\"))","v":""},{"$f":"IF(DATA!FHR2=0,\"\",IFERROR(DATA!FHR2,\"\"))","v":""},{"$f":"IF(DATA!FHS2=0,\"\",IFERROR(DATA!FHS2,\"\"))","v":""},{"$f":"IF(DATA!FHT2=0,\"\",IFERROR(DATA!FHT2,\"\"))","v":""},{"$f":"IF(DATA!FHU2=0,\"\",IFERROR(DATA!FHU2,\"\"))","v":""},{"$f":"IF(DATA!FHV2=0,\"\",IFERROR(DATA!FHV2,\"\"))","v":""},{"$f":"IF(DATA!FHW2=0,\"\",IFERROR(DATA!FHW2,\"\"))","v":""},{"$f":"IF(DATA!FHX2=0,\"\",IFERROR(DATA!FHX2,\"\"))","v":""},{"$f":"IF(DATA!FHY2=0,\"\",IFERROR(DATA!FHY2,\"\"))","v":""},{"$f":"IF(DATA!FHZ2=0,\"\",IFERROR(DATA!FHZ2,\"\"))","v":""},{"$f":"IF(DATA!FIA2=0,\"\",IFERROR(DATA!FIA2,\"\"))","v":""},{"$f":"IF(DATA!FIB2=0,\"\",IFERROR(DATA!FIB2,\"\"))","v":""},{"$f":"IF(DATA!FIC2=0,\"\",IFERROR(DATA!FIC2,\"\"))","v":""},{"$f":"IF(DATA!FID2=0,\"\",IFERROR(DATA!FID2,\"\"))","v":""},{"$f":"IF(DATA!FIE2=0,\"\",IFERROR(DATA!FIE2,\"\"))","v":""},{"$f":"IF(DATA!FIF2=0,\"\",IFERROR(DATA!FIF2,\"\"))","v":""},{"$f":"IF(DATA!FIG2=0,\"\",IFERROR(DATA!FIG2,\"\"))","v":""},{"$f":"IF(DATA!FIH2=0,\"\",IFERROR(DATA!FIH2,\"\"))","v":""},{"$f":"IF(DATA!FII2=0,\"\",IFERROR(DATA!FII2,\"\"))","v":""},{"$f":"IF(DATA!FIJ2=0,\"\",IFERROR(DATA!FIJ2,\"\"))","v":""},{"$f":"IF(DATA!FIK2=0,\"\",IFERROR(DATA!FIK2,\"\"))","v":""},{"$f":"IF(DATA!FIL2=0,\"\",IFERROR(DATA!FIL2,\"\"))","v":""},{"$f":"IF(DATA!FIM2=0,\"\",IFERROR(DATA!FIM2,\"\"))","v":""},{"$f":"IF(DATA!FIN2=0,\"\",IFERROR(DATA!FIN2,\"\"))","v":""},{"$f":"IF(DATA!FIO2=0,\"\",IFERROR(DATA!FIO2,\"\"))","v":""},{"$f":"IF(DATA!FIP2=0,\"\",IFERROR(DATA!FIP2,\"\"))","v":""},{"$f":"IF(DATA!FIQ2=0,\"\",IFERROR(DATA!FIQ2,\"\"))","v":""},{"$f":"IF(DATA!FIR2=0,\"\",IFERROR(DATA!FIR2,\"\"))","v":""},{"$f":"IF(DATA!FIS2=0,\"\",IFERROR(DATA!FIS2,\"\"))","v":""},{"$f":"IF(DATA!FIT2=0,\"\",IFERROR(DATA!FIT2,\"\"))","v":""},{"$f":"IF(DATA!FIU2=0,\"\",IFERROR(DATA!FIU2,\"\"))","v":""},{"$f":"IF(DATA!FIV2=0,\"\",IFERROR(DATA!FIV2,\"\"))","v":""},{"$f":"IF(DATA!FIW2=0,\"\",IFERROR(DATA!FIW2,\"\"))","v":""},{"$f":"IF(DATA!FIX2=0,\"\",IFERROR(DATA!FIX2,\"\"))","v":""},{"$f":"IF(DATA!FIY2=0,\"\",IFERROR(DATA!FIY2,\"\"))","v":""},{"$f":"IF(DATA!FIZ2=0,\"\",IFERROR(DATA!FIZ2,\"\"))","v":""},{"$f":"IF(DATA!FJA2=0,\"\",IFERROR(DATA!FJA2,\"\"))","v":""},{"$f":"IF(DATA!FJB2=0,\"\",IFERROR(DATA!FJB2,\"\"))","v":""},{"$f":"IF(DATA!FJC2=0,\"\",IFERROR(DATA!FJC2,\"\"))","v":""},{"$f":"IF(DATA!FJD2=0,\"\",IFERROR(DATA!FJD2,\"\"))","v":""},{"$f":"IF(DATA!FJE2=0,\"\",IFERROR(DATA!FJE2,\"\"))","v":""},{"$f":"IF(DATA!FJF2=0,\"\",IFERROR(DATA!FJF2,\"\"))","v":""},{"$f":"IF(DATA!FJG2=0,\"\",IFERROR(DATA!FJG2,\"\"))","v":""},{"$f":"IF(DATA!FJH2=0,\"\",IFERROR(DATA!FJH2,\"\"))","v":""},{"$f":"IF(DATA!FJI2=0,\"\",IFERROR(DATA!FJI2,\"\"))","v":""},{"$f":"IF(DATA!FJJ2=0,\"\",IFERROR(DATA!FJJ2,\"\"))","v":""},{"$f":"IF(DATA!FJK2=0,\"\",IFERROR(DATA!FJK2,\"\"))","v":""},{"$f":"IF(DATA!FJL2=0,\"\",IFERROR(DATA!FJL2,\"\"))","v":""},{"$f":"IF(DATA!FJM2=0,\"\",IFERROR(DATA!FJM2,\"\"))","v":""},{"$f":"IF(DATA!FJN2=0,\"\",IFERROR(DATA!FJN2,\"\"))","v":""},{"$f":"IF(DATA!FJO2=0,\"\",IFERROR(DATA!FJO2,\"\"))","v":""},{"$f":"IF(DATA!FJP2=0,\"\",IFERROR(DATA!FJP2,\"\"))","v":""},{"$f":"IF(DATA!FJQ2=0,\"\",IFERROR(DATA!FJQ2,\"\"))","v":""},{"$f":"IF(DATA!FJR2=0,\"\",IFERROR(DATA!FJR2,\"\"))","v":""},{"$f":"IF(DATA!FJS2=0,\"\",IFERROR(DATA!FJS2,\"\"))","v":""},{"$f":"IF(DATA!FJT2=0,\"\",IFERROR(DATA!FJT2,\"\"))","v":""},{"$f":"IF(DATA!FJU2=0,\"\",IFERROR(DATA!FJU2,\"\"))","v":""},{"$f":"IF(DATA!FJV2=0,\"\",IFERROR(DATA!FJV2,\"\"))","v":""},{"$f":"IF(DATA!FJW2=0,\"\",IFERROR(DATA!FJW2,\"\"))","v":""},{"$f":"IF(DATA!FJX2=0,\"\",IFERROR(DATA!FJX2,\"\"))","v":""},{"$f":"IF(DATA!FJY2=0,\"\",IFERROR(DATA!FJY2,\"\"))","v":""},{"$f":"IF(DATA!FJZ2=0,\"\",IFERROR(DATA!FJZ2,\"\"))","v":""},{"$f":"IF(DATA!FKA2=0,\"\",IFERROR(DATA!FKA2,\"\"))","v":""},{"$f":"IF(DATA!FKB2=0,\"\",IFERROR(DATA!FKB2,\"\"))","v":""},{"$f":"IF(DATA!FKC2=0,\"\",IFERROR(DATA!FKC2,\"\"))","v":""},{"$f":"IF(DATA!FKD2=0,\"\",IFERROR(DATA!FKD2,\"\"))","v":""},{"$f":"IF(DATA!FKE2=0,\"\",IFERROR(DATA!FKE2,\"\"))","v":""},{"$f":"IF(DATA!FKF2=0,\"\",IFERROR(DATA!FKF2,\"\"))","v":""},{"$f":"IF(DATA!FKG2=0,\"\",IFERROR(DATA!FKG2,\"\"))","v":""},{"$f":"IF(DATA!FKH2=0,\"\",IFERROR(DATA!FKH2,\"\"))","v":""},{"$f":"IF(DATA!FKI2=0,\"\",IFERROR(DATA!FKI2,\"\"))","v":""},{"$f":"IF(DATA!FKJ2=0,\"\",IFERROR(DATA!FKJ2,\"\"))","v":""},{"$f":"IF(DATA!FKK2=0,\"\",IFERROR(DATA!FKK2,\"\"))","v":""},{"$f":"IF(DATA!FKL2=0,\"\",IFERROR(DATA!FKL2,\"\"))","v":""},{"$f":"IF(DATA!FKM2=0,\"\",IFERROR(DATA!FKM2,\"\"))","v":""},{"$f":"IF(DATA!FKN2=0,\"\",IFERROR(DATA!FKN2,\"\"))","v":""},{"$f":"IF(DATA!FKO2=0,\"\",IFERROR(DATA!FKO2,\"\"))","v":""},{"$f":"IF(DATA!FKP2=0,\"\",IFERROR(DATA!FKP2,\"\"))","v":""},{"$f":"IF(DATA!FKQ2=0,\"\",IFERROR(DATA!FKQ2,\"\"))","v":""},{"$f":"IF(DATA!FKR2=0,\"\",IFERROR(DATA!FKR2,\"\"))","v":""},{"$f":"IF(DATA!FKS2=0,\"\",IFERROR(DATA!FKS2,\"\"))","v":""},{"$f":"IF(DATA!FKT2=0,\"\",IFERROR(DATA!FKT2,\"\"))","v":""},{"$f":"IF(DATA!FKU2=0,\"\",IFERROR(DATA!FKU2,\"\"))","v":""},{"$f":"IF(DATA!FKV2=0,\"\",IFERROR(DATA!FKV2,\"\"))","v":""},{"$f":"IF(DATA!FKW2=0,\"\",IFERROR(DATA!FKW2,\"\"))","v":""},{"$f":"IF(DATA!FKX2=0,\"\",IFERROR(DATA!FKX2,\"\"))","v":""},{"$f":"IF(DATA!FKY2=0,\"\",IFERROR(DATA!FKY2,\"\"))","v":""},{"$f":"IF(DATA!FKZ2=0,\"\",IFERROR(DATA!FKZ2,\"\"))","v":""},{"$f":"IF(DATA!FLA2=0,\"\",IFERROR(DATA!FLA2,\"\"))","v":""},{"$f":"IF(DATA!FLB2=0,\"\",IFERROR(DATA!FLB2,\"\"))","v":""},{"$f":"IF(DATA!FLC2=0,\"\",IFERROR(DATA!FLC2,\"\"))","v":""},{"$f":"IF(DATA!FLD2=0,\"\",IFERROR(DATA!FLD2,\"\"))","v":""},{"$f":"IF(DATA!FLE2=0,\"\",IFERROR(DATA!FLE2,\"\"))","v":""},{"$f":"IF(DATA!FLF2=0,\"\",IFERROR(DATA!FLF2,\"\"))","v":""},{"$f":"IF(DATA!FLG2=0,\"\",IFERROR(DATA!FLG2,\"\"))","v":""},{"$f":"IF(DATA!FLH2=0,\"\",IFERROR(DATA!FLH2,\"\"))","v":""},{"$f":"IF(DATA!FLI2=0,\"\",IFERROR(DATA!FLI2,\"\"))","v":""},{"$f":"IF(DATA!FLJ2=0,\"\",IFERROR(DATA!FLJ2,\"\"))","v":""},{"$f":"IF(DATA!FLK2=0,\"\",IFERROR(DATA!FLK2,\"\"))","v":""},{"$f":"IF(DATA!FLL2=0,\"\",IFERROR(DATA!FLL2,\"\"))","v":""},{"$f":"IF(DATA!FLM2=0,\"\",IFERROR(DATA!FLM2,\"\"))","v":""},{"$f":"IF(DATA!FLN2=0,\"\",IFERROR(DATA!FLN2,\"\"))","v":""},{"$f":"IF(DATA!FLO2=0,\"\",IFERROR(DATA!FLO2,\"\"))","v":""},{"$f":"IF(DATA!FLP2=0,\"\",IFERROR(DATA!FLP2,\"\"))","v":""},{"$f":"IF(DATA!FLQ2=0,\"\",IFERROR(DATA!FLQ2,\"\"))","v":""},{"$f":"IF(DATA!FLR2=0,\"\",IFERROR(DATA!FLR2,\"\"))","v":""},{"$f":"IF(DATA!FLS2=0,\"\",IFERROR(DATA!FLS2,\"\"))","v":""},{"$f":"IF(DATA!FLT2=0,\"\",IFERROR(DATA!FLT2,\"\"))","v":""},{"$f":"IF(DATA!FLU2=0,\"\",IFERROR(DATA!FLU2,\"\"))","v":""},{"$f":"IF(DATA!FLV2=0,\"\",IFERROR(DATA!FLV2,\"\"))","v":""},{"$f":"IF(DATA!FLW2=0,\"\",IFERROR(DATA!FLW2,\"\"))","v":""},{"$f":"IF(DATA!FLX2=0,\"\",IFERROR(DATA!FLX2,\"\"))","v":""},{"$f":"IF(DATA!FLY2=0,\"\",IFERROR(DATA!FLY2,\"\"))","v":""},{"$f":"IF(DATA!FLZ2=0,\"\",IFERROR(DATA!FLZ2,\"\"))","v":""},{"$f":"IF(DATA!FMA2=0,\"\",IFERROR(DATA!FMA2,\"\"))","v":""},{"$f":"IF(DATA!FMB2=0,\"\",IFERROR(DATA!FMB2,\"\"))","v":""},{"$f":"IF(DATA!FMC2=0,\"\",IFERROR(DATA!FMC2,\"\"))","v":""},{"$f":"IF(DATA!FMD2=0,\"\",IFERROR(DATA!FMD2,\"\"))","v":""},{"$f":"IF(DATA!FME2=0,\"\",IFERROR(DATA!FME2,\"\"))","v":""},{"$f":"IF(DATA!FMF2=0,\"\",IFERROR(DATA!FMF2,\"\"))","v":""},{"$f":"IF(DATA!FMG2=0,\"\",IFERROR(DATA!FMG2,\"\"))","v":""},{"$f":"IF(DATA!FMH2=0,\"\",IFERROR(DATA!FMH2,\"\"))","v":""},{"$f":"IF(DATA!FMI2=0,\"\",IFERROR(DATA!FMI2,\"\"))","v":""},{"$f":"IF(DATA!FMJ2=0,\"\",IFERROR(DATA!FMJ2,\"\"))","v":""},{"$f":"IF(DATA!FMK2=0,\"\",IFERROR(DATA!FMK2,\"\"))","v":""},{"$f":"IF(DATA!FML2=0,\"\",IFERROR(DATA!FML2,\"\"))","v":""},{"$f":"IF(DATA!FMM2=0,\"\",IFERROR(DATA!FMM2,\"\"))","v":""},{"$f":"IF(DATA!FMN2=0,\"\",IFERROR(DATA!FMN2,\"\"))","v":""},{"$f":"IF(DATA!FMO2=0,\"\",IFERROR(DATA!FMO2,\"\"))","v":""},{"$f":"IF(DATA!FMP2=0,\"\",IFERROR(DATA!FMP2,\"\"))","v":""},{"$f":"IF(DATA!FMQ2=0,\"\",IFERROR(DATA!FMQ2,\"\"))","v":""},{"$f":"IF(DATA!FMR2=0,\"\",IFERROR(DATA!FMR2,\"\"))","v":""},{"$f":"IF(DATA!FMS2=0,\"\",IFERROR(DATA!FMS2,\"\"))","v":""},{"$f":"IF(DATA!FMT2=0,\"\",IFERROR(DATA!FMT2,\"\"))","v":""},{"$f":"IF(DATA!FMU2=0,\"\",IFERROR(DATA!FMU2,\"\"))","v":""},{"$f":"IF(DATA!FMV2=0,\"\",IFERROR(DATA!FMV2,\"\"))","v":""},{"$f":"IF(DATA!FMW2=0,\"\",IFERROR(DATA!FMW2,\"\"))","v":""},{"$f":"IF(DATA!FMX2=0,\"\",IFERROR(DATA!FMX2,\"\"))","v":""},{"$f":"IF(DATA!FMY2=0,\"\",IFERROR(DATA!FMY2,\"\"))","v":""},{"$f":"IF(DATA!FMZ2=0,\"\",IFERROR(DATA!FMZ2,\"\"))","v":""},{"$f":"IF(DATA!FNA2=0,\"\",IFERROR(DATA!FNA2,\"\"))","v":""},{"$f":"IF(DATA!FNB2=0,\"\",IFERROR(DATA!FNB2,\"\"))","v":""},{"$f":"IF(DATA!FNC2=0,\"\",IFERROR(DATA!FNC2,\"\"))","v":""},{"$f":"IF(DATA!FND2=0,\"\",IFERROR(DATA!FND2,\"\"))","v":""},{"$f":"IF(DATA!FNE2=0,\"\",IFERROR(DATA!FNE2,\"\"))","v":""},{"$f":"IF(DATA!FNF2=0,\"\",IFERROR(DATA!FNF2,\"\"))","v":""},{"$f":"IF(DATA!FNG2=0,\"\",IFERROR(DATA!FNG2,\"\"))","v":""},{"$f":"IF(DATA!FNH2=0,\"\",IFERROR(DATA!FNH2,\"\"))","v":""},{"$f":"IF(DATA!FNI2=0,\"\",IFERROR(DATA!FNI2,\"\"))","v":""},{"$f":"IF(DATA!FNJ2=0,\"\",IFERROR(DATA!FNJ2,\"\"))","v":""},{"$f":"IF(DATA!FNK2=0,\"\",IFERROR(DATA!FNK2,\"\"))","v":""},{"$f":"IF(DATA!FNL2=0,\"\",IFERROR(DATA!FNL2,\"\"))","v":""},{"$f":"IF(DATA!FNM2=0,\"\",IFERROR(DATA!FNM2,\"\"))","v":""},{"$f":"IF(DATA!FNN2=0,\"\",IFERROR(DATA!FNN2,\"\"))","v":""},{"$f":"IF(DATA!FNO2=0,\"\",IFERROR(DATA!FNO2,\"\"))","v":""},{"$f":"IF(DATA!FNP2=0,\"\",IFERROR(DATA!FNP2,\"\"))","v":""},{"$f":"IF(DATA!FNQ2=0,\"\",IFERROR(DATA!FNQ2,\"\"))","v":""},{"$f":"IF(DATA!FNR2=0,\"\",IFERROR(DATA!FNR2,\"\"))","v":""},{"$f":"IF(DATA!FNS2=0,\"\",IFERROR(DATA!FNS2,\"\"))","v":""},{"$f":"IF(DATA!FNT2=0,\"\",IFERROR(DATA!FNT2,\"\"))","v":""},{"$f":"IF(DATA!FNU2=0,\"\",IFERROR(DATA!FNU2,\"\"))","v":""},{"$f":"IF(DATA!FNV2=0,\"\",IFERROR(DATA!FNV2,\"\"))","v":""},{"$f":"IF(DATA!FNW2=0,\"\",IFERROR(DATA!FNW2,\"\"))","v":""},{"$f":"IF(DATA!FNX2=0,\"\",IFERROR(DATA!FNX2,\"\"))","v":""},{"$f":"IF(DATA!FNY2=0,\"\",IFERROR(DATA!FNY2,\"\"))","v":""},{"$f":"IF(DATA!FNZ2=0,\"\",IFERROR(DATA!FNZ2,\"\"))","v":""},{"$f":"IF(DATA!FOA2=0,\"\",IFERROR(DATA!FOA2,\"\"))","v":""},{"$f":"IF(DATA!FOB2=0,\"\",IFERROR(DATA!FOB2,\"\"))","v":""},{"$f":"IF(DATA!FOC2=0,\"\",IFERROR(DATA!FOC2,\"\"))","v":""},{"$f":"IF(DATA!FOD2=0,\"\",IFERROR(DATA!FOD2,\"\"))","v":""},{"$f":"IF(DATA!FOE2=0,\"\",IFERROR(DATA!FOE2,\"\"))","v":""},{"$f":"IF(DATA!FOF2=0,\"\",IFERROR(DATA!FOF2,\"\"))","v":""},{"$f":"IF(DATA!FOG2=0,\"\",IFERROR(DATA!FOG2,\"\"))","v":""},{"$f":"IF(DATA!FOH2=0,\"\",IFERROR(DATA!FOH2,\"\"))","v":""},{"$f":"IF(DATA!FOI2=0,\"\",IFERROR(DATA!FOI2,\"\"))","v":""},{"$f":"IF(DATA!FOJ2=0,\"\",IFERROR(DATA!FOJ2,\"\"))","v":""},{"$f":"IF(DATA!FOK2=0,\"\",IFERROR(DATA!FOK2,\"\"))","v":""},{"$f":"IF(DATA!FOL2=0,\"\",IFERROR(DATA!FOL2,\"\"))","v":""},{"$f":"IF(DATA!FOM2=0,\"\",IFERROR(DATA!FOM2,\"\"))","v":""},{"$f":"IF(DATA!FON2=0,\"\",IFERROR(DATA!FON2,\"\"))","v":""},{"$f":"IF(DATA!FOO2=0,\"\",IFERROR(DATA!FOO2,\"\"))","v":""},{"$f":"IF(DATA!FOP2=0,\"\",IFERROR(DATA!FOP2,\"\"))","v":""},{"$f":"IF(DATA!FOQ2=0,\"\",IFERROR(DATA!FOQ2,\"\"))","v":""},{"$f":"IF(DATA!FOR2=0,\"\",IFERROR(DATA!FOR2,\"\"))","v":""},{"$f":"IF(DATA!FOS2=0,\"\",IFERROR(DATA!FOS2,\"\"))","v":""},{"$f":"IF(DATA!FOT2=0,\"\",IFERROR(DATA!FOT2,\"\"))","v":""},{"$f":"IF(DATA!FOU2=0,\"\",IFERROR(DATA!FOU2,\"\"))","v":""},{"$f":"IF(DATA!FOV2=0,\"\",IFERROR(DATA!FOV2,\"\"))","v":""},{"$f":"IF(DATA!FOW2=0,\"\",IFERROR(DATA!FOW2,\"\"))","v":""},{"$f":"IF(DATA!FOX2=0,\"\",IFERROR(DATA!FOX2,\"\"))","v":""},{"$f":"IF(DATA!FOY2=0,\"\",IFERROR(DATA!FOY2,\"\"))","v":""},{"$f":"IF(DATA!FOZ2=0,\"\",IFERROR(DATA!FOZ2,\"\"))","v":""},{"$f":"IF(DATA!FPA2=0,\"\",IFERROR(DATA!FPA2,\"\"))","v":""},{"$f":"IF(DATA!FPB2=0,\"\",IFERROR(DATA!FPB2,\"\"))","v":""},{"$f":"IF(DATA!FPC2=0,\"\",IFERROR(DATA!FPC2,\"\"))","v":""},{"$f":"IF(DATA!FPD2=0,\"\",IFERROR(DATA!FPD2,\"\"))","v":""},{"$f":"IF(DATA!FPE2=0,\"\",IFERROR(DATA!FPE2,\"\"))","v":""},{"$f":"IF(DATA!FPF2=0,\"\",IFERROR(DATA!FPF2,\"\"))","v":""},{"$f":"IF(DATA!FPG2=0,\"\",IFERROR(DATA!FPG2,\"\"))","v":""},{"$f":"IF(DATA!FPH2=0,\"\",IFERROR(DATA!FPH2,\"\"))","v":""},{"$f":"IF(DATA!FPI2=0,\"\",IFERROR(DATA!FPI2,\"\"))","v":""},{"$f":"IF(DATA!FPJ2=0,\"\",IFERROR(DATA!FPJ2,\"\"))","v":""},{"$f":"IF(DATA!FPK2=0,\"\",IFERROR(DATA!FPK2,\"\"))","v":""},{"$f":"IF(DATA!FPL2=0,\"\",IFERROR(DATA!FPL2,\"\"))","v":""},{"$f":"IF(DATA!FPM2=0,\"\",IFERROR(DATA!FPM2,\"\"))","v":""},{"$f":"IF(DATA!FPN2=0,\"\",IFERROR(DATA!FPN2,\"\"))","v":""},{"$f":"IF(DATA!FPO2=0,\"\",IFERROR(DATA!FPO2,\"\"))","v":""},{"$f":"IF(DATA!FPP2=0,\"\",IFERROR(DATA!FPP2,\"\"))","v":""},{"$f":"IF(DATA!FPQ2=0,\"\",IFERROR(DATA!FPQ2,\"\"))","v":""},{"$f":"IF(DATA!FPR2=0,\"\",IFERROR(DATA!FPR2,\"\"))","v":""},{"$f":"IF(DATA!FPS2=0,\"\",IFERROR(DATA!FPS2,\"\"))","v":""},{"$f":"IF(DATA!FPT2=0,\"\",IFERROR(DATA!FPT2,\"\"))","v":""},{"$f":"IF(DATA!FPU2=0,\"\",IFERROR(DATA!FPU2,\"\"))","v":""},{"$f":"IF(DATA!FPV2=0,\"\",IFERROR(DATA!FPV2,\"\"))","v":""},{"$f":"IF(DATA!FPW2=0,\"\",IFERROR(DATA!FPW2,\"\"))","v":""},{"$f":"IF(DATA!FPX2=0,\"\",IFERROR(DATA!FPX2,\"\"))","v":""},{"$f":"IF(DATA!FPY2=0,\"\",IFERROR(DATA!FPY2,\"\"))","v":""},{"$f":"IF(DATA!FPZ2=0,\"\",IFERROR(DATA!FPZ2,\"\"))","v":""},{"$f":"IF(DATA!FQA2=0,\"\",IFERROR(DATA!FQA2,\"\"))","v":""},{"$f":"IF(DATA!FQB2=0,\"\",IFERROR(DATA!FQB2,\"\"))","v":""},{"$f":"IF(DATA!FQC2=0,\"\",IFERROR(DATA!FQC2,\"\"))","v":""},{"$f":"IF(DATA!FQD2=0,\"\",IFERROR(DATA!FQD2,\"\"))","v":""},{"$f":"IF(DATA!FQE2=0,\"\",IFERROR(DATA!FQE2,\"\"))","v":""},{"$f":"IF(DATA!FQF2=0,\"\",IFERROR(DATA!FQF2,\"\"))","v":""},{"$f":"IF(DATA!FQG2=0,\"\",IFERROR(DATA!FQG2,\"\"))","v":""},{"$f":"IF(DATA!FQH2=0,\"\",IFERROR(DATA!FQH2,\"\"))","v":""},{"$f":"IF(DATA!FQI2=0,\"\",IFERROR(DATA!FQI2,\"\"))","v":""},{"$f":"IF(DATA!FQJ2=0,\"\",IFERROR(DATA!FQJ2,\"\"))","v":""},{"$f":"IF(DATA!FQK2=0,\"\",IFERROR(DATA!FQK2,\"\"))","v":""},{"$f":"IF(DATA!FQL2=0,\"\",IFERROR(DATA!FQL2,\"\"))","v":""},{"$f":"IF(DATA!FQM2=0,\"\",IFERROR(DATA!FQM2,\"\"))","v":""},{"$f":"IF(DATA!FQN2=0,\"\",IFERROR(DATA!FQN2,\"\"))","v":""},{"$f":"IF(DATA!FQO2=0,\"\",IFERROR(DATA!FQO2,\"\"))","v":""},{"$f":"IF(DATA!FQP2=0,\"\",IFERROR(DATA!FQP2,\"\"))","v":""},{"$f":"IF(DATA!FQQ2=0,\"\",IFERROR(DATA!FQQ2,\"\"))","v":""},{"$f":"IF(DATA!FQR2=0,\"\",IFERROR(DATA!FQR2,\"\"))","v":""},{"$f":"IF(DATA!FQS2=0,\"\",IFERROR(DATA!FQS2,\"\"))","v":""},{"$f":"IF(DATA!FQT2=0,\"\",IFERROR(DATA!FQT2,\"\"))","v":""},{"$f":"IF(DATA!FQU2=0,\"\",IFERROR(DATA!FQU2,\"\"))","v":""},{"$f":"IF(DATA!FQV2=0,\"\",IFERROR(DATA!FQV2,\"\"))","v":""},{"$f":"IF(DATA!FQW2=0,\"\",IFERROR(DATA!FQW2,\"\"))","v":""},{"$f":"IF(DATA!FQX2=0,\"\",IFERROR(DATA!FQX2,\"\"))","v":""},{"$f":"IF(DATA!FQY2=0,\"\",IFERROR(DATA!FQY2,\"\"))","v":""},{"$f":"IF(DATA!FQZ2=0,\"\",IFERROR(DATA!FQZ2,\"\"))","v":""},{"$f":"IF(DATA!FRA2=0,\"\",IFERROR(DATA!FRA2,\"\"))","v":""},{"$f":"IF(DATA!FRB2=0,\"\",IFERROR(DATA!FRB2,\"\"))","v":""},{"$f":"IF(DATA!FRC2=0,\"\",IFERROR(DATA!FRC2,\"\"))","v":""},{"$f":"IF(DATA!FRD2=0,\"\",IFERROR(DATA!FRD2,\"\"))","v":""},{"$f":"IF(DATA!FRE2=0,\"\",IFERROR(DATA!FRE2,\"\"))","v":""},{"$f":"IF(DATA!FRF2=0,\"\",IFERROR(DATA!FRF2,\"\"))","v":""},{"$f":"IF(DATA!FRG2=0,\"\",IFERROR(DATA!FRG2,\"\"))","v":""},{"$f":"IF(DATA!FRH2=0,\"\",IFERROR(DATA!FRH2,\"\"))","v":""},{"$f":"IF(DATA!FRI2=0,\"\",IFERROR(DATA!FRI2,\"\"))","v":""},{"$f":"IF(DATA!FRJ2=0,\"\",IFERROR(DATA!FRJ2,\"\"))","v":""},{"$f":"IF(DATA!FRK2=0,\"\",IFERROR(DATA!FRK2,\"\"))","v":""},{"$f":"IF(DATA!FRL2=0,\"\",IFERROR(DATA!FRL2,\"\"))","v":""},{"$f":"IF(DATA!FRM2=0,\"\",IFERROR(DATA!FRM2,\"\"))","v":""},{"$f":"IF(DATA!FRN2=0,\"\",IFERROR(DATA!FRN2,\"\"))","v":""},{"$f":"IF(DATA!FRO2=0,\"\",IFERROR(DATA!FRO2,\"\"))","v":""},{"$f":"IF(DATA!FRP2=0,\"\",IFERROR(DATA!FRP2,\"\"))","v":""},{"$f":"IF(DATA!FRQ2=0,\"\",IFERROR(DATA!FRQ2,\"\"))","v":""},{"$f":"IF(DATA!FRR2=0,\"\",IFERROR(DATA!FRR2,\"\"))","v":""},{"$f":"IF(DATA!FRS2=0,\"\",IFERROR(DATA!FRS2,\"\"))","v":""},{"$f":"IF(DATA!FRT2=0,\"\",IFERROR(DATA!FRT2,\"\"))","v":""},{"$f":"IF(DATA!FRU2=0,\"\",IFERROR(DATA!FRU2,\"\"))","v":""},{"$f":"IF(DATA!FRV2=0,\"\",IFERROR(DATA!FRV2,\"\"))","v":""},{"$f":"IF(DATA!FRW2=0,\"\",IFERROR(DATA!FRW2,\"\"))","v":""},{"$f":"IF(DATA!FRX2=0,\"\",IFERROR(DATA!FRX2,\"\"))","v":""},{"$f":"IF(DATA!FRY2=0,\"\",IFERROR(DATA!FRY2,\"\"))","v":""},{"$f":"IF(DATA!FRZ2=0,\"\",IFERROR(DATA!FRZ2,\"\"))","v":""},{"$f":"IF(DATA!FSA2=0,\"\",IFERROR(DATA!FSA2,\"\"))","v":""},{"$f":"IF(DATA!FSB2=0,\"\",IFERROR(DATA!FSB2,\"\"))","v":""},{"$f":"IF(DATA!FSC2=0,\"\",IFERROR(DATA!FSC2,\"\"))","v":""},{"$f":"IF(DATA!FSD2=0,\"\",IFERROR(DATA!FSD2,\"\"))","v":""},{"$f":"IF(DATA!FSE2=0,\"\",IFERROR(DATA!FSE2,\"\"))","v":""},{"$f":"IF(DATA!FSF2=0,\"\",IFERROR(DATA!FSF2,\"\"))","v":""},{"$f":"IF(DATA!FSG2=0,\"\",IFERROR(DATA!FSG2,\"\"))","v":""},{"$f":"IF(DATA!FSH2=0,\"\",IFERROR(DATA!FSH2,\"\"))","v":""},{"$f":"IF(DATA!FSI2=0,\"\",IFERROR(DATA!FSI2,\"\"))","v":""},{"$f":"IF(DATA!FSJ2=0,\"\",IFERROR(DATA!FSJ2,\"\"))","v":""},{"$f":"IF(DATA!FSK2=0,\"\",IFERROR(DATA!FSK2,\"\"))","v":""},{"$f":"IF(DATA!FSL2=0,\"\",IFERROR(DATA!FSL2,\"\"))","v":""},{"$f":"IF(DATA!FSM2=0,\"\",IFERROR(DATA!FSM2,\"\"))","v":""},{"$f":"IF(DATA!FSN2=0,\"\",IFERROR(DATA!FSN2,\"\"))","v":""},{"$f":"IF(DATA!FSO2=0,\"\",IFERROR(DATA!FSO2,\"\"))","v":""},{"$f":"IF(DATA!FSP2=0,\"\",IFERROR(DATA!FSP2,\"\"))","v":""},{"$f":"IF(DATA!FSQ2=0,\"\",IFERROR(DATA!FSQ2,\"\"))","v":""},{"$f":"IF(DATA!FSR2=0,\"\",IFERROR(DATA!FSR2,\"\"))","v":""},{"$f":"IF(DATA!FSS2=0,\"\",IFERROR(DATA!FSS2,\"\"))","v":""},{"$f":"IF(DATA!FST2=0,\"\",IFERROR(DATA!FST2,\"\"))","v":""},{"$f":"IF(DATA!FSU2=0,\"\",IFERROR(DATA!FSU2,\"\"))","v":""},{"$f":"IF(DATA!FSV2=0,\"\",IFERROR(DATA!FSV2,\"\"))","v":""},{"$f":"IF(DATA!FSW2=0,\"\",IFERROR(DATA!FSW2,\"\"))","v":""},{"$f":"IF(DATA!FSX2=0,\"\",IFERROR(DATA!FSX2,\"\"))","v":""},{"$f":"IF(DATA!FSY2=0,\"\",IFERROR(DATA!FSY2,\"\"))","v":""},{"$f":"IF(DATA!FSZ2=0,\"\",IFERROR(DATA!FSZ2,\"\"))","v":""},{"$f":"IF(DATA!FTA2=0,\"\",IFERROR(DATA!FTA2,\"\"))","v":""},{"$f":"IF(DATA!FTB2=0,\"\",IFERROR(DATA!FTB2,\"\"))","v":""},{"$f":"IF(DATA!FTC2=0,\"\",IFERROR(DATA!FTC2,\"\"))","v":""},{"$f":"IF(DATA!FTD2=0,\"\",IFERROR(DATA!FTD2,\"\"))","v":""},{"$f":"IF(DATA!FTE2=0,\"\",IFERROR(DATA!FTE2,\"\"))","v":""},{"$f":"IF(DATA!FTF2=0,\"\",IFERROR(DATA!FTF2,\"\"))","v":""},{"$f":"IF(DATA!FTG2=0,\"\",IFERROR(DATA!FTG2,\"\"))","v":""},{"$f":"IF(DATA!FTH2=0,\"\",IFERROR(DATA!FTH2,\"\"))","v":""},{"$f":"IF(DATA!FTI2=0,\"\",IFERROR(DATA!FTI2,\"\"))","v":""},{"$f":"IF(DATA!FTJ2=0,\"\",IFERROR(DATA!FTJ2,\"\"))","v":""},{"$f":"IF(DATA!FTK2=0,\"\",IFERROR(DATA!FTK2,\"\"))","v":""},{"$f":"IF(DATA!FTL2=0,\"\",IFERROR(DATA!FTL2,\"\"))","v":""},{"$f":"IF(DATA!FTM2=0,\"\",IFERROR(DATA!FTM2,\"\"))","v":""},{"$f":"IF(DATA!FTN2=0,\"\",IFERROR(DATA!FTN2,\"\"))","v":""},{"$f":"IF(DATA!FTO2=0,\"\",IFERROR(DATA!FTO2,\"\"))","v":""},{"$f":"IF(DATA!FTP2=0,\"\",IFERROR(DATA!FTP2,\"\"))","v":""},{"$f":"IF(DATA!FTQ2=0,\"\",IFERROR(DATA!FTQ2,\"\"))","v":""},{"$f":"IF(DATA!FTR2=0,\"\",IFERROR(DATA!FTR2,\"\"))","v":""},{"$f":"IF(DATA!FTS2=0,\"\",IFERROR(DATA!FTS2,\"\"))","v":""},{"$f":"IF(DATA!FTT2=0,\"\",IFERROR(DATA!FTT2,\"\"))","v":""},{"$f":"IF(DATA!FTU2=0,\"\",IFERROR(DATA!FTU2,\"\"))","v":""},{"$f":"IF(DATA!FTV2=0,\"\",IFERROR(DATA!FTV2,\"\"))","v":""},{"$f":"IF(DATA!FTW2=0,\"\",IFERROR(DATA!FTW2,\"\"))","v":""},{"$f":"IF(DATA!FTX2=0,\"\",IFERROR(DATA!FTX2,\"\"))","v":""},{"$f":"IF(DATA!FTY2=0,\"\",IFERROR(DATA!FTY2,\"\"))","v":""},{"$f":"IF(DATA!FTZ2=0,\"\",IFERROR(DATA!FTZ2,\"\"))","v":""},{"$f":"IF(DATA!FUA2=0,\"\",IFERROR(DATA!FUA2,\"\"))","v":""},{"$f":"IF(DATA!FUB2=0,\"\",IFERROR(DATA!FUB2,\"\"))","v":""},{"$f":"IF(DATA!FUC2=0,\"\",IFERROR(DATA!FUC2,\"\"))","v":""},{"$f":"IF(DATA!FUD2=0,\"\",IFERROR(DATA!FUD2,\"\"))","v":""},{"$f":"IF(DATA!FUE2=0,\"\",IFERROR(DATA!FUE2,\"\"))","v":""},{"$f":"IF(DATA!FUF2=0,\"\",IFERROR(DATA!FUF2,\"\"))","v":""},{"$f":"IF(DATA!FUG2=0,\"\",IFERROR(DATA!FUG2,\"\"))","v":""},{"$f":"IF(DATA!FUH2=0,\"\",IFERROR(DATA!FUH2,\"\"))","v":""},{"$f":"IF(DATA!FUI2=0,\"\",IFERROR(DATA!FUI2,\"\"))","v":""},{"$f":"IF(DATA!FUJ2=0,\"\",IFERROR(DATA!FUJ2,\"\"))","v":""},{"$f":"IF(DATA!FUK2=0,\"\",IFERROR(DATA!FUK2,\"\"))","v":""},{"$f":"IF(DATA!FUL2=0,\"\",IFERROR(DATA!FUL2,\"\"))","v":""},{"$f":"IF(DATA!FUM2=0,\"\",IFERROR(DATA!FUM2,\"\"))","v":""},{"$f":"IF(DATA!FUN2=0,\"\",IFERROR(DATA!FUN2,\"\"))","v":""},{"$f":"IF(DATA!FUO2=0,\"\",IFERROR(DATA!FUO2,\"\"))","v":""},{"$f":"IF(DATA!FUP2=0,\"\",IFERROR(DATA!FUP2,\"\"))","v":""},{"$f":"IF(DATA!FUQ2=0,\"\",IFERROR(DATA!FUQ2,\"\"))","v":""},{"$f":"IF(DATA!FUR2=0,\"\",IFERROR(DATA!FUR2,\"\"))","v":""},{"$f":"IF(DATA!FUS2=0,\"\",IFERROR(DATA!FUS2,\"\"))","v":""},{"$f":"IF(DATA!FUT2=0,\"\",IFERROR(DATA!FUT2,\"\"))","v":""},{"$f":"IF(DATA!FUU2=0,\"\",IFERROR(DATA!FUU2,\"\"))","v":""},{"$f":"IF(DATA!FUV2=0,\"\",IFERROR(DATA!FUV2,\"\"))","v":""},{"$f":"IF(DATA!FUW2=0,\"\",IFERROR(DATA!FUW2,\"\"))","v":""},{"$f":"IF(DATA!FUX2=0,\"\",IFERROR(DATA!FUX2,\"\"))","v":""},{"$f":"IF(DATA!FUY2=0,\"\",IFERROR(DATA!FUY2,\"\"))","v":""},{"$f":"IF(DATA!FUZ2=0,\"\",IFERROR(DATA!FUZ2,\"\"))","v":""},{"$f":"IF(DATA!FVA2=0,\"\",IFERROR(DATA!FVA2,\"\"))","v":""},{"$f":"IF(DATA!FVB2=0,\"\",IFERROR(DATA!FVB2,\"\"))","v":""},{"$f":"IF(DATA!FVC2=0,\"\",IFERROR(DATA!FVC2,\"\"))","v":""},{"$f":"IF(DATA!FVD2=0,\"\",IFERROR(DATA!FVD2,\"\"))","v":""},{"$f":"IF(DATA!FVE2=0,\"\",IFERROR(DATA!FVE2,\"\"))","v":""},{"$f":"IF(DATA!FVF2=0,\"\",IFERROR(DATA!FVF2,\"\"))","v":""},{"$f":"IF(DATA!FVG2=0,\"\",IFERROR(DATA!FVG2,\"\"))","v":""},{"$f":"IF(DATA!FVH2=0,\"\",IFERROR(DATA!FVH2,\"\"))","v":""},{"$f":"IF(DATA!FVI2=0,\"\",IFERROR(DATA!FVI2,\"\"))","v":""},{"$f":"IF(DATA!FVJ2=0,\"\",IFERROR(DATA!FVJ2,\"\"))","v":""},{"$f":"IF(DATA!FVK2=0,\"\",IFERROR(DATA!FVK2,\"\"))","v":""},{"$f":"IF(DATA!FVL2=0,\"\",IFERROR(DATA!FVL2,\"\"))","v":""},{"$f":"IF(DATA!FVM2=0,\"\",IFERROR(DATA!FVM2,\"\"))","v":""},{"$f":"IF(DATA!FVN2=0,\"\",IFERROR(DATA!FVN2,\"\"))","v":""},{"$f":"IF(DATA!FVO2=0,\"\",IFERROR(DATA!FVO2,\"\"))","v":""},{"$f":"IF(DATA!FVP2=0,\"\",IFERROR(DATA!FVP2,\"\"))","v":""},{"$f":"IF(DATA!FVQ2=0,\"\",IFERROR(DATA!FVQ2,\"\"))","v":""},{"$f":"IF(DATA!FVR2=0,\"\",IFERROR(DATA!FVR2,\"\"))","v":""},{"$f":"IF(DATA!FVS2=0,\"\",IFERROR(DATA!FVS2,\"\"))","v":""},{"$f":"IF(DATA!FVT2=0,\"\",IFERROR(DATA!FVT2,\"\"))","v":""},{"$f":"IF(DATA!FVU2=0,\"\",IFERROR(DATA!FVU2,\"\"))","v":""},{"$f":"IF(DATA!FVV2=0,\"\",IFERROR(DATA!FVV2,\"\"))","v":""},{"$f":"IF(DATA!FVW2=0,\"\",IFERROR(DATA!FVW2,\"\"))","v":""},{"$f":"IF(DATA!FVX2=0,\"\",IFERROR(DATA!FVX2,\"\"))","v":""},{"$f":"IF(DATA!FVY2=0,\"\",IFERROR(DATA!FVY2,\"\"))","v":""},{"$f":"IF(DATA!FVZ2=0,\"\",IFERROR(DATA!FVZ2,\"\"))","v":""},{"$f":"IF(DATA!FWA2=0,\"\",IFERROR(DATA!FWA2,\"\"))","v":""},{"$f":"IF(DATA!FWB2=0,\"\",IFERROR(DATA!FWB2,\"\"))","v":""},{"$f":"IF(DATA!FWC2=0,\"\",IFERROR(DATA!FWC2,\"\"))","v":""},{"$f":"IF(DATA!FWD2=0,\"\",IFERROR(DATA!FWD2,\"\"))","v":""},{"$f":"IF(DATA!FWE2=0,\"\",IFERROR(DATA!FWE2,\"\"))","v":""},{"$f":"IF(DATA!FWF2=0,\"\",IFERROR(DATA!FWF2,\"\"))","v":""},{"$f":"IF(DATA!FWG2=0,\"\",IFERROR(DATA!FWG2,\"\"))","v":""},{"$f":"IF(DATA!FWH2=0,\"\",IFERROR(DATA!FWH2,\"\"))","v":""},{"$f":"IF(DATA!FWI2=0,\"\",IFERROR(DATA!FWI2,\"\"))","v":""},{"$f":"IF(DATA!FWJ2=0,\"\",IFERROR(DATA!FWJ2,\"\"))","v":""},{"$f":"IF(DATA!FWK2=0,\"\",IFERROR(DATA!FWK2,\"\"))","v":""},{"$f":"IF(DATA!FWL2=0,\"\",IFERROR(DATA!FWL2,\"\"))","v":""},{"$f":"IF(DATA!FWM2=0,\"\",IFERROR(DATA!FWM2,\"\"))","v":""},{"$f":"IF(DATA!FWN2=0,\"\",IFERROR(DATA!FWN2,\"\"))","v":""},{"$f":"IF(DATA!FWO2=0,\"\",IFERROR(DATA!FWO2,\"\"))","v":""},{"$f":"IF(DATA!FWP2=0,\"\",IFERROR(DATA!FWP2,\"\"))","v":""},{"$f":"IF(DATA!FWQ2=0,\"\",IFERROR(DATA!FWQ2,\"\"))","v":""},{"$f":"IF(DATA!FWR2=0,\"\",IFERROR(DATA!FWR2,\"\"))","v":""},{"$f":"IF(DATA!FWS2=0,\"\",IFERROR(DATA!FWS2,\"\"))","v":""},{"$f":"IF(DATA!FWT2=0,\"\",IFERROR(DATA!FWT2,\"\"))","v":""},{"$f":"IF(DATA!FWU2=0,\"\",IFERROR(DATA!FWU2,\"\"))","v":""},{"$f":"IF(DATA!FWV2=0,\"\",IFERROR(DATA!FWV2,\"\"))","v":""},{"$f":"IF(DATA!FWW2=0,\"\",IFERROR(DATA!FWW2,\"\"))","v":""},{"$f":"IF(DATA!FWX2=0,\"\",IFERROR(DATA!FWX2,\"\"))","v":""},{"$f":"IF(DATA!FWY2=0,\"\",IFERROR(DATA!FWY2,\"\"))","v":""},{"$f":"IF(DATA!FWZ2=0,\"\",IFERROR(DATA!FWZ2,\"\"))","v":""},{"$f":"IF(DATA!FXA2=0,\"\",IFERROR(DATA!FXA2,\"\"))","v":""},{"$f":"IF(DATA!FXB2=0,\"\",IFERROR(DATA!FXB2,\"\"))","v":""},{"$f":"IF(DATA!FXC2=0,\"\",IFERROR(DATA!FXC2,\"\"))","v":""},{"$f":"IF(DATA!FXD2=0,\"\",IFERROR(DATA!FXD2,\"\"))","v":""},{"$f":"IF(DATA!FXE2=0,\"\",IFERROR(DATA!FXE2,\"\"))","v":""},{"$f":"IF(DATA!FXF2=0,\"\",IFERROR(DATA!FXF2,\"\"))","v":""},{"$f":"IF(DATA!FXG2=0,\"\",IFERROR(DATA!FXG2,\"\"))","v":""},{"$f":"IF(DATA!FXH2=0,\"\",IFERROR(DATA!FXH2,\"\"))","v":""},{"$f":"IF(DATA!FXI2=0,\"\",IFERROR(DATA!FXI2,\"\"))","v":""},{"$f":"IF(DATA!FXJ2=0,\"\",IFERROR(DATA!FXJ2,\"\"))","v":""},{"$f":"IF(DATA!FXK2=0,\"\",IFERROR(DATA!FXK2,\"\"))","v":""},{"$f":"IF(DATA!FXL2=0,\"\",IFERROR(DATA!FXL2,\"\"))","v":""},{"$f":"IF(DATA!FXM2=0,\"\",IFERROR(DATA!FXM2,\"\"))","v":""},{"$f":"IF(DATA!FXN2=0,\"\",IFERROR(DATA!FXN2,\"\"))","v":""},{"$f":"IF(DATA!FXO2=0,\"\",IFERROR(DATA!FXO2,\"\"))","v":""},{"$f":"IF(DATA!FXP2=0,\"\",IFERROR(DATA!FXP2,\"\"))","v":""},{"$f":"IF(DATA!FXQ2=0,\"\",IFERROR(DATA!FXQ2,\"\"))","v":""},{"$f":"IF(DATA!FXR2=0,\"\",IFERROR(DATA!FXR2,\"\"))","v":""},{"$f":"IF(DATA!FXS2=0,\"\",IFERROR(DATA!FXS2,\"\"))","v":""},{"$f":"IF(DATA!FXT2=0,\"\",IFERROR(DATA!FXT2,\"\"))","v":""},{"$f":"IF(DATA!FXU2=0,\"\",IFERROR(DATA!FXU2,\"\"))","v":""},{"$f":"IF(DATA!FXV2=0,\"\",IFERROR(DATA!FXV2,\"\"))","v":""},{"$f":"IF(DATA!FXW2=0,\"\",IFERROR(DATA!FXW2,\"\"))","v":""},{"$f":"IF(DATA!FXX2=0,\"\",IFERROR(DATA!FXX2,\"\"))","v":""},{"$f":"IF(DATA!FXY2=0,\"\",IFERROR(DATA!FXY2,\"\"))","v":""},{"$f":"IF(DATA!FXZ2=0,\"\",IFERROR(DATA!FXZ2,\"\"))","v":""},{"$f":"IF(DATA!FYA2=0,\"\",IFERROR(DATA!FYA2,\"\"))","v":""},{"$f":"IF(DATA!FYB2=0,\"\",IFERROR(DATA!FYB2,\"\"))","v":""},{"$f":"IF(DATA!FYC2=0,\"\",IFERROR(DATA!FYC2,\"\"))","v":""},{"$f":"IF(DATA!FYD2=0,\"\",IFERROR(DATA!FYD2,\"\"))","v":""},{"$f":"IF(DATA!FYE2=0,\"\",IFERROR(DATA!FYE2,\"\"))","v":""},{"$f":"IF(DATA!FYF2=0,\"\",IFERROR(DATA!FYF2,\"\"))","v":""},{"$f":"IF(DATA!FYG2=0,\"\",IFERROR(DATA!FYG2,\"\"))","v":""},{"$f":"IF(DATA!FYH2=0,\"\",IFERROR(DATA!FYH2,\"\"))","v":""},{"$f":"IF(DATA!FYI2=0,\"\",IFERROR(DATA!FYI2,\"\"))","v":""},{"$f":"IF(DATA!FYJ2=0,\"\",IFERROR(DATA!FYJ2,\"\"))","v":""},{"$f":"IF(DATA!FYK2=0,\"\",IFERROR(DATA!FYK2,\"\"))","v":""},{"$f":"IF(DATA!FYL2=0,\"\",IFERROR(DATA!FYL2,\"\"))","v":""},{"$f":"IF(DATA!FYM2=0,\"\",IFERROR(DATA!FYM2,\"\"))","v":""},{"$f":"IF(DATA!FYN2=0,\"\",IFERROR(DATA!FYN2,\"\"))","v":""},{"$f":"IF(DATA!FYO2=0,\"\",IFERROR(DATA!FYO2,\"\"))","v":""},{"$f":"IF(DATA!FYP2=0,\"\",IFERROR(DATA!FYP2,\"\"))","v":""},{"$f":"IF(DATA!FYQ2=0,\"\",IFERROR(DATA!FYQ2,\"\"))","v":""},{"$f":"IF(DATA!FYR2=0,\"\",IFERROR(DATA!FYR2,\"\"))","v":""},{"$f":"IF(DATA!FYS2=0,\"\",IFERROR(DATA!FYS2,\"\"))","v":""},{"$f":"IF(DATA!FYT2=0,\"\",IFERROR(DATA!FYT2,\"\"))","v":""},{"$f":"IF(DATA!FYU2=0,\"\",IFERROR(DATA!FYU2,\"\"))","v":""},{"$f":"IF(DATA!FYV2=0,\"\",IFERROR(DATA!FYV2,\"\"))","v":""},{"$f":"IF(DATA!FYW2=0,\"\",IFERROR(DATA!FYW2,\"\"))","v":""},{"$f":"IF(DATA!FYX2=0,\"\",IFERROR(DATA!FYX2,\"\"))","v":""},{"$f":"IF(DATA!FYY2=0,\"\",IFERROR(DATA!FYY2,\"\"))","v":""},{"$f":"IF(DATA!FYZ2=0,\"\",IFERROR(DATA!FYZ2,\"\"))","v":""},{"$f":"IF(DATA!FZA2=0,\"\",IFERROR(DATA!FZA2,\"\"))","v":""},{"$f":"IF(DATA!FZB2=0,\"\",IFERROR(DATA!FZB2,\"\"))","v":""},{"$f":"IF(DATA!FZC2=0,\"\",IFERROR(DATA!FZC2,\"\"))","v":""},{"$f":"IF(DATA!FZD2=0,\"\",IFERROR(DATA!FZD2,\"\"))","v":""},{"$f":"IF(DATA!FZE2=0,\"\",IFERROR(DATA!FZE2,\"\"))","v":""},{"$f":"IF(DATA!FZF2=0,\"\",IFERROR(DATA!FZF2,\"\"))","v":""},{"$f":"IF(DATA!FZG2=0,\"\",IFERROR(DATA!FZG2,\"\"))","v":""},{"$f":"IF(DATA!FZH2=0,\"\",IFERROR(DATA!FZH2,\"\"))","v":""},{"$f":"IF(DATA!FZI2=0,\"\",IFERROR(DATA!FZI2,\"\"))","v":""},{"$f":"IF(DATA!FZJ2=0,\"\",IFERROR(DATA!FZJ2,\"\"))","v":""},{"$f":"IF(DATA!FZK2=0,\"\",IFERROR(DATA!FZK2,\"\"))","v":""},{"$f":"IF(DATA!FZL2=0,\"\",IFERROR(DATA!FZL2,\"\"))","v":""},{"$f":"IF(DATA!FZM2=0,\"\",IFERROR(DATA!FZM2,\"\"))","v":""},{"$f":"IF(DATA!FZN2=0,\"\",IFERROR(DATA!FZN2,\"\"))","v":""},{"$f":"IF(DATA!FZO2=0,\"\",IFERROR(DATA!FZO2,\"\"))","v":""},{"$f":"IF(DATA!FZP2=0,\"\",IFERROR(DATA!FZP2,\"\"))","v":""},{"$f":"IF(DATA!FZQ2=0,\"\",IFERROR(DATA!FZQ2,\"\"))","v":""},{"$f":"IF(DATA!FZR2=0,\"\",IFERROR(DATA!FZR2,\"\"))","v":""},{"$f":"IF(DATA!FZS2=0,\"\",IFERROR(DATA!FZS2,\"\"))","v":""},{"$f":"IF(DATA!FZT2=0,\"\",IFERROR(DATA!FZT2,\"\"))","v":""},{"$f":"IF(DATA!FZU2=0,\"\",IFERROR(DATA!FZU2,\"\"))","v":""},{"$f":"IF(DATA!FZV2=0,\"\",IFERROR(DATA!FZV2,\"\"))","v":""},{"$f":"IF(DATA!FZW2=0,\"\",IFERROR(DATA!FZW2,\"\"))","v":""},{"$f":"IF(DATA!FZX2=0,\"\",IFERROR(DATA!FZX2,\"\"))","v":""},{"$f":"IF(DATA!FZY2=0,\"\",IFERROR(DATA!FZY2,\"\"))","v":""},{"$f":"IF(DATA!FZZ2=0,\"\",IFERROR(DATA!FZZ2,\"\"))","v":""},{"$f":"IF(DATA!GAA2=0,\"\",IFERROR(DATA!GAA2,\"\"))","v":""},{"$f":"IF(DATA!GAB2=0,\"\",IFERROR(DATA!GAB2,\"\"))","v":""},{"$f":"IF(DATA!GAC2=0,\"\",IFERROR(DATA!GAC2,\"\"))","v":""},{"$f":"IF(DATA!GAD2=0,\"\",IFERROR(DATA!GAD2,\"\"))","v":""},{"$f":"IF(DATA!GAE2=0,\"\",IFERROR(DATA!GAE2,\"\"))","v":""},{"$f":"IF(DATA!GAF2=0,\"\",IFERROR(DATA!GAF2,\"\"))","v":""},{"$f":"IF(DATA!GAG2=0,\"\",IFERROR(DATA!GAG2,\"\"))","v":""},{"$f":"IF(DATA!GAH2=0,\"\",IFERROR(DATA!GAH2,\"\"))","v":""},{"$f":"IF(DATA!GAI2=0,\"\",IFERROR(DATA!GAI2,\"\"))","v":""},{"$f":"IF(DATA!GAJ2=0,\"\",IFERROR(DATA!GAJ2,\"\"))","v":""},{"$f":"IF(DATA!GAK2=0,\"\",IFERROR(DATA!GAK2,\"\"))","v":""},{"$f":"IF(DATA!GAL2=0,\"\",IFERROR(DATA!GAL2,\"\"))","v":""},{"$f":"IF(DATA!GAM2=0,\"\",IFERROR(DATA!GAM2,\"\"))","v":""},{"$f":"IF(DATA!GAN2=0,\"\",IFERROR(DATA!GAN2,\"\"))","v":""},{"$f":"IF(DATA!GAO2=0,\"\",IFERROR(DATA!GAO2,\"\"))","v":""},{"$f":"IF(DATA!GAP2=0,\"\",IFERROR(DATA!GAP2,\"\"))","v":""},{"$f":"IF(DATA!GAQ2=0,\"\",IFERROR(DATA!GAQ2,\"\"))","v":""},{"$f":"IF(DATA!GAR2=0,\"\",IFERROR(DATA!GAR2,\"\"))","v":""},{"$f":"IF(DATA!GAS2=0,\"\",IFERROR(DATA!GAS2,\"\"))","v":""},{"$f":"IF(DATA!GAT2=0,\"\",IFERROR(DATA!GAT2,\"\"))","v":""},{"$f":"IF(DATA!GAU2=0,\"\",IFERROR(DATA!GAU2,\"\"))","v":""},{"$f":"IF(DATA!GAV2=0,\"\",IFERROR(DATA!GAV2,\"\"))","v":""},{"$f":"IF(DATA!GAW2=0,\"\",IFERROR(DATA!GAW2,\"\"))","v":""},{"$f":"IF(DATA!GAX2=0,\"\",IFERROR(DATA!GAX2,\"\"))","v":""},{"$f":"IF(DATA!GAY2=0,\"\",IFERROR(DATA!GAY2,\"\"))","v":""},{"$f":"IF(DATA!GAZ2=0,\"\",IFERROR(DATA!GAZ2,\"\"))","v":""},{"$f":"IF(DATA!GBA2=0,\"\",IFERROR(DATA!GBA2,\"\"))","v":""},{"$f":"IF(DATA!GBB2=0,\"\",IFERROR(DATA!GBB2,\"\"))","v":""},{"$f":"IF(DATA!GBC2=0,\"\",IFERROR(DATA!GBC2,\"\"))","v":""},{"$f":"IF(DATA!GBD2=0,\"\",IFERROR(DATA!GBD2,\"\"))","v":""},{"$f":"IF(DATA!GBE2=0,\"\",IFERROR(DATA!GBE2,\"\"))","v":""},{"$f":"IF(DATA!GBF2=0,\"\",IFERROR(DATA!GBF2,\"\"))","v":""},{"$f":"IF(DATA!GBG2=0,\"\",IFERROR(DATA!GBG2,\"\"))","v":""},{"$f":"IF(DATA!GBH2=0,\"\",IFERROR(DATA!GBH2,\"\"))","v":""},{"$f":"IF(DATA!GBI2=0,\"\",IFERROR(DATA!GBI2,\"\"))","v":""},{"$f":"IF(DATA!GBJ2=0,\"\",IFERROR(DATA!GBJ2,\"\"))","v":""},{"$f":"IF(DATA!GBK2=0,\"\",IFERROR(DATA!GBK2,\"\"))","v":""},{"$f":"IF(DATA!GBL2=0,\"\",IFERROR(DATA!GBL2,\"\"))","v":""},{"$f":"IF(DATA!GBM2=0,\"\",IFERROR(DATA!GBM2,\"\"))","v":""},{"$f":"IF(DATA!GBN2=0,\"\",IFERROR(DATA!GBN2,\"\"))","v":""},{"$f":"IF(DATA!GBO2=0,\"\",IFERROR(DATA!GBO2,\"\"))","v":""},{"$f":"IF(DATA!GBP2=0,\"\",IFERROR(DATA!GBP2,\"\"))","v":""},{"$f":"IF(DATA!GBQ2=0,\"\",IFERROR(DATA!GBQ2,\"\"))","v":""},{"$f":"IF(DATA!GBR2=0,\"\",IFERROR(DATA!GBR2,\"\"))","v":""},{"$f":"IF(DATA!GBS2=0,\"\",IFERROR(DATA!GBS2,\"\"))","v":""},{"$f":"IF(DATA!GBT2=0,\"\",IFERROR(DATA!GBT2,\"\"))","v":""},{"$f":"IF(DATA!GBU2=0,\"\",IFERROR(DATA!GBU2,\"\"))","v":""},{"$f":"IF(DATA!GBV2=0,\"\",IFERROR(DATA!GBV2,\"\"))","v":""},{"$f":"IF(DATA!GBW2=0,\"\",IFERROR(DATA!GBW2,\"\"))","v":""},{"$f":"IF(DATA!GBX2=0,\"\",IFERROR(DATA!GBX2,\"\"))","v":""},{"$f":"IF(DATA!GBY2=0,\"\",IFERROR(DATA!GBY2,\"\"))","v":""},{"$f":"IF(DATA!GBZ2=0,\"\",IFERROR(DATA!GBZ2,\"\"))","v":""},{"$f":"IF(DATA!GCA2=0,\"\",IFERROR(DATA!GCA2,\"\"))","v":""},{"$f":"IF(DATA!GCB2=0,\"\",IFERROR(DATA!GCB2,\"\"))","v":""},{"$f":"IF(DATA!GCC2=0,\"\",IFERROR(DATA!GCC2,\"\"))","v":""},{"$f":"IF(DATA!GCD2=0,\"\",IFERROR(DATA!GCD2,\"\"))","v":""},{"$f":"IF(DATA!GCE2=0,\"\",IFERROR(DATA!GCE2,\"\"))","v":""},{"$f":"IF(DATA!GCF2=0,\"\",IFERROR(DATA!GCF2,\"\"))","v":""},{"$f":"IF(DATA!GCG2=0,\"\",IFERROR(DATA!GCG2,\"\"))","v":""},{"$f":"IF(DATA!GCH2=0,\"\",IFERROR(DATA!GCH2,\"\"))","v":""},{"$f":"IF(DATA!GCI2=0,\"\",IFERROR(DATA!GCI2,\"\"))","v":""},{"$f":"IF(DATA!GCJ2=0,\"\",IFERROR(DATA!GCJ2,\"\"))","v":""},{"$f":"IF(DATA!GCK2=0,\"\",IFERROR(DATA!GCK2,\"\"))","v":""},{"$f":"IF(DATA!GCL2=0,\"\",IFERROR(DATA!GCL2,\"\"))","v":""},{"$f":"IF(DATA!GCM2=0,\"\",IFERROR(DATA!GCM2,\"\"))","v":""},{"$f":"IF(DATA!GCN2=0,\"\",IFERROR(DATA!GCN2,\"\"))","v":""},{"$f":"IF(DATA!GCO2=0,\"\",IFERROR(DATA!GCO2,\"\"))","v":""},{"$f":"IF(DATA!GCP2=0,\"\",IFERROR(DATA!GCP2,\"\"))","v":""},{"$f":"IF(DATA!GCQ2=0,\"\",IFERROR(DATA!GCQ2,\"\"))","v":""},{"$f":"IF(DATA!GCR2=0,\"\",IFERROR(DATA!GCR2,\"\"))","v":""},{"$f":"IF(DATA!GCS2=0,\"\",IFERROR(DATA!GCS2,\"\"))","v":""},{"$f":"IF(DATA!GCT2=0,\"\",IFERROR(DATA!GCT2,\"\"))","v":""},{"$f":"IF(DATA!GCU2=0,\"\",IFERROR(DATA!GCU2,\"\"))","v":""},{"$f":"IF(DATA!GCV2=0,\"\",IFERROR(DATA!GCV2,\"\"))","v":""},{"$f":"IF(DATA!GCW2=0,\"\",IFERROR(DATA!GCW2,\"\"))","v":""},{"$f":"IF(DATA!GCX2=0,\"\",IFERROR(DATA!GCX2,\"\"))","v":""},{"$f":"IF(DATA!GCY2=0,\"\",IFERROR(DATA!GCY2,\"\"))","v":""},{"$f":"IF(DATA!GCZ2=0,\"\",IFERROR(DATA!GCZ2,\"\"))","v":""},{"$f":"IF(DATA!GDA2=0,\"\",IFERROR(DATA!GDA2,\"\"))","v":""},{"$f":"IF(DATA!GDB2=0,\"\",IFERROR(DATA!GDB2,\"\"))","v":""},{"$f":"IF(DATA!GDC2=0,\"\",IFERROR(DATA!GDC2,\"\"))","v":""},{"$f":"IF(DATA!GDD2=0,\"\",IFERROR(DATA!GDD2,\"\"))","v":""},{"$f":"IF(DATA!GDE2=0,\"\",IFERROR(DATA!GDE2,\"\"))","v":""},{"$f":"IF(DATA!GDF2=0,\"\",IFERROR(DATA!GDF2,\"\"))","v":""},{"$f":"IF(DATA!GDG2=0,\"\",IFERROR(DATA!GDG2,\"\"))","v":""},{"$f":"IF(DATA!GDH2=0,\"\",IFERROR(DATA!GDH2,\"\"))","v":""},{"$f":"IF(DATA!GDI2=0,\"\",IFERROR(DATA!GDI2,\"\"))","v":""},{"$f":"IF(DATA!GDJ2=0,\"\",IFERROR(DATA!GDJ2,\"\"))","v":""},{"$f":"IF(DATA!GDK2=0,\"\",IFERROR(DATA!GDK2,\"\"))","v":""},{"$f":"IF(DATA!GDL2=0,\"\",IFERROR(DATA!GDL2,\"\"))","v":""},{"$f":"IF(DATA!GDM2=0,\"\",IFERROR(DATA!GDM2,\"\"))","v":""},{"$f":"IF(DATA!GDN2=0,\"\",IFERROR(DATA!GDN2,\"\"))","v":""},{"$f":"IF(DATA!GDO2=0,\"\",IFERROR(DATA!GDO2,\"\"))","v":""},{"$f":"IF(DATA!GDP2=0,\"\",IFERROR(DATA!GDP2,\"\"))","v":""},{"$f":"IF(DATA!GDQ2=0,\"\",IFERROR(DATA!GDQ2,\"\"))","v":""},{"$f":"IF(DATA!GDR2=0,\"\",IFERROR(DATA!GDR2,\"\"))","v":""},{"$f":"IF(DATA!GDS2=0,\"\",IFERROR(DATA!GDS2,\"\"))","v":""},{"$f":"IF(DATA!GDT2=0,\"\",IFERROR(DATA!GDT2,\"\"))","v":""},{"$f":"IF(DATA!GDU2=0,\"\",IFERROR(DATA!GDU2,\"\"))","v":""},{"$f":"IF(DATA!GDV2=0,\"\",IFERROR(DATA!GDV2,\"\"))","v":""},{"$f":"IF(DATA!GDW2=0,\"\",IFERROR(DATA!GDW2,\"\"))","v":""},{"$f":"IF(DATA!GDX2=0,\"\",IFERROR(DATA!GDX2,\"\"))","v":""},{"$f":"IF(DATA!GDY2=0,\"\",IFERROR(DATA!GDY2,\"\"))","v":""},{"$f":"IF(DATA!GDZ2=0,\"\",IFERROR(DATA!GDZ2,\"\"))","v":""},{"$f":"IF(DATA!GEA2=0,\"\",IFERROR(DATA!GEA2,\"\"))","v":""},{"$f":"IF(DATA!GEB2=0,\"\",IFERROR(DATA!GEB2,\"\"))","v":""},{"$f":"IF(DATA!GEC2=0,\"\",IFERROR(DATA!GEC2,\"\"))","v":""},{"$f":"IF(DATA!GED2=0,\"\",IFERROR(DATA!GED2,\"\"))","v":""},{"$f":"IF(DATA!GEE2=0,\"\",IFERROR(DATA!GEE2,\"\"))","v":""},{"$f":"IF(DATA!GEF2=0,\"\",IFERROR(DATA!GEF2,\"\"))","v":""},{"$f":"IF(DATA!GEG2=0,\"\",IFERROR(DATA!GEG2,\"\"))","v":""},{"$f":"IF(DATA!GEH2=0,\"\",IFERROR(DATA!GEH2,\"\"))","v":""},{"$f":"IF(DATA!GEI2=0,\"\",IFERROR(DATA!GEI2,\"\"))","v":""},{"$f":"IF(DATA!GEJ2=0,\"\",IFERROR(DATA!GEJ2,\"\"))","v":""},{"$f":"IF(DATA!GEK2=0,\"\",IFERROR(DATA!GEK2,\"\"))","v":""},{"$f":"IF(DATA!GEL2=0,\"\",IFERROR(DATA!GEL2,\"\"))","v":""},{"$f":"IF(DATA!GEM2=0,\"\",IFERROR(DATA!GEM2,\"\"))","v":""},{"$f":"IF(DATA!GEN2=0,\"\",IFERROR(DATA!GEN2,\"\"))","v":""},{"$f":"IF(DATA!GEO2=0,\"\",IFERROR(DATA!GEO2,\"\"))","v":""},{"$f":"IF(DATA!GEP2=0,\"\",IFERROR(DATA!GEP2,\"\"))","v":""},{"$f":"IF(DATA!GEQ2=0,\"\",IFERROR(DATA!GEQ2,\"\"))","v":""},{"$f":"IF(DATA!GER2=0,\"\",IFERROR(DATA!GER2,\"\"))","v":""},{"$f":"IF(DATA!GES2=0,\"\",IFERROR(DATA!GES2,\"\"))","v":""},{"$f":"IF(DATA!GET2=0,\"\",IFERROR(DATA!GET2,\"\"))","v":""},{"$f":"IF(DATA!GEU2=0,\"\",IFERROR(DATA!GEU2,\"\"))","v":""},{"$f":"IF(DATA!GEV2=0,\"\",IFERROR(DATA!GEV2,\"\"))","v":""},{"$f":"IF(DATA!GEW2=0,\"\",IFERROR(DATA!GEW2,\"\"))","v":""},{"$f":"IF(DATA!GEX2=0,\"\",IFERROR(DATA!GEX2,\"\"))","v":""},{"$f":"IF(DATA!GEY2=0,\"\",IFERROR(DATA!GEY2,\"\"))","v":""},{"$f":"IF(DATA!GEZ2=0,\"\",IFERROR(DATA!GEZ2,\"\"))","v":""},{"$f":"IF(DATA!GFA2=0,\"\",IFERROR(DATA!GFA2,\"\"))","v":""},{"$f":"IF(DATA!GFB2=0,\"\",IFERROR(DATA!GFB2,\"\"))","v":""},{"$f":"IF(DATA!GFC2=0,\"\",IFERROR(DATA!GFC2,\"\"))","v":""},{"$f":"IF(DATA!GFD2=0,\"\",IFERROR(DATA!GFD2,\"\"))","v":""},{"$f":"IF(DATA!GFE2=0,\"\",IFERROR(DATA!GFE2,\"\"))","v":""},{"$f":"IF(DATA!GFF2=0,\"\",IFERROR(DATA!GFF2,\"\"))","v":""},{"$f":"IF(DATA!GFG2=0,\"\",IFERROR(DATA!GFG2,\"\"))","v":""},{"$f":"IF(DATA!GFH2=0,\"\",IFERROR(DATA!GFH2,\"\"))","v":""},{"$f":"IF(DATA!GFI2=0,\"\",IFERROR(DATA!GFI2,\"\"))","v":""},{"$f":"IF(DATA!GFJ2=0,\"\",IFERROR(DATA!GFJ2,\"\"))","v":""},{"$f":"IF(DATA!GFK2=0,\"\",IFERROR(DATA!GFK2,\"\"))","v":""},{"$f":"IF(DATA!GFL2=0,\"\",IFERROR(DATA!GFL2,\"\"))","v":""},{"$f":"IF(DATA!GFM2=0,\"\",IFERROR(DATA!GFM2,\"\"))","v":""},{"$f":"IF(DATA!GFN2=0,\"\",IFERROR(DATA!GFN2,\"\"))","v":""},{"$f":"IF(DATA!GFO2=0,\"\",IFERROR(DATA!GFO2,\"\"))","v":""},{"$f":"IF(DATA!GFP2=0,\"\",IFERROR(DATA!GFP2,\"\"))","v":""},{"$f":"IF(DATA!GFQ2=0,\"\",IFERROR(DATA!GFQ2,\"\"))","v":""},{"$f":"IF(DATA!GFR2=0,\"\",IFERROR(DATA!GFR2,\"\"))","v":""},{"$f":"IF(DATA!GFS2=0,\"\",IFERROR(DATA!GFS2,\"\"))","v":""},{"$f":"IF(DATA!GFT2=0,\"\",IFERROR(DATA!GFT2,\"\"))","v":""},{"$f":"IF(DATA!GFU2=0,\"\",IFERROR(DATA!GFU2,\"\"))","v":""},{"$f":"IF(DATA!GFV2=0,\"\",IFERROR(DATA!GFV2,\"\"))","v":""},{"$f":"IF(DATA!GFW2=0,\"\",IFERROR(DATA!GFW2,\"\"))","v":""},{"$f":"IF(DATA!GFX2=0,\"\",IFERROR(DATA!GFX2,\"\"))","v":""},{"$f":"IF(DATA!GFY2=0,\"\",IFERROR(DATA!GFY2,\"\"))","v":""},{"$f":"IF(DATA!GFZ2=0,\"\",IFERROR(DATA!GFZ2,\"\"))","v":""},{"$f":"IF(DATA!GGA2=0,\"\",IFERROR(DATA!GGA2,\"\"))","v":""},{"$f":"IF(DATA!GGB2=0,\"\",IFERROR(DATA!GGB2,\"\"))","v":""},{"$f":"IF(DATA!GGC2=0,\"\",IFERROR(DATA!GGC2,\"\"))","v":""},{"$f":"IF(DATA!GGD2=0,\"\",IFERROR(DATA!GGD2,\"\"))","v":""},{"$f":"IF(DATA!GGE2=0,\"\",IFERROR(DATA!GGE2,\"\"))","v":""},{"$f":"IF(DATA!GGF2=0,\"\",IFERROR(DATA!GGF2,\"\"))","v":""},{"$f":"IF(DATA!GGG2=0,\"\",IFERROR(DATA!GGG2,\"\"))","v":""},{"$f":"IF(DATA!GGH2=0,\"\",IFERROR(DATA!GGH2,\"\"))","v":""},{"$f":"IF(DATA!GGI2=0,\"\",IFERROR(DATA!GGI2,\"\"))","v":""},{"$f":"IF(DATA!GGJ2=0,\"\",IFERROR(DATA!GGJ2,\"\"))","v":""},{"$f":"IF(DATA!GGK2=0,\"\",IFERROR(DATA!GGK2,\"\"))","v":""},{"$f":"IF(DATA!GGL2=0,\"\",IFERROR(DATA!GGL2,\"\"))","v":""},{"$f":"IF(DATA!GGM2=0,\"\",IFERROR(DATA!GGM2,\"\"))","v":""},{"$f":"IF(DATA!GGN2=0,\"\",IFERROR(DATA!GGN2,\"\"))","v":""},{"$f":"IF(DATA!GGO2=0,\"\",IFERROR(DATA!GGO2,\"\"))","v":""},{"$f":"IF(DATA!GGP2=0,\"\",IFERROR(DATA!GGP2,\"\"))","v":""},{"$f":"IF(DATA!GGQ2=0,\"\",IFERROR(DATA!GGQ2,\"\"))","v":""},{"$f":"IF(DATA!GGR2=0,\"\",IFERROR(DATA!GGR2,\"\"))","v":""},{"$f":"IF(DATA!GGS2=0,\"\",IFERROR(DATA!GGS2,\"\"))","v":""},{"$f":"IF(DATA!GGT2=0,\"\",IFERROR(DATA!GGT2,\"\"))","v":""},{"$f":"IF(DATA!GGU2=0,\"\",IFERROR(DATA!GGU2,\"\"))","v":""},{"$f":"IF(DATA!GGV2=0,\"\",IFERROR(DATA!GGV2,\"\"))","v":""},{"$f":"IF(DATA!GGW2=0,\"\",IFERROR(DATA!GGW2,\"\"))","v":""},{"$f":"IF(DATA!GGX2=0,\"\",IFERROR(DATA!GGX2,\"\"))","v":""},{"$f":"IF(DATA!GGY2=0,\"\",IFERROR(DATA!GGY2,\"\"))","v":""},{"$f":"IF(DATA!GGZ2=0,\"\",IFERROR(DATA!GGZ2,\"\"))","v":""},{"$f":"IF(DATA!GHA2=0,\"\",IFERROR(DATA!GHA2,\"\"))","v":""},{"$f":"IF(DATA!GHB2=0,\"\",IFERROR(DATA!GHB2,\"\"))","v":""},{"$f":"IF(DATA!GHC2=0,\"\",IFERROR(DATA!GHC2,\"\"))","v":""},{"$f":"IF(DATA!GHD2=0,\"\",IFERROR(DATA!GHD2,\"\"))","v":""},{"$f":"IF(DATA!GHE2=0,\"\",IFERROR(DATA!GHE2,\"\"))","v":""},{"$f":"IF(DATA!GHF2=0,\"\",IFERROR(DATA!GHF2,\"\"))","v":""},{"$f":"IF(DATA!GHG2=0,\"\",IFERROR(DATA!GHG2,\"\"))","v":""},{"$f":"IF(DATA!GHH2=0,\"\",IFERROR(DATA!GHH2,\"\"))","v":""},{"$f":"IF(DATA!GHI2=0,\"\",IFERROR(DATA!GHI2,\"\"))","v":""},{"$f":"IF(DATA!GHJ2=0,\"\",IFERROR(DATA!GHJ2,\"\"))","v":""},{"$f":"IF(DATA!GHK2=0,\"\",IFERROR(DATA!GHK2,\"\"))","v":""},{"$f":"IF(DATA!GHL2=0,\"\",IFERROR(DATA!GHL2,\"\"))","v":""},{"$f":"IF(DATA!GHM2=0,\"\",IFERROR(DATA!GHM2,\"\"))","v":""},{"$f":"IF(DATA!GHN2=0,\"\",IFERROR(DATA!GHN2,\"\"))","v":""},{"$f":"IF(DATA!GHO2=0,\"\",IFERROR(DATA!GHO2,\"\"))","v":""},{"$f":"IF(DATA!GHP2=0,\"\",IFERROR(DATA!GHP2,\"\"))","v":""},{"$f":"IF(DATA!GHQ2=0,\"\",IFERROR(DATA!GHQ2,\"\"))","v":""},{"$f":"IF(DATA!GHR2=0,\"\",IFERROR(DATA!GHR2,\"\"))","v":""},{"$f":"IF(DATA!GHS2=0,\"\",IFERROR(DATA!GHS2,\"\"))","v":""},{"$f":"IF(DATA!GHT2=0,\"\",IFERROR(DATA!GHT2,\"\"))","v":""},{"$f":"IF(DATA!GHU2=0,\"\",IFERROR(DATA!GHU2,\"\"))","v":""},{"$f":"IF(DATA!GHV2=0,\"\",IFERROR(DATA!GHV2,\"\"))","v":""},{"$f":"IF(DATA!GHW2=0,\"\",IFERROR(DATA!GHW2,\"\"))","v":""},{"$f":"IF(DATA!GHX2=0,\"\",IFERROR(DATA!GHX2,\"\"))","v":""},{"$f":"IF(DATA!GHY2=0,\"\",IFERROR(DATA!GHY2,\"\"))","v":""},{"$f":"IF(DATA!GHZ2=0,\"\",IFERROR(DATA!GHZ2,\"\"))","v":""},{"$f":"IF(DATA!GIA2=0,\"\",IFERROR(DATA!GIA2,\"\"))","v":""},{"$f":"IF(DATA!GIB2=0,\"\",IFERROR(DATA!GIB2,\"\"))","v":""},{"$f":"IF(DATA!GIC2=0,\"\",IFERROR(DATA!GIC2,\"\"))","v":""},{"$f":"IF(DATA!GID2=0,\"\",IFERROR(DATA!GID2,\"\"))","v":""},{"$f":"IF(DATA!GIE2=0,\"\",IFERROR(DATA!GIE2,\"\"))","v":""},{"$f":"IF(DATA!GIF2=0,\"\",IFERROR(DATA!GIF2,\"\"))","v":""},{"$f":"IF(DATA!GIG2=0,\"\",IFERROR(DATA!GIG2,\"\"))","v":""},{"$f":"IF(DATA!GIH2=0,\"\",IFERROR(DATA!GIH2,\"\"))","v":""},{"$f":"IF(DATA!GII2=0,\"\",IFERROR(DATA!GII2,\"\"))","v":""},{"$f":"IF(DATA!GIJ2=0,\"\",IFERROR(DATA!GIJ2,\"\"))","v":""},{"$f":"IF(DATA!GIK2=0,\"\",IFERROR(DATA!GIK2,\"\"))","v":""},{"$f":"IF(DATA!GIL2=0,\"\",IFERROR(DATA!GIL2,\"\"))","v":""},{"$f":"IF(DATA!GIM2=0,\"\",IFERROR(DATA!GIM2,\"\"))","v":""},{"$f":"IF(DATA!GIN2=0,\"\",IFERROR(DATA!GIN2,\"\"))","v":""},{"$f":"IF(DATA!GIO2=0,\"\",IFERROR(DATA!GIO2,\"\"))","v":""},{"$f":"IF(DATA!GIP2=0,\"\",IFERROR(DATA!GIP2,\"\"))","v":""},{"$f":"IF(DATA!GIQ2=0,\"\",IFERROR(DATA!GIQ2,\"\"))","v":""},{"$f":"IF(DATA!GIR2=0,\"\",IFERROR(DATA!GIR2,\"\"))","v":""},{"$f":"IF(DATA!GIS2=0,\"\",IFERROR(DATA!GIS2,\"\"))","v":""},{"$f":"IF(DATA!GIT2=0,\"\",IFERROR(DATA!GIT2,\"\"))","v":""},{"$f":"IF(DATA!GIU2=0,\"\",IFERROR(DATA!GIU2,\"\"))","v":""},{"$f":"IF(DATA!GIV2=0,\"\",IFERROR(DATA!GIV2,\"\"))","v":""},{"$f":"IF(DATA!GIW2=0,\"\",IFERROR(DATA!GIW2,\"\"))","v":""},{"$f":"IF(DATA!GIX2=0,\"\",IFERROR(DATA!GIX2,\"\"))","v":""},{"$f":"IF(DATA!GIY2=0,\"\",IFERROR(DATA!GIY2,\"\"))","v":""},{"$f":"IF(DATA!GIZ2=0,\"\",IFERROR(DATA!GIZ2,\"\"))","v":""},{"$f":"IF(DATA!GJA2=0,\"\",IFERROR(DATA!GJA2,\"\"))","v":""},{"$f":"IF(DATA!GJB2=0,\"\",IFERROR(DATA!GJB2,\"\"))","v":""},{"$f":"IF(DATA!GJC2=0,\"\",IFERROR(DATA!GJC2,\"\"))","v":""},{"$f":"IF(DATA!GJD2=0,\"\",IFERROR(DATA!GJD2,\"\"))","v":""},{"$f":"IF(DATA!GJE2=0,\"\",IFERROR(DATA!GJE2,\"\"))","v":""},{"$f":"IF(DATA!GJF2=0,\"\",IFERROR(DATA!GJF2,\"\"))","v":""},{"$f":"IF(DATA!GJG2=0,\"\",IFERROR(DATA!GJG2,\"\"))","v":""},{"$f":"IF(DATA!GJH2=0,\"\",IFERROR(DATA!GJH2,\"\"))","v":""},{"$f":"IF(DATA!GJI2=0,\"\",IFERROR(DATA!GJI2,\"\"))","v":""},{"$f":"IF(DATA!GJJ2=0,\"\",IFERROR(DATA!GJJ2,\"\"))","v":""},{"$f":"IF(DATA!GJK2=0,\"\",IFERROR(DATA!GJK2,\"\"))","v":""},{"$f":"IF(DATA!GJL2=0,\"\",IFERROR(DATA!GJL2,\"\"))","v":""},{"$f":"IF(DATA!GJM2=0,\"\",IFERROR(DATA!GJM2,\"\"))","v":""},{"$f":"IF(DATA!GJN2=0,\"\",IFERROR(DATA!GJN2,\"\"))","v":""},{"$f":"IF(DATA!GJO2=0,\"\",IFERROR(DATA!GJO2,\"\"))","v":""},{"$f":"IF(DATA!GJP2=0,\"\",IFERROR(DATA!GJP2,\"\"))","v":""},{"$f":"IF(DATA!GJQ2=0,\"\",IFERROR(DATA!GJQ2,\"\"))","v":""},{"$f":"IF(DATA!GJR2=0,\"\",IFERROR(DATA!GJR2,\"\"))","v":""},{"$f":"IF(DATA!GJS2=0,\"\",IFERROR(DATA!GJS2,\"\"))","v":""},{"$f":"IF(DATA!GJT2=0,\"\",IFERROR(DATA!GJT2,\"\"))","v":""},{"$f":"IF(DATA!GJU2=0,\"\",IFERROR(DATA!GJU2,\"\"))","v":""},{"$f":"IF(DATA!GJV2=0,\"\",IFERROR(DATA!GJV2,\"\"))","v":""},{"$f":"IF(DATA!GJW2=0,\"\",IFERROR(DATA!GJW2,\"\"))","v":""},{"$f":"IF(DATA!GJX2=0,\"\",IFERROR(DATA!GJX2,\"\"))","v":""},{"$f":"IF(DATA!GJY2=0,\"\",IFERROR(DATA!GJY2,\"\"))","v":""},{"$f":"IF(DATA!GJZ2=0,\"\",IFERROR(DATA!GJZ2,\"\"))","v":""},{"$f":"IF(DATA!GKA2=0,\"\",IFERROR(DATA!GKA2,\"\"))","v":""},{"$f":"IF(DATA!GKB2=0,\"\",IFERROR(DATA!GKB2,\"\"))","v":""},{"$f":"IF(DATA!GKC2=0,\"\",IFERROR(DATA!GKC2,\"\"))","v":""},{"$f":"IF(DATA!GKD2=0,\"\",IFERROR(DATA!GKD2,\"\"))","v":""},{"$f":"IF(DATA!GKE2=0,\"\",IFERROR(DATA!GKE2,\"\"))","v":""},{"$f":"IF(DATA!GKF2=0,\"\",IFERROR(DATA!GKF2,\"\"))","v":""},{"$f":"IF(DATA!GKG2=0,\"\",IFERROR(DATA!GKG2,\"\"))","v":""},{"$f":"IF(DATA!GKH2=0,\"\",IFERROR(DATA!GKH2,\"\"))","v":""},{"$f":"IF(DATA!GKI2=0,\"\",IFERROR(DATA!GKI2,\"\"))","v":""},{"$f":"IF(DATA!GKJ2=0,\"\",IFERROR(DATA!GKJ2,\"\"))","v":""},{"$f":"IF(DATA!GKK2=0,\"\",IFERROR(DATA!GKK2,\"\"))","v":""},{"$f":"IF(DATA!GKL2=0,\"\",IFERROR(DATA!GKL2,\"\"))","v":""},{"$f":"IF(DATA!GKM2=0,\"\",IFERROR(DATA!GKM2,\"\"))","v":""},{"$f":"IF(DATA!GKN2=0,\"\",IFERROR(DATA!GKN2,\"\"))","v":""},{"$f":"IF(DATA!GKO2=0,\"\",IFERROR(DATA!GKO2,\"\"))","v":""},{"$f":"IF(DATA!GKP2=0,\"\",IFERROR(DATA!GKP2,\"\"))","v":""},{"$f":"IF(DATA!GKQ2=0,\"\",IFERROR(DATA!GKQ2,\"\"))","v":""},{"$f":"IF(DATA!GKR2=0,\"\",IFERROR(DATA!GKR2,\"\"))","v":""},{"$f":"IF(DATA!GKS2=0,\"\",IFERROR(DATA!GKS2,\"\"))","v":""},{"$f":"IF(DATA!GKT2=0,\"\",IFERROR(DATA!GKT2,\"\"))","v":""},{"$f":"IF(DATA!GKU2=0,\"\",IFERROR(DATA!GKU2,\"\"))","v":""},{"$f":"IF(DATA!GKV2=0,\"\",IFERROR(DATA!GKV2,\"\"))","v":""},{"$f":"IF(DATA!GKW2=0,\"\",IFERROR(DATA!GKW2,\"\"))","v":""},{"$f":"IF(DATA!GKX2=0,\"\",IFERROR(DATA!GKX2,\"\"))","v":""},{"$f":"IF(DATA!GKY2=0,\"\",IFERROR(DATA!GKY2,\"\"))","v":""},{"$f":"IF(DATA!GKZ2=0,\"\",IFERROR(DATA!GKZ2,\"\"))","v":""},{"$f":"IF(DATA!GLA2=0,\"\",IFERROR(DATA!GLA2,\"\"))","v":""},{"$f":"IF(DATA!GLB2=0,\"\",IFERROR(DATA!GLB2,\"\"))","v":""},{"$f":"IF(DATA!GLC2=0,\"\",IFERROR(DATA!GLC2,\"\"))","v":""},{"$f":"IF(DATA!GLD2=0,\"\",IFERROR(DATA!GLD2,\"\"))","v":""},{"$f":"IF(DATA!GLE2=0,\"\",IFERROR(DATA!GLE2,\"\"))","v":""},{"$f":"IF(DATA!GLF2=0,\"\",IFERROR(DATA!GLF2,\"\"))","v":""},{"$f":"IF(DATA!GLG2=0,\"\",IFERROR(DATA!GLG2,\"\"))","v":""},{"$f":"IF(DATA!GLH2=0,\"\",IFERROR(DATA!GLH2,\"\"))","v":""},{"$f":"IF(DATA!GLI2=0,\"\",IFERROR(DATA!GLI2,\"\"))","v":""},{"$f":"IF(DATA!GLJ2=0,\"\",IFERROR(DATA!GLJ2,\"\"))","v":""},{"$f":"IF(DATA!GLK2=0,\"\",IFERROR(DATA!GLK2,\"\"))","v":""},{"$f":"IF(DATA!GLL2=0,\"\",IFERROR(DATA!GLL2,\"\"))","v":""},{"$f":"IF(DATA!GLM2=0,\"\",IFERROR(DATA!GLM2,\"\"))","v":""},{"$f":"IF(DATA!GLN2=0,\"\",IFERROR(DATA!GLN2,\"\"))","v":""},{"$f":"IF(DATA!GLO2=0,\"\",IFERROR(DATA!GLO2,\"\"))","v":""},{"$f":"IF(DATA!GLP2=0,\"\",IFERROR(DATA!GLP2,\"\"))","v":""},{"$f":"IF(DATA!GLQ2=0,\"\",IFERROR(DATA!GLQ2,\"\"))","v":""},{"$f":"IF(DATA!GLR2=0,\"\",IFERROR(DATA!GLR2,\"\"))","v":""},{"$f":"IF(DATA!GLS2=0,\"\",IFERROR(DATA!GLS2,\"\"))","v":""},{"$f":"IF(DATA!GLT2=0,\"\",IFERROR(DATA!GLT2,\"\"))","v":""},{"$f":"IF(DATA!GLU2=0,\"\",IFERROR(DATA!GLU2,\"\"))","v":""},{"$f":"IF(DATA!GLV2=0,\"\",IFERROR(DATA!GLV2,\"\"))","v":""},{"$f":"IF(DATA!GLW2=0,\"\",IFERROR(DATA!GLW2,\"\"))","v":""},{"$f":"IF(DATA!GLX2=0,\"\",IFERROR(DATA!GLX2,\"\"))","v":""},{"$f":"IF(DATA!GLY2=0,\"\",IFERROR(DATA!GLY2,\"\"))","v":""},{"$f":"IF(DATA!GLZ2=0,\"\",IFERROR(DATA!GLZ2,\"\"))","v":""},{"$f":"IF(DATA!GMA2=0,\"\",IFERROR(DATA!GMA2,\"\"))","v":""},{"$f":"IF(DATA!GMB2=0,\"\",IFERROR(DATA!GMB2,\"\"))","v":""},{"$f":"IF(DATA!GMC2=0,\"\",IFERROR(DATA!GMC2,\"\"))","v":""},{"$f":"IF(DATA!GMD2=0,\"\",IFERROR(DATA!GMD2,\"\"))","v":""},{"$f":"IF(DATA!GME2=0,\"\",IFERROR(DATA!GME2,\"\"))","v":""},{"$f":"IF(DATA!GMF2=0,\"\",IFERROR(DATA!GMF2,\"\"))","v":""},{"$f":"IF(DATA!GMG2=0,\"\",IFERROR(DATA!GMG2,\"\"))","v":""},{"$f":"IF(DATA!GMH2=0,\"\",IFERROR(DATA!GMH2,\"\"))","v":""},{"$f":"IF(DATA!GMI2=0,\"\",IFERROR(DATA!GMI2,\"\"))","v":""},{"$f":"IF(DATA!GMJ2=0,\"\",IFERROR(DATA!GMJ2,\"\"))","v":""},{"$f":"IF(DATA!GMK2=0,\"\",IFERROR(DATA!GMK2,\"\"))","v":""},{"$f":"IF(DATA!GML2=0,\"\",IFERROR(DATA!GML2,\"\"))","v":""},{"$f":"IF(DATA!GMM2=0,\"\",IFERROR(DATA!GMM2,\"\"))","v":""},{"$f":"IF(DATA!GMN2=0,\"\",IFERROR(DATA!GMN2,\"\"))","v":""},{"$f":"IF(DATA!GMO2=0,\"\",IFERROR(DATA!GMO2,\"\"))","v":""},{"$f":"IF(DATA!GMP2=0,\"\",IFERROR(DATA!GMP2,\"\"))","v":""},{"$f":"IF(DATA!GMQ2=0,\"\",IFERROR(DATA!GMQ2,\"\"))","v":""},{"$f":"IF(DATA!GMR2=0,\"\",IFERROR(DATA!GMR2,\"\"))","v":""},{"$f":"IF(DATA!GMS2=0,\"\",IFERROR(DATA!GMS2,\"\"))","v":""},{"$f":"IF(DATA!GMT2=0,\"\",IFERROR(DATA!GMT2,\"\"))","v":""},{"$f":"IF(DATA!GMU2=0,\"\",IFERROR(DATA!GMU2,\"\"))","v":""},{"$f":"IF(DATA!GMV2=0,\"\",IFERROR(DATA!GMV2,\"\"))","v":""},{"$f":"IF(DATA!GMW2=0,\"\",IFERROR(DATA!GMW2,\"\"))","v":""},{"$f":"IF(DATA!GMX2=0,\"\",IFERROR(DATA!GMX2,\"\"))","v":""},{"$f":"IF(DATA!GMY2=0,\"\",IFERROR(DATA!GMY2,\"\"))","v":""},{"$f":"IF(DATA!GMZ2=0,\"\",IFERROR(DATA!GMZ2,\"\"))","v":""},{"$f":"IF(DATA!GNA2=0,\"\",IFERROR(DATA!GNA2,\"\"))","v":""},{"$f":"IF(DATA!GNB2=0,\"\",IFERROR(DATA!GNB2,\"\"))","v":""},{"$f":"IF(DATA!GNC2=0,\"\",IFERROR(DATA!GNC2,\"\"))","v":""},{"$f":"IF(DATA!GND2=0,\"\",IFERROR(DATA!GND2,\"\"))","v":""},{"$f":"IF(DATA!GNE2=0,\"\",IFERROR(DATA!GNE2,\"\"))","v":""},{"$f":"IF(DATA!GNF2=0,\"\",IFERROR(DATA!GNF2,\"\"))","v":""},{"$f":"IF(DATA!GNG2=0,\"\",IFERROR(DATA!GNG2,\"\"))","v":""},{"$f":"IF(DATA!GNH2=0,\"\",IFERROR(DATA!GNH2,\"\"))","v":""},{"$f":"IF(DATA!GNI2=0,\"\",IFERROR(DATA!GNI2,\"\"))","v":""},{"$f":"IF(DATA!GNJ2=0,\"\",IFERROR(DATA!GNJ2,\"\"))","v":""},{"$f":"IF(DATA!GNK2=0,\"\",IFERROR(DATA!GNK2,\"\"))","v":""},{"$f":"IF(DATA!GNL2=0,\"\",IFERROR(DATA!GNL2,\"\"))","v":""},{"$f":"IF(DATA!GNM2=0,\"\",IFERROR(DATA!GNM2,\"\"))","v":""},{"$f":"IF(DATA!GNN2=0,\"\",IFERROR(DATA!GNN2,\"\"))","v":""},{"$f":"IF(DATA!GNO2=0,\"\",IFERROR(DATA!GNO2,\"\"))","v":""},{"$f":"IF(DATA!GNP2=0,\"\",IFERROR(DATA!GNP2,\"\"))","v":""},{"$f":"IF(DATA!GNQ2=0,\"\",IFERROR(DATA!GNQ2,\"\"))","v":""},{"$f":"IF(DATA!GNR2=0,\"\",IFERROR(DATA!GNR2,\"\"))","v":""},{"$f":"IF(DATA!GNS2=0,\"\",IFERROR(DATA!GNS2,\"\"))","v":""},{"$f":"IF(DATA!GNT2=0,\"\",IFERROR(DATA!GNT2,\"\"))","v":""},{"$f":"IF(DATA!GNU2=0,\"\",IFERROR(DATA!GNU2,\"\"))","v":""},{"$f":"IF(DATA!GNV2=0,\"\",IFERROR(DATA!GNV2,\"\"))","v":""},{"$f":"IF(DATA!GNW2=0,\"\",IFERROR(DATA!GNW2,\"\"))","v":""},{"$f":"IF(DATA!GNX2=0,\"\",IFERROR(DATA!GNX2,\"\"))","v":""},{"$f":"IF(DATA!GNY2=0,\"\",IFERROR(DATA!GNY2,\"\"))","v":""},{"$f":"IF(DATA!GNZ2=0,\"\",IFERROR(DATA!GNZ2,\"\"))","v":""},{"$f":"IF(DATA!GOA2=0,\"\",IFERROR(DATA!GOA2,\"\"))","v":""},{"$f":"IF(DATA!GOB2=0,\"\",IFERROR(DATA!GOB2,\"\"))","v":""},{"$f":"IF(DATA!GOC2=0,\"\",IFERROR(DATA!GOC2,\"\"))","v":""},{"$f":"IF(DATA!GOD2=0,\"\",IFERROR(DATA!GOD2,\"\"))","v":""},{"$f":"IF(DATA!GOE2=0,\"\",IFERROR(DATA!GOE2,\"\"))","v":""},{"$f":"IF(DATA!GOF2=0,\"\",IFERROR(DATA!GOF2,\"\"))","v":""},{"$f":"IF(DATA!GOG2=0,\"\",IFERROR(DATA!GOG2,\"\"))","v":""},{"$f":"IF(DATA!GOH2=0,\"\",IFERROR(DATA!GOH2,\"\"))","v":""},{"$f":"IF(DATA!GOI2=0,\"\",IFERROR(DATA!GOI2,\"\"))","v":""},{"$f":"IF(DATA!GOJ2=0,\"\",IFERROR(DATA!GOJ2,\"\"))","v":""},{"$f":"IF(DATA!GOK2=0,\"\",IFERROR(DATA!GOK2,\"\"))","v":""},{"$f":"IF(DATA!GOL2=0,\"\",IFERROR(DATA!GOL2,\"\"))","v":""},{"$f":"IF(DATA!GOM2=0,\"\",IFERROR(DATA!GOM2,\"\"))","v":""},{"$f":"IF(DATA!GON2=0,\"\",IFERROR(DATA!GON2,\"\"))","v":""},{"$f":"IF(DATA!GOO2=0,\"\",IFERROR(DATA!GOO2,\"\"))","v":""},{"$f":"IF(DATA!GOP2=0,\"\",IFERROR(DATA!GOP2,\"\"))","v":""},{"$f":"IF(DATA!GOQ2=0,\"\",IFERROR(DATA!GOQ2,\"\"))","v":""},{"$f":"IF(DATA!GOR2=0,\"\",IFERROR(DATA!GOR2,\"\"))","v":""},{"$f":"IF(DATA!GOS2=0,\"\",IFERROR(DATA!GOS2,\"\"))","v":""},{"$f":"IF(DATA!GOT2=0,\"\",IFERROR(DATA!GOT2,\"\"))","v":""},{"$f":"IF(DATA!GOU2=0,\"\",IFERROR(DATA!GOU2,\"\"))","v":""},{"$f":"IF(DATA!GOV2=0,\"\",IFERROR(DATA!GOV2,\"\"))","v":""},{"$f":"IF(DATA!GOW2=0,\"\",IFERROR(DATA!GOW2,\"\"))","v":""},{"$f":"IF(DATA!GOX2=0,\"\",IFERROR(DATA!GOX2,\"\"))","v":""},{"$f":"IF(DATA!GOY2=0,\"\",IFERROR(DATA!GOY2,\"\"))","v":""},{"$f":"IF(DATA!GOZ2=0,\"\",IFERROR(DATA!GOZ2,\"\"))","v":""},{"$f":"IF(DATA!GPA2=0,\"\",IFERROR(DATA!GPA2,\"\"))","v":""},{"$f":"IF(DATA!GPB2=0,\"\",IFERROR(DATA!GPB2,\"\"))","v":""},{"$f":"IF(DATA!GPC2=0,\"\",IFERROR(DATA!GPC2,\"\"))","v":""},{"$f":"IF(DATA!GPD2=0,\"\",IFERROR(DATA!GPD2,\"\"))","v":""},{"$f":"IF(DATA!GPE2=0,\"\",IFERROR(DATA!GPE2,\"\"))","v":""},{"$f":"IF(DATA!GPF2=0,\"\",IFERROR(DATA!GPF2,\"\"))","v":""},{"$f":"IF(DATA!GPG2=0,\"\",IFERROR(DATA!GPG2,\"\"))","v":""},{"$f":"IF(DATA!GPH2=0,\"\",IFERROR(DATA!GPH2,\"\"))","v":""},{"$f":"IF(DATA!GPI2=0,\"\",IFERROR(DATA!GPI2,\"\"))","v":""},{"$f":"IF(DATA!GPJ2=0,\"\",IFERROR(DATA!GPJ2,\"\"))","v":""},{"$f":"IF(DATA!GPK2=0,\"\",IFERROR(DATA!GPK2,\"\"))","v":""},{"$f":"IF(DATA!GPL2=0,\"\",IFERROR(DATA!GPL2,\"\"))","v":""},{"$f":"IF(DATA!GPM2=0,\"\",IFERROR(DATA!GPM2,\"\"))","v":""},{"$f":"IF(DATA!GPN2=0,\"\",IFERROR(DATA!GPN2,\"\"))","v":""},{"$f":"IF(DATA!GPO2=0,\"\",IFERROR(DATA!GPO2,\"\"))","v":""},{"$f":"IF(DATA!GPP2=0,\"\",IFERROR(DATA!GPP2,\"\"))","v":""},{"$f":"IF(DATA!GPQ2=0,\"\",IFERROR(DATA!GPQ2,\"\"))","v":""},{"$f":"IF(DATA!GPR2=0,\"\",IFERROR(DATA!GPR2,\"\"))","v":""},{"$f":"IF(DATA!GPS2=0,\"\",IFERROR(DATA!GPS2,\"\"))","v":""},{"$f":"IF(DATA!GPT2=0,\"\",IFERROR(DATA!GPT2,\"\"))","v":""},{"$f":"IF(DATA!GPU2=0,\"\",IFERROR(DATA!GPU2,\"\"))","v":""},{"$f":"IF(DATA!GPV2=0,\"\",IFERROR(DATA!GPV2,\"\"))","v":""},{"$f":"IF(DATA!GPW2=0,\"\",IFERROR(DATA!GPW2,\"\"))","v":""},{"$f":"IF(DATA!GPX2=0,\"\",IFERROR(DATA!GPX2,\"\"))","v":""},{"$f":"IF(DATA!GPY2=0,\"\",IFERROR(DATA!GPY2,\"\"))","v":""},{"$f":"IF(DATA!GPZ2=0,\"\",IFERROR(DATA!GPZ2,\"\"))","v":""},{"$f":"IF(DATA!GQA2=0,\"\",IFERROR(DATA!GQA2,\"\"))","v":""},{"$f":"IF(DATA!GQB2=0,\"\",IFERROR(DATA!GQB2,\"\"))","v":""},{"$f":"IF(DATA!GQC2=0,\"\",IFERROR(DATA!GQC2,\"\"))","v":""},{"$f":"IF(DATA!GQD2=0,\"\",IFERROR(DATA!GQD2,\"\"))","v":""},{"$f":"IF(DATA!GQE2=0,\"\",IFERROR(DATA!GQE2,\"\"))","v":""},{"$f":"IF(DATA!GQF2=0,\"\",IFERROR(DATA!GQF2,\"\"))","v":""},{"$f":"IF(DATA!GQG2=0,\"\",IFERROR(DATA!GQG2,\"\"))","v":""},{"$f":"IF(DATA!GQH2=0,\"\",IFERROR(DATA!GQH2,\"\"))","v":""},{"$f":"IF(DATA!GQI2=0,\"\",IFERROR(DATA!GQI2,\"\"))","v":""},{"$f":"IF(DATA!GQJ2=0,\"\",IFERROR(DATA!GQJ2,\"\"))","v":""},{"$f":"IF(DATA!GQK2=0,\"\",IFERROR(DATA!GQK2,\"\"))","v":""},{"$f":"IF(DATA!GQL2=0,\"\",IFERROR(DATA!GQL2,\"\"))","v":""},{"$f":"IF(DATA!GQM2=0,\"\",IFERROR(DATA!GQM2,\"\"))","v":""},{"$f":"IF(DATA!GQN2=0,\"\",IFERROR(DATA!GQN2,\"\"))","v":""},{"$f":"IF(DATA!GQO2=0,\"\",IFERROR(DATA!GQO2,\"\"))","v":""},{"$f":"IF(DATA!GQP2=0,\"\",IFERROR(DATA!GQP2,\"\"))","v":""},{"$f":"IF(DATA!GQQ2=0,\"\",IFERROR(DATA!GQQ2,\"\"))","v":""},{"$f":"IF(DATA!GQR2=0,\"\",IFERROR(DATA!GQR2,\"\"))","v":""},{"$f":"IF(DATA!GQS2=0,\"\",IFERROR(DATA!GQS2,\"\"))","v":""},{"$f":"IF(DATA!GQT2=0,\"\",IFERROR(DATA!GQT2,\"\"))","v":""},{"$f":"IF(DATA!GQU2=0,\"\",IFERROR(DATA!GQU2,\"\"))","v":""},{"$f":"IF(DATA!GQV2=0,\"\",IFERROR(DATA!GQV2,\"\"))","v":""},{"$f":"IF(DATA!GQW2=0,\"\",IFERROR(DATA!GQW2,\"\"))","v":""},{"$f":"IF(DATA!GQX2=0,\"\",IFERROR(DATA!GQX2,\"\"))","v":""},{"$f":"IF(DATA!GQY2=0,\"\",IFERROR(DATA!GQY2,\"\"))","v":""},{"$f":"IF(DATA!GQZ2=0,\"\",IFERROR(DATA!GQZ2,\"\"))","v":""},{"$f":"IF(DATA!GRA2=0,\"\",IFERROR(DATA!GRA2,\"\"))","v":""},{"$f":"IF(DATA!GRB2=0,\"\",IFERROR(DATA!GRB2,\"\"))","v":""},{"$f":"IF(DATA!GRC2=0,\"\",IFERROR(DATA!GRC2,\"\"))","v":""},{"$f":"IF(DATA!GRD2=0,\"\",IFERROR(DATA!GRD2,\"\"))","v":""},{"$f":"IF(DATA!GRE2=0,\"\",IFERROR(DATA!GRE2,\"\"))","v":""},{"$f":"IF(DATA!GRF2=0,\"\",IFERROR(DATA!GRF2,\"\"))","v":""},{"$f":"IF(DATA!GRG2=0,\"\",IFERROR(DATA!GRG2,\"\"))","v":""},{"$f":"IF(DATA!GRH2=0,\"\",IFERROR(DATA!GRH2,\"\"))","v":""},{"$f":"IF(DATA!GRI2=0,\"\",IFERROR(DATA!GRI2,\"\"))","v":""},{"$f":"IF(DATA!GRJ2=0,\"\",IFERROR(DATA!GRJ2,\"\"))","v":""},{"$f":"IF(DATA!GRK2=0,\"\",IFERROR(DATA!GRK2,\"\"))","v":""},{"$f":"IF(DATA!GRL2=0,\"\",IFERROR(DATA!GRL2,\"\"))","v":""},{"$f":"IF(DATA!GRM2=0,\"\",IFERROR(DATA!GRM2,\"\"))","v":""},{"$f":"IF(DATA!GRN2=0,\"\",IFERROR(DATA!GRN2,\"\"))","v":""},{"$f":"IF(DATA!GRO2=0,\"\",IFERROR(DATA!GRO2,\"\"))","v":""},{"$f":"IF(DATA!GRP2=0,\"\",IFERROR(DATA!GRP2,\"\"))","v":""},{"$f":"IF(DATA!GRQ2=0,\"\",IFERROR(DATA!GRQ2,\"\"))","v":""},{"$f":"IF(DATA!GRR2=0,\"\",IFERROR(DATA!GRR2,\"\"))","v":""},{"$f":"IF(DATA!GRS2=0,\"\",IFERROR(DATA!GRS2,\"\"))","v":""},{"$f":"IF(DATA!GRT2=0,\"\",IFERROR(DATA!GRT2,\"\"))","v":""},{"$f":"IF(DATA!GRU2=0,\"\",IFERROR(DATA!GRU2,\"\"))","v":""},{"$f":"IF(DATA!GRV2=0,\"\",IFERROR(DATA!GRV2,\"\"))","v":""},{"$f":"IF(DATA!GRW2=0,\"\",IFERROR(DATA!GRW2,\"\"))","v":""},{"$f":"IF(DATA!GRX2=0,\"\",IFERROR(DATA!GRX2,\"\"))","v":""},{"$f":"IF(DATA!GRY2=0,\"\",IFERROR(DATA!GRY2,\"\"))","v":""},{"$f":"IF(DATA!GRZ2=0,\"\",IFERROR(DATA!GRZ2,\"\"))","v":""},{"$f":"IF(DATA!GSA2=0,\"\",IFERROR(DATA!GSA2,\"\"))","v":""},{"$f":"IF(DATA!GSB2=0,\"\",IFERROR(DATA!GSB2,\"\"))","v":""},{"$f":"IF(DATA!GSC2=0,\"\",IFERROR(DATA!GSC2,\"\"))","v":""},{"$f":"IF(DATA!GSD2=0,\"\",IFERROR(DATA!GSD2,\"\"))","v":""},{"$f":"IF(DATA!GSE2=0,\"\",IFERROR(DATA!GSE2,\"\"))","v":""},{"$f":"IF(DATA!GSF2=0,\"\",IFERROR(DATA!GSF2,\"\"))","v":""},{"$f":"IF(DATA!GSG2=0,\"\",IFERROR(DATA!GSG2,\"\"))","v":""},{"$f":"IF(DATA!GSH2=0,\"\",IFERROR(DATA!GSH2,\"\"))","v":""},{"$f":"IF(DATA!GSI2=0,\"\",IFERROR(DATA!GSI2,\"\"))","v":""},{"$f":"IF(DATA!GSJ2=0,\"\",IFERROR(DATA!GSJ2,\"\"))","v":""},{"$f":"IF(DATA!GSK2=0,\"\",IFERROR(DATA!GSK2,\"\"))","v":""},{"$f":"IF(DATA!GSL2=0,\"\",IFERROR(DATA!GSL2,\"\"))","v":""},{"$f":"IF(DATA!GSM2=0,\"\",IFERROR(DATA!GSM2,\"\"))","v":""},{"$f":"IF(DATA!GSN2=0,\"\",IFERROR(DATA!GSN2,\"\"))","v":""},{"$f":"IF(DATA!GSO2=0,\"\",IFERROR(DATA!GSO2,\"\"))","v":""},{"$f":"IF(DATA!GSP2=0,\"\",IFERROR(DATA!GSP2,\"\"))","v":""},{"$f":"IF(DATA!GSQ2=0,\"\",IFERROR(DATA!GSQ2,\"\"))","v":""},{"$f":"IF(DATA!GSR2=0,\"\",IFERROR(DATA!GSR2,\"\"))","v":""},{"$f":"IF(DATA!GSS2=0,\"\",IFERROR(DATA!GSS2,\"\"))","v":""},{"$f":"IF(DATA!GST2=0,\"\",IFERROR(DATA!GST2,\"\"))","v":""},{"$f":"IF(DATA!GSU2=0,\"\",IFERROR(DATA!GSU2,\"\"))","v":""},{"$f":"IF(DATA!GSV2=0,\"\",IFERROR(DATA!GSV2,\"\"))","v":""},{"$f":"IF(DATA!GSW2=0,\"\",IFERROR(DATA!GSW2,\"\"))","v":""},{"$f":"IF(DATA!GSX2=0,\"\",IFERROR(DATA!GSX2,\"\"))","v":""},{"$f":"IF(DATA!GSY2=0,\"\",IFERROR(DATA!GSY2,\"\"))","v":""},{"$f":"IF(DATA!GSZ2=0,\"\",IFERROR(DATA!GSZ2,\"\"))","v":""},{"$f":"IF(DATA!GTA2=0,\"\",IFERROR(DATA!GTA2,\"\"))","v":""},{"$f":"IF(DATA!GTB2=0,\"\",IFERROR(DATA!GTB2,\"\"))","v":""},{"$f":"IF(DATA!GTC2=0,\"\",IFERROR(DATA!GTC2,\"\"))","v":""},{"$f":"IF(DATA!GTD2=0,\"\",IFERROR(DATA!GTD2,\"\"))","v":""},{"$f":"IF(DATA!GTE2=0,\"\",IFERROR(DATA!GTE2,\"\"))","v":""},{"$f":"IF(DATA!GTF2=0,\"\",IFERROR(DATA!GTF2,\"\"))","v":""},{"$f":"IF(DATA!GTG2=0,\"\",IFERROR(DATA!GTG2,\"\"))","v":""},{"$f":"IF(DATA!GTH2=0,\"\",IFERROR(DATA!GTH2,\"\"))","v":""},{"$f":"IF(DATA!GTI2=0,\"\",IFERROR(DATA!GTI2,\"\"))","v":""},{"$f":"IF(DATA!GTJ2=0,\"\",IFERROR(DATA!GTJ2,\"\"))","v":""},{"$f":"IF(DATA!GTK2=0,\"\",IFERROR(DATA!GTK2,\"\"))","v":""},{"$f":"IF(DATA!GTL2=0,\"\",IFERROR(DATA!GTL2,\"\"))","v":""},{"$f":"IF(DATA!GTM2=0,\"\",IFERROR(DATA!GTM2,\"\"))","v":""},{"$f":"IF(DATA!GTN2=0,\"\",IFERROR(DATA!GTN2,\"\"))","v":""},{"$f":"IF(DATA!GTO2=0,\"\",IFERROR(DATA!GTO2,\"\"))","v":""},{"$f":"IF(DATA!GTP2=0,\"\",IFERROR(DATA!GTP2,\"\"))","v":""},{"$f":"IF(DATA!GTQ2=0,\"\",IFERROR(DATA!GTQ2,\"\"))","v":""},{"$f":"IF(DATA!GTR2=0,\"\",IFERROR(DATA!GTR2,\"\"))","v":""},{"$f":"IF(DATA!GTS2=0,\"\",IFERROR(DATA!GTS2,\"\"))","v":""},{"$f":"IF(DATA!GTT2=0,\"\",IFERROR(DATA!GTT2,\"\"))","v":""},{"$f":"IF(DATA!GTU2=0,\"\",IFERROR(DATA!GTU2,\"\"))","v":""},{"$f":"IF(DATA!GTV2=0,\"\",IFERROR(DATA!GTV2,\"\"))","v":""},{"$f":"IF(DATA!GTW2=0,\"\",IFERROR(DATA!GTW2,\"\"))","v":""},{"$f":"IF(DATA!GTX2=0,\"\",IFERROR(DATA!GTX2,\"\"))","v":""},{"$f":"IF(DATA!GTY2=0,\"\",IFERROR(DATA!GTY2,\"\"))","v":""},{"$f":"IF(DATA!GTZ2=0,\"\",IFERROR(DATA!GTZ2,\"\"))","v":""},{"$f":"IF(DATA!GUA2=0,\"\",IFERROR(DATA!GUA2,\"\"))","v":""},{"$f":"IF(DATA!GUB2=0,\"\",IFERROR(DATA!GUB2,\"\"))","v":""},{"$f":"IF(DATA!GUC2=0,\"\",IFERROR(DATA!GUC2,\"\"))","v":""},{"$f":"IF(DATA!GUD2=0,\"\",IFERROR(DATA!GUD2,\"\"))","v":""},{"$f":"IF(DATA!GUE2=0,\"\",IFERROR(DATA!GUE2,\"\"))","v":""},{"$f":"IF(DATA!GUF2=0,\"\",IFERROR(DATA!GUF2,\"\"))","v":""},{"$f":"IF(DATA!GUG2=0,\"\",IFERROR(DATA!GUG2,\"\"))","v":""},{"$f":"IF(DATA!GUH2=0,\"\",IFERROR(DATA!GUH2,\"\"))","v":""},{"$f":"IF(DATA!GUI2=0,\"\",IFERROR(DATA!GUI2,\"\"))","v":""},{"$f":"IF(DATA!GUJ2=0,\"\",IFERROR(DATA!GUJ2,\"\"))","v":""},{"$f":"IF(DATA!GUK2=0,\"\",IFERROR(DATA!GUK2,\"\"))","v":""},{"$f":"IF(DATA!GUL2=0,\"\",IFERROR(DATA!GUL2,\"\"))","v":""},{"$f":"IF(DATA!GUM2=0,\"\",IFERROR(DATA!GUM2,\"\"))","v":""},{"$f":"IF(DATA!GUN2=0,\"\",IFERROR(DATA!GUN2,\"\"))","v":""},{"$f":"IF(DATA!GUO2=0,\"\",IFERROR(DATA!GUO2,\"\"))","v":""},{"$f":"IF(DATA!GUP2=0,\"\",IFERROR(DATA!GUP2,\"\"))","v":""},{"$f":"IF(DATA!GUQ2=0,\"\",IFERROR(DATA!GUQ2,\"\"))","v":""},{"$f":"IF(DATA!GUR2=0,\"\",IFERROR(DATA!GUR2,\"\"))","v":""},{"$f":"IF(DATA!GUS2=0,\"\",IFERROR(DATA!GUS2,\"\"))","v":""},{"$f":"IF(DATA!GUT2=0,\"\",IFERROR(DATA!GUT2,\"\"))","v":""},{"$f":"IF(DATA!GUU2=0,\"\",IFERROR(DATA!GUU2,\"\"))","v":""},{"$f":"IF(DATA!GUV2=0,\"\",IFERROR(DATA!GUV2,\"\"))","v":""},{"$f":"IF(DATA!GUW2=0,\"\",IFERROR(DATA!GUW2,\"\"))","v":""},{"$f":"IF(DATA!GUX2=0,\"\",IFERROR(DATA!GUX2,\"\"))","v":""},{"$f":"IF(DATA!GUY2=0,\"\",IFERROR(DATA!GUY2,\"\"))","v":""},{"$f":"IF(DATA!GUZ2=0,\"\",IFERROR(DATA!GUZ2,\"\"))","v":""},{"$f":"IF(DATA!GVA2=0,\"\",IFERROR(DATA!GVA2,\"\"))","v":""},{"$f":"IF(DATA!GVB2=0,\"\",IFERROR(DATA!GVB2,\"\"))","v":""},{"$f":"IF(DATA!GVC2=0,\"\",IFERROR(DATA!GVC2,\"\"))","v":""},{"$f":"IF(DATA!GVD2=0,\"\",IFERROR(DATA!GVD2,\"\"))","v":""},{"$f":"IF(DATA!GVE2=0,\"\",IFERROR(DATA!GVE2,\"\"))","v":""},{"$f":"IF(DATA!GVF2=0,\"\",IFERROR(DATA!GVF2,\"\"))","v":""},{"$f":"IF(DATA!GVG2=0,\"\",IFERROR(DATA!GVG2,\"\"))","v":""},{"$f":"IF(DATA!GVH2=0,\"\",IFERROR(DATA!GVH2,\"\"))","v":""},{"$f":"IF(DATA!GVI2=0,\"\",IFERROR(DATA!GVI2,\"\"))","v":""},{"$f":"IF(DATA!GVJ2=0,\"\",IFERROR(DATA!GVJ2,\"\"))","v":""},{"$f":"IF(DATA!GVK2=0,\"\",IFERROR(DATA!GVK2,\"\"))","v":""},{"$f":"IF(DATA!GVL2=0,\"\",IFERROR(DATA!GVL2,\"\"))","v":""},{"$f":"IF(DATA!GVM2=0,\"\",IFERROR(DATA!GVM2,\"\"))","v":""},{"$f":"IF(DATA!GVN2=0,\"\",IFERROR(DATA!GVN2,\"\"))","v":""},{"$f":"IF(DATA!GVO2=0,\"\",IFERROR(DATA!GVO2,\"\"))","v":""},{"$f":"IF(DATA!GVP2=0,\"\",IFERROR(DATA!GVP2,\"\"))","v":""},{"$f":"IF(DATA!GVQ2=0,\"\",IFERROR(DATA!GVQ2,\"\"))","v":""},{"$f":"IF(DATA!GVR2=0,\"\",IFERROR(DATA!GVR2,\"\"))","v":""},{"$f":"IF(DATA!GVS2=0,\"\",IFERROR(DATA!GVS2,\"\"))","v":""},{"$f":"IF(DATA!GVT2=0,\"\",IFERROR(DATA!GVT2,\"\"))","v":""},{"$f":"IF(DATA!GVU2=0,\"\",IFERROR(DATA!GVU2,\"\"))","v":""},{"$f":"IF(DATA!GVV2=0,\"\",IFERROR(DATA!GVV2,\"\"))","v":""},{"$f":"IF(DATA!GVW2=0,\"\",IFERROR(DATA!GVW2,\"\"))","v":""},{"$f":"IF(DATA!GVX2=0,\"\",IFERROR(DATA!GVX2,\"\"))","v":""},{"$f":"IF(DATA!GVY2=0,\"\",IFERROR(DATA!GVY2,\"\"))","v":""},{"$f":"IF(DATA!GVZ2=0,\"\",IFERROR(DATA!GVZ2,\"\"))","v":""},{"$f":"IF(DATA!GWA2=0,\"\",IFERROR(DATA!GWA2,\"\"))","v":""},{"$f":"IF(DATA!GWB2=0,\"\",IFERROR(DATA!GWB2,\"\"))","v":""},{"$f":"IF(DATA!GWC2=0,\"\",IFERROR(DATA!GWC2,\"\"))","v":""},{"$f":"IF(DATA!GWD2=0,\"\",IFERROR(DATA!GWD2,\"\"))","v":""},{"$f":"IF(DATA!GWE2=0,\"\",IFERROR(DATA!GWE2,\"\"))","v":""},{"$f":"IF(DATA!GWF2=0,\"\",IFERROR(DATA!GWF2,\"\"))","v":""},{"$f":"IF(DATA!GWG2=0,\"\",IFERROR(DATA!GWG2,\"\"))","v":""},{"$f":"IF(DATA!GWH2=0,\"\",IFERROR(DATA!GWH2,\"\"))","v":""},{"$f":"IF(DATA!GWI2=0,\"\",IFERROR(DATA!GWI2,\"\"))","v":""},{"$f":"IF(DATA!GWJ2=0,\"\",IFERROR(DATA!GWJ2,\"\"))","v":""},{"$f":"IF(DATA!GWK2=0,\"\",IFERROR(DATA!GWK2,\"\"))","v":""},{"$f":"IF(DATA!GWL2=0,\"\",IFERROR(DATA!GWL2,\"\"))","v":""},{"$f":"IF(DATA!GWM2=0,\"\",IFERROR(DATA!GWM2,\"\"))","v":""},{"$f":"IF(DATA!GWN2=0,\"\",IFERROR(DATA!GWN2,\"\"))","v":""},{"$f":"IF(DATA!GWO2=0,\"\",IFERROR(DATA!GWO2,\"\"))","v":""},{"$f":"IF(DATA!GWP2=0,\"\",IFERROR(DATA!GWP2,\"\"))","v":""},{"$f":"IF(DATA!GWQ2=0,\"\",IFERROR(DATA!GWQ2,\"\"))","v":""},{"$f":"IF(DATA!GWR2=0,\"\",IFERROR(DATA!GWR2,\"\"))","v":""},{"$f":"IF(DATA!GWS2=0,\"\",IFERROR(DATA!GWS2,\"\"))","v":""},{"$f":"IF(DATA!GWT2=0,\"\",IFERROR(DATA!GWT2,\"\"))","v":""},{"$f":"IF(DATA!GWU2=0,\"\",IFERROR(DATA!GWU2,\"\"))","v":""},{"$f":"IF(DATA!GWV2=0,\"\",IFERROR(DATA!GWV2,\"\"))","v":""},{"$f":"IF(DATA!GWW2=0,\"\",IFERROR(DATA!GWW2,\"\"))","v":""},{"$f":"IF(DATA!GWX2=0,\"\",IFERROR(DATA!GWX2,\"\"))","v":""},{"$f":"IF(DATA!GWY2=0,\"\",IFERROR(DATA!GWY2,\"\"))","v":""},{"$f":"IF(DATA!GWZ2=0,\"\",IFERROR(DATA!GWZ2,\"\"))","v":""},{"$f":"IF(DATA!GXA2=0,\"\",IFERROR(DATA!GXA2,\"\"))","v":""},{"$f":"IF(DATA!GXB2=0,\"\",IFERROR(DATA!GXB2,\"\"))","v":""},{"$f":"IF(DATA!GXC2=0,\"\",IFERROR(DATA!GXC2,\"\"))","v":""},{"$f":"IF(DATA!GXD2=0,\"\",IFERROR(DATA!GXD2,\"\"))","v":""},{"$f":"IF(DATA!GXE2=0,\"\",IFERROR(DATA!GXE2,\"\"))","v":""},{"$f":"IF(DATA!GXF2=0,\"\",IFERROR(DATA!GXF2,\"\"))","v":""},{"$f":"IF(DATA!GXG2=0,\"\",IFERROR(DATA!GXG2,\"\"))","v":""},{"$f":"IF(DATA!GXH2=0,\"\",IFERROR(DATA!GXH2,\"\"))","v":""},{"$f":"IF(DATA!GXI2=0,\"\",IFERROR(DATA!GXI2,\"\"))","v":""},{"$f":"IF(DATA!GXJ2=0,\"\",IFERROR(DATA!GXJ2,\"\"))","v":""},{"$f":"IF(DATA!GXK2=0,\"\",IFERROR(DATA!GXK2,\"\"))","v":""},{"$f":"IF(DATA!GXL2=0,\"\",IFERROR(DATA!GXL2,\"\"))","v":""},{"$f":"IF(DATA!GXM2=0,\"\",IFERROR(DATA!GXM2,\"\"))","v":""},{"$f":"IF(DATA!GXN2=0,\"\",IFERROR(DATA!GXN2,\"\"))","v":""},{"$f":"IF(DATA!GXO2=0,\"\",IFERROR(DATA!GXO2,\"\"))","v":""},{"$f":"IF(DATA!GXP2=0,\"\",IFERROR(DATA!GXP2,\"\"))","v":""},{"$f":"IF(DATA!GXQ2=0,\"\",IFERROR(DATA!GXQ2,\"\"))","v":""},{"$f":"IF(DATA!GXR2=0,\"\",IFERROR(DATA!GXR2,\"\"))","v":""},{"$f":"IF(DATA!GXS2=0,\"\",IFERROR(DATA!GXS2,\"\"))","v":""},{"$f":"IF(DATA!GXT2=0,\"\",IFERROR(DATA!GXT2,\"\"))","v":""},{"$f":"IF(DATA!GXU2=0,\"\",IFERROR(DATA!GXU2,\"\"))","v":""},{"$f":"IF(DATA!GXV2=0,\"\",IFERROR(DATA!GXV2,\"\"))","v":""},{"$f":"IF(DATA!GXW2=0,\"\",IFERROR(DATA!GXW2,\"\"))","v":""},{"$f":"IF(DATA!GXX2=0,\"\",IFERROR(DATA!GXX2,\"\"))","v":""},{"$f":"IF(DATA!GXY2=0,\"\",IFERROR(DATA!GXY2,\"\"))","v":""},{"$f":"IF(DATA!GXZ2=0,\"\",IFERROR(DATA!GXZ2,\"\"))","v":""},{"$f":"IF(DATA!GYA2=0,\"\",IFERROR(DATA!GYA2,\"\"))","v":""},{"$f":"IF(DATA!GYB2=0,\"\",IFERROR(DATA!GYB2,\"\"))","v":""},{"$f":"IF(DATA!GYC2=0,\"\",IFERROR(DATA!GYC2,\"\"))","v":""},{"$f":"IF(DATA!GYD2=0,\"\",IFERROR(DATA!GYD2,\"\"))","v":""},{"$f":"IF(DATA!GYE2=0,\"\",IFERROR(DATA!GYE2,\"\"))","v":""},{"$f":"IF(DATA!GYF2=0,\"\",IFERROR(DATA!GYF2,\"\"))","v":""},{"$f":"IF(DATA!GYG2=0,\"\",IFERROR(DATA!GYG2,\"\"))","v":""},{"$f":"IF(DATA!GYH2=0,\"\",IFERROR(DATA!GYH2,\"\"))","v":""},{"$f":"IF(DATA!GYI2=0,\"\",IFERROR(DATA!GYI2,\"\"))","v":""},{"$f":"IF(DATA!GYJ2=0,\"\",IFERROR(DATA!GYJ2,\"\"))","v":""},{"$f":"IF(DATA!GYK2=0,\"\",IFERROR(DATA!GYK2,\"\"))","v":""},{"$f":"IF(DATA!GYL2=0,\"\",IFERROR(DATA!GYL2,\"\"))","v":""},{"$f":"IF(DATA!GYM2=0,\"\",IFERROR(DATA!GYM2,\"\"))","v":""},{"$f":"IF(DATA!GYN2=0,\"\",IFERROR(DATA!GYN2,\"\"))","v":""},{"$f":"IF(DATA!GYO2=0,\"\",IFERROR(DATA!GYO2,\"\"))","v":""},{"$f":"IF(DATA!GYP2=0,\"\",IFERROR(DATA!GYP2,\"\"))","v":""},{"$f":"IF(DATA!GYQ2=0,\"\",IFERROR(DATA!GYQ2,\"\"))","v":""},{"$f":"IF(DATA!GYR2=0,\"\",IFERROR(DATA!GYR2,\"\"))","v":""},{"$f":"IF(DATA!GYS2=0,\"\",IFERROR(DATA!GYS2,\"\"))","v":""},{"$f":"IF(DATA!GYT2=0,\"\",IFERROR(DATA!GYT2,\"\"))","v":""},{"$f":"IF(DATA!GYU2=0,\"\",IFERROR(DATA!GYU2,\"\"))","v":""},{"$f":"IF(DATA!GYV2=0,\"\",IFERROR(DATA!GYV2,\"\"))","v":""},{"$f":"IF(DATA!GYW2=0,\"\",IFERROR(DATA!GYW2,\"\"))","v":""},{"$f":"IF(DATA!GYX2=0,\"\",IFERROR(DATA!GYX2,\"\"))","v":""},{"$f":"IF(DATA!GYY2=0,\"\",IFERROR(DATA!GYY2,\"\"))","v":""},{"$f":"IF(DATA!GYZ2=0,\"\",IFERROR(DATA!GYZ2,\"\"))","v":""},{"$f":"IF(DATA!GZA2=0,\"\",IFERROR(DATA!GZA2,\"\"))","v":""},{"$f":"IF(DATA!GZB2=0,\"\",IFERROR(DATA!GZB2,\"\"))","v":""},{"$f":"IF(DATA!GZC2=0,\"\",IFERROR(DATA!GZC2,\"\"))","v":""},{"$f":"IF(DATA!GZD2=0,\"\",IFERROR(DATA!GZD2,\"\"))","v":""},{"$f":"IF(DATA!GZE2=0,\"\",IFERROR(DATA!GZE2,\"\"))","v":""},{"$f":"IF(DATA!GZF2=0,\"\",IFERROR(DATA!GZF2,\"\"))","v":""},{"$f":"IF(DATA!GZG2=0,\"\",IFERROR(DATA!GZG2,\"\"))","v":""},{"$f":"IF(DATA!GZH2=0,\"\",IFERROR(DATA!GZH2,\"\"))","v":""},{"$f":"IF(DATA!GZI2=0,\"\",IFERROR(DATA!GZI2,\"\"))","v":""},{"$f":"IF(DATA!GZJ2=0,\"\",IFERROR(DATA!GZJ2,\"\"))","v":""},{"$f":"IF(DATA!GZK2=0,\"\",IFERROR(DATA!GZK2,\"\"))","v":""},{"$f":"IF(DATA!GZL2=0,\"\",IFERROR(DATA!GZL2,\"\"))","v":""},{"$f":"IF(DATA!GZM2=0,\"\",IFERROR(DATA!GZM2,\"\"))","v":""},{"$f":"IF(DATA!GZN2=0,\"\",IFERROR(DATA!GZN2,\"\"))","v":""},{"$f":"IF(DATA!GZO2=0,\"\",IFERROR(DATA!GZO2,\"\"))","v":""},{"$f":"IF(DATA!GZP2=0,\"\",IFERROR(DATA!GZP2,\"\"))","v":""},{"$f":"IF(DATA!GZQ2=0,\"\",IFERROR(DATA!GZQ2,\"\"))","v":""},{"$f":"IF(DATA!GZR2=0,\"\",IFERROR(DATA!GZR2,\"\"))","v":""},{"$f":"IF(DATA!GZS2=0,\"\",IFERROR(DATA!GZS2,\"\"))","v":""},{"$f":"IF(DATA!GZT2=0,\"\",IFERROR(DATA!GZT2,\"\"))","v":""},{"$f":"IF(DATA!GZU2=0,\"\",IFERROR(DATA!GZU2,\"\"))","v":""},{"$f":"IF(DATA!GZV2=0,\"\",IFERROR(DATA!GZV2,\"\"))","v":""},{"$f":"IF(DATA!GZW2=0,\"\",IFERROR(DATA!GZW2,\"\"))","v":""},{"$f":"IF(DATA!GZX2=0,\"\",IFERROR(DATA!GZX2,\"\"))","v":""},{"$f":"IF(DATA!GZY2=0,\"\",IFERROR(DATA!GZY2,\"\"))","v":""},{"$f":"IF(DATA!GZZ2=0,\"\",IFERROR(DATA!GZZ2,\"\"))","v":""},{"$f":"IF(DATA!HAA2=0,\"\",IFERROR(DATA!HAA2,\"\"))","v":""},{"$f":"IF(DATA!HAB2=0,\"\",IFERROR(DATA!HAB2,\"\"))","v":""},{"$f":"IF(DATA!HAC2=0,\"\",IFERROR(DATA!HAC2,\"\"))","v":""},{"$f":"IF(DATA!HAD2=0,\"\",IFERROR(DATA!HAD2,\"\"))","v":""},{"$f":"IF(DATA!HAE2=0,\"\",IFERROR(DATA!HAE2,\"\"))","v":""},{"$f":"IF(DATA!HAF2=0,\"\",IFERROR(DATA!HAF2,\"\"))","v":""},{"$f":"IF(DATA!HAG2=0,\"\",IFERROR(DATA!HAG2,\"\"))","v":""},{"$f":"IF(DATA!HAH2=0,\"\",IFERROR(DATA!HAH2,\"\"))","v":""},{"$f":"IF(DATA!HAI2=0,\"\",IFERROR(DATA!HAI2,\"\"))","v":""},{"$f":"IF(DATA!HAJ2=0,\"\",IFERROR(DATA!HAJ2,\"\"))","v":""},{"$f":"IF(DATA!HAK2=0,\"\",IFERROR(DATA!HAK2,\"\"))","v":""},{"$f":"IF(DATA!HAL2=0,\"\",IFERROR(DATA!HAL2,\"\"))","v":""},{"$f":"IF(DATA!HAM2=0,\"\",IFERROR(DATA!HAM2,\"\"))","v":""},{"$f":"IF(DATA!HAN2=0,\"\",IFERROR(DATA!HAN2,\"\"))","v":""},{"$f":"IF(DATA!HAO2=0,\"\",IFERROR(DATA!HAO2,\"\"))","v":""},{"$f":"IF(DATA!HAP2=0,\"\",IFERROR(DATA!HAP2,\"\"))","v":""},{"$f":"IF(DATA!HAQ2=0,\"\",IFERROR(DATA!HAQ2,\"\"))","v":""},{"$f":"IF(DATA!HAR2=0,\"\",IFERROR(DATA!HAR2,\"\"))","v":""},{"$f":"IF(DATA!HAS2=0,\"\",IFERROR(DATA!HAS2,\"\"))","v":""},{"$f":"IF(DATA!HAT2=0,\"\",IFERROR(DATA!HAT2,\"\"))","v":""},{"$f":"IF(DATA!HAU2=0,\"\",IFERROR(DATA!HAU2,\"\"))","v":""},{"$f":"IF(DATA!HAV2=0,\"\",IFERROR(DATA!HAV2,\"\"))","v":""},{"$f":"IF(DATA!HAW2=0,\"\",IFERROR(DATA!HAW2,\"\"))","v":""},{"$f":"IF(DATA!HAX2=0,\"\",IFERROR(DATA!HAX2,\"\"))","v":""},{"$f":"IF(DATA!HAY2=0,\"\",IFERROR(DATA!HAY2,\"\"))","v":""},{"$f":"IF(DATA!HAZ2=0,\"\",IFERROR(DATA!HAZ2,\"\"))","v":""},{"$f":"IF(DATA!HBA2=0,\"\",IFERROR(DATA!HBA2,\"\"))","v":""},{"$f":"IF(DATA!HBB2=0,\"\",IFERROR(DATA!HBB2,\"\"))","v":""},{"$f":"IF(DATA!HBC2=0,\"\",IFERROR(DATA!HBC2,\"\"))","v":""},{"$f":"IF(DATA!HBD2=0,\"\",IFERROR(DATA!HBD2,\"\"))","v":""},{"$f":"IF(DATA!HBE2=0,\"\",IFERROR(DATA!HBE2,\"\"))","v":""},{"$f":"IF(DATA!HBF2=0,\"\",IFERROR(DATA!HBF2,\"\"))","v":""},{"$f":"IF(DATA!HBG2=0,\"\",IFERROR(DATA!HBG2,\"\"))","v":""},{"$f":"IF(DATA!HBH2=0,\"\",IFERROR(DATA!HBH2,\"\"))","v":""},{"$f":"IF(DATA!HBI2=0,\"\",IFERROR(DATA!HBI2,\"\"))","v":""},{"$f":"IF(DATA!HBJ2=0,\"\",IFERROR(DATA!HBJ2,\"\"))","v":""},{"$f":"IF(DATA!HBK2=0,\"\",IFERROR(DATA!HBK2,\"\"))","v":""},{"$f":"IF(DATA!HBL2=0,\"\",IFERROR(DATA!HBL2,\"\"))","v":""},{"$f":"IF(DATA!HBM2=0,\"\",IFERROR(DATA!HBM2,\"\"))","v":""},{"$f":"IF(DATA!HBN2=0,\"\",IFERROR(DATA!HBN2,\"\"))","v":""},{"$f":"IF(DATA!HBO2=0,\"\",IFERROR(DATA!HBO2,\"\"))","v":""},{"$f":"IF(DATA!HBP2=0,\"\",IFERROR(DATA!HBP2,\"\"))","v":""},{"$f":"IF(DATA!HBQ2=0,\"\",IFERROR(DATA!HBQ2,\"\"))","v":""},{"$f":"IF(DATA!HBR2=0,\"\",IFERROR(DATA!HBR2,\"\"))","v":""},{"$f":"IF(DATA!HBS2=0,\"\",IFERROR(DATA!HBS2,\"\"))","v":""},{"$f":"IF(DATA!HBT2=0,\"\",IFERROR(DATA!HBT2,\"\"))","v":""},{"$f":"IF(DATA!HBU2=0,\"\",IFERROR(DATA!HBU2,\"\"))","v":""},{"$f":"IF(DATA!HBV2=0,\"\",IFERROR(DATA!HBV2,\"\"))","v":""},{"$f":"IF(DATA!HBW2=0,\"\",IFERROR(DATA!HBW2,\"\"))","v":""},{"$f":"IF(DATA!HBX2=0,\"\",IFERROR(DATA!HBX2,\"\"))","v":""},{"$f":"IF(DATA!HBY2=0,\"\",IFERROR(DATA!HBY2,\"\"))","v":""},{"$f":"IF(DATA!HBZ2=0,\"\",IFERROR(DATA!HBZ2,\"\"))","v":""},{"$f":"IF(DATA!HCA2=0,\"\",IFERROR(DATA!HCA2,\"\"))","v":""},{"$f":"IF(DATA!HCB2=0,\"\",IFERROR(DATA!HCB2,\"\"))","v":""},{"$f":"IF(DATA!HCC2=0,\"\",IFERROR(DATA!HCC2,\"\"))","v":""},{"$f":"IF(DATA!HCD2=0,\"\",IFERROR(DATA!HCD2,\"\"))","v":""},{"$f":"IF(DATA!HCE2=0,\"\",IFERROR(DATA!HCE2,\"\"))","v":""},{"$f":"IF(DATA!HCF2=0,\"\",IFERROR(DATA!HCF2,\"\"))","v":""},{"$f":"IF(DATA!HCG2=0,\"\",IFERROR(DATA!HCG2,\"\"))","v":""},{"$f":"IF(DATA!HCH2=0,\"\",IFERROR(DATA!HCH2,\"\"))","v":""},{"$f":"IF(DATA!HCI2=0,\"\",IFERROR(DATA!HCI2,\"\"))","v":""},{"$f":"IF(DATA!HCJ2=0,\"\",IFERROR(DATA!HCJ2,\"\"))","v":""},{"$f":"IF(DATA!HCK2=0,\"\",IFERROR(DATA!HCK2,\"\"))","v":""},{"$f":"IF(DATA!HCL2=0,\"\",IFERROR(DATA!HCL2,\"\"))","v":""},{"$f":"IF(DATA!HCM2=0,\"\",IFERROR(DATA!HCM2,\"\"))","v":""},{"$f":"IF(DATA!HCN2=0,\"\",IFERROR(DATA!HCN2,\"\"))","v":""},{"$f":"IF(DATA!HCO2=0,\"\",IFERROR(DATA!HCO2,\"\"))","v":""},{"$f":"IF(DATA!HCP2=0,\"\",IFERROR(DATA!HCP2,\"\"))","v":""},{"$f":"IF(DATA!HCQ2=0,\"\",IFERROR(DATA!HCQ2,\"\"))","v":""},{"$f":"IF(DATA!HCR2=0,\"\",IFERROR(DATA!HCR2,\"\"))","v":""},{"$f":"IF(DATA!HCS2=0,\"\",IFERROR(DATA!HCS2,\"\"))","v":""},{"$f":"IF(DATA!HCT2=0,\"\",IFERROR(DATA!HCT2,\"\"))","v":""},{"$f":"IF(DATA!HCU2=0,\"\",IFERROR(DATA!HCU2,\"\"))","v":""},{"$f":"IF(DATA!HCV2=0,\"\",IFERROR(DATA!HCV2,\"\"))","v":""},{"$f":"IF(DATA!HCW2=0,\"\",IFERROR(DATA!HCW2,\"\"))","v":""},{"$f":"IF(DATA!HCX2=0,\"\",IFERROR(DATA!HCX2,\"\"))","v":""},{"$f":"IF(DATA!HCY2=0,\"\",IFERROR(DATA!HCY2,\"\"))","v":""},{"$f":"IF(DATA!HCZ2=0,\"\",IFERROR(DATA!HCZ2,\"\"))","v":""},{"$f":"IF(DATA!HDA2=0,\"\",IFERROR(DATA!HDA2,\"\"))","v":""},{"$f":"IF(DATA!HDB2=0,\"\",IFERROR(DATA!HDB2,\"\"))","v":""},{"$f":"IF(DATA!HDC2=0,\"\",IFERROR(DATA!HDC2,\"\"))","v":""},{"$f":"IF(DATA!HDD2=0,\"\",IFERROR(DATA!HDD2,\"\"))","v":""},{"$f":"IF(DATA!HDE2=0,\"\",IFERROR(DATA!HDE2,\"\"))","v":""},{"$f":"IF(DATA!HDF2=0,\"\",IFERROR(DATA!HDF2,\"\"))","v":""},{"$f":"IF(DATA!HDG2=0,\"\",IFERROR(DATA!HDG2,\"\"))","v":""},{"$f":"IF(DATA!HDH2=0,\"\",IFERROR(DATA!HDH2,\"\"))","v":""},{"$f":"IF(DATA!HDI2=0,\"\",IFERROR(DATA!HDI2,\"\"))","v":""},{"$f":"IF(DATA!HDJ2=0,\"\",IFERROR(DATA!HDJ2,\"\"))","v":""},{"$f":"IF(DATA!HDK2=0,\"\",IFERROR(DATA!HDK2,\"\"))","v":""},{"$f":"IF(DATA!HDL2=0,\"\",IFERROR(DATA!HDL2,\"\"))","v":""},{"$f":"IF(DATA!HDM2=0,\"\",IFERROR(DATA!HDM2,\"\"))","v":""},{"$f":"IF(DATA!HDN2=0,\"\",IFERROR(DATA!HDN2,\"\"))","v":""},{"$f":"IF(DATA!HDO2=0,\"\",IFERROR(DATA!HDO2,\"\"))","v":""},{"$f":"IF(DATA!HDP2=0,\"\",IFERROR(DATA!HDP2,\"\"))","v":""},{"$f":"IF(DATA!HDQ2=0,\"\",IFERROR(DATA!HDQ2,\"\"))","v":""},{"$f":"IF(DATA!HDR2=0,\"\",IFERROR(DATA!HDR2,\"\"))","v":""},{"$f":"IF(DATA!HDS2=0,\"\",IFERROR(DATA!HDS2,\"\"))","v":""},{"$f":"IF(DATA!HDT2=0,\"\",IFERROR(DATA!HDT2,\"\"))","v":""},{"$f":"IF(DATA!HDU2=0,\"\",IFERROR(DATA!HDU2,\"\"))","v":""},{"$f":"IF(DATA!HDV2=0,\"\",IFERROR(DATA!HDV2,\"\"))","v":""},{"$f":"IF(DATA!HDW2=0,\"\",IFERROR(DATA!HDW2,\"\"))","v":""},{"$f":"IF(DATA!HDX2=0,\"\",IFERROR(DATA!HDX2,\"\"))","v":""},{"$f":"IF(DATA!HDY2=0,\"\",IFERROR(DATA!HDY2,\"\"))","v":""},{"$f":"IF(DATA!HDZ2=0,\"\",IFERROR(DATA!HDZ2,\"\"))","v":""},{"$f":"IF(DATA!HEA2=0,\"\",IFERROR(DATA!HEA2,\"\"))","v":""},{"$f":"IF(DATA!HEB2=0,\"\",IFERROR(DATA!HEB2,\"\"))","v":""},{"$f":"IF(DATA!HEC2=0,\"\",IFERROR(DATA!HEC2,\"\"))","v":""},{"$f":"IF(DATA!HED2=0,\"\",IFERROR(DATA!HED2,\"\"))","v":""},{"$f":"IF(DATA!HEE2=0,\"\",IFERROR(DATA!HEE2,\"\"))","v":""},{"$f":"IF(DATA!HEF2=0,\"\",IFERROR(DATA!HEF2,\"\"))","v":""},{"$f":"IF(DATA!HEG2=0,\"\",IFERROR(DATA!HEG2,\"\"))","v":""},{"$f":"IF(DATA!HEH2=0,\"\",IFERROR(DATA!HEH2,\"\"))","v":""},{"$f":"IF(DATA!HEI2=0,\"\",IFERROR(DATA!HEI2,\"\"))","v":""},{"$f":"IF(DATA!HEJ2=0,\"\",IFERROR(DATA!HEJ2,\"\"))","v":""},{"$f":"IF(DATA!HEK2=0,\"\",IFERROR(DATA!HEK2,\"\"))","v":""},{"$f":"IF(DATA!HEL2=0,\"\",IFERROR(DATA!HEL2,\"\"))","v":""},{"$f":"IF(DATA!HEM2=0,\"\",IFERROR(DATA!HEM2,\"\"))","v":""},{"$f":"IF(DATA!HEN2=0,\"\",IFERROR(DATA!HEN2,\"\"))","v":""},{"$f":"IF(DATA!HEO2=0,\"\",IFERROR(DATA!HEO2,\"\"))","v":""},{"$f":"IF(DATA!HEP2=0,\"\",IFERROR(DATA!HEP2,\"\"))","v":""},{"$f":"IF(DATA!HEQ2=0,\"\",IFERROR(DATA!HEQ2,\"\"))","v":""},{"$f":"IF(DATA!HER2=0,\"\",IFERROR(DATA!HER2,\"\"))","v":""},{"$f":"IF(DATA!HES2=0,\"\",IFERROR(DATA!HES2,\"\"))","v":""},{"$f":"IF(DATA!HET2=0,\"\",IFERROR(DATA!HET2,\"\"))","v":""},{"$f":"IF(DATA!HEU2=0,\"\",IFERROR(DATA!HEU2,\"\"))","v":""},{"$f":"IF(DATA!HEV2=0,\"\",IFERROR(DATA!HEV2,\"\"))","v":""},{"$f":"IF(DATA!HEW2=0,\"\",IFERROR(DATA!HEW2,\"\"))","v":""},{"$f":"IF(DATA!HEX2=0,\"\",IFERROR(DATA!HEX2,\"\"))","v":""},{"$f":"IF(DATA!HEY2=0,\"\",IFERROR(DATA!HEY2,\"\"))","v":""},{"$f":"IF(DATA!HEZ2=0,\"\",IFERROR(DATA!HEZ2,\"\"))","v":""},{"$f":"IF(DATA!HFA2=0,\"\",IFERROR(DATA!HFA2,\"\"))","v":""},{"$f":"IF(DATA!HFB2=0,\"\",IFERROR(DATA!HFB2,\"\"))","v":""},{"$f":"IF(DATA!HFC2=0,\"\",IFERROR(DATA!HFC2,\"\"))","v":""},{"$f":"IF(DATA!HFD2=0,\"\",IFERROR(DATA!HFD2,\"\"))","v":""},{"$f":"IF(DATA!HFE2=0,\"\",IFERROR(DATA!HFE2,\"\"))","v":""},{"$f":"IF(DATA!HFF2=0,\"\",IFERROR(DATA!HFF2,\"\"))","v":""},{"$f":"IF(DATA!HFG2=0,\"\",IFERROR(DATA!HFG2,\"\"))","v":""},{"$f":"IF(DATA!HFH2=0,\"\",IFERROR(DATA!HFH2,\"\"))","v":""},{"$f":"IF(DATA!HFI2=0,\"\",IFERROR(DATA!HFI2,\"\"))","v":""},{"$f":"IF(DATA!HFJ2=0,\"\",IFERROR(DATA!HFJ2,\"\"))","v":""},{"$f":"IF(DATA!HFK2=0,\"\",IFERROR(DATA!HFK2,\"\"))","v":""},{"$f":"IF(DATA!HFL2=0,\"\",IFERROR(DATA!HFL2,\"\"))","v":""},{"$f":"IF(DATA!HFM2=0,\"\",IFERROR(DATA!HFM2,\"\"))","v":""},{"$f":"IF(DATA!HFN2=0,\"\",IFERROR(DATA!HFN2,\"\"))","v":""},{"$f":"IF(DATA!HFO2=0,\"\",IFERROR(DATA!HFO2,\"\"))","v":""},{"$f":"IF(DATA!HFP2=0,\"\",IFERROR(DATA!HFP2,\"\"))","v":""},{"$f":"IF(DATA!HFQ2=0,\"\",IFERROR(DATA!HFQ2,\"\"))","v":""},{"$f":"IF(DATA!HFR2=0,\"\",IFERROR(DATA!HFR2,\"\"))","v":""},{"$f":"IF(DATA!HFS2=0,\"\",IFERROR(DATA!HFS2,\"\"))","v":""},{"$f":"IF(DATA!HFT2=0,\"\",IFERROR(DATA!HFT2,\"\"))","v":""},{"$f":"IF(DATA!HFU2=0,\"\",IFERROR(DATA!HFU2,\"\"))","v":""},{"$f":"IF(DATA!HFV2=0,\"\",IFERROR(DATA!HFV2,\"\"))","v":""},{"$f":"IF(DATA!HFW2=0,\"\",IFERROR(DATA!HFW2,\"\"))","v":""},{"$f":"IF(DATA!HFX2=0,\"\",IFERROR(DATA!HFX2,\"\"))","v":""},{"$f":"IF(DATA!HFY2=0,\"\",IFERROR(DATA!HFY2,\"\"))","v":""},{"$f":"IF(DATA!HFZ2=0,\"\",IFERROR(DATA!HFZ2,\"\"))","v":""},{"$f":"IF(DATA!HGA2=0,\"\",IFERROR(DATA!HGA2,\"\"))","v":""},{"$f":"IF(DATA!HGB2=0,\"\",IFERROR(DATA!HGB2,\"\"))","v":""},{"$f":"IF(DATA!HGC2=0,\"\",IFERROR(DATA!HGC2,\"\"))","v":""},{"$f":"IF(DATA!HGD2=0,\"\",IFERROR(DATA!HGD2,\"\"))","v":""},{"$f":"IF(DATA!HGE2=0,\"\",IFERROR(DATA!HGE2,\"\"))","v":""},{"$f":"IF(DATA!HGF2=0,\"\",IFERROR(DATA!HGF2,\"\"))","v":""},{"$f":"IF(DATA!HGG2=0,\"\",IFERROR(DATA!HGG2,\"\"))","v":""},{"$f":"IF(DATA!HGH2=0,\"\",IFERROR(DATA!HGH2,\"\"))","v":""},{"$f":"IF(DATA!HGI2=0,\"\",IFERROR(DATA!HGI2,\"\"))","v":""},{"$f":"IF(DATA!HGJ2=0,\"\",IFERROR(DATA!HGJ2,\"\"))","v":""},{"$f":"IF(DATA!HGK2=0,\"\",IFERROR(DATA!HGK2,\"\"))","v":""},{"$f":"IF(DATA!HGL2=0,\"\",IFERROR(DATA!HGL2,\"\"))","v":""},{"$f":"IF(DATA!HGM2=0,\"\",IFERROR(DATA!HGM2,\"\"))","v":""},{"$f":"IF(DATA!HGN2=0,\"\",IFERROR(DATA!HGN2,\"\"))","v":""},{"$f":"IF(DATA!HGO2=0,\"\",IFERROR(DATA!HGO2,\"\"))","v":""},{"$f":"IF(DATA!HGP2=0,\"\",IFERROR(DATA!HGP2,\"\"))","v":""},{"$f":"IF(DATA!HGQ2=0,\"\",IFERROR(DATA!HGQ2,\"\"))","v":""},{"$f":"IF(DATA!HGR2=0,\"\",IFERROR(DATA!HGR2,\"\"))","v":""},{"$f":"IF(DATA!HGS2=0,\"\",IFERROR(DATA!HGS2,\"\"))","v":""},{"$f":"IF(DATA!HGT2=0,\"\",IFERROR(DATA!HGT2,\"\"))","v":""},{"$f":"IF(DATA!HGU2=0,\"\",IFERROR(DATA!HGU2,\"\"))","v":""},{"$f":"IF(DATA!HGV2=0,\"\",IFERROR(DATA!HGV2,\"\"))","v":""},{"$f":"IF(DATA!HGW2=0,\"\",IFERROR(DATA!HGW2,\"\"))","v":""},{"$f":"IF(DATA!HGX2=0,\"\",IFERROR(DATA!HGX2,\"\"))","v":""},{"$f":"IF(DATA!HGY2=0,\"\",IFERROR(DATA!HGY2,\"\"))","v":""},{"$f":"IF(DATA!HGZ2=0,\"\",IFERROR(DATA!HGZ2,\"\"))","v":""},{"$f":"IF(DATA!HHA2=0,\"\",IFERROR(DATA!HHA2,\"\"))","v":""},{"$f":"IF(DATA!HHB2=0,\"\",IFERROR(DATA!HHB2,\"\"))","v":""},{"$f":"IF(DATA!HHC2=0,\"\",IFERROR(DATA!HHC2,\"\"))","v":""},{"$f":"IF(DATA!HHD2=0,\"\",IFERROR(DATA!HHD2,\"\"))","v":""},{"$f":"IF(DATA!HHE2=0,\"\",IFERROR(DATA!HHE2,\"\"))","v":""},{"$f":"IF(DATA!HHF2=0,\"\",IFERROR(DATA!HHF2,\"\"))","v":""},{"$f":"IF(DATA!HHG2=0,\"\",IFERROR(DATA!HHG2,\"\"))","v":""},{"$f":"IF(DATA!HHH2=0,\"\",IFERROR(DATA!HHH2,\"\"))","v":""},{"$f":"IF(DATA!HHI2=0,\"\",IFERROR(DATA!HHI2,\"\"))","v":""},{"$f":"IF(DATA!HHJ2=0,\"\",IFERROR(DATA!HHJ2,\"\"))","v":""},{"$f":"IF(DATA!HHK2=0,\"\",IFERROR(DATA!HHK2,\"\"))","v":""},{"$f":"IF(DATA!HHL2=0,\"\",IFERROR(DATA!HHL2,\"\"))","v":""},{"$f":"IF(DATA!HHM2=0,\"\",IFERROR(DATA!HHM2,\"\"))","v":""},{"$f":"IF(DATA!HHN2=0,\"\",IFERROR(DATA!HHN2,\"\"))","v":""},{"$f":"IF(DATA!HHO2=0,\"\",IFERROR(DATA!HHO2,\"\"))","v":""},{"$f":"IF(DATA!HHP2=0,\"\",IFERROR(DATA!HHP2,\"\"))","v":""},{"$f":"IF(DATA!HHQ2=0,\"\",IFERROR(DATA!HHQ2,\"\"))","v":""},{"$f":"IF(DATA!HHR2=0,\"\",IFERROR(DATA!HHR2,\"\"))","v":""},{"$f":"IF(DATA!HHS2=0,\"\",IFERROR(DATA!HHS2,\"\"))","v":""},{"$f":"IF(DATA!HHT2=0,\"\",IFERROR(DATA!HHT2,\"\"))","v":""},{"$f":"IF(DATA!HHU2=0,\"\",IFERROR(DATA!HHU2,\"\"))","v":""},{"$f":"IF(DATA!HHV2=0,\"\",IFERROR(DATA!HHV2,\"\"))","v":""},{"$f":"IF(DATA!HHW2=0,\"\",IFERROR(DATA!HHW2,\"\"))","v":""},{"$f":"IF(DATA!HHX2=0,\"\",IFERROR(DATA!HHX2,\"\"))","v":""},{"$f":"IF(DATA!HHY2=0,\"\",IFERROR(DATA!HHY2,\"\"))","v":""},{"$f":"IF(DATA!HHZ2=0,\"\",IFERROR(DATA!HHZ2,\"\"))","v":""},{"$f":"IF(DATA!HIA2=0,\"\",IFERROR(DATA!HIA2,\"\"))","v":""},{"$f":"IF(DATA!HIB2=0,\"\",IFERROR(DATA!HIB2,\"\"))","v":""},{"$f":"IF(DATA!HIC2=0,\"\",IFERROR(DATA!HIC2,\"\"))","v":""},{"$f":"IF(DATA!HID2=0,\"\",IFERROR(DATA!HID2,\"\"))","v":""},{"$f":"IF(DATA!HIE2=0,\"\",IFERROR(DATA!HIE2,\"\"))","v":""},{"$f":"IF(DATA!HIF2=0,\"\",IFERROR(DATA!HIF2,\"\"))","v":""},{"$f":"IF(DATA!HIG2=0,\"\",IFERROR(DATA!HIG2,\"\"))","v":""},{"$f":"IF(DATA!HIH2=0,\"\",IFERROR(DATA!HIH2,\"\"))","v":""},{"$f":"IF(DATA!HII2=0,\"\",IFERROR(DATA!HII2,\"\"))","v":""},{"$f":"IF(DATA!HIJ2=0,\"\",IFERROR(DATA!HIJ2,\"\"))","v":""},{"$f":"IF(DATA!HIK2=0,\"\",IFERROR(DATA!HIK2,\"\"))","v":""},{"$f":"IF(DATA!HIL2=0,\"\",IFERROR(DATA!HIL2,\"\"))","v":""},{"$f":"IF(DATA!HIM2=0,\"\",IFERROR(DATA!HIM2,\"\"))","v":""},{"$f":"IF(DATA!HIN2=0,\"\",IFERROR(DATA!HIN2,\"\"))","v":""},{"$f":"IF(DATA!HIO2=0,\"\",IFERROR(DATA!HIO2,\"\"))","v":""},{"$f":"IF(DATA!HIP2=0,\"\",IFERROR(DATA!HIP2,\"\"))","v":""},{"$f":"IF(DATA!HIQ2=0,\"\",IFERROR(DATA!HIQ2,\"\"))","v":""},{"$f":"IF(DATA!HIR2=0,\"\",IFERROR(DATA!HIR2,\"\"))","v":""},{"$f":"IF(DATA!HIS2=0,\"\",IFERROR(DATA!HIS2,\"\"))","v":""},{"$f":"IF(DATA!HIT2=0,\"\",IFERROR(DATA!HIT2,\"\"))","v":""},{"$f":"IF(DATA!HIU2=0,\"\",IFERROR(DATA!HIU2,\"\"))","v":""},{"$f":"IF(DATA!HIV2=0,\"\",IFERROR(DATA!HIV2,\"\"))","v":""},{"$f":"IF(DATA!HIW2=0,\"\",IFERROR(DATA!HIW2,\"\"))","v":""},{"$f":"IF(DATA!HIX2=0,\"\",IFERROR(DATA!HIX2,\"\"))","v":""},{"$f":"IF(DATA!HIY2=0,\"\",IFERROR(DATA!HIY2,\"\"))","v":""},{"$f":"IF(DATA!HIZ2=0,\"\",IFERROR(DATA!HIZ2,\"\"))","v":""},{"$f":"IF(DATA!HJA2=0,\"\",IFERROR(DATA!HJA2,\"\"))","v":""},{"$f":"IF(DATA!HJB2=0,\"\",IFERROR(DATA!HJB2,\"\"))","v":""},{"$f":"IF(DATA!HJC2=0,\"\",IFERROR(DATA!HJC2,\"\"))","v":""},{"$f":"IF(DATA!HJD2=0,\"\",IFERROR(DATA!HJD2,\"\"))","v":""},{"$f":"IF(DATA!HJE2=0,\"\",IFERROR(DATA!HJE2,\"\"))","v":""},{"$f":"IF(DATA!HJF2=0,\"\",IFERROR(DATA!HJF2,\"\"))","v":""},{"$f":"IF(DATA!HJG2=0,\"\",IFERROR(DATA!HJG2,\"\"))","v":""},{"$f":"IF(DATA!HJH2=0,\"\",IFERROR(DATA!HJH2,\"\"))","v":""},{"$f":"IF(DATA!HJI2=0,\"\",IFERROR(DATA!HJI2,\"\"))","v":""},{"$f":"IF(DATA!HJJ2=0,\"\",IFERROR(DATA!HJJ2,\"\"))","v":""},{"$f":"IF(DATA!HJK2=0,\"\",IFERROR(DATA!HJK2,\"\"))","v":""},{"$f":"IF(DATA!HJL2=0,\"\",IFERROR(DATA!HJL2,\"\"))","v":""},{"$f":"IF(DATA!HJM2=0,\"\",IFERROR(DATA!HJM2,\"\"))","v":""},{"$f":"IF(DATA!HJN2=0,\"\",IFERROR(DATA!HJN2,\"\"))","v":""},{"$f":"IF(DATA!HJO2=0,\"\",IFERROR(DATA!HJO2,\"\"))","v":""},{"$f":"IF(DATA!HJP2=0,\"\",IFERROR(DATA!HJP2,\"\"))","v":""},{"$f":"IF(DATA!HJQ2=0,\"\",IFERROR(DATA!HJQ2,\"\"))","v":""},{"$f":"IF(DATA!HJR2=0,\"\",IFERROR(DATA!HJR2,\"\"))","v":""},{"$f":"IF(DATA!HJS2=0,\"\",IFERROR(DATA!HJS2,\"\"))","v":""},{"$f":"IF(DATA!HJT2=0,\"\",IFERROR(DATA!HJT2,\"\"))","v":""},{"$f":"IF(DATA!HJU2=0,\"\",IFERROR(DATA!HJU2,\"\"))","v":""},{"$f":"IF(DATA!HJV2=0,\"\",IFERROR(DATA!HJV2,\"\"))","v":""},{"$f":"IF(DATA!HJW2=0,\"\",IFERROR(DATA!HJW2,\"\"))","v":""},{"$f":"IF(DATA!HJX2=0,\"\",IFERROR(DATA!HJX2,\"\"))","v":""},{"$f":"IF(DATA!HJY2=0,\"\",IFERROR(DATA!HJY2,\"\"))","v":""},{"$f":"IF(DATA!HJZ2=0,\"\",IFERROR(DATA!HJZ2,\"\"))","v":""},{"$f":"IF(DATA!HKA2=0,\"\",IFERROR(DATA!HKA2,\"\"))","v":""},{"$f":"IF(DATA!HKB2=0,\"\",IFERROR(DATA!HKB2,\"\"))","v":""},{"$f":"IF(DATA!HKC2=0,\"\",IFERROR(DATA!HKC2,\"\"))","v":""},{"$f":"IF(DATA!HKD2=0,\"\",IFERROR(DATA!HKD2,\"\"))","v":""},{"$f":"IF(DATA!HKE2=0,\"\",IFERROR(DATA!HKE2,\"\"))","v":""},{"$f":"IF(DATA!HKF2=0,\"\",IFERROR(DATA!HKF2,\"\"))","v":""},{"$f":"IF(DATA!HKG2=0,\"\",IFERROR(DATA!HKG2,\"\"))","v":""},{"$f":"IF(DATA!HKH2=0,\"\",IFERROR(DATA!HKH2,\"\"))","v":""},{"$f":"IF(DATA!HKI2=0,\"\",IFERROR(DATA!HKI2,\"\"))","v":""},{"$f":"IF(DATA!HKJ2=0,\"\",IFERROR(DATA!HKJ2,\"\"))","v":""},{"$f":"IF(DATA!HKK2=0,\"\",IFERROR(DATA!HKK2,\"\"))","v":""},{"$f":"IF(DATA!HKL2=0,\"\",IFERROR(DATA!HKL2,\"\"))","v":""},{"$f":"IF(DATA!HKM2=0,\"\",IFERROR(DATA!HKM2,\"\"))","v":""},{"$f":"IF(DATA!HKN2=0,\"\",IFERROR(DATA!HKN2,\"\"))","v":""},{"$f":"IF(DATA!HKO2=0,\"\",IFERROR(DATA!HKO2,\"\"))","v":""},{"$f":"IF(DATA!HKP2=0,\"\",IFERROR(DATA!HKP2,\"\"))","v":""},{"$f":"IF(DATA!HKQ2=0,\"\",IFERROR(DATA!HKQ2,\"\"))","v":""},{"$f":"IF(DATA!HKR2=0,\"\",IFERROR(DATA!HKR2,\"\"))","v":""},{"$f":"IF(DATA!HKS2=0,\"\",IFERROR(DATA!HKS2,\"\"))","v":""},{"$f":"IF(DATA!HKT2=0,\"\",IFERROR(DATA!HKT2,\"\"))","v":""},{"$f":"IF(DATA!HKU2=0,\"\",IFERROR(DATA!HKU2,\"\"))","v":""},{"$f":"IF(DATA!HKV2=0,\"\",IFERROR(DATA!HKV2,\"\"))","v":""},{"$f":"IF(DATA!HKW2=0,\"\",IFERROR(DATA!HKW2,\"\"))","v":""},{"$f":"IF(DATA!HKX2=0,\"\",IFERROR(DATA!HKX2,\"\"))","v":""},{"$f":"IF(DATA!HKY2=0,\"\",IFERROR(DATA!HKY2,\"\"))","v":""},{"$f":"IF(DATA!HKZ2=0,\"\",IFERROR(DATA!HKZ2,\"\"))","v":""},{"$f":"IF(DATA!HLA2=0,\"\",IFERROR(DATA!HLA2,\"\"))","v":""},{"$f":"IF(DATA!HLB2=0,\"\",IFERROR(DATA!HLB2,\"\"))","v":""},{"$f":"IF(DATA!HLC2=0,\"\",IFERROR(DATA!HLC2,\"\"))","v":""},{"$f":"IF(DATA!HLD2=0,\"\",IFERROR(DATA!HLD2,\"\"))","v":""},{"$f":"IF(DATA!HLE2=0,\"\",IFERROR(DATA!HLE2,\"\"))","v":""},{"$f":"IF(DATA!HLF2=0,\"\",IFERROR(DATA!HLF2,\"\"))","v":""},{"$f":"IF(DATA!HLG2=0,\"\",IFERROR(DATA!HLG2,\"\"))","v":""},{"$f":"IF(DATA!HLH2=0,\"\",IFERROR(DATA!HLH2,\"\"))","v":""},{"$f":"IF(DATA!HLI2=0,\"\",IFERROR(DATA!HLI2,\"\"))","v":""},{"$f":"IF(DATA!HLJ2=0,\"\",IFERROR(DATA!HLJ2,\"\"))","v":""},{"$f":"IF(DATA!HLK2=0,\"\",IFERROR(DATA!HLK2,\"\"))","v":""},{"$f":"IF(DATA!HLL2=0,\"\",IFERROR(DATA!HLL2,\"\"))","v":""},{"$f":"IF(DATA!HLM2=0,\"\",IFERROR(DATA!HLM2,\"\"))","v":""},{"$f":"IF(DATA!HLN2=0,\"\",IFERROR(DATA!HLN2,\"\"))","v":""},{"$f":"IF(DATA!HLO2=0,\"\",IFERROR(DATA!HLO2,\"\"))","v":""},{"$f":"IF(DATA!HLP2=0,\"\",IFERROR(DATA!HLP2,\"\"))","v":""},{"$f":"IF(DATA!HLQ2=0,\"\",IFERROR(DATA!HLQ2,\"\"))","v":""},{"$f":"IF(DATA!HLR2=0,\"\",IFERROR(DATA!HLR2,\"\"))","v":""},{"$f":"IF(DATA!HLS2=0,\"\",IFERROR(DATA!HLS2,\"\"))","v":""},{"$f":"IF(DATA!HLT2=0,\"\",IFERROR(DATA!HLT2,\"\"))","v":""},{"$f":"IF(DATA!HLU2=0,\"\",IFERROR(DATA!HLU2,\"\"))","v":""},{"$f":"IF(DATA!HLV2=0,\"\",IFERROR(DATA!HLV2,\"\"))","v":""},{"$f":"IF(DATA!HLW2=0,\"\",IFERROR(DATA!HLW2,\"\"))","v":""},{"$f":"IF(DATA!HLX2=0,\"\",IFERROR(DATA!HLX2,\"\"))","v":""},{"$f":"IF(DATA!HLY2=0,\"\",IFERROR(DATA!HLY2,\"\"))","v":""},{"$f":"IF(DATA!HLZ2=0,\"\",IFERROR(DATA!HLZ2,\"\"))","v":""},{"$f":"IF(DATA!HMA2=0,\"\",IFERROR(DATA!HMA2,\"\"))","v":""},{"$f":"IF(DATA!HMB2=0,\"\",IFERROR(DATA!HMB2,\"\"))","v":""},{"$f":"IF(DATA!HMC2=0,\"\",IFERROR(DATA!HMC2,\"\"))","v":""},{"$f":"IF(DATA!HMD2=0,\"\",IFERROR(DATA!HMD2,\"\"))","v":""},{"$f":"IF(DATA!HME2=0,\"\",IFERROR(DATA!HME2,\"\"))","v":""},{"$f":"IF(DATA!HMF2=0,\"\",IFERROR(DATA!HMF2,\"\"))","v":""},{"$f":"IF(DATA!HMG2=0,\"\",IFERROR(DATA!HMG2,\"\"))","v":""},{"$f":"IF(DATA!HMH2=0,\"\",IFERROR(DATA!HMH2,\"\"))","v":""},{"$f":"IF(DATA!HMI2=0,\"\",IFERROR(DATA!HMI2,\"\"))","v":""},{"$f":"IF(DATA!HMJ2=0,\"\",IFERROR(DATA!HMJ2,\"\"))","v":""},{"$f":"IF(DATA!HMK2=0,\"\",IFERROR(DATA!HMK2,\"\"))","v":""},{"$f":"IF(DATA!HML2=0,\"\",IFERROR(DATA!HML2,\"\"))","v":""},{"$f":"IF(DATA!HMM2=0,\"\",IFERROR(DATA!HMM2,\"\"))","v":""},{"$f":"IF(DATA!HMN2=0,\"\",IFERROR(DATA!HMN2,\"\"))","v":""},{"$f":"IF(DATA!HMO2=0,\"\",IFERROR(DATA!HMO2,\"\"))","v":""},{"$f":"IF(DATA!HMP2=0,\"\",IFERROR(DATA!HMP2,\"\"))","v":""},{"$f":"IF(DATA!HMQ2=0,\"\",IFERROR(DATA!HMQ2,\"\"))","v":""},{"$f":"IF(DATA!HMR2=0,\"\",IFERROR(DATA!HMR2,\"\"))","v":""},{"$f":"IF(DATA!HMS2=0,\"\",IFERROR(DATA!HMS2,\"\"))","v":""},{"$f":"IF(DATA!HMT2=0,\"\",IFERROR(DATA!HMT2,\"\"))","v":""},{"$f":"IF(DATA!HMU2=0,\"\",IFERROR(DATA!HMU2,\"\"))","v":""},{"$f":"IF(DATA!HMV2=0,\"\",IFERROR(DATA!HMV2,\"\"))","v":""},{"$f":"IF(DATA!HMW2=0,\"\",IFERROR(DATA!HMW2,\"\"))","v":""},{"$f":"IF(DATA!HMX2=0,\"\",IFERROR(DATA!HMX2,\"\"))","v":""},{"$f":"IF(DATA!HMY2=0,\"\",IFERROR(DATA!HMY2,\"\"))","v":""},{"$f":"IF(DATA!HMZ2=0,\"\",IFERROR(DATA!HMZ2,\"\"))","v":""},{"$f":"IF(DATA!HNA2=0,\"\",IFERROR(DATA!HNA2,\"\"))","v":""},{"$f":"IF(DATA!HNB2=0,\"\",IFERROR(DATA!HNB2,\"\"))","v":""},{"$f":"IF(DATA!HNC2=0,\"\",IFERROR(DATA!HNC2,\"\"))","v":""},{"$f":"IF(DATA!HND2=0,\"\",IFERROR(DATA!HND2,\"\"))","v":""},{"$f":"IF(DATA!HNE2=0,\"\",IFERROR(DATA!HNE2,\"\"))","v":""},{"$f":"IF(DATA!HNF2=0,\"\",IFERROR(DATA!HNF2,\"\"))","v":""},{"$f":"IF(DATA!HNG2=0,\"\",IFERROR(DATA!HNG2,\"\"))","v":""},{"$f":"IF(DATA!HNH2=0,\"\",IFERROR(DATA!HNH2,\"\"))","v":""},{"$f":"IF(DATA!HNI2=0,\"\",IFERROR(DATA!HNI2,\"\"))","v":""},{"$f":"IF(DATA!HNJ2=0,\"\",IFERROR(DATA!HNJ2,\"\"))","v":""},{"$f":"IF(DATA!HNK2=0,\"\",IFERROR(DATA!HNK2,\"\"))","v":""},{"$f":"IF(DATA!HNL2=0,\"\",IFERROR(DATA!HNL2,\"\"))","v":""},{"$f":"IF(DATA!HNM2=0,\"\",IFERROR(DATA!HNM2,\"\"))","v":""},{"$f":"IF(DATA!HNN2=0,\"\",IFERROR(DATA!HNN2,\"\"))","v":""},{"$f":"IF(DATA!HNO2=0,\"\",IFERROR(DATA!HNO2,\"\"))","v":""},{"$f":"IF(DATA!HNP2=0,\"\",IFERROR(DATA!HNP2,\"\"))","v":""},{"$f":"IF(DATA!HNQ2=0,\"\",IFERROR(DATA!HNQ2,\"\"))","v":""},{"$f":"IF(DATA!HNR2=0,\"\",IFERROR(DATA!HNR2,\"\"))","v":""},{"$f":"IF(DATA!HNS2=0,\"\",IFERROR(DATA!HNS2,\"\"))","v":""},{"$f":"IF(DATA!HNT2=0,\"\",IFERROR(DATA!HNT2,\"\"))","v":""},{"$f":"IF(DATA!HNU2=0,\"\",IFERROR(DATA!HNU2,\"\"))","v":""},{"$f":"IF(DATA!HNV2=0,\"\",IFERROR(DATA!HNV2,\"\"))","v":""},{"$f":"IF(DATA!HNW2=0,\"\",IFERROR(DATA!HNW2,\"\"))","v":""},{"$f":"IF(DATA!HNX2=0,\"\",IFERROR(DATA!HNX2,\"\"))","v":""},{"$f":"IF(DATA!HNY2=0,\"\",IFERROR(DATA!HNY2,\"\"))","v":""},{"$f":"IF(DATA!HNZ2=0,\"\",IFERROR(DATA!HNZ2,\"\"))","v":""},{"$f":"IF(DATA!HOA2=0,\"\",IFERROR(DATA!HOA2,\"\"))","v":""},{"$f":"IF(DATA!HOB2=0,\"\",IFERROR(DATA!HOB2,\"\"))","v":""},{"$f":"IF(DATA!HOC2=0,\"\",IFERROR(DATA!HOC2,\"\"))","v":""},{"$f":"IF(DATA!HOD2=0,\"\",IFERROR(DATA!HOD2,\"\"))","v":""},{"$f":"IF(DATA!HOE2=0,\"\",IFERROR(DATA!HOE2,\"\"))","v":""},{"$f":"IF(DATA!HOF2=0,\"\",IFERROR(DATA!HOF2,\"\"))","v":""},{"$f":"IF(DATA!HOG2=0,\"\",IFERROR(DATA!HOG2,\"\"))","v":""},{"$f":"IF(DATA!HOH2=0,\"\",IFERROR(DATA!HOH2,\"\"))","v":""},{"$f":"IF(DATA!HOI2=0,\"\",IFERROR(DATA!HOI2,\"\"))","v":""},{"$f":"IF(DATA!HOJ2=0,\"\",IFERROR(DATA!HOJ2,\"\"))","v":""},{"$f":"IF(DATA!HOK2=0,\"\",IFERROR(DATA!HOK2,\"\"))","v":""},{"$f":"IF(DATA!HOL2=0,\"\",IFERROR(DATA!HOL2,\"\"))","v":""},{"$f":"IF(DATA!HOM2=0,\"\",IFERROR(DATA!HOM2,\"\"))","v":""},{"$f":"IF(DATA!HON2=0,\"\",IFERROR(DATA!HON2,\"\"))","v":""},{"$f":"IF(DATA!HOO2=0,\"\",IFERROR(DATA!HOO2,\"\"))","v":""},{"$f":"IF(DATA!HOP2=0,\"\",IFERROR(DATA!HOP2,\"\"))","v":""},{"$f":"IF(DATA!HOQ2=0,\"\",IFERROR(DATA!HOQ2,\"\"))","v":""},{"$f":"IF(DATA!HOR2=0,\"\",IFERROR(DATA!HOR2,\"\"))","v":""},{"$f":"IF(DATA!HOS2=0,\"\",IFERROR(DATA!HOS2,\"\"))","v":""},{"$f":"IF(DATA!HOT2=0,\"\",IFERROR(DATA!HOT2,\"\"))","v":""},{"$f":"IF(DATA!HOU2=0,\"\",IFERROR(DATA!HOU2,\"\"))","v":""},{"$f":"IF(DATA!HOV2=0,\"\",IFERROR(DATA!HOV2,\"\"))","v":""},{"$f":"IF(DATA!HOW2=0,\"\",IFERROR(DATA!HOW2,\"\"))","v":""},{"$f":"IF(DATA!HOX2=0,\"\",IFERROR(DATA!HOX2,\"\"))","v":""},{"$f":"IF(DATA!HOY2=0,\"\",IFERROR(DATA!HOY2,\"\"))","v":""},{"$f":"IF(DATA!HOZ2=0,\"\",IFERROR(DATA!HOZ2,\"\"))","v":""},{"$f":"IF(DATA!HPA2=0,\"\",IFERROR(DATA!HPA2,\"\"))","v":""},{"$f":"IF(DATA!HPB2=0,\"\",IFERROR(DATA!HPB2,\"\"))","v":""},{"$f":"IF(DATA!HPC2=0,\"\",IFERROR(DATA!HPC2,\"\"))","v":""},{"$f":"IF(DATA!HPD2=0,\"\",IFERROR(DATA!HPD2,\"\"))","v":""},{"$f":"IF(DATA!HPE2=0,\"\",IFERROR(DATA!HPE2,\"\"))","v":""},{"$f":"IF(DATA!HPF2=0,\"\",IFERROR(DATA!HPF2,\"\"))","v":""},{"$f":"IF(DATA!HPG2=0,\"\",IFERROR(DATA!HPG2,\"\"))","v":""},{"$f":"IF(DATA!HPH2=0,\"\",IFERROR(DATA!HPH2,\"\"))","v":""},{"$f":"IF(DATA!HPI2=0,\"\",IFERROR(DATA!HPI2,\"\"))","v":""},{"$f":"IF(DATA!HPJ2=0,\"\",IFERROR(DATA!HPJ2,\"\"))","v":""},{"$f":"IF(DATA!HPK2=0,\"\",IFERROR(DATA!HPK2,\"\"))","v":""},{"$f":"IF(DATA!HPL2=0,\"\",IFERROR(DATA!HPL2,\"\"))","v":""},{"$f":"IF(DATA!HPM2=0,\"\",IFERROR(DATA!HPM2,\"\"))","v":""},{"$f":"IF(DATA!HPN2=0,\"\",IFERROR(DATA!HPN2,\"\"))","v":""},{"$f":"IF(DATA!HPO2=0,\"\",IFERROR(DATA!HPO2,\"\"))","v":""},{"$f":"IF(DATA!HPP2=0,\"\",IFERROR(DATA!HPP2,\"\"))","v":""},{"$f":"IF(DATA!HPQ2=0,\"\",IFERROR(DATA!HPQ2,\"\"))","v":""},{"$f":"IF(DATA!HPR2=0,\"\",IFERROR(DATA!HPR2,\"\"))","v":""},{"$f":"IF(DATA!HPS2=0,\"\",IFERROR(DATA!HPS2,\"\"))","v":""},{"$f":"IF(DATA!HPT2=0,\"\",IFERROR(DATA!HPT2,\"\"))","v":""},{"$f":"IF(DATA!HPU2=0,\"\",IFERROR(DATA!HPU2,\"\"))","v":""},{"$f":"IF(DATA!HPV2=0,\"\",IFERROR(DATA!HPV2,\"\"))","v":""},{"$f":"IF(DATA!HPW2=0,\"\",IFERROR(DATA!HPW2,\"\"))","v":""},{"$f":"IF(DATA!HPX2=0,\"\",IFERROR(DATA!HPX2,\"\"))","v":""},{"$f":"IF(DATA!HPY2=0,\"\",IFERROR(DATA!HPY2,\"\"))","v":""},{"$f":"IF(DATA!HPZ2=0,\"\",IFERROR(DATA!HPZ2,\"\"))","v":""},{"$f":"IF(DATA!HQA2=0,\"\",IFERROR(DATA!HQA2,\"\"))","v":""},{"$f":"IF(DATA!HQB2=0,\"\",IFERROR(DATA!HQB2,\"\"))","v":""},{"$f":"IF(DATA!HQC2=0,\"\",IFERROR(DATA!HQC2,\"\"))","v":""},{"$f":"IF(DATA!HQD2=0,\"\",IFERROR(DATA!HQD2,\"\"))","v":""},{"$f":"IF(DATA!HQE2=0,\"\",IFERROR(DATA!HQE2,\"\"))","v":""},{"$f":"IF(DATA!HQF2=0,\"\",IFERROR(DATA!HQF2,\"\"))","v":""},{"$f":"IF(DATA!HQG2=0,\"\",IFERROR(DATA!HQG2,\"\"))","v":""},{"$f":"IF(DATA!HQH2=0,\"\",IFERROR(DATA!HQH2,\"\"))","v":""},{"$f":"IF(DATA!HQI2=0,\"\",IFERROR(DATA!HQI2,\"\"))","v":""},{"$f":"IF(DATA!HQJ2=0,\"\",IFERROR(DATA!HQJ2,\"\"))","v":""},{"$f":"IF(DATA!HQK2=0,\"\",IFERROR(DATA!HQK2,\"\"))","v":""},{"$f":"IF(DATA!HQL2=0,\"\",IFERROR(DATA!HQL2,\"\"))","v":""},{"$f":"IF(DATA!HQM2=0,\"\",IFERROR(DATA!HQM2,\"\"))","v":""},{"$f":"IF(DATA!HQN2=0,\"\",IFERROR(DATA!HQN2,\"\"))","v":""},{"$f":"IF(DATA!HQO2=0,\"\",IFERROR(DATA!HQO2,\"\"))","v":""},{"$f":"IF(DATA!HQP2=0,\"\",IFERROR(DATA!HQP2,\"\"))","v":""},{"$f":"IF(DATA!HQQ2=0,\"\",IFERROR(DATA!HQQ2,\"\"))","v":""},{"$f":"IF(DATA!HQR2=0,\"\",IFERROR(DATA!HQR2,\"\"))","v":""},{"$f":"IF(DATA!HQS2=0,\"\",IFERROR(DATA!HQS2,\"\"))","v":""},{"$f":"IF(DATA!HQT2=0,\"\",IFERROR(DATA!HQT2,\"\"))","v":""},{"$f":"IF(DATA!HQU2=0,\"\",IFERROR(DATA!HQU2,\"\"))","v":""},{"$f":"IF(DATA!HQV2=0,\"\",IFERROR(DATA!HQV2,\"\"))","v":""},{"$f":"IF(DATA!HQW2=0,\"\",IFERROR(DATA!HQW2,\"\"))","v":""},{"$f":"IF(DATA!HQX2=0,\"\",IFERROR(DATA!HQX2,\"\"))","v":""},{"$f":"IF(DATA!HQY2=0,\"\",IFERROR(DATA!HQY2,\"\"))","v":""},{"$f":"IF(DATA!HQZ2=0,\"\",IFERROR(DATA!HQZ2,\"\"))","v":""},{"$f":"IF(DATA!HRA2=0,\"\",IFERROR(DATA!HRA2,\"\"))","v":""},{"$f":"IF(DATA!HRB2=0,\"\",IFERROR(DATA!HRB2,\"\"))","v":""},{"$f":"IF(DATA!HRC2=0,\"\",IFERROR(DATA!HRC2,\"\"))","v":""},{"$f":"IF(DATA!HRD2=0,\"\",IFERROR(DATA!HRD2,\"\"))","v":""},{"$f":"IF(DATA!HRE2=0,\"\",IFERROR(DATA!HRE2,\"\"))","v":""},{"$f":"IF(DATA!HRF2=0,\"\",IFERROR(DATA!HRF2,\"\"))","v":""},{"$f":"IF(DATA!HRG2=0,\"\",IFERROR(DATA!HRG2,\"\"))","v":""},{"$f":"IF(DATA!HRH2=0,\"\",IFERROR(DATA!HRH2,\"\"))","v":""},{"$f":"IF(DATA!HRI2=0,\"\",IFERROR(DATA!HRI2,\"\"))","v":""},{"$f":"IF(DATA!HRJ2=0,\"\",IFERROR(DATA!HRJ2,\"\"))","v":""},{"$f":"IF(DATA!HRK2=0,\"\",IFERROR(DATA!HRK2,\"\"))","v":""},{"$f":"IF(DATA!HRL2=0,\"\",IFERROR(DATA!HRL2,\"\"))","v":""},{"$f":"IF(DATA!HRM2=0,\"\",IFERROR(DATA!HRM2,\"\"))","v":""},{"$f":"IF(DATA!HRN2=0,\"\",IFERROR(DATA!HRN2,\"\"))","v":""},{"$f":"IF(DATA!HRO2=0,\"\",IFERROR(DATA!HRO2,\"\"))","v":""},{"$f":"IF(DATA!HRP2=0,\"\",IFERROR(DATA!HRP2,\"\"))","v":""},{"$f":"IF(DATA!HRQ2=0,\"\",IFERROR(DATA!HRQ2,\"\"))","v":""},{"$f":"IF(DATA!HRR2=0,\"\",IFERROR(DATA!HRR2,\"\"))","v":""},{"$f":"IF(DATA!HRS2=0,\"\",IFERROR(DATA!HRS2,\"\"))","v":""},{"$f":"IF(DATA!HRT2=0,\"\",IFERROR(DATA!HRT2,\"\"))","v":""},{"$f":"IF(DATA!HRU2=0,\"\",IFERROR(DATA!HRU2,\"\"))","v":""},{"$f":"IF(DATA!HRV2=0,\"\",IFERROR(DATA!HRV2,\"\"))","v":""},{"$f":"IF(DATA!HRW2=0,\"\",IFERROR(DATA!HRW2,\"\"))","v":""},{"$f":"IF(DATA!HRX2=0,\"\",IFERROR(DATA!HRX2,\"\"))","v":""},{"$f":"IF(DATA!HRY2=0,\"\",IFERROR(DATA!HRY2,\"\"))","v":""},{"$f":"IF(DATA!HRZ2=0,\"\",IFERROR(DATA!HRZ2,\"\"))","v":""},{"$f":"IF(DATA!HSA2=0,\"\",IFERROR(DATA!HSA2,\"\"))","v":""},{"$f":"IF(DATA!HSB2=0,\"\",IFERROR(DATA!HSB2,\"\"))","v":""},{"$f":"IF(DATA!HSC2=0,\"\",IFERROR(DATA!HSC2,\"\"))","v":""},{"$f":"IF(DATA!HSD2=0,\"\",IFERROR(DATA!HSD2,\"\"))","v":""},{"$f":"IF(DATA!HSE2=0,\"\",IFERROR(DATA!HSE2,\"\"))","v":""},{"$f":"IF(DATA!HSF2=0,\"\",IFERROR(DATA!HSF2,\"\"))","v":""},{"$f":"IF(DATA!HSG2=0,\"\",IFERROR(DATA!HSG2,\"\"))","v":""},{"$f":"IF(DATA!HSH2=0,\"\",IFERROR(DATA!HSH2,\"\"))","v":""},{"$f":"IF(DATA!HSI2=0,\"\",IFERROR(DATA!HSI2,\"\"))","v":""},{"$f":"IF(DATA!HSJ2=0,\"\",IFERROR(DATA!HSJ2,\"\"))","v":""},{"$f":"IF(DATA!HSK2=0,\"\",IFERROR(DATA!HSK2,\"\"))","v":""},{"$f":"IF(DATA!HSL2=0,\"\",IFERROR(DATA!HSL2,\"\"))","v":""},{"$f":"IF(DATA!HSM2=0,\"\",IFERROR(DATA!HSM2,\"\"))","v":""},{"$f":"IF(DATA!HSN2=0,\"\",IFERROR(DATA!HSN2,\"\"))","v":""},{"$f":"IF(DATA!HSO2=0,\"\",IFERROR(DATA!HSO2,\"\"))","v":""},{"$f":"IF(DATA!HSP2=0,\"\",IFERROR(DATA!HSP2,\"\"))","v":""},{"$f":"IF(DATA!HSQ2=0,\"\",IFERROR(DATA!HSQ2,\"\"))","v":""},{"$f":"IF(DATA!HSR2=0,\"\",IFERROR(DATA!HSR2,\"\"))","v":""},{"$f":"IF(DATA!HSS2=0,\"\",IFERROR(DATA!HSS2,\"\"))","v":""},{"$f":"IF(DATA!HST2=0,\"\",IFERROR(DATA!HST2,\"\"))","v":""},{"$f":"IF(DATA!HSU2=0,\"\",IFERROR(DATA!HSU2,\"\"))","v":""},{"$f":"IF(DATA!HSV2=0,\"\",IFERROR(DATA!HSV2,\"\"))","v":""},{"$f":"IF(DATA!HSW2=0,\"\",IFERROR(DATA!HSW2,\"\"))","v":""},{"$f":"IF(DATA!HSX2=0,\"\",IFERROR(DATA!HSX2,\"\"))","v":""},{"$f":"IF(DATA!HSY2=0,\"\",IFERROR(DATA!HSY2,\"\"))","v":""},{"$f":"IF(DATA!HSZ2=0,\"\",IFERROR(DATA!HSZ2,\"\"))","v":""},{"$f":"IF(DATA!HTA2=0,\"\",IFERROR(DATA!HTA2,\"\"))","v":""},{"$f":"IF(DATA!HTB2=0,\"\",IFERROR(DATA!HTB2,\"\"))","v":""},{"$f":"IF(DATA!HTC2=0,\"\",IFERROR(DATA!HTC2,\"\"))","v":""},{"$f":"IF(DATA!HTD2=0,\"\",IFERROR(DATA!HTD2,\"\"))","v":""},{"$f":"IF(DATA!HTE2=0,\"\",IFERROR(DATA!HTE2,\"\"))","v":""},{"$f":"IF(DATA!HTF2=0,\"\",IFERROR(DATA!HTF2,\"\"))","v":""},{"$f":"IF(DATA!HTG2=0,\"\",IFERROR(DATA!HTG2,\"\"))","v":""},{"$f":"IF(DATA!HTH2=0,\"\",IFERROR(DATA!HTH2,\"\"))","v":""},{"$f":"IF(DATA!HTI2=0,\"\",IFERROR(DATA!HTI2,\"\"))","v":""},{"$f":"IF(DATA!HTJ2=0,\"\",IFERROR(DATA!HTJ2,\"\"))","v":""},{"$f":"IF(DATA!HTK2=0,\"\",IFERROR(DATA!HTK2,\"\"))","v":""},{"$f":"IF(DATA!HTL2=0,\"\",IFERROR(DATA!HTL2,\"\"))","v":""},{"$f":"IF(DATA!HTM2=0,\"\",IFERROR(DATA!HTM2,\"\"))","v":""},{"$f":"IF(DATA!HTN2=0,\"\",IFERROR(DATA!HTN2,\"\"))","v":""},{"$f":"IF(DATA!HTO2=0,\"\",IFERROR(DATA!HTO2,\"\"))","v":""},{"$f":"IF(DATA!HTP2=0,\"\",IFERROR(DATA!HTP2,\"\"))","v":""},{"$f":"IF(DATA!HTQ2=0,\"\",IFERROR(DATA!HTQ2,\"\"))","v":""},{"$f":"IF(DATA!HTR2=0,\"\",IFERROR(DATA!HTR2,\"\"))","v":""},{"$f":"IF(DATA!HTS2=0,\"\",IFERROR(DATA!HTS2,\"\"))","v":""},{"$f":"IF(DATA!HTT2=0,\"\",IFERROR(DATA!HTT2,\"\"))","v":""},{"$f":"IF(DATA!HTU2=0,\"\",IFERROR(DATA!HTU2,\"\"))","v":""},{"$f":"IF(DATA!HTV2=0,\"\",IFERROR(DATA!HTV2,\"\"))","v":""},{"$f":"IF(DATA!HTW2=0,\"\",IFERROR(DATA!HTW2,\"\"))","v":""},{"$f":"IF(DATA!HTX2=0,\"\",IFERROR(DATA!HTX2,\"\"))","v":""},{"$f":"IF(DATA!HTY2=0,\"\",IFERROR(DATA!HTY2,\"\"))","v":""},{"$f":"IF(DATA!HTZ2=0,\"\",IFERROR(DATA!HTZ2,\"\"))","v":""},{"$f":"IF(DATA!HUA2=0,\"\",IFERROR(DATA!HUA2,\"\"))","v":""},{"$f":"IF(DATA!HUB2=0,\"\",IFERROR(DATA!HUB2,\"\"))","v":""},{"$f":"IF(DATA!HUC2=0,\"\",IFERROR(DATA!HUC2,\"\"))","v":""},{"$f":"IF(DATA!HUD2=0,\"\",IFERROR(DATA!HUD2,\"\"))","v":""},{"$f":"IF(DATA!HUE2=0,\"\",IFERROR(DATA!HUE2,\"\"))","v":""},{"$f":"IF(DATA!HUF2=0,\"\",IFERROR(DATA!HUF2,\"\"))","v":""},{"$f":"IF(DATA!HUG2=0,\"\",IFERROR(DATA!HUG2,\"\"))","v":""},{"$f":"IF(DATA!HUH2=0,\"\",IFERROR(DATA!HUH2,\"\"))","v":""},{"$f":"IF(DATA!HUI2=0,\"\",IFERROR(DATA!HUI2,\"\"))","v":""},{"$f":"IF(DATA!HUJ2=0,\"\",IFERROR(DATA!HUJ2,\"\"))","v":""},{"$f":"IF(DATA!HUK2=0,\"\",IFERROR(DATA!HUK2,\"\"))","v":""},{"$f":"IF(DATA!HUL2=0,\"\",IFERROR(DATA!HUL2,\"\"))","v":""},{"$f":"IF(DATA!HUM2=0,\"\",IFERROR(DATA!HUM2,\"\"))","v":""},{"$f":"IF(DATA!HUN2=0,\"\",IFERROR(DATA!HUN2,\"\"))","v":""},{"$f":"IF(DATA!HUO2=0,\"\",IFERROR(DATA!HUO2,\"\"))","v":""},{"$f":"IF(DATA!HUP2=0,\"\",IFERROR(DATA!HUP2,\"\"))","v":""},{"$f":"IF(DATA!HUQ2=0,\"\",IFERROR(DATA!HUQ2,\"\"))","v":""},{"$f":"IF(DATA!HUR2=0,\"\",IFERROR(DATA!HUR2,\"\"))","v":""},{"$f":"IF(DATA!HUS2=0,\"\",IFERROR(DATA!HUS2,\"\"))","v":""},{"$f":"IF(DATA!HUT2=0,\"\",IFERROR(DATA!HUT2,\"\"))","v":""},{"$f":"IF(DATA!HUU2=0,\"\",IFERROR(DATA!HUU2,\"\"))","v":""},{"$f":"IF(DATA!HUV2=0,\"\",IFERROR(DATA!HUV2,\"\"))","v":""},{"$f":"IF(DATA!HUW2=0,\"\",IFERROR(DATA!HUW2,\"\"))","v":""},{"$f":"IF(DATA!HUX2=0,\"\",IFERROR(DATA!HUX2,\"\"))","v":""},{"$f":"IF(DATA!HUY2=0,\"\",IFERROR(DATA!HUY2,\"\"))","v":""},{"$f":"IF(DATA!HUZ2=0,\"\",IFERROR(DATA!HUZ2,\"\"))","v":""},{"$f":"IF(DATA!HVA2=0,\"\",IFERROR(DATA!HVA2,\"\"))","v":""},{"$f":"IF(DATA!HVB2=0,\"\",IFERROR(DATA!HVB2,\"\"))","v":""},{"$f":"IF(DATA!HVC2=0,\"\",IFERROR(DATA!HVC2,\"\"))","v":""},{"$f":"IF(DATA!HVD2=0,\"\",IFERROR(DATA!HVD2,\"\"))","v":""},{"$f":"IF(DATA!HVE2=0,\"\",IFERROR(DATA!HVE2,\"\"))","v":""},{"$f":"IF(DATA!HVF2=0,\"\",IFERROR(DATA!HVF2,\"\"))","v":""},{"$f":"IF(DATA!HVG2=0,\"\",IFERROR(DATA!HVG2,\"\"))","v":""},{"$f":"IF(DATA!HVH2=0,\"\",IFERROR(DATA!HVH2,\"\"))","v":""},{"$f":"IF(DATA!HVI2=0,\"\",IFERROR(DATA!HVI2,\"\"))","v":""},{"$f":"IF(DATA!HVJ2=0,\"\",IFERROR(DATA!HVJ2,\"\"))","v":""},{"$f":"IF(DATA!HVK2=0,\"\",IFERROR(DATA!HVK2,\"\"))","v":""},{"$f":"IF(DATA!HVL2=0,\"\",IFERROR(DATA!HVL2,\"\"))","v":""},{"$f":"IF(DATA!HVM2=0,\"\",IFERROR(DATA!HVM2,\"\"))","v":""},{"$f":"IF(DATA!HVN2=0,\"\",IFERROR(DATA!HVN2,\"\"))","v":""},{"$f":"IF(DATA!HVO2=0,\"\",IFERROR(DATA!HVO2,\"\"))","v":""},{"$f":"IF(DATA!HVP2=0,\"\",IFERROR(DATA!HVP2,\"\"))","v":""},{"$f":"IF(DATA!HVQ2=0,\"\",IFERROR(DATA!HVQ2,\"\"))","v":""},{"$f":"IF(DATA!HVR2=0,\"\",IFERROR(DATA!HVR2,\"\"))","v":""},{"$f":"IF(DATA!HVS2=0,\"\",IFERROR(DATA!HVS2,\"\"))","v":""},{"$f":"IF(DATA!HVT2=0,\"\",IFERROR(DATA!HVT2,\"\"))","v":""},{"$f":"IF(DATA!HVU2=0,\"\",IFERROR(DATA!HVU2,\"\"))","v":""},{"$f":"IF(DATA!HVV2=0,\"\",IFERROR(DATA!HVV2,\"\"))","v":""},{"$f":"IF(DATA!HVW2=0,\"\",IFERROR(DATA!HVW2,\"\"))","v":""},{"$f":"IF(DATA!HVX2=0,\"\",IFERROR(DATA!HVX2,\"\"))","v":""},{"$f":"IF(DATA!HVY2=0,\"\",IFERROR(DATA!HVY2,\"\"))","v":""},{"$f":"IF(DATA!HVZ2=0,\"\",IFERROR(DATA!HVZ2,\"\"))","v":""},{"$f":"IF(DATA!HWA2=0,\"\",IFERROR(DATA!HWA2,\"\"))","v":""},{"$f":"IF(DATA!HWB2=0,\"\",IFERROR(DATA!HWB2,\"\"))","v":""},{"$f":"IF(DATA!HWC2=0,\"\",IFERROR(DATA!HWC2,\"\"))","v":""},{"$f":"IF(DATA!HWD2=0,\"\",IFERROR(DATA!HWD2,\"\"))","v":""},{"$f":"IF(DATA!HWE2=0,\"\",IFERROR(DATA!HWE2,\"\"))","v":""},{"$f":"IF(DATA!HWF2=0,\"\",IFERROR(DATA!HWF2,\"\"))","v":""},{"$f":"IF(DATA!HWG2=0,\"\",IFERROR(DATA!HWG2,\"\"))","v":""},{"$f":"IF(DATA!HWH2=0,\"\",IFERROR(DATA!HWH2,\"\"))","v":""},{"$f":"IF(DATA!HWI2=0,\"\",IFERROR(DATA!HWI2,\"\"))","v":""},{"$f":"IF(DATA!HWJ2=0,\"\",IFERROR(DATA!HWJ2,\"\"))","v":""},{"$f":"IF(DATA!HWK2=0,\"\",IFERROR(DATA!HWK2,\"\"))","v":""},{"$f":"IF(DATA!HWL2=0,\"\",IFERROR(DATA!HWL2,\"\"))","v":""},{"$f":"IF(DATA!HWM2=0,\"\",IFERROR(DATA!HWM2,\"\"))","v":""},{"$f":"IF(DATA!HWN2=0,\"\",IFERROR(DATA!HWN2,\"\"))","v":""},{"$f":"IF(DATA!HWO2=0,\"\",IFERROR(DATA!HWO2,\"\"))","v":""},{"$f":"IF(DATA!HWP2=0,\"\",IFERROR(DATA!HWP2,\"\"))","v":""},{"$f":"IF(DATA!HWQ2=0,\"\",IFERROR(DATA!HWQ2,\"\"))","v":""},{"$f":"IF(DATA!HWR2=0,\"\",IFERROR(DATA!HWR2,\"\"))","v":""},{"$f":"IF(DATA!HWS2=0,\"\",IFERROR(DATA!HWS2,\"\"))","v":""},{"$f":"IF(DATA!HWT2=0,\"\",IFERROR(DATA!HWT2,\"\"))","v":""},{"$f":"IF(DATA!HWU2=0,\"\",IFERROR(DATA!HWU2,\"\"))","v":""},{"$f":"IF(DATA!HWV2=0,\"\",IFERROR(DATA!HWV2,\"\"))","v":""},{"$f":"IF(DATA!HWW2=0,\"\",IFERROR(DATA!HWW2,\"\"))","v":""},{"$f":"IF(DATA!HWX2=0,\"\",IFERROR(DATA!HWX2,\"\"))","v":""},{"$f":"IF(DATA!HWY2=0,\"\",IFERROR(DATA!HWY2,\"\"))","v":""},{"$f":"IF(DATA!HWZ2=0,\"\",IFERROR(DATA!HWZ2,\"\"))","v":""},{"$f":"IF(DATA!HXA2=0,\"\",IFERROR(DATA!HXA2,\"\"))","v":""},{"$f":"IF(DATA!HXB2=0,\"\",IFERROR(DATA!HXB2,\"\"))","v":""},{"$f":"IF(DATA!HXC2=0,\"\",IFERROR(DATA!HXC2,\"\"))","v":""},{"$f":"IF(DATA!HXD2=0,\"\",IFERROR(DATA!HXD2,\"\"))","v":""},{"$f":"IF(DATA!HXE2=0,\"\",IFERROR(DATA!HXE2,\"\"))","v":""},{"$f":"IF(DATA!HXF2=0,\"\",IFERROR(DATA!HXF2,\"\"))","v":""},{"$f":"IF(DATA!HXG2=0,\"\",IFERROR(DATA!HXG2,\"\"))","v":""},{"$f":"IF(DATA!HXH2=0,\"\",IFERROR(DATA!HXH2,\"\"))","v":""},{"$f":"IF(DATA!HXI2=0,\"\",IFERROR(DATA!HXI2,\"\"))","v":""},{"$f":"IF(DATA!HXJ2=0,\"\",IFERROR(DATA!HXJ2,\"\"))","v":""},{"$f":"IF(DATA!HXK2=0,\"\",IFERROR(DATA!HXK2,\"\"))","v":""},{"$f":"IF(DATA!HXL2=0,\"\",IFERROR(DATA!HXL2,\"\"))","v":""},{"$f":"IF(DATA!HXM2=0,\"\",IFERROR(DATA!HXM2,\"\"))","v":""},{"$f":"IF(DATA!HXN2=0,\"\",IFERROR(DATA!HXN2,\"\"))","v":""},{"$f":"IF(DATA!HXO2=0,\"\",IFERROR(DATA!HXO2,\"\"))","v":""},{"$f":"IF(DATA!HXP2=0,\"\",IFERROR(DATA!HXP2,\"\"))","v":""},{"$f":"IF(DATA!HXQ2=0,\"\",IFERROR(DATA!HXQ2,\"\"))","v":""},{"$f":"IF(DATA!HXR2=0,\"\",IFERROR(DATA!HXR2,\"\"))","v":""},{"$f":"IF(DATA!HXS2=0,\"\",IFERROR(DATA!HXS2,\"\"))","v":""},{"$f":"IF(DATA!HXT2=0,\"\",IFERROR(DATA!HXT2,\"\"))","v":""},{"$f":"IF(DATA!HXU2=0,\"\",IFERROR(DATA!HXU2,\"\"))","v":""},{"$f":"IF(DATA!HXV2=0,\"\",IFERROR(DATA!HXV2,\"\"))","v":""},{"$f":"IF(DATA!HXW2=0,\"\",IFERROR(DATA!HXW2,\"\"))","v":""},{"$f":"IF(DATA!HXX2=0,\"\",IFERROR(DATA!HXX2,\"\"))","v":""},{"$f":"IF(DATA!HXY2=0,\"\",IFERROR(DATA!HXY2,\"\"))","v":""},{"$f":"IF(DATA!HXZ2=0,\"\",IFERROR(DATA!HXZ2,\"\"))","v":""},{"$f":"IF(DATA!HYA2=0,\"\",IFERROR(DATA!HYA2,\"\"))","v":""},{"$f":"IF(DATA!HYB2=0,\"\",IFERROR(DATA!HYB2,\"\"))","v":""},{"$f":"IF(DATA!HYC2=0,\"\",IFERROR(DATA!HYC2,\"\"))","v":""},{"$f":"IF(DATA!HYD2=0,\"\",IFERROR(DATA!HYD2,\"\"))","v":""},{"$f":"IF(DATA!HYE2=0,\"\",IFERROR(DATA!HYE2,\"\"))","v":""},{"$f":"IF(DATA!HYF2=0,\"\",IFERROR(DATA!HYF2,\"\"))","v":""},{"$f":"IF(DATA!HYG2=0,\"\",IFERROR(DATA!HYG2,\"\"))","v":""},{"$f":"IF(DATA!HYH2=0,\"\",IFERROR(DATA!HYH2,\"\"))","v":""},{"$f":"IF(DATA!HYI2=0,\"\",IFERROR(DATA!HYI2,\"\"))","v":""},{"$f":"IF(DATA!HYJ2=0,\"\",IFERROR(DATA!HYJ2,\"\"))","v":""},{"$f":"IF(DATA!HYK2=0,\"\",IFERROR(DATA!HYK2,\"\"))","v":""},{"$f":"IF(DATA!HYL2=0,\"\",IFERROR(DATA!HYL2,\"\"))","v":""},{"$f":"IF(DATA!HYM2=0,\"\",IFERROR(DATA!HYM2,\"\"))","v":""},{"$f":"IF(DATA!HYN2=0,\"\",IFERROR(DATA!HYN2,\"\"))","v":""},{"$f":"IF(DATA!HYO2=0,\"\",IFERROR(DATA!HYO2,\"\"))","v":""},{"$f":"IF(DATA!HYP2=0,\"\",IFERROR(DATA!HYP2,\"\"))","v":""},{"$f":"IF(DATA!HYQ2=0,\"\",IFERROR(DATA!HYQ2,\"\"))","v":""},{"$f":"IF(DATA!HYR2=0,\"\",IFERROR(DATA!HYR2,\"\"))","v":""},{"$f":"IF(DATA!HYS2=0,\"\",IFERROR(DATA!HYS2,\"\"))","v":""},{"$f":"IF(DATA!HYT2=0,\"\",IFERROR(DATA!HYT2,\"\"))","v":""},{"$f":"IF(DATA!HYU2=0,\"\",IFERROR(DATA!HYU2,\"\"))","v":""},{"$f":"IF(DATA!HYV2=0,\"\",IFERROR(DATA!HYV2,\"\"))","v":""},{"$f":"IF(DATA!HYW2=0,\"\",IFERROR(DATA!HYW2,\"\"))","v":""},{"$f":"IF(DATA!HYX2=0,\"\",IFERROR(DATA!HYX2,\"\"))","v":""},{"$f":"IF(DATA!HYY2=0,\"\",IFERROR(DATA!HYY2,\"\"))","v":""},{"$f":"IF(DATA!HYZ2=0,\"\",IFERROR(DATA!HYZ2,\"\"))","v":""},{"$f":"IF(DATA!HZA2=0,\"\",IFERROR(DATA!HZA2,\"\"))","v":""},{"$f":"IF(DATA!HZB2=0,\"\",IFERROR(DATA!HZB2,\"\"))","v":""},{"$f":"IF(DATA!HZC2=0,\"\",IFERROR(DATA!HZC2,\"\"))","v":""},{"$f":"IF(DATA!HZD2=0,\"\",IFERROR(DATA!HZD2,\"\"))","v":""},{"$f":"IF(DATA!HZE2=0,\"\",IFERROR(DATA!HZE2,\"\"))","v":""},{"$f":"IF(DATA!HZF2=0,\"\",IFERROR(DATA!HZF2,\"\"))","v":""},{"$f":"IF(DATA!HZG2=0,\"\",IFERROR(DATA!HZG2,\"\"))","v":""},{"$f":"IF(DATA!HZH2=0,\"\",IFERROR(DATA!HZH2,\"\"))","v":""},{"$f":"IF(DATA!HZI2=0,\"\",IFERROR(DATA!HZI2,\"\"))","v":""},{"$f":"IF(DATA!HZJ2=0,\"\",IFERROR(DATA!HZJ2,\"\"))","v":""},{"$f":"IF(DATA!HZK2=0,\"\",IFERROR(DATA!HZK2,\"\"))","v":""},{"$f":"IF(DATA!HZL2=0,\"\",IFERROR(DATA!HZL2,\"\"))","v":""},{"$f":"IF(DATA!HZM2=0,\"\",IFERROR(DATA!HZM2,\"\"))","v":""},{"$f":"IF(DATA!HZN2=0,\"\",IFERROR(DATA!HZN2,\"\"))","v":""},{"$f":"IF(DATA!HZO2=0,\"\",IFERROR(DATA!HZO2,\"\"))","v":""},{"$f":"IF(DATA!HZP2=0,\"\",IFERROR(DATA!HZP2,\"\"))","v":""},{"$f":"IF(DATA!HZQ2=0,\"\",IFERROR(DATA!HZQ2,\"\"))","v":""},{"$f":"IF(DATA!HZR2=0,\"\",IFERROR(DATA!HZR2,\"\"))","v":""},{"$f":"IF(DATA!HZS2=0,\"\",IFERROR(DATA!HZS2,\"\"))","v":""},{"$f":"IF(DATA!HZT2=0,\"\",IFERROR(DATA!HZT2,\"\"))","v":""},{"$f":"IF(DATA!HZU2=0,\"\",IFERROR(DATA!HZU2,\"\"))","v":""},{"$f":"IF(DATA!HZV2=0,\"\",IFERROR(DATA!HZV2,\"\"))","v":""},{"$f":"IF(DATA!HZW2=0,\"\",IFERROR(DATA!HZW2,\"\"))","v":""},{"$f":"IF(DATA!HZX2=0,\"\",IFERROR(DATA!HZX2,\"\"))","v":""},{"$f":"IF(DATA!HZY2=0,\"\",IFERROR(DATA!HZY2,\"\"))","v":""},{"$f":"IF(DATA!HZZ2=0,\"\",IFERROR(DATA!HZZ2,\"\"))","v":""},{"$f":"IF(DATA!IAA2=0,\"\",IFERROR(DATA!IAA2,\"\"))","v":""},{"$f":"IF(DATA!IAB2=0,\"\",IFERROR(DATA!IAB2,\"\"))","v":""},{"$f":"IF(DATA!IAC2=0,\"\",IFERROR(DATA!IAC2,\"\"))","v":""},{"$f":"IF(DATA!IAD2=0,\"\",IFERROR(DATA!IAD2,\"\"))","v":""},{"$f":"IF(DATA!IAE2=0,\"\",IFERROR(DATA!IAE2,\"\"))","v":""},{"$f":"IF(DATA!IAF2=0,\"\",IFERROR(DATA!IAF2,\"\"))","v":""},{"$f":"IF(DATA!IAG2=0,\"\",IFERROR(DATA!IAG2,\"\"))","v":""},{"$f":"IF(DATA!IAH2=0,\"\",IFERROR(DATA!IAH2,\"\"))","v":""},{"$f":"IF(DATA!IAI2=0,\"\",IFERROR(DATA!IAI2,\"\"))","v":""},{"$f":"IF(DATA!IAJ2=0,\"\",IFERROR(DATA!IAJ2,\"\"))","v":""},{"$f":"IF(DATA!IAK2=0,\"\",IFERROR(DATA!IAK2,\"\"))","v":""},{"$f":"IF(DATA!IAL2=0,\"\",IFERROR(DATA!IAL2,\"\"))","v":""},{"$f":"IF(DATA!IAM2=0,\"\",IFERROR(DATA!IAM2,\"\"))","v":""},{"$f":"IF(DATA!IAN2=0,\"\",IFERROR(DATA!IAN2,\"\"))","v":""},{"$f":"IF(DATA!IAO2=0,\"\",IFERROR(DATA!IAO2,\"\"))","v":""},{"$f":"IF(DATA!IAP2=0,\"\",IFERROR(DATA!IAP2,\"\"))","v":""},{"$f":"IF(DATA!IAQ2=0,\"\",IFERROR(DATA!IAQ2,\"\"))","v":""},{"$f":"IF(DATA!IAR2=0,\"\",IFERROR(DATA!IAR2,\"\"))","v":""},{"$f":"IF(DATA!IAS2=0,\"\",IFERROR(DATA!IAS2,\"\"))","v":""},{"$f":"IF(DATA!IAT2=0,\"\",IFERROR(DATA!IAT2,\"\"))","v":""},{"$f":"IF(DATA!IAU2=0,\"\",IFERROR(DATA!IAU2,\"\"))","v":""},{"$f":"IF(DATA!IAV2=0,\"\",IFERROR(DATA!IAV2,\"\"))","v":""},{"$f":"IF(DATA!IAW2=0,\"\",IFERROR(DATA!IAW2,\"\"))","v":""},{"$f":"IF(DATA!IAX2=0,\"\",IFERROR(DATA!IAX2,\"\"))","v":""},{"$f":"IF(DATA!IAY2=0,\"\",IFERROR(DATA!IAY2,\"\"))","v":""},{"$f":"IF(DATA!IAZ2=0,\"\",IFERROR(DATA!IAZ2,\"\"))","v":""},{"$f":"IF(DATA!IBA2=0,\"\",IFERROR(DATA!IBA2,\"\"))","v":""},{"$f":"IF(DATA!IBB2=0,\"\",IFERROR(DATA!IBB2,\"\"))","v":""},{"$f":"IF(DATA!IBC2=0,\"\",IFERROR(DATA!IBC2,\"\"))","v":""},{"$f":"IF(DATA!IBD2=0,\"\",IFERROR(DATA!IBD2,\"\"))","v":""},{"$f":"IF(DATA!IBE2=0,\"\",IFERROR(DATA!IBE2,\"\"))","v":""},{"$f":"IF(DATA!IBF2=0,\"\",IFERROR(DATA!IBF2,\"\"))","v":""},{"$f":"IF(DATA!IBG2=0,\"\",IFERROR(DATA!IBG2,\"\"))","v":""},{"$f":"IF(DATA!IBH2=0,\"\",IFERROR(DATA!IBH2,\"\"))","v":""},{"$f":"IF(DATA!IBI2=0,\"\",IFERROR(DATA!IBI2,\"\"))","v":""},{"$f":"IF(DATA!IBJ2=0,\"\",IFERROR(DATA!IBJ2,\"\"))","v":""},{"$f":"IF(DATA!IBK2=0,\"\",IFERROR(DATA!IBK2,\"\"))","v":""},{"$f":"IF(DATA!IBL2=0,\"\",IFERROR(DATA!IBL2,\"\"))","v":""},{"$f":"IF(DATA!IBM2=0,\"\",IFERROR(DATA!IBM2,\"\"))","v":""},{"$f":"IF(DATA!IBN2=0,\"\",IFERROR(DATA!IBN2,\"\"))","v":""},{"$f":"IF(DATA!IBO2=0,\"\",IFERROR(DATA!IBO2,\"\"))","v":""},{"$f":"IF(DATA!IBP2=0,\"\",IFERROR(DATA!IBP2,\"\"))","v":""},{"$f":"IF(DATA!IBQ2=0,\"\",IFERROR(DATA!IBQ2,\"\"))","v":""},{"$f":"IF(DATA!IBR2=0,\"\",IFERROR(DATA!IBR2,\"\"))","v":""},{"$f":"IF(DATA!IBS2=0,\"\",IFERROR(DATA!IBS2,\"\"))","v":""},{"$f":"IF(DATA!IBT2=0,\"\",IFERROR(DATA!IBT2,\"\"))","v":""},{"$f":"IF(DATA!IBU2=0,\"\",IFERROR(DATA!IBU2,\"\"))","v":""},{"$f":"IF(DATA!IBV2=0,\"\",IFERROR(DATA!IBV2,\"\"))","v":""},{"$f":"IF(DATA!IBW2=0,\"\",IFERROR(DATA!IBW2,\"\"))","v":""},{"$f":"IF(DATA!IBX2=0,\"\",IFERROR(DATA!IBX2,\"\"))","v":""},{"$f":"IF(DATA!IBY2=0,\"\",IFERROR(DATA!IBY2,\"\"))","v":""},{"$f":"IF(DATA!IBZ2=0,\"\",IFERROR(DATA!IBZ2,\"\"))","v":""},{"$f":"IF(DATA!ICA2=0,\"\",IFERROR(DATA!ICA2,\"\"))","v":""},{"$f":"IF(DATA!ICB2=0,\"\",IFERROR(DATA!ICB2,\"\"))","v":""},{"$f":"IF(DATA!ICC2=0,\"\",IFERROR(DATA!ICC2,\"\"))","v":""},{"$f":"IF(DATA!ICD2=0,\"\",IFERROR(DATA!ICD2,\"\"))","v":""},{"$f":"IF(DATA!ICE2=0,\"\",IFERROR(DATA!ICE2,\"\"))","v":""},{"$f":"IF(DATA!ICF2=0,\"\",IFERROR(DATA!ICF2,\"\"))","v":""},{"$f":"IF(DATA!ICG2=0,\"\",IFERROR(DATA!ICG2,\"\"))","v":""},{"$f":"IF(DATA!ICH2=0,\"\",IFERROR(DATA!ICH2,\"\"))","v":""},{"$f":"IF(DATA!ICI2=0,\"\",IFERROR(DATA!ICI2,\"\"))","v":""},{"$f":"IF(DATA!ICJ2=0,\"\",IFERROR(DATA!ICJ2,\"\"))","v":""},{"$f":"IF(DATA!ICK2=0,\"\",IFERROR(DATA!ICK2,\"\"))","v":""},{"$f":"IF(DATA!ICL2=0,\"\",IFERROR(DATA!ICL2,\"\"))","v":""},{"$f":"IF(DATA!ICM2=0,\"\",IFERROR(DATA!ICM2,\"\"))","v":""},{"$f":"IF(DATA!ICN2=0,\"\",IFERROR(DATA!ICN2,\"\"))","v":""},{"$f":"IF(DATA!ICO2=0,\"\",IFERROR(DATA!ICO2,\"\"))","v":""},{"$f":"IF(DATA!ICP2=0,\"\",IFERROR(DATA!ICP2,\"\"))","v":""},{"$f":"IF(DATA!ICQ2=0,\"\",IFERROR(DATA!ICQ2,\"\"))","v":""},{"$f":"IF(DATA!ICR2=0,\"\",IFERROR(DATA!ICR2,\"\"))","v":""},{"$f":"IF(DATA!ICS2=0,\"\",IFERROR(DATA!ICS2,\"\"))","v":""},{"$f":"IF(DATA!ICT2=0,\"\",IFERROR(DATA!ICT2,\"\"))","v":""},{"$f":"IF(DATA!ICU2=0,\"\",IFERROR(DATA!ICU2,\"\"))","v":""},{"$f":"IF(DATA!ICV2=0,\"\",IFERROR(DATA!ICV2,\"\"))","v":""},{"$f":"IF(DATA!ICW2=0,\"\",IFERROR(DATA!ICW2,\"\"))","v":""},{"$f":"IF(DATA!ICX2=0,\"\",IFERROR(DATA!ICX2,\"\"))","v":""},{"$f":"IF(DATA!ICY2=0,\"\",IFERROR(DATA!ICY2,\"\"))","v":""},{"$f":"IF(DATA!ICZ2=0,\"\",IFERROR(DATA!ICZ2,\"\"))","v":""},{"$f":"IF(DATA!IDA2=0,\"\",IFERROR(DATA!IDA2,\"\"))","v":""},{"$f":"IF(DATA!IDB2=0,\"\",IFERROR(DATA!IDB2,\"\"))","v":""},{"$f":"IF(DATA!IDC2=0,\"\",IFERROR(DATA!IDC2,\"\"))","v":""},{"$f":"IF(DATA!IDD2=0,\"\",IFERROR(DATA!IDD2,\"\"))","v":""},{"$f":"IF(DATA!IDE2=0,\"\",IFERROR(DATA!IDE2,\"\"))","v":""},{"$f":"IF(DATA!IDF2=0,\"\",IFERROR(DATA!IDF2,\"\"))","v":""},{"$f":"IF(DATA!IDG2=0,\"\",IFERROR(DATA!IDG2,\"\"))","v":""},{"$f":"IF(DATA!IDH2=0,\"\",IFERROR(DATA!IDH2,\"\"))","v":""},{"$f":"IF(DATA!IDI2=0,\"\",IFERROR(DATA!IDI2,\"\"))","v":""},{"$f":"IF(DATA!IDJ2=0,\"\",IFERROR(DATA!IDJ2,\"\"))","v":""},{"$f":"IF(DATA!IDK2=0,\"\",IFERROR(DATA!IDK2,\"\"))","v":""},{"$f":"IF(DATA!IDL2=0,\"\",IFERROR(DATA!IDL2,\"\"))","v":""},{"$f":"IF(DATA!IDM2=0,\"\",IFERROR(DATA!IDM2,\"\"))","v":""},{"$f":"IF(DATA!IDN2=0,\"\",IFERROR(DATA!IDN2,\"\"))","v":""},{"$f":"IF(DATA!IDO2=0,\"\",IFERROR(DATA!IDO2,\"\"))","v":""},{"$f":"IF(DATA!IDP2=0,\"\",IFERROR(DATA!IDP2,\"\"))","v":""},{"$f":"IF(DATA!IDQ2=0,\"\",IFERROR(DATA!IDQ2,\"\"))","v":""},{"$f":"IF(DATA!IDR2=0,\"\",IFERROR(DATA!IDR2,\"\"))","v":""},{"$f":"IF(DATA!IDS2=0,\"\",IFERROR(DATA!IDS2,\"\"))","v":""},{"$f":"IF(DATA!IDT2=0,\"\",IFERROR(DATA!IDT2,\"\"))","v":""},{"$f":"IF(DATA!IDU2=0,\"\",IFERROR(DATA!IDU2,\"\"))","v":""},{"$f":"IF(DATA!IDV2=0,\"\",IFERROR(DATA!IDV2,\"\"))","v":""},{"$f":"IF(DATA!IDW2=0,\"\",IFERROR(DATA!IDW2,\"\"))","v":""},{"$f":"IF(DATA!IDX2=0,\"\",IFERROR(DATA!IDX2,\"\"))","v":""},{"$f":"IF(DATA!IDY2=0,\"\",IFERROR(DATA!IDY2,\"\"))","v":""},{"$f":"IF(DATA!IDZ2=0,\"\",IFERROR(DATA!IDZ2,\"\"))","v":""},{"$f":"IF(DATA!IEA2=0,\"\",IFERROR(DATA!IEA2,\"\"))","v":""},{"$f":"IF(DATA!IEB2=0,\"\",IFERROR(DATA!IEB2,\"\"))","v":""},{"$f":"IF(DATA!IEC2=0,\"\",IFERROR(DATA!IEC2,\"\"))","v":""},{"$f":"IF(DATA!IED2=0,\"\",IFERROR(DATA!IED2,\"\"))","v":""},{"$f":"IF(DATA!IEE2=0,\"\",IFERROR(DATA!IEE2,\"\"))","v":""},{"$f":"IF(DATA!IEF2=0,\"\",IFERROR(DATA!IEF2,\"\"))","v":""},{"$f":"IF(DATA!IEG2=0,\"\",IFERROR(DATA!IEG2,\"\"))","v":""},{"$f":"IF(DATA!IEH2=0,\"\",IFERROR(DATA!IEH2,\"\"))","v":""},{"$f":"IF(DATA!IEI2=0,\"\",IFERROR(DATA!IEI2,\"\"))","v":""},{"$f":"IF(DATA!IEJ2=0,\"\",IFERROR(DATA!IEJ2,\"\"))","v":""},{"$f":"IF(DATA!IEK2=0,\"\",IFERROR(DATA!IEK2,\"\"))","v":""},{"$f":"IF(DATA!IEL2=0,\"\",IFERROR(DATA!IEL2,\"\"))","v":""},{"$f":"IF(DATA!IEM2=0,\"\",IFERROR(DATA!IEM2,\"\"))","v":""},{"$f":"IF(DATA!IEN2=0,\"\",IFERROR(DATA!IEN2,\"\"))","v":""},{"$f":"IF(DATA!IEO2=0,\"\",IFERROR(DATA!IEO2,\"\"))","v":""},{"$f":"IF(DATA!IEP2=0,\"\",IFERROR(DATA!IEP2,\"\"))","v":""},{"$f":"IF(DATA!IEQ2=0,\"\",IFERROR(DATA!IEQ2,\"\"))","v":""},{"$f":"IF(DATA!IER2=0,\"\",IFERROR(DATA!IER2,\"\"))","v":""},{"$f":"IF(DATA!IES2=0,\"\",IFERROR(DATA!IES2,\"\"))","v":""},{"$f":"IF(DATA!IET2=0,\"\",IFERROR(DATA!IET2,\"\"))","v":""},{"$f":"IF(DATA!IEU2=0,\"\",IFERROR(DATA!IEU2,\"\"))","v":""},{"$f":"IF(DATA!IEV2=0,\"\",IFERROR(DATA!IEV2,\"\"))","v":""},{"$f":"IF(DATA!IEW2=0,\"\",IFERROR(DATA!IEW2,\"\"))","v":""},{"$f":"IF(DATA!IEX2=0,\"\",IFERROR(DATA!IEX2,\"\"))","v":""},{"$f":"IF(DATA!IEY2=0,\"\",IFERROR(DATA!IEY2,\"\"))","v":""},{"$f":"IF(DATA!IEZ2=0,\"\",IFERROR(DATA!IEZ2,\"\"))","v":""},{"$f":"IF(DATA!IFA2=0,\"\",IFERROR(DATA!IFA2,\"\"))","v":""},{"$f":"IF(DATA!IFB2=0,\"\",IFERROR(DATA!IFB2,\"\"))","v":""},{"$f":"IF(DATA!IFC2=0,\"\",IFERROR(DATA!IFC2,\"\"))","v":""},{"$f":"IF(DATA!IFD2=0,\"\",IFERROR(DATA!IFD2,\"\"))","v":""},{"$f":"IF(DATA!IFE2=0,\"\",IFERROR(DATA!IFE2,\"\"))","v":""},{"$f":"IF(DATA!IFF2=0,\"\",IFERROR(DATA!IFF2,\"\"))","v":""},{"$f":"IF(DATA!IFG2=0,\"\",IFERROR(DATA!IFG2,\"\"))","v":""},{"$f":"IF(DATA!IFH2=0,\"\",IFERROR(DATA!IFH2,\"\"))","v":""},{"$f":"IF(DATA!IFI2=0,\"\",IFERROR(DATA!IFI2,\"\"))","v":""},{"$f":"IF(DATA!IFJ2=0,\"\",IFERROR(DATA!IFJ2,\"\"))","v":""},{"$f":"IF(DATA!IFK2=0,\"\",IFERROR(DATA!IFK2,\"\"))","v":""},{"$f":"IF(DATA!IFL2=0,\"\",IFERROR(DATA!IFL2,\"\"))","v":""},{"$f":"IF(DATA!IFM2=0,\"\",IFERROR(DATA!IFM2,\"\"))","v":""},{"$f":"IF(DATA!IFN2=0,\"\",IFERROR(DATA!IFN2,\"\"))","v":""},{"$f":"IF(DATA!IFO2=0,\"\",IFERROR(DATA!IFO2,\"\"))","v":""},{"$f":"IF(DATA!IFP2=0,\"\",IFERROR(DATA!IFP2,\"\"))","v":""},{"$f":"IF(DATA!IFQ2=0,\"\",IFERROR(DATA!IFQ2,\"\"))","v":""},{"$f":"IF(DATA!IFR2=0,\"\",IFERROR(DATA!IFR2,\"\"))","v":""},{"$f":"IF(DATA!IFS2=0,\"\",IFERROR(DATA!IFS2,\"\"))","v":""},{"$f":"IF(DATA!IFT2=0,\"\",IFERROR(DATA!IFT2,\"\"))","v":""},{"$f":"IF(DATA!IFU2=0,\"\",IFERROR(DATA!IFU2,\"\"))","v":""},{"$f":"IF(DATA!IFV2=0,\"\",IFERROR(DATA!IFV2,\"\"))","v":""},{"$f":"IF(DATA!IFW2=0,\"\",IFERROR(DATA!IFW2,\"\"))","v":""},{"$f":"IF(DATA!IFX2=0,\"\",IFERROR(DATA!IFX2,\"\"))","v":""},{"$f":"IF(DATA!IFY2=0,\"\",IFERROR(DATA!IFY2,\"\"))","v":""},{"$f":"IF(DATA!IFZ2=0,\"\",IFERROR(DATA!IFZ2,\"\"))","v":""},{"$f":"IF(DATA!IGA2=0,\"\",IFERROR(DATA!IGA2,\"\"))","v":""},{"$f":"IF(DATA!IGB2=0,\"\",IFERROR(DATA!IGB2,\"\"))","v":""},{"$f":"IF(DATA!IGC2=0,\"\",IFERROR(DATA!IGC2,\"\"))","v":""},{"$f":"IF(DATA!IGD2=0,\"\",IFERROR(DATA!IGD2,\"\"))","v":""},{"$f":"IF(DATA!IGE2=0,\"\",IFERROR(DATA!IGE2,\"\"))","v":""},{"$f":"IF(DATA!IGF2=0,\"\",IFERROR(DATA!IGF2,\"\"))","v":""},{"$f":"IF(DATA!IGG2=0,\"\",IFERROR(DATA!IGG2,\"\"))","v":""},{"$f":"IF(DATA!IGH2=0,\"\",IFERROR(DATA!IGH2,\"\"))","v":""},{"$f":"IF(DATA!IGI2=0,\"\",IFERROR(DATA!IGI2,\"\"))","v":""},{"$f":"IF(DATA!IGJ2=0,\"\",IFERROR(DATA!IGJ2,\"\"))","v":""},{"$f":"IF(DATA!IGK2=0,\"\",IFERROR(DATA!IGK2,\"\"))","v":""},{"$f":"IF(DATA!IGL2=0,\"\",IFERROR(DATA!IGL2,\"\"))","v":""},{"$f":"IF(DATA!IGM2=0,\"\",IFERROR(DATA!IGM2,\"\"))","v":""},{"$f":"IF(DATA!IGN2=0,\"\",IFERROR(DATA!IGN2,\"\"))","v":""},{"$f":"IF(DATA!IGO2=0,\"\",IFERROR(DATA!IGO2,\"\"))","v":""},{"$f":"IF(DATA!IGP2=0,\"\",IFERROR(DATA!IGP2,\"\"))","v":""},{"$f":"IF(DATA!IGQ2=0,\"\",IFERROR(DATA!IGQ2,\"\"))","v":""},{"$f":"IF(DATA!IGR2=0,\"\",IFERROR(DATA!IGR2,\"\"))","v":""},{"$f":"IF(DATA!IGS2=0,\"\",IFERROR(DATA!IGS2,\"\"))","v":""},{"$f":"IF(DATA!IGT2=0,\"\",IFERROR(DATA!IGT2,\"\"))","v":""},{"$f":"IF(DATA!IGU2=0,\"\",IFERROR(DATA!IGU2,\"\"))","v":""},{"$f":"IF(DATA!IGV2=0,\"\",IFERROR(DATA!IGV2,\"\"))","v":""},{"$f":"IF(DATA!IGW2=0,\"\",IFERROR(DATA!IGW2,\"\"))","v":""},{"$f":"IF(DATA!IGX2=0,\"\",IFERROR(DATA!IGX2,\"\"))","v":""},{"$f":"IF(DATA!IGY2=0,\"\",IFERROR(DATA!IGY2,\"\"))","v":""},{"$f":"IF(DATA!IGZ2=0,\"\",IFERROR(DATA!IGZ2,\"\"))","v":""},{"$f":"IF(DATA!IHA2=0,\"\",IFERROR(DATA!IHA2,\"\"))","v":""},{"$f":"IF(DATA!IHB2=0,\"\",IFERROR(DATA!IHB2,\"\"))","v":""},{"$f":"IF(DATA!IHC2=0,\"\",IFERROR(DATA!IHC2,\"\"))","v":""},{"$f":"IF(DATA!IHD2=0,\"\",IFERROR(DATA!IHD2,\"\"))","v":""},{"$f":"IF(DATA!IHE2=0,\"\",IFERROR(DATA!IHE2,\"\"))","v":""},{"$f":"IF(DATA!IHF2=0,\"\",IFERROR(DATA!IHF2,\"\"))","v":""},{"$f":"IF(DATA!IHG2=0,\"\",IFERROR(DATA!IHG2,\"\"))","v":""},{"$f":"IF(DATA!IHH2=0,\"\",IFERROR(DATA!IHH2,\"\"))","v":""},{"$f":"IF(DATA!IHI2=0,\"\",IFERROR(DATA!IHI2,\"\"))","v":""},{"$f":"IF(DATA!IHJ2=0,\"\",IFERROR(DATA!IHJ2,\"\"))","v":""},{"$f":"IF(DATA!IHK2=0,\"\",IFERROR(DATA!IHK2,\"\"))","v":""},{"$f":"IF(DATA!IHL2=0,\"\",IFERROR(DATA!IHL2,\"\"))","v":""},{"$f":"IF(DATA!IHM2=0,\"\",IFERROR(DATA!IHM2,\"\"))","v":""},{"$f":"IF(DATA!IHN2=0,\"\",IFERROR(DATA!IHN2,\"\"))","v":""},{"$f":"IF(DATA!IHO2=0,\"\",IFERROR(DATA!IHO2,\"\"))","v":""},{"$f":"IF(DATA!IHP2=0,\"\",IFERROR(DATA!IHP2,\"\"))","v":""},{"$f":"IF(DATA!IHQ2=0,\"\",IFERROR(DATA!IHQ2,\"\"))","v":""},{"$f":"IF(DATA!IHR2=0,\"\",IFERROR(DATA!IHR2,\"\"))","v":""},{"$f":"IF(DATA!IHS2=0,\"\",IFERROR(DATA!IHS2,\"\"))","v":""},{"$f":"IF(DATA!IHT2=0,\"\",IFERROR(DATA!IHT2,\"\"))","v":""},{"$f":"IF(DATA!IHU2=0,\"\",IFERROR(DATA!IHU2,\"\"))","v":""},{"$f":"IF(DATA!IHV2=0,\"\",IFERROR(DATA!IHV2,\"\"))","v":""},{"$f":"IF(DATA!IHW2=0,\"\",IFERROR(DATA!IHW2,\"\"))","v":""},{"$f":"IF(DATA!IHX2=0,\"\",IFERROR(DATA!IHX2,\"\"))","v":""},{"$f":"IF(DATA!IHY2=0,\"\",IFERROR(DATA!IHY2,\"\"))","v":""},{"$f":"IF(DATA!IHZ2=0,\"\",IFERROR(DATA!IHZ2,\"\"))","v":""},{"$f":"IF(DATA!IIA2=0,\"\",IFERROR(DATA!IIA2,\"\"))","v":""},{"$f":"IF(DATA!IIB2=0,\"\",IFERROR(DATA!IIB2,\"\"))","v":""},{"$f":"IF(DATA!IIC2=0,\"\",IFERROR(DATA!IIC2,\"\"))","v":""},{"$f":"IF(DATA!IID2=0,\"\",IFERROR(DATA!IID2,\"\"))","v":""},{"$f":"IF(DATA!IIE2=0,\"\",IFERROR(DATA!IIE2,\"\"))","v":""},{"$f":"IF(DATA!IIF2=0,\"\",IFERROR(DATA!IIF2,\"\"))","v":""},{"$f":"IF(DATA!IIG2=0,\"\",IFERROR(DATA!IIG2,\"\"))","v":""},{"$f":"IF(DATA!IIH2=0,\"\",IFERROR(DATA!IIH2,\"\"))","v":""},{"$f":"IF(DATA!III2=0,\"\",IFERROR(DATA!III2,\"\"))","v":""},{"$f":"IF(DATA!IIJ2=0,\"\",IFERROR(DATA!IIJ2,\"\"))","v":""},{"$f":"IF(DATA!IIK2=0,\"\",IFERROR(DATA!IIK2,\"\"))","v":""},{"$f":"IF(DATA!IIL2=0,\"\",IFERROR(DATA!IIL2,\"\"))","v":""},{"$f":"IF(DATA!IIM2=0,\"\",IFERROR(DATA!IIM2,\"\"))","v":""},{"$f":"IF(DATA!IIN2=0,\"\",IFERROR(DATA!IIN2,\"\"))","v":""},{"$f":"IF(DATA!IIO2=0,\"\",IFERROR(DATA!IIO2,\"\"))","v":""},{"$f":"IF(DATA!IIP2=0,\"\",IFERROR(DATA!IIP2,\"\"))","v":""},{"$f":"IF(DATA!IIQ2=0,\"\",IFERROR(DATA!IIQ2,\"\"))","v":""},{"$f":"IF(DATA!IIR2=0,\"\",IFERROR(DATA!IIR2,\"\"))","v":""},{"$f":"IF(DATA!IIS2=0,\"\",IFERROR(DATA!IIS2,\"\"))","v":""},{"$f":"IF(DATA!IIT2=0,\"\",IFERROR(DATA!IIT2,\"\"))","v":""},{"$f":"IF(DATA!IIU2=0,\"\",IFERROR(DATA!IIU2,\"\"))","v":""},{"$f":"IF(DATA!IIV2=0,\"\",IFERROR(DATA!IIV2,\"\"))","v":""},{"$f":"IF(DATA!IIW2=0,\"\",IFERROR(DATA!IIW2,\"\"))","v":""},{"$f":"IF(DATA!IIX2=0,\"\",IFERROR(DATA!IIX2,\"\"))","v":""},{"$f":"IF(DATA!IIY2=0,\"\",IFERROR(DATA!IIY2,\"\"))","v":""},{"$f":"IF(DATA!IIZ2=0,\"\",IFERROR(DATA!IIZ2,\"\"))","v":""},{"$f":"IF(DATA!IJA2=0,\"\",IFERROR(DATA!IJA2,\"\"))","v":""},{"$f":"IF(DATA!IJB2=0,\"\",IFERROR(DATA!IJB2,\"\"))","v":""},{"$f":"IF(DATA!IJC2=0,\"\",IFERROR(DATA!IJC2,\"\"))","v":""},{"$f":"IF(DATA!IJD2=0,\"\",IFERROR(DATA!IJD2,\"\"))","v":""},{"$f":"IF(DATA!IJE2=0,\"\",IFERROR(DATA!IJE2,\"\"))","v":""},{"$f":"IF(DATA!IJF2=0,\"\",IFERROR(DATA!IJF2,\"\"))","v":""},{"$f":"IF(DATA!IJG2=0,\"\",IFERROR(DATA!IJG2,\"\"))","v":""},{"$f":"IF(DATA!IJH2=0,\"\",IFERROR(DATA!IJH2,\"\"))","v":""},{"$f":"IF(DATA!IJI2=0,\"\",IFERROR(DATA!IJI2,\"\"))","v":""},{"$f":"IF(DATA!IJJ2=0,\"\",IFERROR(DATA!IJJ2,\"\"))","v":""},{"$f":"IF(DATA!IJK2=0,\"\",IFERROR(DATA!IJK2,\"\"))","v":""},{"$f":"IF(DATA!IJL2=0,\"\",IFERROR(DATA!IJL2,\"\"))","v":""},{"$f":"IF(DATA!IJM2=0,\"\",IFERROR(DATA!IJM2,\"\"))","v":""},{"$f":"IF(DATA!IJN2=0,\"\",IFERROR(DATA!IJN2,\"\"))","v":""},{"$f":"IF(DATA!IJO2=0,\"\",IFERROR(DATA!IJO2,\"\"))","v":""},{"$f":"IF(DATA!IJP2=0,\"\",IFERROR(DATA!IJP2,\"\"))","v":""},{"$f":"IF(DATA!IJQ2=0,\"\",IFERROR(DATA!IJQ2,\"\"))","v":""},{"$f":"IF(DATA!IJR2=0,\"\",IFERROR(DATA!IJR2,\"\"))","v":""},{"$f":"IF(DATA!IJS2=0,\"\",IFERROR(DATA!IJS2,\"\"))","v":""},{"$f":"IF(DATA!IJT2=0,\"\",IFERROR(DATA!IJT2,\"\"))","v":""},{"$f":"IF(DATA!IJU2=0,\"\",IFERROR(DATA!IJU2,\"\"))","v":""},{"$f":"IF(DATA!IJV2=0,\"\",IFERROR(DATA!IJV2,\"\"))","v":""},{"$f":"IF(DATA!IJW2=0,\"\",IFERROR(DATA!IJW2,\"\"))","v":""},{"$f":"IF(DATA!IJX2=0,\"\",IFERROR(DATA!IJX2,\"\"))","v":""},{"$f":"IF(DATA!IJY2=0,\"\",IFERROR(DATA!IJY2,\"\"))","v":""},{"$f":"IF(DATA!IJZ2=0,\"\",IFERROR(DATA!IJZ2,\"\"))","v":""},{"$f":"IF(DATA!IKA2=0,\"\",IFERROR(DATA!IKA2,\"\"))","v":""},{"$f":"IF(DATA!IKB2=0,\"\",IFERROR(DATA!IKB2,\"\"))","v":""},{"$f":"IF(DATA!IKC2=0,\"\",IFERROR(DATA!IKC2,\"\"))","v":""},{"$f":"IF(DATA!IKD2=0,\"\",IFERROR(DATA!IKD2,\"\"))","v":""},{"$f":"IF(DATA!IKE2=0,\"\",IFERROR(DATA!IKE2,\"\"))","v":""},{"$f":"IF(DATA!IKF2=0,\"\",IFERROR(DATA!IKF2,\"\"))","v":""},{"$f":"IF(DATA!IKG2=0,\"\",IFERROR(DATA!IKG2,\"\"))","v":""},{"$f":"IF(DATA!IKH2=0,\"\",IFERROR(DATA!IKH2,\"\"))","v":""},{"$f":"IF(DATA!IKI2=0,\"\",IFERROR(DATA!IKI2,\"\"))","v":""},{"$f":"IF(DATA!IKJ2=0,\"\",IFERROR(DATA!IKJ2,\"\"))","v":""},{"$f":"IF(DATA!IKK2=0,\"\",IFERROR(DATA!IKK2,\"\"))","v":""},{"$f":"IF(DATA!IKL2=0,\"\",IFERROR(DATA!IKL2,\"\"))","v":""},{"$f":"IF(DATA!IKM2=0,\"\",IFERROR(DATA!IKM2,\"\"))","v":""},{"$f":"IF(DATA!IKN2=0,\"\",IFERROR(DATA!IKN2,\"\"))","v":""},{"$f":"IF(DATA!IKO2=0,\"\",IFERROR(DATA!IKO2,\"\"))","v":""},{"$f":"IF(DATA!IKP2=0,\"\",IFERROR(DATA!IKP2,\"\"))","v":""},{"$f":"IF(DATA!IKQ2=0,\"\",IFERROR(DATA!IKQ2,\"\"))","v":""},{"$f":"IF(DATA!IKR2=0,\"\",IFERROR(DATA!IKR2,\"\"))","v":""},{"$f":"IF(DATA!IKS2=0,\"\",IFERROR(DATA!IKS2,\"\"))","v":""},{"$f":"IF(DATA!IKT2=0,\"\",IFERROR(DATA!IKT2,\"\"))","v":""},{"$f":"IF(DATA!IKU2=0,\"\",IFERROR(DATA!IKU2,\"\"))","v":""},{"$f":"IF(DATA!IKV2=0,\"\",IFERROR(DATA!IKV2,\"\"))","v":""},{"$f":"IF(DATA!IKW2=0,\"\",IFERROR(DATA!IKW2,\"\"))","v":""},{"$f":"IF(DATA!IKX2=0,\"\",IFERROR(DATA!IKX2,\"\"))","v":""},{"$f":"IF(DATA!IKY2=0,\"\",IFERROR(DATA!IKY2,\"\"))","v":""},{"$f":"IF(DATA!IKZ2=0,\"\",IFERROR(DATA!IKZ2,\"\"))","v":""},{"$f":"IF(DATA!ILA2=0,\"\",IFERROR(DATA!ILA2,\"\"))","v":""},{"$f":"IF(DATA!ILB2=0,\"\",IFERROR(DATA!ILB2,\"\"))","v":""},{"$f":"IF(DATA!ILC2=0,\"\",IFERROR(DATA!ILC2,\"\"))","v":""},{"$f":"IF(DATA!ILD2=0,\"\",IFERROR(DATA!ILD2,\"\"))","v":""},{"$f":"IF(DATA!ILE2=0,\"\",IFERROR(DATA!ILE2,\"\"))","v":""},{"$f":"IF(DATA!ILF2=0,\"\",IFERROR(DATA!ILF2,\"\"))","v":""},{"$f":"IF(DATA!ILG2=0,\"\",IFERROR(DATA!ILG2,\"\"))","v":""},{"$f":"IF(DATA!ILH2=0,\"\",IFERROR(DATA!ILH2,\"\"))","v":""},{"$f":"IF(DATA!ILI2=0,\"\",IFERROR(DATA!ILI2,\"\"))","v":""},{"$f":"IF(DATA!ILJ2=0,\"\",IFERROR(DATA!ILJ2,\"\"))","v":""},{"$f":"IF(DATA!ILK2=0,\"\",IFERROR(DATA!ILK2,\"\"))","v":""},{"$f":"IF(DATA!ILL2=0,\"\",IFERROR(DATA!ILL2,\"\"))","v":""},{"$f":"IF(DATA!ILM2=0,\"\",IFERROR(DATA!ILM2,\"\"))","v":""},{"$f":"IF(DATA!ILN2=0,\"\",IFERROR(DATA!ILN2,\"\"))","v":""},{"$f":"IF(DATA!ILO2=0,\"\",IFERROR(DATA!ILO2,\"\"))","v":""},{"$f":"IF(DATA!ILP2=0,\"\",IFERROR(DATA!ILP2,\"\"))","v":""},{"$f":"IF(DATA!ILQ2=0,\"\",IFERROR(DATA!ILQ2,\"\"))","v":""},{"$f":"IF(DATA!ILR2=0,\"\",IFERROR(DATA!ILR2,\"\"))","v":""},{"$f":"IF(DATA!ILS2=0,\"\",IFERROR(DATA!ILS2,\"\"))","v":""},{"$f":"IF(DATA!ILT2=0,\"\",IFERROR(DATA!ILT2,\"\"))","v":""},{"$f":"IF(DATA!ILU2=0,\"\",IFERROR(DATA!ILU2,\"\"))","v":""},{"$f":"IF(DATA!ILV2=0,\"\",IFERROR(DATA!ILV2,\"\"))","v":""},{"$f":"IF(DATA!ILW2=0,\"\",IFERROR(DATA!ILW2,\"\"))","v":""},{"$f":"IF(DATA!ILX2=0,\"\",IFERROR(DATA!ILX2,\"\"))","v":""},{"$f":"IF(DATA!ILY2=0,\"\",IFERROR(DATA!ILY2,\"\"))","v":""},{"$f":"IF(DATA!ILZ2=0,\"\",IFERROR(DATA!ILZ2,\"\"))","v":""},{"$f":"IF(DATA!IMA2=0,\"\",IFERROR(DATA!IMA2,\"\"))","v":""},{"$f":"IF(DATA!IMB2=0,\"\",IFERROR(DATA!IMB2,\"\"))","v":""},{"$f":"IF(DATA!IMC2=0,\"\",IFERROR(DATA!IMC2,\"\"))","v":""},{"$f":"IF(DATA!IMD2=0,\"\",IFERROR(DATA!IMD2,\"\"))","v":""},{"$f":"IF(DATA!IME2=0,\"\",IFERROR(DATA!IME2,\"\"))","v":""},{"$f":"IF(DATA!IMF2=0,\"\",IFERROR(DATA!IMF2,\"\"))","v":""},{"$f":"IF(DATA!IMG2=0,\"\",IFERROR(DATA!IMG2,\"\"))","v":""},{"$f":"IF(DATA!IMH2=0,\"\",IFERROR(DATA!IMH2,\"\"))","v":""},{"$f":"IF(DATA!IMI2=0,\"\",IFERROR(DATA!IMI2,\"\"))","v":""},{"$f":"IF(DATA!IMJ2=0,\"\",IFERROR(DATA!IMJ2,\"\"))","v":""},{"$f":"IF(DATA!IMK2=0,\"\",IFERROR(DATA!IMK2,\"\"))","v":""},{"$f":"IF(DATA!IML2=0,\"\",IFERROR(DATA!IML2,\"\"))","v":""},{"$f":"IF(DATA!IMM2=0,\"\",IFERROR(DATA!IMM2,\"\"))","v":""},{"$f":"IF(DATA!IMN2=0,\"\",IFERROR(DATA!IMN2,\"\"))","v":""},{"$f":"IF(DATA!IMO2=0,\"\",IFERROR(DATA!IMO2,\"\"))","v":""},{"$f":"IF(DATA!IMP2=0,\"\",IFERROR(DATA!IMP2,\"\"))","v":""},{"$f":"IF(DATA!IMQ2=0,\"\",IFERROR(DATA!IMQ2,\"\"))","v":""},{"$f":"IF(DATA!IMR2=0,\"\",IFERROR(DATA!IMR2,\"\"))","v":""},{"$f":"IF(DATA!IMS2=0,\"\",IFERROR(DATA!IMS2,\"\"))","v":""},{"$f":"IF(DATA!IMT2=0,\"\",IFERROR(DATA!IMT2,\"\"))","v":""},{"$f":"IF(DATA!IMU2=0,\"\",IFERROR(DATA!IMU2,\"\"))","v":""},{"$f":"IF(DATA!IMV2=0,\"\",IFERROR(DATA!IMV2,\"\"))","v":""},{"$f":"IF(DATA!IMW2=0,\"\",IFERROR(DATA!IMW2,\"\"))","v":""},{"$f":"IF(DATA!IMX2=0,\"\",IFERROR(DATA!IMX2,\"\"))","v":""},{"$f":"IF(DATA!IMY2=0,\"\",IFERROR(DATA!IMY2,\"\"))","v":""},{"$f":"IF(DATA!IMZ2=0,\"\",IFERROR(DATA!IMZ2,\"\"))","v":""},{"$f":"IF(DATA!INA2=0,\"\",IFERROR(DATA!INA2,\"\"))","v":""},{"$f":"IF(DATA!INB2=0,\"\",IFERROR(DATA!INB2,\"\"))","v":""},{"$f":"IF(DATA!INC2=0,\"\",IFERROR(DATA!INC2,\"\"))","v":""},{"$f":"IF(DATA!IND2=0,\"\",IFERROR(DATA!IND2,\"\"))","v":""},{"$f":"IF(DATA!INE2=0,\"\",IFERROR(DATA!INE2,\"\"))","v":""},{"$f":"IF(DATA!INF2=0,\"\",IFERROR(DATA!INF2,\"\"))","v":""},{"$f":"IF(DATA!ING2=0,\"\",IFERROR(DATA!ING2,\"\"))","v":""},{"$f":"IF(DATA!INH2=0,\"\",IFERROR(DATA!INH2,\"\"))","v":""},{"$f":"IF(DATA!INI2=0,\"\",IFERROR(DATA!INI2,\"\"))","v":""},{"$f":"IF(DATA!INJ2=0,\"\",IFERROR(DATA!INJ2,\"\"))","v":""},{"$f":"IF(DATA!INK2=0,\"\",IFERROR(DATA!INK2,\"\"))","v":""},{"$f":"IF(DATA!INL2=0,\"\",IFERROR(DATA!INL2,\"\"))","v":""},{"$f":"IF(DATA!INM2=0,\"\",IFERROR(DATA!INM2,\"\"))","v":""},{"$f":"IF(DATA!INN2=0,\"\",IFERROR(DATA!INN2,\"\"))","v":""},{"$f":"IF(DATA!INO2=0,\"\",IFERROR(DATA!INO2,\"\"))","v":""},{"$f":"IF(DATA!INP2=0,\"\",IFERROR(DATA!INP2,\"\"))","v":""},{"$f":"IF(DATA!INQ2=0,\"\",IFERROR(DATA!INQ2,\"\"))","v":""},{"$f":"IF(DATA!INR2=0,\"\",IFERROR(DATA!INR2,\"\"))","v":""},{"$f":"IF(DATA!INS2=0,\"\",IFERROR(DATA!INS2,\"\"))","v":""},{"$f":"IF(DATA!INT2=0,\"\",IFERROR(DATA!INT2,\"\"))","v":""},{"$f":"IF(DATA!INU2=0,\"\",IFERROR(DATA!INU2,\"\"))","v":""},{"$f":"IF(DATA!INV2=0,\"\",IFERROR(DATA!INV2,\"\"))","v":""},{"$f":"IF(DATA!INW2=0,\"\",IFERROR(DATA!INW2,\"\"))","v":""},{"$f":"IF(DATA!INX2=0,\"\",IFERROR(DATA!INX2,\"\"))","v":""},{"$f":"IF(DATA!INY2=0,\"\",IFERROR(DATA!INY2,\"\"))","v":""},{"$f":"IF(DATA!INZ2=0,\"\",IFERROR(DATA!INZ2,\"\"))","v":""},{"$f":"IF(DATA!IOA2=0,\"\",IFERROR(DATA!IOA2,\"\"))","v":""},{"$f":"IF(DATA!IOB2=0,\"\",IFERROR(DATA!IOB2,\"\"))","v":""},{"$f":"IF(DATA!IOC2=0,\"\",IFERROR(DATA!IOC2,\"\"))","v":""},{"$f":"IF(DATA!IOD2=0,\"\",IFERROR(DATA!IOD2,\"\"))","v":""},{"$f":"IF(DATA!IOE2=0,\"\",IFERROR(DATA!IOE2,\"\"))","v":""},{"$f":"IF(DATA!IOF2=0,\"\",IFERROR(DATA!IOF2,\"\"))","v":""},{"$f":"IF(DATA!IOG2=0,\"\",IFERROR(DATA!IOG2,\"\"))","v":""},{"$f":"IF(DATA!IOH2=0,\"\",IFERROR(DATA!IOH2,\"\"))","v":""},{"$f":"IF(DATA!IOI2=0,\"\",IFERROR(DATA!IOI2,\"\"))","v":""},{"$f":"IF(DATA!IOJ2=0,\"\",IFERROR(DATA!IOJ2,\"\"))","v":""},{"$f":"IF(DATA!IOK2=0,\"\",IFERROR(DATA!IOK2,\"\"))","v":""},{"$f":"IF(DATA!IOL2=0,\"\",IFERROR(DATA!IOL2,\"\"))","v":""},{"$f":"IF(DATA!IOM2=0,\"\",IFERROR(DATA!IOM2,\"\"))","v":""},{"$f":"IF(DATA!ION2=0,\"\",IFERROR(DATA!ION2,\"\"))","v":""},{"$f":"IF(DATA!IOO2=0,\"\",IFERROR(DATA!IOO2,\"\"))","v":""},{"$f":"IF(DATA!IOP2=0,\"\",IFERROR(DATA!IOP2,\"\"))","v":""},{"$f":"IF(DATA!IOQ2=0,\"\",IFERROR(DATA!IOQ2,\"\"))","v":""},{"$f":"IF(DATA!IOR2=0,\"\",IFERROR(DATA!IOR2,\"\"))","v":""},{"$f":"IF(DATA!IOS2=0,\"\",IFERROR(DATA!IOS2,\"\"))","v":""},{"$f":"IF(DATA!IOT2=0,\"\",IFERROR(DATA!IOT2,\"\"))","v":""},{"$f":"IF(DATA!IOU2=0,\"\",IFERROR(DATA!IOU2,\"\"))","v":""},{"$f":"IF(DATA!IOV2=0,\"\",IFERROR(DATA!IOV2,\"\"))","v":""},{"$f":"IF(DATA!IOW2=0,\"\",IFERROR(DATA!IOW2,\"\"))","v":""},{"$f":"IF(DATA!IOX2=0,\"\",IFERROR(DATA!IOX2,\"\"))","v":""},{"$f":"IF(DATA!IOY2=0,\"\",IFERROR(DATA!IOY2,\"\"))","v":""},{"$f":"IF(DATA!IOZ2=0,\"\",IFERROR(DATA!IOZ2,\"\"))","v":""},{"$f":"IF(DATA!IPA2=0,\"\",IFERROR(DATA!IPA2,\"\"))","v":""},{"$f":"IF(DATA!IPB2=0,\"\",IFERROR(DATA!IPB2,\"\"))","v":""},{"$f":"IF(DATA!IPC2=0,\"\",IFERROR(DATA!IPC2,\"\"))","v":""},{"$f":"IF(DATA!IPD2=0,\"\",IFERROR(DATA!IPD2,\"\"))","v":""},{"$f":"IF(DATA!IPE2=0,\"\",IFERROR(DATA!IPE2,\"\"))","v":""},{"$f":"IF(DATA!IPF2=0,\"\",IFERROR(DATA!IPF2,\"\"))","v":""},{"$f":"IF(DATA!IPG2=0,\"\",IFERROR(DATA!IPG2,\"\"))","v":""},{"$f":"IF(DATA!IPH2=0,\"\",IFERROR(DATA!IPH2,\"\"))","v":""},{"$f":"IF(DATA!IPI2=0,\"\",IFERROR(DATA!IPI2,\"\"))","v":""},{"$f":"IF(DATA!IPJ2=0,\"\",IFERROR(DATA!IPJ2,\"\"))","v":""},{"$f":"IF(DATA!IPK2=0,\"\",IFERROR(DATA!IPK2,\"\"))","v":""},{"$f":"IF(DATA!IPL2=0,\"\",IFERROR(DATA!IPL2,\"\"))","v":""},{"$f":"IF(DATA!IPM2=0,\"\",IFERROR(DATA!IPM2,\"\"))","v":""},{"$f":"IF(DATA!IPN2=0,\"\",IFERROR(DATA!IPN2,\"\"))","v":""},{"$f":"IF(DATA!IPO2=0,\"\",IFERROR(DATA!IPO2,\"\"))","v":""},{"$f":"IF(DATA!IPP2=0,\"\",IFERROR(DATA!IPP2,\"\"))","v":""},{"$f":"IF(DATA!IPQ2=0,\"\",IFERROR(DATA!IPQ2,\"\"))","v":""},{"$f":"IF(DATA!IPR2=0,\"\",IFERROR(DATA!IPR2,\"\"))","v":""},{"$f":"IF(DATA!IPS2=0,\"\",IFERROR(DATA!IPS2,\"\"))","v":""},{"$f":"IF(DATA!IPT2=0,\"\",IFERROR(DATA!IPT2,\"\"))","v":""},{"$f":"IF(DATA!IPU2=0,\"\",IFERROR(DATA!IPU2,\"\"))","v":""},{"$f":"IF(DATA!IPV2=0,\"\",IFERROR(DATA!IPV2,\"\"))","v":""},{"$f":"IF(DATA!IPW2=0,\"\",IFERROR(DATA!IPW2,\"\"))","v":""},{"$f":"IF(DATA!IPX2=0,\"\",IFERROR(DATA!IPX2,\"\"))","v":""},{"$f":"IF(DATA!IPY2=0,\"\",IFERROR(DATA!IPY2,\"\"))","v":""},{"$f":"IF(DATA!IPZ2=0,\"\",IFERROR(DATA!IPZ2,\"\"))","v":""},{"$f":"IF(DATA!IQA2=0,\"\",IFERROR(DATA!IQA2,\"\"))","v":""},{"$f":"IF(DATA!IQB2=0,\"\",IFERROR(DATA!IQB2,\"\"))","v":""},{"$f":"IF(DATA!IQC2=0,\"\",IFERROR(DATA!IQC2,\"\"))","v":""},{"$f":"IF(DATA!IQD2=0,\"\",IFERROR(DATA!IQD2,\"\"))","v":""},{"$f":"IF(DATA!IQE2=0,\"\",IFERROR(DATA!IQE2,\"\"))","v":""},{"$f":"IF(DATA!IQF2=0,\"\",IFERROR(DATA!IQF2,\"\"))","v":""},{"$f":"IF(DATA!IQG2=0,\"\",IFERROR(DATA!IQG2,\"\"))","v":""},{"$f":"IF(DATA!IQH2=0,\"\",IFERROR(DATA!IQH2,\"\"))","v":""},{"$f":"IF(DATA!IQI2=0,\"\",IFERROR(DATA!IQI2,\"\"))","v":""},{"$f":"IF(DATA!IQJ2=0,\"\",IFERROR(DATA!IQJ2,\"\"))","v":""},{"$f":"IF(DATA!IQK2=0,\"\",IFERROR(DATA!IQK2,\"\"))","v":""},{"$f":"IF(DATA!IQL2=0,\"\",IFERROR(DATA!IQL2,\"\"))","v":""},{"$f":"IF(DATA!IQM2=0,\"\",IFERROR(DATA!IQM2,\"\"))","v":""},{"$f":"IF(DATA!IQN2=0,\"\",IFERROR(DATA!IQN2,\"\"))","v":""},{"$f":"IF(DATA!IQO2=0,\"\",IFERROR(DATA!IQO2,\"\"))","v":""},{"$f":"IF(DATA!IQP2=0,\"\",IFERROR(DATA!IQP2,\"\"))","v":""},{"$f":"IF(DATA!IQQ2=0,\"\",IFERROR(DATA!IQQ2,\"\"))","v":""},{"$f":"IF(DATA!IQR2=0,\"\",IFERROR(DATA!IQR2,\"\"))","v":""},{"$f":"IF(DATA!IQS2=0,\"\",IFERROR(DATA!IQS2,\"\"))","v":""},{"$f":"IF(DATA!IQT2=0,\"\",IFERROR(DATA!IQT2,\"\"))","v":""},{"$f":"IF(DATA!IQU2=0,\"\",IFERROR(DATA!IQU2,\"\"))","v":""},{"$f":"IF(DATA!IQV2=0,\"\",IFERROR(DATA!IQV2,\"\"))","v":""},{"$f":"IF(DATA!IQW2=0,\"\",IFERROR(DATA!IQW2,\"\"))","v":""},{"$f":"IF(DATA!IQX2=0,\"\",IFERROR(DATA!IQX2,\"\"))","v":""},{"$f":"IF(DATA!IQY2=0,\"\",IFERROR(DATA!IQY2,\"\"))","v":""},{"$f":"IF(DATA!IQZ2=0,\"\",IFERROR(DATA!IQZ2,\"\"))","v":""},{"$f":"IF(DATA!IRA2=0,\"\",IFERROR(DATA!IRA2,\"\"))","v":""},{"$f":"IF(DATA!IRB2=0,\"\",IFERROR(DATA!IRB2,\"\"))","v":""},{"$f":"IF(DATA!IRC2=0,\"\",IFERROR(DATA!IRC2,\"\"))","v":""},{"$f":"IF(DATA!IRD2=0,\"\",IFERROR(DATA!IRD2,\"\"))","v":""},{"$f":"IF(DATA!IRE2=0,\"\",IFERROR(DATA!IRE2,\"\"))","v":""},{"$f":"IF(DATA!IRF2=0,\"\",IFERROR(DATA!IRF2,\"\"))","v":""},{"$f":"IF(DATA!IRG2=0,\"\",IFERROR(DATA!IRG2,\"\"))","v":""},{"$f":"IF(DATA!IRH2=0,\"\",IFERROR(DATA!IRH2,\"\"))","v":""},{"$f":"IF(DATA!IRI2=0,\"\",IFERROR(DATA!IRI2,\"\"))","v":""},{"$f":"IF(DATA!IRJ2=0,\"\",IFERROR(DATA!IRJ2,\"\"))","v":""},{"$f":"IF(DATA!IRK2=0,\"\",IFERROR(DATA!IRK2,\"\"))","v":""},{"$f":"IF(DATA!IRL2=0,\"\",IFERROR(DATA!IRL2,\"\"))","v":""},{"$f":"IF(DATA!IRM2=0,\"\",IFERROR(DATA!IRM2,\"\"))","v":""},{"$f":"IF(DATA!IRN2=0,\"\",IFERROR(DATA!IRN2,\"\"))","v":""},{"$f":"IF(DATA!IRO2=0,\"\",IFERROR(DATA!IRO2,\"\"))","v":""},{"$f":"IF(DATA!IRP2=0,\"\",IFERROR(DATA!IRP2,\"\"))","v":""},{"$f":"IF(DATA!IRQ2=0,\"\",IFERROR(DATA!IRQ2,\"\"))","v":""},{"$f":"IF(DATA!IRR2=0,\"\",IFERROR(DATA!IRR2,\"\"))","v":""},{"$f":"IF(DATA!IRS2=0,\"\",IFERROR(DATA!IRS2,\"\"))","v":""},{"$f":"IF(DATA!IRT2=0,\"\",IFERROR(DATA!IRT2,\"\"))","v":""},{"$f":"IF(DATA!IRU2=0,\"\",IFERROR(DATA!IRU2,\"\"))","v":""},{"$f":"IF(DATA!IRV2=0,\"\",IFERROR(DATA!IRV2,\"\"))","v":""},{"$f":"IF(DATA!IRW2=0,\"\",IFERROR(DATA!IRW2,\"\"))","v":""},{"$f":"IF(DATA!IRX2=0,\"\",IFERROR(DATA!IRX2,\"\"))","v":""},{"$f":"IF(DATA!IRY2=0,\"\",IFERROR(DATA!IRY2,\"\"))","v":""},{"$f":"IF(DATA!IRZ2=0,\"\",IFERROR(DATA!IRZ2,\"\"))","v":""},{"$f":"IF(DATA!ISA2=0,\"\",IFERROR(DATA!ISA2,\"\"))","v":""},{"$f":"IF(DATA!ISB2=0,\"\",IFERROR(DATA!ISB2,\"\"))","v":""},{"$f":"IF(DATA!ISC2=0,\"\",IFERROR(DATA!ISC2,\"\"))","v":""},{"$f":"IF(DATA!ISD2=0,\"\",IFERROR(DATA!ISD2,\"\"))","v":""},{"$f":"IF(DATA!ISE2=0,\"\",IFERROR(DATA!ISE2,\"\"))","v":""},{"$f":"IF(DATA!ISF2=0,\"\",IFERROR(DATA!ISF2,\"\"))","v":""},{"$f":"IF(DATA!ISG2=0,\"\",IFERROR(DATA!ISG2,\"\"))","v":""},{"$f":"IF(DATA!ISH2=0,\"\",IFERROR(DATA!ISH2,\"\"))","v":""},{"$f":"IF(DATA!ISI2=0,\"\",IFERROR(DATA!ISI2,\"\"))","v":""},{"$f":"IF(DATA!ISJ2=0,\"\",IFERROR(DATA!ISJ2,\"\"))","v":""},{"$f":"IF(DATA!ISK2=0,\"\",IFERROR(DATA!ISK2,\"\"))","v":""},{"$f":"IF(DATA!ISL2=0,\"\",IFERROR(DATA!ISL2,\"\"))","v":""},{"$f":"IF(DATA!ISM2=0,\"\",IFERROR(DATA!ISM2,\"\"))","v":""},{"$f":"IF(DATA!ISN2=0,\"\",IFERROR(DATA!ISN2,\"\"))","v":""},{"$f":"IF(DATA!ISO2=0,\"\",IFERROR(DATA!ISO2,\"\"))","v":""},{"$f":"IF(DATA!ISP2=0,\"\",IFERROR(DATA!ISP2,\"\"))","v":""},{"$f":"IF(DATA!ISQ2=0,\"\",IFERROR(DATA!ISQ2,\"\"))","v":""},{"$f":"IF(DATA!ISR2=0,\"\",IFERROR(DATA!ISR2,\"\"))","v":""},{"$f":"IF(DATA!ISS2=0,\"\",IFERROR(DATA!ISS2,\"\"))","v":""},{"$f":"IF(DATA!IST2=0,\"\",IFERROR(DATA!IST2,\"\"))","v":""},{"$f":"IF(DATA!ISU2=0,\"\",IFERROR(DATA!ISU2,\"\"))","v":""},{"$f":"IF(DATA!ISV2=0,\"\",IFERROR(DATA!ISV2,\"\"))","v":""},{"$f":"IF(DATA!ISW2=0,\"\",IFERROR(DATA!ISW2,\"\"))","v":""},{"$f":"IF(DATA!ISX2=0,\"\",IFERROR(DATA!ISX2,\"\"))","v":""},{"$f":"IF(DATA!ISY2=0,\"\",IFERROR(DATA!ISY2,\"\"))","v":""},{"$f":"IF(DATA!ISZ2=0,\"\",IFERROR(DATA!ISZ2,\"\"))","v":""},{"$f":"IF(DATA!ITA2=0,\"\",IFERROR(DATA!ITA2,\"\"))","v":""},{"$f":"IF(DATA!ITB2=0,\"\",IFERROR(DATA!ITB2,\"\"))","v":""},{"$f":"IF(DATA!ITC2=0,\"\",IFERROR(DATA!ITC2,\"\"))","v":""},{"$f":"IF(DATA!ITD2=0,\"\",IFERROR(DATA!ITD2,\"\"))","v":""},{"$f":"IF(DATA!ITE2=0,\"\",IFERROR(DATA!ITE2,\"\"))","v":""},{"$f":"IF(DATA!ITF2=0,\"\",IFERROR(DATA!ITF2,\"\"))","v":""},{"$f":"IF(DATA!ITG2=0,\"\",IFERROR(DATA!ITG2,\"\"))","v":""},{"$f":"IF(DATA!ITH2=0,\"\",IFERROR(DATA!ITH2,\"\"))","v":""},{"$f":"IF(DATA!ITI2=0,\"\",IFERROR(DATA!ITI2,\"\"))","v":""},{"$f":"IF(DATA!ITJ2=0,\"\",IFERROR(DATA!ITJ2,\"\"))","v":""},{"$f":"IF(DATA!ITK2=0,\"\",IFERROR(DATA!ITK2,\"\"))","v":""},{"$f":"IF(DATA!ITL2=0,\"\",IFERROR(DATA!ITL2,\"\"))","v":""},{"$f":"IF(DATA!ITM2=0,\"\",IFERROR(DATA!ITM2,\"\"))","v":""},{"$f":"IF(DATA!ITN2=0,\"\",IFERROR(DATA!ITN2,\"\"))","v":""},{"$f":"IF(DATA!ITO2=0,\"\",IFERROR(DATA!ITO2,\"\"))","v":""},{"$f":"IF(DATA!ITP2=0,\"\",IFERROR(DATA!ITP2,\"\"))","v":""},{"$f":"IF(DATA!ITQ2=0,\"\",IFERROR(DATA!ITQ2,\"\"))","v":""},{"$f":"IF(DATA!ITR2=0,\"\",IFERROR(DATA!ITR2,\"\"))","v":""},{"$f":"IF(DATA!ITS2=0,\"\",IFERROR(DATA!ITS2,\"\"))","v":""},{"$f":"IF(DATA!ITT2=0,\"\",IFERROR(DATA!ITT2,\"\"))","v":""},{"$f":"IF(DATA!ITU2=0,\"\",IFERROR(DATA!ITU2,\"\"))","v":""},{"$f":"IF(DATA!ITV2=0,\"\",IFERROR(DATA!ITV2,\"\"))","v":""},{"$f":"IF(DATA!ITW2=0,\"\",IFERROR(DATA!ITW2,\"\"))","v":""},{"$f":"IF(DATA!ITX2=0,\"\",IFERROR(DATA!ITX2,\"\"))","v":""},{"$f":"IF(DATA!ITY2=0,\"\",IFERROR(DATA!ITY2,\"\"))","v":""},{"$f":"IF(DATA!ITZ2=0,\"\",IFERROR(DATA!ITZ2,\"\"))","v":""},{"$f":"IF(DATA!IUA2=0,\"\",IFERROR(DATA!IUA2,\"\"))","v":""},{"$f":"IF(DATA!IUB2=0,\"\",IFERROR(DATA!IUB2,\"\"))","v":""},{"$f":"IF(DATA!IUC2=0,\"\",IFERROR(DATA!IUC2,\"\"))","v":""},{"$f":"IF(DATA!IUD2=0,\"\",IFERROR(DATA!IUD2,\"\"))","v":""},{"$f":"IF(DATA!IUE2=0,\"\",IFERROR(DATA!IUE2,\"\"))","v":""},{"$f":"IF(DATA!IUF2=0,\"\",IFERROR(DATA!IUF2,\"\"))","v":""},{"$f":"IF(DATA!IUG2=0,\"\",IFERROR(DATA!IUG2,\"\"))","v":""},{"$f":"IF(DATA!IUH2=0,\"\",IFERROR(DATA!IUH2,\"\"))","v":""},{"$f":"IF(DATA!IUI2=0,\"\",IFERROR(DATA!IUI2,\"\"))","v":""},{"$f":"IF(DATA!IUJ2=0,\"\",IFERROR(DATA!IUJ2,\"\"))","v":""},{"$f":"IF(DATA!IUK2=0,\"\",IFERROR(DATA!IUK2,\"\"))","v":""},{"$f":"IF(DATA!IUL2=0,\"\",IFERROR(DATA!IUL2,\"\"))","v":""},{"$f":"IF(DATA!IUM2=0,\"\",IFERROR(DATA!IUM2,\"\"))","v":""},{"$f":"IF(DATA!IUN2=0,\"\",IFERROR(DATA!IUN2,\"\"))","v":""},{"$f":"IF(DATA!IUO2=0,\"\",IFERROR(DATA!IUO2,\"\"))","v":""},{"$f":"IF(DATA!IUP2=0,\"\",IFERROR(DATA!IUP2,\"\"))","v":""},{"$f":"IF(DATA!IUQ2=0,\"\",IFERROR(DATA!IUQ2,\"\"))","v":""},{"$f":"IF(DATA!IUR2=0,\"\",IFERROR(DATA!IUR2,\"\"))","v":""},{"$f":"IF(DATA!IUS2=0,\"\",IFERROR(DATA!IUS2,\"\"))","v":""},{"$f":"IF(DATA!IUT2=0,\"\",IFERROR(DATA!IUT2,\"\"))","v":""},{"$f":"IF(DATA!IUU2=0,\"\",IFERROR(DATA!IUU2,\"\"))","v":""},{"$f":"IF(DATA!IUV2=0,\"\",IFERROR(DATA!IUV2,\"\"))","v":""},{"$f":"IF(DATA!IUW2=0,\"\",IFERROR(DATA!IUW2,\"\"))","v":""},{"$f":"IF(DATA!IUX2=0,\"\",IFERROR(DATA!IUX2,\"\"))","v":""},{"$f":"IF(DATA!IUY2=0,\"\",IFERROR(DATA!IUY2,\"\"))","v":""},{"$f":"IF(DATA!IUZ2=0,\"\",IFERROR(DATA!IUZ2,\"\"))","v":""},{"$f":"IF(DATA!IVA2=0,\"\",IFERROR(DATA!IVA2,\"\"))","v":""},{"$f":"IF(DATA!IVB2=0,\"\",IFERROR(DATA!IVB2,\"\"))","v":""},{"$f":"IF(DATA!IVC2=0,\"\",IFERROR(DATA!IVC2,\"\"))","v":""},{"$f":"IF(DATA!IVD2=0,\"\",IFERROR(DATA!IVD2,\"\"))","v":""},{"$f":"IF(DATA!IVE2=0,\"\",IFERROR(DATA!IVE2,\"\"))","v":""},{"$f":"IF(DATA!IVF2=0,\"\",IFERROR(DATA!IVF2,\"\"))","v":""},{"$f":"IF(DATA!IVG2=0,\"\",IFERROR(DATA!IVG2,\"\"))","v":""},{"$f":"IF(DATA!IVH2=0,\"\",IFERROR(DATA!IVH2,\"\"))","v":""},{"$f":"IF(DATA!IVI2=0,\"\",IFERROR(DATA!IVI2,\"\"))","v":""},{"$f":"IF(DATA!IVJ2=0,\"\",IFERROR(DATA!IVJ2,\"\"))","v":""},{"$f":"IF(DATA!IVK2=0,\"\",IFERROR(DATA!IVK2,\"\"))","v":""},{"$f":"IF(DATA!IVL2=0,\"\",IFERROR(DATA!IVL2,\"\"))","v":""},{"$f":"IF(DATA!IVM2=0,\"\",IFERROR(DATA!IVM2,\"\"))","v":""},{"$f":"IF(DATA!IVN2=0,\"\",IFERROR(DATA!IVN2,\"\"))","v":""},{"$f":"IF(DATA!IVO2=0,\"\",IFERROR(DATA!IVO2,\"\"))","v":""},{"$f":"IF(DATA!IVP2=0,\"\",IFERROR(DATA!IVP2,\"\"))","v":""},{"$f":"IF(DATA!IVQ2=0,\"\",IFERROR(DATA!IVQ2,\"\"))","v":""},{"$f":"IF(DATA!IVR2=0,\"\",IFERROR(DATA!IVR2,\"\"))","v":""},{"$f":"IF(DATA!IVS2=0,\"\",IFERROR(DATA!IVS2,\"\"))","v":""},{"$f":"IF(DATA!IVT2=0,\"\",IFERROR(DATA!IVT2,\"\"))","v":""},{"$f":"IF(DATA!IVU2=0,\"\",IFERROR(DATA!IVU2,\"\"))","v":""},{"$f":"IF(DATA!IVV2=0,\"\",IFERROR(DATA!IVV2,\"\"))","v":""},{"$f":"IF(DATA!IVW2=0,\"\",IFERROR(DATA!IVW2,\"\"))","v":""},{"$f":"IF(DATA!IVX2=0,\"\",IFERROR(DATA!IVX2,\"\"))","v":""},{"$f":"IF(DATA!IVY2=0,\"\",IFERROR(DATA!IVY2,\"\"))","v":""},{"$f":"IF(DATA!IVZ2=0,\"\",IFERROR(DATA!IVZ2,\"\"))","v":""},{"$f":"IF(DATA!IWA2=0,\"\",IFERROR(DATA!IWA2,\"\"))","v":""},{"$f":"IF(DATA!IWB2=0,\"\",IFERROR(DATA!IWB2,\"\"))","v":""},{"$f":"IF(DATA!IWC2=0,\"\",IFERROR(DATA!IWC2,\"\"))","v":""},{"$f":"IF(DATA!IWD2=0,\"\",IFERROR(DATA!IWD2,\"\"))","v":""},{"$f":"IF(DATA!IWE2=0,\"\",IFERROR(DATA!IWE2,\"\"))","v":""},{"$f":"IF(DATA!IWF2=0,\"\",IFERROR(DATA!IWF2,\"\"))","v":""},{"$f":"IF(DATA!IWG2=0,\"\",IFERROR(DATA!IWG2,\"\"))","v":""},{"$f":"IF(DATA!IWH2=0,\"\",IFERROR(DATA!IWH2,\"\"))","v":""},{"$f":"IF(DATA!IWI2=0,\"\",IFERROR(DATA!IWI2,\"\"))","v":""},{"$f":"IF(DATA!IWJ2=0,\"\",IFERROR(DATA!IWJ2,\"\"))","v":""},{"$f":"IF(DATA!IWK2=0,\"\",IFERROR(DATA!IWK2,\"\"))","v":""},{"$f":"IF(DATA!IWL2=0,\"\",IFERROR(DATA!IWL2,\"\"))","v":""},{"$f":"IF(DATA!IWM2=0,\"\",IFERROR(DATA!IWM2,\"\"))","v":""},{"$f":"IF(DATA!IWN2=0,\"\",IFERROR(DATA!IWN2,\"\"))","v":""},{"$f":"IF(DATA!IWO2=0,\"\",IFERROR(DATA!IWO2,\"\"))","v":""},{"$f":"IF(DATA!IWP2=0,\"\",IFERROR(DATA!IWP2,\"\"))","v":""},{"$f":"IF(DATA!IWQ2=0,\"\",IFERROR(DATA!IWQ2,\"\"))","v":""},{"$f":"IF(DATA!IWR2=0,\"\",IFERROR(DATA!IWR2,\"\"))","v":""},{"$f":"IF(DATA!IWS2=0,\"\",IFERROR(DATA!IWS2,\"\"))","v":""},{"$f":"IF(DATA!IWT2=0,\"\",IFERROR(DATA!IWT2,\"\"))","v":""},{"$f":"IF(DATA!IWU2=0,\"\",IFERROR(DATA!IWU2,\"\"))","v":""},{"$f":"IF(DATA!IWV2=0,\"\",IFERROR(DATA!IWV2,\"\"))","v":""},{"$f":"IF(DATA!IWW2=0,\"\",IFERROR(DATA!IWW2,\"\"))","v":""},{"$f":"IF(DATA!IWX2=0,\"\",IFERROR(DATA!IWX2,\"\"))","v":""},{"$f":"IF(DATA!IWY2=0,\"\",IFERROR(DATA!IWY2,\"\"))","v":""},{"$f":"IF(DATA!IWZ2=0,\"\",IFERROR(DATA!IWZ2,\"\"))","v":""},{"$f":"IF(DATA!IXA2=0,\"\",IFERROR(DATA!IXA2,\"\"))","v":""},{"$f":"IF(DATA!IXB2=0,\"\",IFERROR(DATA!IXB2,\"\"))","v":""},{"$f":"IF(DATA!IXC2=0,\"\",IFERROR(DATA!IXC2,\"\"))","v":""},{"$f":"IF(DATA!IXD2=0,\"\",IFERROR(DATA!IXD2,\"\"))","v":""},{"$f":"IF(DATA!IXE2=0,\"\",IFERROR(DATA!IXE2,\"\"))","v":""},{"$f":"IF(DATA!IXF2=0,\"\",IFERROR(DATA!IXF2,\"\"))","v":""},{"$f":"IF(DATA!IXG2=0,\"\",IFERROR(DATA!IXG2,\"\"))","v":""},{"$f":"IF(DATA!IXH2=0,\"\",IFERROR(DATA!IXH2,\"\"))","v":""},{"$f":"IF(DATA!IXI2=0,\"\",IFERROR(DATA!IXI2,\"\"))","v":""},{"$f":"IF(DATA!IXJ2=0,\"\",IFERROR(DATA!IXJ2,\"\"))","v":""},{"$f":"IF(DATA!IXK2=0,\"\",IFERROR(DATA!IXK2,\"\"))","v":""},{"$f":"IF(DATA!IXL2=0,\"\",IFERROR(DATA!IXL2,\"\"))","v":""},{"$f":"IF(DATA!IXM2=0,\"\",IFERROR(DATA!IXM2,\"\"))","v":""},{"$f":"IF(DATA!IXN2=0,\"\",IFERROR(DATA!IXN2,\"\"))","v":""},{"$f":"IF(DATA!IXO2=0,\"\",IFERROR(DATA!IXO2,\"\"))","v":""},{"$f":"IF(DATA!IXP2=0,\"\",IFERROR(DATA!IXP2,\"\"))","v":""},{"$f":"IF(DATA!IXQ2=0,\"\",IFERROR(DATA!IXQ2,\"\"))","v":""},{"$f":"IF(DATA!IXR2=0,\"\",IFERROR(DATA!IXR2,\"\"))","v":""},{"$f":"IF(DATA!IXS2=0,\"\",IFERROR(DATA!IXS2,\"\"))","v":""},{"$f":"IF(DATA!IXT2=0,\"\",IFERROR(DATA!IXT2,\"\"))","v":""},{"$f":"IF(DATA!IXU2=0,\"\",IFERROR(DATA!IXU2,\"\"))","v":""},{"$f":"IF(DATA!IXV2=0,\"\",IFERROR(DATA!IXV2,\"\"))","v":""},{"$f":"IF(DATA!IXW2=0,\"\",IFERROR(DATA!IXW2,\"\"))","v":""},{"$f":"IF(DATA!IXX2=0,\"\",IFERROR(DATA!IXX2,\"\"))","v":""},{"$f":"IF(DATA!IXY2=0,\"\",IFERROR(DATA!IXY2,\"\"))","v":""},{"$f":"IF(DATA!IXZ2=0,\"\",IFERROR(DATA!IXZ2,\"\"))","v":""},{"$f":"IF(DATA!IYA2=0,\"\",IFERROR(DATA!IYA2,\"\"))","v":""},{"$f":"IF(DATA!IYB2=0,\"\",IFERROR(DATA!IYB2,\"\"))","v":""},{"$f":"IF(DATA!IYC2=0,\"\",IFERROR(DATA!IYC2,\"\"))","v":""},{"$f":"IF(DATA!IYD2=0,\"\",IFERROR(DATA!IYD2,\"\"))","v":""},{"$f":"IF(DATA!IYE2=0,\"\",IFERROR(DATA!IYE2,\"\"))","v":""},{"$f":"IF(DATA!IYF2=0,\"\",IFERROR(DATA!IYF2,\"\"))","v":""},{"$f":"IF(DATA!IYG2=0,\"\",IFERROR(DATA!IYG2,\"\"))","v":""},{"$f":"IF(DATA!IYH2=0,\"\",IFERROR(DATA!IYH2,\"\"))","v":""},{"$f":"IF(DATA!IYI2=0,\"\",IFERROR(DATA!IYI2,\"\"))","v":""},{"$f":"IF(DATA!IYJ2=0,\"\",IFERROR(DATA!IYJ2,\"\"))","v":""},{"$f":"IF(DATA!IYK2=0,\"\",IFERROR(DATA!IYK2,\"\"))","v":""},{"$f":"IF(DATA!IYL2=0,\"\",IFERROR(DATA!IYL2,\"\"))","v":""},{"$f":"IF(DATA!IYM2=0,\"\",IFERROR(DATA!IYM2,\"\"))","v":""},{"$f":"IF(DATA!IYN2=0,\"\",IFERROR(DATA!IYN2,\"\"))","v":""},{"$f":"IF(DATA!IYO2=0,\"\",IFERROR(DATA!IYO2,\"\"))","v":""},{"$f":"IF(DATA!IYP2=0,\"\",IFERROR(DATA!IYP2,\"\"))","v":""},{"$f":"IF(DATA!IYQ2=0,\"\",IFERROR(DATA!IYQ2,\"\"))","v":""},{"$f":"IF(DATA!IYR2=0,\"\",IFERROR(DATA!IYR2,\"\"))","v":""},{"$f":"IF(DATA!IYS2=0,\"\",IFERROR(DATA!IYS2,\"\"))","v":""},{"$f":"IF(DATA!IYT2=0,\"\",IFERROR(DATA!IYT2,\"\"))","v":""},{"$f":"IF(DATA!IYU2=0,\"\",IFERROR(DATA!IYU2,\"\"))","v":""},{"$f":"IF(DATA!IYV2=0,\"\",IFERROR(DATA!IYV2,\"\"))","v":""},{"$f":"IF(DATA!IYW2=0,\"\",IFERROR(DATA!IYW2,\"\"))","v":""},{"$f":"IF(DATA!IYX2=0,\"\",IFERROR(DATA!IYX2,\"\"))","v":""},{"$f":"IF(DATA!IYY2=0,\"\",IFERROR(DATA!IYY2,\"\"))","v":""},{"$f":"IF(DATA!IYZ2=0,\"\",IFERROR(DATA!IYZ2,\"\"))","v":""},{"$f":"IF(DATA!IZA2=0,\"\",IFERROR(DATA!IZA2,\"\"))","v":""},{"$f":"IF(DATA!IZB2=0,\"\",IFERROR(DATA!IZB2,\"\"))","v":""},{"$f":"IF(DATA!IZC2=0,\"\",IFERROR(DATA!IZC2,\"\"))","v":""},{"$f":"IF(DATA!IZD2=0,\"\",IFERROR(DATA!IZD2,\"\"))","v":""},{"$f":"IF(DATA!IZE2=0,\"\",IFERROR(DATA!IZE2,\"\"))","v":""},{"$f":"IF(DATA!IZF2=0,\"\",IFERROR(DATA!IZF2,\"\"))","v":""},{"$f":"IF(DATA!IZG2=0,\"\",IFERROR(DATA!IZG2,\"\"))","v":""},{"$f":"IF(DATA!IZH2=0,\"\",IFERROR(DATA!IZH2,\"\"))","v":""},{"$f":"IF(DATA!IZI2=0,\"\",IFERROR(DATA!IZI2,\"\"))","v":""},{"$f":"IF(DATA!IZJ2=0,\"\",IFERROR(DATA!IZJ2,\"\"))","v":""},{"$f":"IF(DATA!IZK2=0,\"\",IFERROR(DATA!IZK2,\"\"))","v":""},{"$f":"IF(DATA!IZL2=0,\"\",IFERROR(DATA!IZL2,\"\"))","v":""},{"$f":"IF(DATA!IZM2=0,\"\",IFERROR(DATA!IZM2,\"\"))","v":""},{"$f":"IF(DATA!IZN2=0,\"\",IFERROR(DATA!IZN2,\"\"))","v":""},{"$f":"IF(DATA!IZO2=0,\"\",IFERROR(DATA!IZO2,\"\"))","v":""},{"$f":"IF(DATA!IZP2=0,\"\",IFERROR(DATA!IZP2,\"\"))","v":""},{"$f":"IF(DATA!IZQ2=0,\"\",IFERROR(DATA!IZQ2,\"\"))","v":""},{"$f":"IF(DATA!IZR2=0,\"\",IFERROR(DATA!IZR2,\"\"))","v":""},{"$f":"IF(DATA!IZS2=0,\"\",IFERROR(DATA!IZS2,\"\"))","v":""},{"$f":"IF(DATA!IZT2=0,\"\",IFERROR(DATA!IZT2,\"\"))","v":""},{"$f":"IF(DATA!IZU2=0,\"\",IFERROR(DATA!IZU2,\"\"))","v":""},{"$f":"IF(DATA!IZV2=0,\"\",IFERROR(DATA!IZV2,\"\"))","v":""},{"$f":"IF(DATA!IZW2=0,\"\",IFERROR(DATA!IZW2,\"\"))","v":""},{"$f":"IF(DATA!IZX2=0,\"\",IFERROR(DATA!IZX2,\"\"))","v":""},{"$f":"IF(DATA!IZY2=0,\"\",IFERROR(DATA!IZY2,\"\"))","v":""},{"$f":"IF(DATA!IZZ2=0,\"\",IFERROR(DATA!IZZ2,\"\"))","v":""},{"$f":"IF(DATA!JAA2=0,\"\",IFERROR(DATA!JAA2,\"\"))","v":""},{"$f":"IF(DATA!JAB2=0,\"\",IFERROR(DATA!JAB2,\"\"))","v":""},{"$f":"IF(DATA!JAC2=0,\"\",IFERROR(DATA!JAC2,\"\"))","v":""},{"$f":"IF(DATA!JAD2=0,\"\",IFERROR(DATA!JAD2,\"\"))","v":""},{"$f":"IF(DATA!JAE2=0,\"\",IFERROR(DATA!JAE2,\"\"))","v":""},{"$f":"IF(DATA!JAF2=0,\"\",IFERROR(DATA!JAF2,\"\"))","v":""},{"$f":"IF(DATA!JAG2=0,\"\",IFERROR(DATA!JAG2,\"\"))","v":""},{"$f":"IF(DATA!JAH2=0,\"\",IFERROR(DATA!JAH2,\"\"))","v":""},{"$f":"IF(DATA!JAI2=0,\"\",IFERROR(DATA!JAI2,\"\"))","v":""},{"$f":"IF(DATA!JAJ2=0,\"\",IFERROR(DATA!JAJ2,\"\"))","v":""},{"$f":"IF(DATA!JAK2=0,\"\",IFERROR(DATA!JAK2,\"\"))","v":""},{"$f":"IF(DATA!JAL2=0,\"\",IFERROR(DATA!JAL2,\"\"))","v":""},{"$f":"IF(DATA!JAM2=0,\"\",IFERROR(DATA!JAM2,\"\"))","v":""},{"$f":"IF(DATA!JAN2=0,\"\",IFERROR(DATA!JAN2,\"\"))","v":""},{"$f":"IF(DATA!JAO2=0,\"\",IFERROR(DATA!JAO2,\"\"))","v":""},{"$f":"IF(DATA!JAP2=0,\"\",IFERROR(DATA!JAP2,\"\"))","v":""},{"$f":"IF(DATA!JAQ2=0,\"\",IFERROR(DATA!JAQ2,\"\"))","v":""},{"$f":"IF(DATA!JAR2=0,\"\",IFERROR(DATA!JAR2,\"\"))","v":""},{"$f":"IF(DATA!JAS2=0,\"\",IFERROR(DATA!JAS2,\"\"))","v":""},{"$f":"IF(DATA!JAT2=0,\"\",IFERROR(DATA!JAT2,\"\"))","v":""},{"$f":"IF(DATA!JAU2=0,\"\",IFERROR(DATA!JAU2,\"\"))","v":""},{"$f":"IF(DATA!JAV2=0,\"\",IFERROR(DATA!JAV2,\"\"))","v":""},{"$f":"IF(DATA!JAW2=0,\"\",IFERROR(DATA!JAW2,\"\"))","v":""},{"$f":"IF(DATA!JAX2=0,\"\",IFERROR(DATA!JAX2,\"\"))","v":""},{"$f":"IF(DATA!JAY2=0,\"\",IFERROR(DATA!JAY2,\"\"))","v":""},{"$f":"IF(DATA!JAZ2=0,\"\",IFERROR(DATA!JAZ2,\"\"))","v":""},{"$f":"IF(DATA!JBA2=0,\"\",IFERROR(DATA!JBA2,\"\"))","v":""},{"$f":"IF(DATA!JBB2=0,\"\",IFERROR(DATA!JBB2,\"\"))","v":""},{"$f":"IF(DATA!JBC2=0,\"\",IFERROR(DATA!JBC2,\"\"))","v":""},{"$f":"IF(DATA!JBD2=0,\"\",IFERROR(DATA!JBD2,\"\"))","v":""},{"$f":"IF(DATA!JBE2=0,\"\",IFERROR(DATA!JBE2,\"\"))","v":""},{"$f":"IF(DATA!JBF2=0,\"\",IFERROR(DATA!JBF2,\"\"))","v":""},{"$f":"IF(DATA!JBG2=0,\"\",IFERROR(DATA!JBG2,\"\"))","v":""},{"$f":"IF(DATA!JBH2=0,\"\",IFERROR(DATA!JBH2,\"\"))","v":""},{"$f":"IF(DATA!JBI2=0,\"\",IFERROR(DATA!JBI2,\"\"))","v":""},{"$f":"IF(DATA!JBJ2=0,\"\",IFERROR(DATA!JBJ2,\"\"))","v":""},{"$f":"IF(DATA!JBK2=0,\"\",IFERROR(DATA!JBK2,\"\"))","v":""},{"$f":"IF(DATA!JBL2=0,\"\",IFERROR(DATA!JBL2,\"\"))","v":""},{"$f":"IF(DATA!JBM2=0,\"\",IFERROR(DATA!JBM2,\"\"))","v":""},{"$f":"IF(DATA!JBN2=0,\"\",IFERROR(DATA!JBN2,\"\"))","v":""},{"$f":"IF(DATA!JBO2=0,\"\",IFERROR(DATA!JBO2,\"\"))","v":""},{"$f":"IF(DATA!JBP2=0,\"\",IFERROR(DATA!JBP2,\"\"))","v":""},{"$f":"IF(DATA!JBQ2=0,\"\",IFERROR(DATA!JBQ2,\"\"))","v":""},{"$f":"IF(DATA!JBR2=0,\"\",IFERROR(DATA!JBR2,\"\"))","v":""},{"$f":"IF(DATA!JBS2=0,\"\",IFERROR(DATA!JBS2,\"\"))","v":""},{"$f":"IF(DATA!JBT2=0,\"\",IFERROR(DATA!JBT2,\"\"))","v":""},{"$f":"IF(DATA!JBU2=0,\"\",IFERROR(DATA!JBU2,\"\"))","v":""},{"$f":"IF(DATA!JBV2=0,\"\",IFERROR(DATA!JBV2,\"\"))","v":""},{"$f":"IF(DATA!JBW2=0,\"\",IFERROR(DATA!JBW2,\"\"))","v":""},{"$f":"IF(DATA!JBX2=0,\"\",IFERROR(DATA!JBX2,\"\"))","v":""},{"$f":"IF(DATA!JBY2=0,\"\",IFERROR(DATA!JBY2,\"\"))","v":""},{"$f":"IF(DATA!JBZ2=0,\"\",IFERROR(DATA!JBZ2,\"\"))","v":""},{"$f":"IF(DATA!JCA2=0,\"\",IFERROR(DATA!JCA2,\"\"))","v":""},{"$f":"IF(DATA!JCB2=0,\"\",IFERROR(DATA!JCB2,\"\"))","v":""},{"$f":"IF(DATA!JCC2=0,\"\",IFERROR(DATA!JCC2,\"\"))","v":""},{"$f":"IF(DATA!JCD2=0,\"\",IFERROR(DATA!JCD2,\"\"))","v":""},{"$f":"IF(DATA!JCE2=0,\"\",IFERROR(DATA!JCE2,\"\"))","v":""},{"$f":"IF(DATA!JCF2=0,\"\",IFERROR(DATA!JCF2,\"\"))","v":""},{"$f":"IF(DATA!JCG2=0,\"\",IFERROR(DATA!JCG2,\"\"))","v":""},{"$f":"IF(DATA!JCH2=0,\"\",IFERROR(DATA!JCH2,\"\"))","v":""},{"$f":"IF(DATA!JCI2=0,\"\",IFERROR(DATA!JCI2,\"\"))","v":""},{"$f":"IF(DATA!JCJ2=0,\"\",IFERROR(DATA!JCJ2,\"\"))","v":""},{"$f":"IF(DATA!JCK2=0,\"\",IFERROR(DATA!JCK2,\"\"))","v":""},{"$f":"IF(DATA!JCL2=0,\"\",IFERROR(DATA!JCL2,\"\"))","v":""},{"$f":"IF(DATA!JCM2=0,\"\",IFERROR(DATA!JCM2,\"\"))","v":""},{"$f":"IF(DATA!JCN2=0,\"\",IFERROR(DATA!JCN2,\"\"))","v":""},{"$f":"IF(DATA!JCO2=0,\"\",IFERROR(DATA!JCO2,\"\"))","v":""},{"$f":"IF(DATA!JCP2=0,\"\",IFERROR(DATA!JCP2,\"\"))","v":""},{"$f":"IF(DATA!JCQ2=0,\"\",IFERROR(DATA!JCQ2,\"\"))","v":""},{"$f":"IF(DATA!JCR2=0,\"\",IFERROR(DATA!JCR2,\"\"))","v":""},{"$f":"IF(DATA!JCS2=0,\"\",IFERROR(DATA!JCS2,\"\"))","v":""},{"$f":"IF(DATA!JCT2=0,\"\",IFERROR(DATA!JCT2,\"\"))","v":""},{"$f":"IF(DATA!JCU2=0,\"\",IFERROR(DATA!JCU2,\"\"))","v":""},{"$f":"IF(DATA!JCV2=0,\"\",IFERROR(DATA!JCV2,\"\"))","v":""},{"$f":"IF(DATA!JCW2=0,\"\",IFERROR(DATA!JCW2,\"\"))","v":""},{"$f":"IF(DATA!JCX2=0,\"\",IFERROR(DATA!JCX2,\"\"))","v":""},{"$f":"IF(DATA!JCY2=0,\"\",IFERROR(DATA!JCY2,\"\"))","v":""},{"$f":"IF(DATA!JCZ2=0,\"\",IFERROR(DATA!JCZ2,\"\"))","v":""},{"$f":"IF(DATA!JDA2=0,\"\",IFERROR(DATA!JDA2,\"\"))","v":""},{"$f":"IF(DATA!JDB2=0,\"\",IFERROR(DATA!JDB2,\"\"))","v":""},{"$f":"IF(DATA!JDC2=0,\"\",IFERROR(DATA!JDC2,\"\"))","v":""},{"$f":"IF(DATA!JDD2=0,\"\",IFERROR(DATA!JDD2,\"\"))","v":""},{"$f":"IF(DATA!JDE2=0,\"\",IFERROR(DATA!JDE2,\"\"))","v":""},{"$f":"IF(DATA!JDF2=0,\"\",IFERROR(DATA!JDF2,\"\"))","v":""},{"$f":"IF(DATA!JDG2=0,\"\",IFERROR(DATA!JDG2,\"\"))","v":""},{"$f":"IF(DATA!JDH2=0,\"\",IFERROR(DATA!JDH2,\"\"))","v":""},{"$f":"IF(DATA!JDI2=0,\"\",IFERROR(DATA!JDI2,\"\"))","v":""},{"$f":"IF(DATA!JDJ2=0,\"\",IFERROR(DATA!JDJ2,\"\"))","v":""},{"$f":"IF(DATA!JDK2=0,\"\",IFERROR(DATA!JDK2,\"\"))","v":""},{"$f":"IF(DATA!JDL2=0,\"\",IFERROR(DATA!JDL2,\"\"))","v":""},{"$f":"IF(DATA!JDM2=0,\"\",IFERROR(DATA!JDM2,\"\"))","v":""},{"$f":"IF(DATA!JDN2=0,\"\",IFERROR(DATA!JDN2,\"\"))","v":""},{"$f":"IF(DATA!JDO2=0,\"\",IFERROR(DATA!JDO2,\"\"))","v":""},{"$f":"IF(DATA!JDP2=0,\"\",IFERROR(DATA!JDP2,\"\"))","v":""},{"$f":"IF(DATA!JDQ2=0,\"\",IFERROR(DATA!JDQ2,\"\"))","v":""},{"$f":"IF(DATA!JDR2=0,\"\",IFERROR(DATA!JDR2,\"\"))","v":""},{"$f":"IF(DATA!JDS2=0,\"\",IFERROR(DATA!JDS2,\"\"))","v":""},{"$f":"IF(DATA!JDT2=0,\"\",IFERROR(DATA!JDT2,\"\"))","v":""},{"$f":"IF(DATA!JDU2=0,\"\",IFERROR(DATA!JDU2,\"\"))","v":""},{"$f":"IF(DATA!JDV2=0,\"\",IFERROR(DATA!JDV2,\"\"))","v":""},{"$f":"IF(DATA!JDW2=0,\"\",IFERROR(DATA!JDW2,\"\"))","v":""},{"$f":"IF(DATA!JDX2=0,\"\",IFERROR(DATA!JDX2,\"\"))","v":""},{"$f":"IF(DATA!JDY2=0,\"\",IFERROR(DATA!JDY2,\"\"))","v":""},{"$f":"IF(DATA!JDZ2=0,\"\",IFERROR(DATA!JDZ2,\"\"))","v":""},{"$f":"IF(DATA!JEA2=0,\"\",IFERROR(DATA!JEA2,\"\"))","v":""},{"$f":"IF(DATA!JEB2=0,\"\",IFERROR(DATA!JEB2,\"\"))","v":""},{"$f":"IF(DATA!JEC2=0,\"\",IFERROR(DATA!JEC2,\"\"))","v":""},{"$f":"IF(DATA!JED2=0,\"\",IFERROR(DATA!JED2,\"\"))","v":""},{"$f":"IF(DATA!JEE2=0,\"\",IFERROR(DATA!JEE2,\"\"))","v":""},{"$f":"IF(DATA!JEF2=0,\"\",IFERROR(DATA!JEF2,\"\"))","v":""},{"$f":"IF(DATA!JEG2=0,\"\",IFERROR(DATA!JEG2,\"\"))","v":""},{"$f":"IF(DATA!JEH2=0,\"\",IFERROR(DATA!JEH2,\"\"))","v":""},{"$f":"IF(DATA!JEI2=0,\"\",IFERROR(DATA!JEI2,\"\"))","v":""},{"$f":"IF(DATA!JEJ2=0,\"\",IFERROR(DATA!JEJ2,\"\"))","v":""},{"$f":"IF(DATA!JEK2=0,\"\",IFERROR(DATA!JEK2,\"\"))","v":""},{"$f":"IF(DATA!JEL2=0,\"\",IFERROR(DATA!JEL2,\"\"))","v":""},{"$f":"IF(DATA!JEM2=0,\"\",IFERROR(DATA!JEM2,\"\"))","v":""},{"$f":"IF(DATA!JEN2=0,\"\",IFERROR(DATA!JEN2,\"\"))","v":""},{"$f":"IF(DATA!JEO2=0,\"\",IFERROR(DATA!JEO2,\"\"))","v":""},{"$f":"IF(DATA!JEP2=0,\"\",IFERROR(DATA!JEP2,\"\"))","v":""},{"$f":"IF(DATA!JEQ2=0,\"\",IFERROR(DATA!JEQ2,\"\"))","v":""},{"$f":"IF(DATA!JER2=0,\"\",IFERROR(DATA!JER2,\"\"))","v":""},{"$f":"IF(DATA!JES2=0,\"\",IFERROR(DATA!JES2,\"\"))","v":""},{"$f":"IF(DATA!JET2=0,\"\",IFERROR(DATA!JET2,\"\"))","v":""},{"$f":"IF(DATA!JEU2=0,\"\",IFERROR(DATA!JEU2,\"\"))","v":""},{"$f":"IF(DATA!JEV2=0,\"\",IFERROR(DATA!JEV2,\"\"))","v":""},{"$f":"IF(DATA!JEW2=0,\"\",IFERROR(DATA!JEW2,\"\"))","v":""},{"$f":"IF(DATA!JEX2=0,\"\",IFERROR(DATA!JEX2,\"\"))","v":""},{"$f":"IF(DATA!JEY2=0,\"\",IFERROR(DATA!JEY2,\"\"))","v":""},{"$f":"IF(DATA!JEZ2=0,\"\",IFERROR(DATA!JEZ2,\"\"))","v":""},{"$f":"IF(DATA!JFA2=0,\"\",IFERROR(DATA!JFA2,\"\"))","v":""},{"$f":"IF(DATA!JFB2=0,\"\",IFERROR(DATA!JFB2,\"\"))","v":""},{"$f":"IF(DATA!JFC2=0,\"\",IFERROR(DATA!JFC2,\"\"))","v":""},{"$f":"IF(DATA!JFD2=0,\"\",IFERROR(DATA!JFD2,\"\"))","v":""},{"$f":"IF(DATA!JFE2=0,\"\",IFERROR(DATA!JFE2,\"\"))","v":""},{"$f":"IF(DATA!JFF2=0,\"\",IFERROR(DATA!JFF2,\"\"))","v":""},{"$f":"IF(DATA!JFG2=0,\"\",IFERROR(DATA!JFG2,\"\"))","v":""},{"$f":"IF(DATA!JFH2=0,\"\",IFERROR(DATA!JFH2,\"\"))","v":""},{"$f":"IF(DATA!JFI2=0,\"\",IFERROR(DATA!JFI2,\"\"))","v":""},{"$f":"IF(DATA!JFJ2=0,\"\",IFERROR(DATA!JFJ2,\"\"))","v":""},{"$f":"IF(DATA!JFK2=0,\"\",IFERROR(DATA!JFK2,\"\"))","v":""},{"$f":"IF(DATA!JFL2=0,\"\",IFERROR(DATA!JFL2,\"\"))","v":""},{"$f":"IF(DATA!JFM2=0,\"\",IFERROR(DATA!JFM2,\"\"))","v":""},{"$f":"IF(DATA!JFN2=0,\"\",IFERROR(DATA!JFN2,\"\"))","v":""},{"$f":"IF(DATA!JFO2=0,\"\",IFERROR(DATA!JFO2,\"\"))","v":""},{"$f":"IF(DATA!JFP2=0,\"\",IFERROR(DATA!JFP2,\"\"))","v":""},{"$f":"IF(DATA!JFQ2=0,\"\",IFERROR(DATA!JFQ2,\"\"))","v":""},{"$f":"IF(DATA!JFR2=0,\"\",IFERROR(DATA!JFR2,\"\"))","v":""},{"$f":"IF(DATA!JFS2=0,\"\",IFERROR(DATA!JFS2,\"\"))","v":""},{"$f":"IF(DATA!JFT2=0,\"\",IFERROR(DATA!JFT2,\"\"))","v":""},{"$f":"IF(DATA!JFU2=0,\"\",IFERROR(DATA!JFU2,\"\"))","v":""},{"$f":"IF(DATA!JFV2=0,\"\",IFERROR(DATA!JFV2,\"\"))","v":""},{"$f":"IF(DATA!JFW2=0,\"\",IFERROR(DATA!JFW2,\"\"))","v":""},{"$f":"IF(DATA!JFX2=0,\"\",IFERROR(DATA!JFX2,\"\"))","v":""},{"$f":"IF(DATA!JFY2=0,\"\",IFERROR(DATA!JFY2,\"\"))","v":""},{"$f":"IF(DATA!JFZ2=0,\"\",IFERROR(DATA!JFZ2,\"\"))","v":""},{"$f":"IF(DATA!JGA2=0,\"\",IFERROR(DATA!JGA2,\"\"))","v":""},{"$f":"IF(DATA!JGB2=0,\"\",IFERROR(DATA!JGB2,\"\"))","v":""},{"$f":"IF(DATA!JGC2=0,\"\",IFERROR(DATA!JGC2,\"\"))","v":""},{"$f":"IF(DATA!JGD2=0,\"\",IFERROR(DATA!JGD2,\"\"))","v":""},{"$f":"IF(DATA!JGE2=0,\"\",IFERROR(DATA!JGE2,\"\"))","v":""},{"$f":"IF(DATA!JGF2=0,\"\",IFERROR(DATA!JGF2,\"\"))","v":""},{"$f":"IF(DATA!JGG2=0,\"\",IFERROR(DATA!JGG2,\"\"))","v":""},{"$f":"IF(DATA!JGH2=0,\"\",IFERROR(DATA!JGH2,\"\"))","v":""},{"$f":"IF(DATA!JGI2=0,\"\",IFERROR(DATA!JGI2,\"\"))","v":""},{"$f":"IF(DATA!JGJ2=0,\"\",IFERROR(DATA!JGJ2,\"\"))","v":""},{"$f":"IF(DATA!JGK2=0,\"\",IFERROR(DATA!JGK2,\"\"))","v":""},{"$f":"IF(DATA!JGL2=0,\"\",IFERROR(DATA!JGL2,\"\"))","v":""},{"$f":"IF(DATA!JGM2=0,\"\",IFERROR(DATA!JGM2,\"\"))","v":""},{"$f":"IF(DATA!JGN2=0,\"\",IFERROR(DATA!JGN2,\"\"))","v":""},{"$f":"IF(DATA!JGO2=0,\"\",IFERROR(DATA!JGO2,\"\"))","v":""},{"$f":"IF(DATA!JGP2=0,\"\",IFERROR(DATA!JGP2,\"\"))","v":""},{"$f":"IF(DATA!JGQ2=0,\"\",IFERROR(DATA!JGQ2,\"\"))","v":""},{"$f":"IF(DATA!JGR2=0,\"\",IFERROR(DATA!JGR2,\"\"))","v":""},{"$f":"IF(DATA!JGS2=0,\"\",IFERROR(DATA!JGS2,\"\"))","v":""},{"$f":"IF(DATA!JGT2=0,\"\",IFERROR(DATA!JGT2,\"\"))","v":""},{"$f":"IF(DATA!JGU2=0,\"\",IFERROR(DATA!JGU2,\"\"))","v":""},{"$f":"IF(DATA!JGV2=0,\"\",IFERROR(DATA!JGV2,\"\"))","v":""},{"$f":"IF(DATA!JGW2=0,\"\",IFERROR(DATA!JGW2,\"\"))","v":""},{"$f":"IF(DATA!JGX2=0,\"\",IFERROR(DATA!JGX2,\"\"))","v":""},{"$f":"IF(DATA!JGY2=0,\"\",IFERROR(DATA!JGY2,\"\"))","v":""},{"$f":"IF(DATA!JGZ2=0,\"\",IFERROR(DATA!JGZ2,\"\"))","v":""},{"$f":"IF(DATA!JHA2=0,\"\",IFERROR(DATA!JHA2,\"\"))","v":""},{"$f":"IF(DATA!JHB2=0,\"\",IFERROR(DATA!JHB2,\"\"))","v":""},{"$f":"IF(DATA!JHC2=0,\"\",IFERROR(DATA!JHC2,\"\"))","v":""},{"$f":"IF(DATA!JHD2=0,\"\",IFERROR(DATA!JHD2,\"\"))","v":""},{"$f":"IF(DATA!JHE2=0,\"\",IFERROR(DATA!JHE2,\"\"))","v":""},{"$f":"IF(DATA!JHF2=0,\"\",IFERROR(DATA!JHF2,\"\"))","v":""},{"$f":"IF(DATA!JHG2=0,\"\",IFERROR(DATA!JHG2,\"\"))","v":""},{"$f":"IF(DATA!JHH2=0,\"\",IFERROR(DATA!JHH2,\"\"))","v":""},{"$f":"IF(DATA!JHI2=0,\"\",IFERROR(DATA!JHI2,\"\"))","v":""},{"$f":"IF(DATA!JHJ2=0,\"\",IFERROR(DATA!JHJ2,\"\"))","v":""},{"$f":"IF(DATA!JHK2=0,\"\",IFERROR(DATA!JHK2,\"\"))","v":""},{"$f":"IF(DATA!JHL2=0,\"\",IFERROR(DATA!JHL2,\"\"))","v":""},{"$f":"IF(DATA!JHM2=0,\"\",IFERROR(DATA!JHM2,\"\"))","v":""},{"$f":"IF(DATA!JHN2=0,\"\",IFERROR(DATA!JHN2,\"\"))","v":""},{"$f":"IF(DATA!JHO2=0,\"\",IFERROR(DATA!JHO2,\"\"))","v":""},{"$f":"IF(DATA!JHP2=0,\"\",IFERROR(DATA!JHP2,\"\"))","v":""},{"$f":"IF(DATA!JHQ2=0,\"\",IFERROR(DATA!JHQ2,\"\"))","v":""},{"$f":"IF(DATA!JHR2=0,\"\",IFERROR(DATA!JHR2,\"\"))","v":""},{"$f":"IF(DATA!JHS2=0,\"\",IFERROR(DATA!JHS2,\"\"))","v":""},{"$f":"IF(DATA!JHT2=0,\"\",IFERROR(DATA!JHT2,\"\"))","v":""},{"$f":"IF(DATA!JHU2=0,\"\",IFERROR(DATA!JHU2,\"\"))","v":""},{"$f":"IF(DATA!JHV2=0,\"\",IFERROR(DATA!JHV2,\"\"))","v":""},{"$f":"IF(DATA!JHW2=0,\"\",IFERROR(DATA!JHW2,\"\"))","v":""},{"$f":"IF(DATA!JHX2=0,\"\",IFERROR(DATA!JHX2,\"\"))","v":""},{"$f":"IF(DATA!JHY2=0,\"\",IFERROR(DATA!JHY2,\"\"))","v":""},{"$f":"IF(DATA!JHZ2=0,\"\",IFERROR(DATA!JHZ2,\"\"))","v":""},{"$f":"IF(DATA!JIA2=0,\"\",IFERROR(DATA!JIA2,\"\"))","v":""},{"$f":"IF(DATA!JIB2=0,\"\",IFERROR(DATA!JIB2,\"\"))","v":""},{"$f":"IF(DATA!JIC2=0,\"\",IFERROR(DATA!JIC2,\"\"))","v":""},{"$f":"IF(DATA!JID2=0,\"\",IFERROR(DATA!JID2,\"\"))","v":""},{"$f":"IF(DATA!JIE2=0,\"\",IFERROR(DATA!JIE2,\"\"))","v":""},{"$f":"IF(DATA!JIF2=0,\"\",IFERROR(DATA!JIF2,\"\"))","v":""},{"$f":"IF(DATA!JIG2=0,\"\",IFERROR(DATA!JIG2,\"\"))","v":""},{"$f":"IF(DATA!JIH2=0,\"\",IFERROR(DATA!JIH2,\"\"))","v":""},{"$f":"IF(DATA!JII2=0,\"\",IFERROR(DATA!JII2,\"\"))","v":""},{"$f":"IF(DATA!JIJ2=0,\"\",IFERROR(DATA!JIJ2,\"\"))","v":""},{"$f":"IF(DATA!JIK2=0,\"\",IFERROR(DATA!JIK2,\"\"))","v":""},{"$f":"IF(DATA!JIL2=0,\"\",IFERROR(DATA!JIL2,\"\"))","v":""},{"$f":"IF(DATA!JIM2=0,\"\",IFERROR(DATA!JIM2,\"\"))","v":""},{"$f":"IF(DATA!JIN2=0,\"\",IFERROR(DATA!JIN2,\"\"))","v":""},{"$f":"IF(DATA!JIO2=0,\"\",IFERROR(DATA!JIO2,\"\"))","v":""},{"$f":"IF(DATA!JIP2=0,\"\",IFERROR(DATA!JIP2,\"\"))","v":""},{"$f":"IF(DATA!JIQ2=0,\"\",IFERROR(DATA!JIQ2,\"\"))","v":""},{"$f":"IF(DATA!JIR2=0,\"\",IFERROR(DATA!JIR2,\"\"))","v":""},{"$f":"IF(DATA!JIS2=0,\"\",IFERROR(DATA!JIS2,\"\"))","v":""},{"$f":"IF(DATA!JIT2=0,\"\",IFERROR(DATA!JIT2,\"\"))","v":""},{"$f":"IF(DATA!JIU2=0,\"\",IFERROR(DATA!JIU2,\"\"))","v":""},{"$f":"IF(DATA!JIV2=0,\"\",IFERROR(DATA!JIV2,\"\"))","v":""},{"$f":"IF(DATA!JIW2=0,\"\",IFERROR(DATA!JIW2,\"\"))","v":""},{"$f":"IF(DATA!JIX2=0,\"\",IFERROR(DATA!JIX2,\"\"))","v":""},{"$f":"IF(DATA!JIY2=0,\"\",IFERROR(DATA!JIY2,\"\"))","v":""},{"$f":"IF(DATA!JIZ2=0,\"\",IFERROR(DATA!JIZ2,\"\"))","v":""},{"$f":"IF(DATA!JJA2=0,\"\",IFERROR(DATA!JJA2,\"\"))","v":""},{"$f":"IF(DATA!JJB2=0,\"\",IFERROR(DATA!JJB2,\"\"))","v":""},{"$f":"IF(DATA!JJC2=0,\"\",IFERROR(DATA!JJC2,\"\"))","v":""},{"$f":"IF(DATA!JJD2=0,\"\",IFERROR(DATA!JJD2,\"\"))","v":""},{"$f":"IF(DATA!JJE2=0,\"\",IFERROR(DATA!JJE2,\"\"))","v":""},{"$f":"IF(DATA!JJF2=0,\"\",IFERROR(DATA!JJF2,\"\"))","v":""},{"$f":"IF(DATA!JJG2=0,\"\",IFERROR(DATA!JJG2,\"\"))","v":""},{"$f":"IF(DATA!JJH2=0,\"\",IFERROR(DATA!JJH2,\"\"))","v":""},{"$f":"IF(DATA!JJI2=0,\"\",IFERROR(DATA!JJI2,\"\"))","v":""},{"$f":"IF(DATA!JJJ2=0,\"\",IFERROR(DATA!JJJ2,\"\"))","v":""},{"$f":"IF(DATA!JJK2=0,\"\",IFERROR(DATA!JJK2,\"\"))","v":""},{"$f":"IF(DATA!JJL2=0,\"\",IFERROR(DATA!JJL2,\"\"))","v":""},{"$f":"IF(DATA!JJM2=0,\"\",IFERROR(DATA!JJM2,\"\"))","v":""},{"$f":"IF(DATA!JJN2=0,\"\",IFERROR(DATA!JJN2,\"\"))","v":""},{"$f":"IF(DATA!JJO2=0,\"\",IFERROR(DATA!JJO2,\"\"))","v":""},{"$f":"IF(DATA!JJP2=0,\"\",IFERROR(DATA!JJP2,\"\"))","v":""},{"$f":"IF(DATA!JJQ2=0,\"\",IFERROR(DATA!JJQ2,\"\"))","v":""},{"$f":"IF(DATA!JJR2=0,\"\",IFERROR(DATA!JJR2,\"\"))","v":""},{"$f":"IF(DATA!JJS2=0,\"\",IFERROR(DATA!JJS2,\"\"))","v":""},{"$f":"IF(DATA!JJT2=0,\"\",IFERROR(DATA!JJT2,\"\"))","v":""},{"$f":"IF(DATA!JJU2=0,\"\",IFERROR(DATA!JJU2,\"\"))","v":""},{"$f":"IF(DATA!JJV2=0,\"\",IFERROR(DATA!JJV2,\"\"))","v":""},{"$f":"IF(DATA!JJW2=0,\"\",IFERROR(DATA!JJW2,\"\"))","v":""},{"$f":"IF(DATA!JJX2=0,\"\",IFERROR(DATA!JJX2,\"\"))","v":""},{"$f":"IF(DATA!JJY2=0,\"\",IFERROR(DATA!JJY2,\"\"))","v":""},{"$f":"IF(DATA!JJZ2=0,\"\",IFERROR(DATA!JJZ2,\"\"))","v":""},{"$f":"IF(DATA!JKA2=0,\"\",IFERROR(DATA!JKA2,\"\"))","v":""},{"$f":"IF(DATA!JKB2=0,\"\",IFERROR(DATA!JKB2,\"\"))","v":""},{"$f":"IF(DATA!JKC2=0,\"\",IFERROR(DATA!JKC2,\"\"))","v":""},{"$f":"IF(DATA!JKD2=0,\"\",IFERROR(DATA!JKD2,\"\"))","v":""},{"$f":"IF(DATA!JKE2=0,\"\",IFERROR(DATA!JKE2,\"\"))","v":""},{"$f":"IF(DATA!JKF2=0,\"\",IFERROR(DATA!JKF2,\"\"))","v":""},{"$f":"IF(DATA!JKG2=0,\"\",IFERROR(DATA!JKG2,\"\"))","v":""},{"$f":"IF(DATA!JKH2=0,\"\",IFERROR(DATA!JKH2,\"\"))","v":""},{"$f":"IF(DATA!JKI2=0,\"\",IFERROR(DATA!JKI2,\"\"))","v":""},{"$f":"IF(DATA!JKJ2=0,\"\",IFERROR(DATA!JKJ2,\"\"))","v":""},{"$f":"IF(DATA!JKK2=0,\"\",IFERROR(DATA!JKK2,\"\"))","v":""},{"$f":"IF(DATA!JKL2=0,\"\",IFERROR(DATA!JKL2,\"\"))","v":""},{"$f":"IF(DATA!JKM2=0,\"\",IFERROR(DATA!JKM2,\"\"))","v":""},{"$f":"IF(DATA!JKN2=0,\"\",IFERROR(DATA!JKN2,\"\"))","v":""},{"$f":"IF(DATA!JKO2=0,\"\",IFERROR(DATA!JKO2,\"\"))","v":""},{"$f":"IF(DATA!JKP2=0,\"\",IFERROR(DATA!JKP2,\"\"))","v":""},{"$f":"IF(DATA!JKQ2=0,\"\",IFERROR(DATA!JKQ2,\"\"))","v":""},{"$f":"IF(DATA!JKR2=0,\"\",IFERROR(DATA!JKR2,\"\"))","v":""},{"$f":"IF(DATA!JKS2=0,\"\",IFERROR(DATA!JKS2,\"\"))","v":""},{"$f":"IF(DATA!JKT2=0,\"\",IFERROR(DATA!JKT2,\"\"))","v":""},{"$f":"IF(DATA!JKU2=0,\"\",IFERROR(DATA!JKU2,\"\"))","v":""},{"$f":"IF(DATA!JKV2=0,\"\",IFERROR(DATA!JKV2,\"\"))","v":""},{"$f":"IF(DATA!JKW2=0,\"\",IFERROR(DATA!JKW2,\"\"))","v":""},{"$f":"IF(DATA!JKX2=0,\"\",IFERROR(DATA!JKX2,\"\"))","v":""},{"$f":"IF(DATA!JKY2=0,\"\",IFERROR(DATA!JKY2,\"\"))","v":""},{"$f":"IF(DATA!JKZ2=0,\"\",IFERROR(DATA!JKZ2,\"\"))","v":""},{"$f":"IF(DATA!JLA2=0,\"\",IFERROR(DATA!JLA2,\"\"))","v":""},{"$f":"IF(DATA!JLB2=0,\"\",IFERROR(DATA!JLB2,\"\"))","v":""},{"$f":"IF(DATA!JLC2=0,\"\",IFERROR(DATA!JLC2,\"\"))","v":""},{"$f":"IF(DATA!JLD2=0,\"\",IFERROR(DATA!JLD2,\"\"))","v":""},{"$f":"IF(DATA!JLE2=0,\"\",IFERROR(DATA!JLE2,\"\"))","v":""},{"$f":"IF(DATA!JLF2=0,\"\",IFERROR(DATA!JLF2,\"\"))","v":""},{"$f":"IF(DATA!JLG2=0,\"\",IFERROR(DATA!JLG2,\"\"))","v":""},{"$f":"IF(DATA!JLH2=0,\"\",IFERROR(DATA!JLH2,\"\"))","v":""},{"$f":"IF(DATA!JLI2=0,\"\",IFERROR(DATA!JLI2,\"\"))","v":""},{"$f":"IF(DATA!JLJ2=0,\"\",IFERROR(DATA!JLJ2,\"\"))","v":""},{"$f":"IF(DATA!JLK2=0,\"\",IFERROR(DATA!JLK2,\"\"))","v":""},{"$f":"IF(DATA!JLL2=0,\"\",IFERROR(DATA!JLL2,\"\"))","v":""},{"$f":"IF(DATA!JLM2=0,\"\",IFERROR(DATA!JLM2,\"\"))","v":""},{"$f":"IF(DATA!JLN2=0,\"\",IFERROR(DATA!JLN2,\"\"))","v":""},{"$f":"IF(DATA!JLO2=0,\"\",IFERROR(DATA!JLO2,\"\"))","v":""},{"$f":"IF(DATA!JLP2=0,\"\",IFERROR(DATA!JLP2,\"\"))","v":""},{"$f":"IF(DATA!JLQ2=0,\"\",IFERROR(DATA!JLQ2,\"\"))","v":""},{"$f":"IF(DATA!JLR2=0,\"\",IFERROR(DATA!JLR2,\"\"))","v":""},{"$f":"IF(DATA!JLS2=0,\"\",IFERROR(DATA!JLS2,\"\"))","v":""},{"$f":"IF(DATA!JLT2=0,\"\",IFERROR(DATA!JLT2,\"\"))","v":""},{"$f":"IF(DATA!JLU2=0,\"\",IFERROR(DATA!JLU2,\"\"))","v":""},{"$f":"IF(DATA!JLV2=0,\"\",IFERROR(DATA!JLV2,\"\"))","v":""},{"$f":"IF(DATA!JLW2=0,\"\",IFERROR(DATA!JLW2,\"\"))","v":""},{"$f":"IF(DATA!JLX2=0,\"\",IFERROR(DATA!JLX2,\"\"))","v":""},{"$f":"IF(DATA!JLY2=0,\"\",IFERROR(DATA!JLY2,\"\"))","v":""},{"$f":"IF(DATA!JLZ2=0,\"\",IFERROR(DATA!JLZ2,\"\"))","v":""},{"$f":"IF(DATA!JMA2=0,\"\",IFERROR(DATA!JMA2,\"\"))","v":""},{"$f":"IF(DATA!JMB2=0,\"\",IFERROR(DATA!JMB2,\"\"))","v":""},{"$f":"IF(DATA!JMC2=0,\"\",IFERROR(DATA!JMC2,\"\"))","v":""},{"$f":"IF(DATA!JMD2=0,\"\",IFERROR(DATA!JMD2,\"\"))","v":""},{"$f":"IF(DATA!JME2=0,\"\",IFERROR(DATA!JME2,\"\"))","v":""},{"$f":"IF(DATA!JMF2=0,\"\",IFERROR(DATA!JMF2,\"\"))","v":""},{"$f":"IF(DATA!JMG2=0,\"\",IFERROR(DATA!JMG2,\"\"))","v":""},{"$f":"IF(DATA!JMH2=0,\"\",IFERROR(DATA!JMH2,\"\"))","v":""},{"$f":"IF(DATA!JMI2=0,\"\",IFERROR(DATA!JMI2,\"\"))","v":""},{"$f":"IF(DATA!JMJ2=0,\"\",IFERROR(DATA!JMJ2,\"\"))","v":""},{"$f":"IF(DATA!JMK2=0,\"\",IFERROR(DATA!JMK2,\"\"))","v":""},{"$f":"IF(DATA!JML2=0,\"\",IFERROR(DATA!JML2,\"\"))","v":""},{"$f":"IF(DATA!JMM2=0,\"\",IFERROR(DATA!JMM2,\"\"))","v":""},{"$f":"IF(DATA!JMN2=0,\"\",IFERROR(DATA!JMN2,\"\"))","v":""},{"$f":"IF(DATA!JMO2=0,\"\",IFERROR(DATA!JMO2,\"\"))","v":""},{"$f":"IF(DATA!JMP2=0,\"\",IFERROR(DATA!JMP2,\"\"))","v":""},{"$f":"IF(DATA!JMQ2=0,\"\",IFERROR(DATA!JMQ2,\"\"))","v":""},{"$f":"IF(DATA!JMR2=0,\"\",IFERROR(DATA!JMR2,\"\"))","v":""},{"$f":"IF(DATA!JMS2=0,\"\",IFERROR(DATA!JMS2,\"\"))","v":""},{"$f":"IF(DATA!JMT2=0,\"\",IFERROR(DATA!JMT2,\"\"))","v":""},{"$f":"IF(DATA!JMU2=0,\"\",IFERROR(DATA!JMU2,\"\"))","v":""},{"$f":"IF(DATA!JMV2=0,\"\",IFERROR(DATA!JMV2,\"\"))","v":""},{"$f":"IF(DATA!JMW2=0,\"\",IFERROR(DATA!JMW2,\"\"))","v":""},{"$f":"IF(DATA!JMX2=0,\"\",IFERROR(DATA!JMX2,\"\"))","v":""},{"$f":"IF(DATA!JMY2=0,\"\",IFERROR(DATA!JMY2,\"\"))","v":""},{"$f":"IF(DATA!JMZ2=0,\"\",IFERROR(DATA!JMZ2,\"\"))","v":""},{"$f":"IF(DATA!JNA2=0,\"\",IFERROR(DATA!JNA2,\"\"))","v":""},{"$f":"IF(DATA!JNB2=0,\"\",IFERROR(DATA!JNB2,\"\"))","v":""},{"$f":"IF(DATA!JNC2=0,\"\",IFERROR(DATA!JNC2,\"\"))","v":""},{"$f":"IF(DATA!JND2=0,\"\",IFERROR(DATA!JND2,\"\"))","v":""},{"$f":"IF(DATA!JNE2=0,\"\",IFERROR(DATA!JNE2,\"\"))","v":""},{"$f":"IF(DATA!JNF2=0,\"\",IFERROR(DATA!JNF2,\"\"))","v":""},{"$f":"IF(DATA!JNG2=0,\"\",IFERROR(DATA!JNG2,\"\"))","v":""},{"$f":"IF(DATA!JNH2=0,\"\",IFERROR(DATA!JNH2,\"\"))","v":""},{"$f":"IF(DATA!JNI2=0,\"\",IFERROR(DATA!JNI2,\"\"))","v":""},{"$f":"IF(DATA!JNJ2=0,\"\",IFERROR(DATA!JNJ2,\"\"))","v":""},{"$f":"IF(DATA!JNK2=0,\"\",IFERROR(DATA!JNK2,\"\"))","v":""},{"$f":"IF(DATA!JNL2=0,\"\",IFERROR(DATA!JNL2,\"\"))","v":""},{"$f":"IF(DATA!JNM2=0,\"\",IFERROR(DATA!JNM2,\"\"))","v":""},{"$f":"IF(DATA!JNN2=0,\"\",IFERROR(DATA!JNN2,\"\"))","v":""},{"$f":"IF(DATA!JNO2=0,\"\",IFERROR(DATA!JNO2,\"\"))","v":""},{"$f":"IF(DATA!JNP2=0,\"\",IFERROR(DATA!JNP2,\"\"))","v":""},{"$f":"IF(DATA!JNQ2=0,\"\",IFERROR(DATA!JNQ2,\"\"))","v":""},{"$f":"IF(DATA!JNR2=0,\"\",IFERROR(DATA!JNR2,\"\"))","v":""},{"$f":"IF(DATA!JNS2=0,\"\",IFERROR(DATA!JNS2,\"\"))","v":""},{"$f":"IF(DATA!JNT2=0,\"\",IFERROR(DATA!JNT2,\"\"))","v":""},{"$f":"IF(DATA!JNU2=0,\"\",IFERROR(DATA!JNU2,\"\"))","v":""},{"$f":"IF(DATA!JNV2=0,\"\",IFERROR(DATA!JNV2,\"\"))","v":""},{"$f":"IF(DATA!JNW2=0,\"\",IFERROR(DATA!JNW2,\"\"))","v":""},{"$f":"IF(DATA!JNX2=0,\"\",IFERROR(DATA!JNX2,\"\"))","v":""},{"$f":"IF(DATA!JNY2=0,\"\",IFERROR(DATA!JNY2,\"\"))","v":""},{"$f":"IF(DATA!JNZ2=0,\"\",IFERROR(DATA!JNZ2,\"\"))","v":""},{"$f":"IF(DATA!JOA2=0,\"\",IFERROR(DATA!JOA2,\"\"))","v":""},{"$f":"IF(DATA!JOB2=0,\"\",IFERROR(DATA!JOB2,\"\"))","v":""},{"$f":"IF(DATA!JOC2=0,\"\",IFERROR(DATA!JOC2,\"\"))","v":""},{"$f":"IF(DATA!JOD2=0,\"\",IFERROR(DATA!JOD2,\"\"))","v":""},{"$f":"IF(DATA!JOE2=0,\"\",IFERROR(DATA!JOE2,\"\"))","v":""},{"$f":"IF(DATA!JOF2=0,\"\",IFERROR(DATA!JOF2,\"\"))","v":""},{"$f":"IF(DATA!JOG2=0,\"\",IFERROR(DATA!JOG2,\"\"))","v":""},{"$f":"IF(DATA!JOH2=0,\"\",IFERROR(DATA!JOH2,\"\"))","v":""},{"$f":"IF(DATA!JOI2=0,\"\",IFERROR(DATA!JOI2,\"\"))","v":""},{"$f":"IF(DATA!JOJ2=0,\"\",IFERROR(DATA!JOJ2,\"\"))","v":""},{"$f":"IF(DATA!JOK2=0,\"\",IFERROR(DATA!JOK2,\"\"))","v":""},{"$f":"IF(DATA!JOL2=0,\"\",IFERROR(DATA!JOL2,\"\"))","v":""},{"$f":"IF(DATA!JOM2=0,\"\",IFERROR(DATA!JOM2,\"\"))","v":""},{"$f":"IF(DATA!JON2=0,\"\",IFERROR(DATA!JON2,\"\"))","v":""},{"$f":"IF(DATA!JOO2=0,\"\",IFERROR(DATA!JOO2,\"\"))","v":""},{"$f":"IF(DATA!JOP2=0,\"\",IFERROR(DATA!JOP2,\"\"))","v":""},{"$f":"IF(DATA!JOQ2=0,\"\",IFERROR(DATA!JOQ2,\"\"))","v":""},{"$f":"IF(DATA!JOR2=0,\"\",IFERROR(DATA!JOR2,\"\"))","v":""},{"$f":"IF(DATA!JOS2=0,\"\",IFERROR(DATA!JOS2,\"\"))","v":""},{"$f":"IF(DATA!JOT2=0,\"\",IFERROR(DATA!JOT2,\"\"))","v":""},{"$f":"IF(DATA!JOU2=0,\"\",IFERROR(DATA!JOU2,\"\"))","v":""},{"$f":"IF(DATA!JOV2=0,\"\",IFERROR(DATA!JOV2,\"\"))","v":""},{"$f":"IF(DATA!JOW2=0,\"\",IFERROR(DATA!JOW2,\"\"))","v":""},{"$f":"IF(DATA!JOX2=0,\"\",IFERROR(DATA!JOX2,\"\"))","v":""},{"$f":"IF(DATA!JOY2=0,\"\",IFERROR(DATA!JOY2,\"\"))","v":""},{"$f":"IF(DATA!JOZ2=0,\"\",IFERROR(DATA!JOZ2,\"\"))","v":""},{"$f":"IF(DATA!JPA2=0,\"\",IFERROR(DATA!JPA2,\"\"))","v":""},{"$f":"IF(DATA!JPB2=0,\"\",IFERROR(DATA!JPB2,\"\"))","v":""},{"$f":"IF(DATA!JPC2=0,\"\",IFERROR(DATA!JPC2,\"\"))","v":""},{"$f":"IF(DATA!JPD2=0,\"\",IFERROR(DATA!JPD2,\"\"))","v":""},{"$f":"IF(DATA!JPE2=0,\"\",IFERROR(DATA!JPE2,\"\"))","v":""},{"$f":"IF(DATA!JPF2=0,\"\",IFERROR(DATA!JPF2,\"\"))","v":""},{"$f":"IF(DATA!JPG2=0,\"\",IFERROR(DATA!JPG2,\"\"))","v":""},{"$f":"IF(DATA!JPH2=0,\"\",IFERROR(DATA!JPH2,\"\"))","v":""},{"$f":"IF(DATA!JPI2=0,\"\",IFERROR(DATA!JPI2,\"\"))","v":""},{"$f":"IF(DATA!JPJ2=0,\"\",IFERROR(DATA!JPJ2,\"\"))","v":""},{"$f":"IF(DATA!JPK2=0,\"\",IFERROR(DATA!JPK2,\"\"))","v":""},{"$f":"IF(DATA!JPL2=0,\"\",IFERROR(DATA!JPL2,\"\"))","v":""},{"$f":"IF(DATA!JPM2=0,\"\",IFERROR(DATA!JPM2,\"\"))","v":""},{"$f":"IF(DATA!JPN2=0,\"\",IFERROR(DATA!JPN2,\"\"))","v":""},{"$f":"IF(DATA!JPO2=0,\"\",IFERROR(DATA!JPO2,\"\"))","v":""},{"$f":"IF(DATA!JPP2=0,\"\",IFERROR(DATA!JPP2,\"\"))","v":""},{"$f":"IF(DATA!JPQ2=0,\"\",IFERROR(DATA!JPQ2,\"\"))","v":""},{"$f":"IF(DATA!JPR2=0,\"\",IFERROR(DATA!JPR2,\"\"))","v":""},{"$f":"IF(DATA!JPS2=0,\"\",IFERROR(DATA!JPS2,\"\"))","v":""},{"$f":"IF(DATA!JPT2=0,\"\",IFERROR(DATA!JPT2,\"\"))","v":""},{"$f":"IF(DATA!JPU2=0,\"\",IFERROR(DATA!JPU2,\"\"))","v":""},{"$f":"IF(DATA!JPV2=0,\"\",IFERROR(DATA!JPV2,\"\"))","v":""},{"$f":"IF(DATA!JPW2=0,\"\",IFERROR(DATA!JPW2,\"\"))","v":""},{"$f":"IF(DATA!JPX2=0,\"\",IFERROR(DATA!JPX2,\"\"))","v":""},{"$f":"IF(DATA!JPY2=0,\"\",IFERROR(DATA!JPY2,\"\"))","v":""},{"$f":"IF(DATA!JPZ2=0,\"\",IFERROR(DATA!JPZ2,\"\"))","v":""},{"$f":"IF(DATA!JQA2=0,\"\",IFERROR(DATA!JQA2,\"\"))","v":""},{"$f":"IF(DATA!JQB2=0,\"\",IFERROR(DATA!JQB2,\"\"))","v":""},{"$f":"IF(DATA!JQC2=0,\"\",IFERROR(DATA!JQC2,\"\"))","v":""},{"$f":"IF(DATA!JQD2=0,\"\",IFERROR(DATA!JQD2,\"\"))","v":""},{"$f":"IF(DATA!JQE2=0,\"\",IFERROR(DATA!JQE2,\"\"))","v":""},{"$f":"IF(DATA!JQF2=0,\"\",IFERROR(DATA!JQF2,\"\"))","v":""},{"$f":"IF(DATA!JQG2=0,\"\",IFERROR(DATA!JQG2,\"\"))","v":""},{"$f":"IF(DATA!JQH2=0,\"\",IFERROR(DATA!JQH2,\"\"))","v":""},{"$f":"IF(DATA!JQI2=0,\"\",IFERROR(DATA!JQI2,\"\"))","v":""},{"$f":"IF(DATA!JQJ2=0,\"\",IFERROR(DATA!JQJ2,\"\"))","v":""},{"$f":"IF(DATA!JQK2=0,\"\",IFERROR(DATA!JQK2,\"\"))","v":""},{"$f":"IF(DATA!JQL2=0,\"\",IFERROR(DATA!JQL2,\"\"))","v":""},{"$f":"IF(DATA!JQM2=0,\"\",IFERROR(DATA!JQM2,\"\"))","v":""},{"$f":"IF(DATA!JQN2=0,\"\",IFERROR(DATA!JQN2,\"\"))","v":""},{"$f":"IF(DATA!JQO2=0,\"\",IFERROR(DATA!JQO2,\"\"))","v":""},{"$f":"IF(DATA!JQP2=0,\"\",IFERROR(DATA!JQP2,\"\"))","v":""},{"$f":"IF(DATA!JQQ2=0,\"\",IFERROR(DATA!JQQ2,\"\"))","v":""},{"$f":"IF(DATA!JQR2=0,\"\",IFERROR(DATA!JQR2,\"\"))","v":""},{"$f":"IF(DATA!JQS2=0,\"\",IFERROR(DATA!JQS2,\"\"))","v":""},{"$f":"IF(DATA!JQT2=0,\"\",IFERROR(DATA!JQT2,\"\"))","v":""},{"$f":"IF(DATA!JQU2=0,\"\",IFERROR(DATA!JQU2,\"\"))","v":""},{"$f":"IF(DATA!JQV2=0,\"\",IFERROR(DATA!JQV2,\"\"))","v":""},{"$f":"IF(DATA!JQW2=0,\"\",IFERROR(DATA!JQW2,\"\"))","v":""},{"$f":"IF(DATA!JQX2=0,\"\",IFERROR(DATA!JQX2,\"\"))","v":""},{"$f":"IF(DATA!JQY2=0,\"\",IFERROR(DATA!JQY2,\"\"))","v":""},{"$f":"IF(DATA!JQZ2=0,\"\",IFERROR(DATA!JQZ2,\"\"))","v":""},{"$f":"IF(DATA!JRA2=0,\"\",IFERROR(DATA!JRA2,\"\"))","v":""},{"$f":"IF(DATA!JRB2=0,\"\",IFERROR(DATA!JRB2,\"\"))","v":""},{"$f":"IF(DATA!JRC2=0,\"\",IFERROR(DATA!JRC2,\"\"))","v":""},{"$f":"IF(DATA!JRD2=0,\"\",IFERROR(DATA!JRD2,\"\"))","v":""},{"$f":"IF(DATA!JRE2=0,\"\",IFERROR(DATA!JRE2,\"\"))","v":""},{"$f":"IF(DATA!JRF2=0,\"\",IFERROR(DATA!JRF2,\"\"))","v":""},{"$f":"IF(DATA!JRG2=0,\"\",IFERROR(DATA!JRG2,\"\"))","v":""},{"$f":"IF(DATA!JRH2=0,\"\",IFERROR(DATA!JRH2,\"\"))","v":""},{"$f":"IF(DATA!JRI2=0,\"\",IFERROR(DATA!JRI2,\"\"))","v":""},{"$f":"IF(DATA!JRJ2=0,\"\",IFERROR(DATA!JRJ2,\"\"))","v":""},{"$f":"IF(DATA!JRK2=0,\"\",IFERROR(DATA!JRK2,\"\"))","v":""},{"$f":"IF(DATA!JRL2=0,\"\",IFERROR(DATA!JRL2,\"\"))","v":""},{"$f":"IF(DATA!JRM2=0,\"\",IFERROR(DATA!JRM2,\"\"))","v":""},{"$f":"IF(DATA!JRN2=0,\"\",IFERROR(DATA!JRN2,\"\"))","v":""},{"$f":"IF(DATA!JRO2=0,\"\",IFERROR(DATA!JRO2,\"\"))","v":""},{"$f":"IF(DATA!JRP2=0,\"\",IFERROR(DATA!JRP2,\"\"))","v":""},{"$f":"IF(DATA!JRQ2=0,\"\",IFERROR(DATA!JRQ2,\"\"))","v":""},{"$f":"IF(DATA!JRR2=0,\"\",IFERROR(DATA!JRR2,\"\"))","v":""},{"$f":"IF(DATA!JRS2=0,\"\",IFERROR(DATA!JRS2,\"\"))","v":""},{"$f":"IF(DATA!JRT2=0,\"\",IFERROR(DATA!JRT2,\"\"))","v":""},{"$f":"IF(DATA!JRU2=0,\"\",IFERROR(DATA!JRU2,\"\"))","v":""},{"$f":"IF(DATA!JRV2=0,\"\",IFERROR(DATA!JRV2,\"\"))","v":""},{"$f":"IF(DATA!JRW2=0,\"\",IFERROR(DATA!JRW2,\"\"))","v":""},{"$f":"IF(DATA!JRX2=0,\"\",IFERROR(DATA!JRX2,\"\"))","v":""},{"$f":"IF(DATA!JRY2=0,\"\",IFERROR(DATA!JRY2,\"\"))","v":""},{"$f":"IF(DATA!JRZ2=0,\"\",IFERROR(DATA!JRZ2,\"\"))","v":""},{"$f":"IF(DATA!JSA2=0,\"\",IFERROR(DATA!JSA2,\"\"))","v":""},{"$f":"IF(DATA!JSB2=0,\"\",IFERROR(DATA!JSB2,\"\"))","v":""},{"$f":"IF(DATA!JSC2=0,\"\",IFERROR(DATA!JSC2,\"\"))","v":""},{"$f":"IF(DATA!JSD2=0,\"\",IFERROR(DATA!JSD2,\"\"))","v":""},{"$f":"IF(DATA!JSE2=0,\"\",IFERROR(DATA!JSE2,\"\"))","v":""},{"$f":"IF(DATA!JSF2=0,\"\",IFERROR(DATA!JSF2,\"\"))","v":""},{"$f":"IF(DATA!JSG2=0,\"\",IFERROR(DATA!JSG2,\"\"))","v":""},{"$f":"IF(DATA!JSH2=0,\"\",IFERROR(DATA!JSH2,\"\"))","v":""},{"$f":"IF(DATA!JSI2=0,\"\",IFERROR(DATA!JSI2,\"\"))","v":""},{"$f":"IF(DATA!JSJ2=0,\"\",IFERROR(DATA!JSJ2,\"\"))","v":""},{"$f":"IF(DATA!JSK2=0,\"\",IFERROR(DATA!JSK2,\"\"))","v":""},{"$f":"IF(DATA!JSL2=0,\"\",IFERROR(DATA!JSL2,\"\"))","v":""},{"$f":"IF(DATA!JSM2=0,\"\",IFERROR(DATA!JSM2,\"\"))","v":""},{"$f":"IF(DATA!JSN2=0,\"\",IFERROR(DATA!JSN2,\"\"))","v":""},{"$f":"IF(DATA!JSO2=0,\"\",IFERROR(DATA!JSO2,\"\"))","v":""},{"$f":"IF(DATA!JSP2=0,\"\",IFERROR(DATA!JSP2,\"\"))","v":""},{"$f":"IF(DATA!JSQ2=0,\"\",IFERROR(DATA!JSQ2,\"\"))","v":""},{"$f":"IF(DATA!JSR2=0,\"\",IFERROR(DATA!JSR2,\"\"))","v":""},{"$f":"IF(DATA!JSS2=0,\"\",IFERROR(DATA!JSS2,\"\"))","v":""},{"$f":"IF(DATA!JST2=0,\"\",IFERROR(DATA!JST2,\"\"))","v":""},{"$f":"IF(DATA!JSU2=0,\"\",IFERROR(DATA!JSU2,\"\"))","v":""},{"$f":"IF(DATA!JSV2=0,\"\",IFERROR(DATA!JSV2,\"\"))","v":""},{"$f":"IF(DATA!JSW2=0,\"\",IFERROR(DATA!JSW2,\"\"))","v":""},{"$f":"IF(DATA!JSX2=0,\"\",IFERROR(DATA!JSX2,\"\"))","v":""},{"$f":"IF(DATA!JSY2=0,\"\",IFERROR(DATA!JSY2,\"\"))","v":""},{"$f":"IF(DATA!JSZ2=0,\"\",IFERROR(DATA!JSZ2,\"\"))","v":""},{"$f":"IF(DATA!JTA2=0,\"\",IFERROR(DATA!JTA2,\"\"))","v":""},{"$f":"IF(DATA!JTB2=0,\"\",IFERROR(DATA!JTB2,\"\"))","v":""},{"$f":"IF(DATA!JTC2=0,\"\",IFERROR(DATA!JTC2,\"\"))","v":""},{"$f":"IF(DATA!JTD2=0,\"\",IFERROR(DATA!JTD2,\"\"))","v":""},{"$f":"IF(DATA!JTE2=0,\"\",IFERROR(DATA!JTE2,\"\"))","v":""},{"$f":"IF(DATA!JTF2=0,\"\",IFERROR(DATA!JTF2,\"\"))","v":""},{"$f":"IF(DATA!JTG2=0,\"\",IFERROR(DATA!JTG2,\"\"))","v":""},{"$f":"IF(DATA!JTH2=0,\"\",IFERROR(DATA!JTH2,\"\"))","v":""},{"$f":"IF(DATA!JTI2=0,\"\",IFERROR(DATA!JTI2,\"\"))","v":""},{"$f":"IF(DATA!JTJ2=0,\"\",IFERROR(DATA!JTJ2,\"\"))","v":""},{"$f":"IF(DATA!JTK2=0,\"\",IFERROR(DATA!JTK2,\"\"))","v":""},{"$f":"IF(DATA!JTL2=0,\"\",IFERROR(DATA!JTL2,\"\"))","v":""},{"$f":"IF(DATA!JTM2=0,\"\",IFERROR(DATA!JTM2,\"\"))","v":""},{"$f":"IF(DATA!JTN2=0,\"\",IFERROR(DATA!JTN2,\"\"))","v":""},{"$f":"IF(DATA!JTO2=0,\"\",IFERROR(DATA!JTO2,\"\"))","v":""},{"$f":"IF(DATA!JTP2=0,\"\",IFERROR(DATA!JTP2,\"\"))","v":""},{"$f":"IF(DATA!JTQ2=0,\"\",IFERROR(DATA!JTQ2,\"\"))","v":""},{"$f":"IF(DATA!JTR2=0,\"\",IFERROR(DATA!JTR2,\"\"))","v":""},{"$f":"IF(DATA!JTS2=0,\"\",IFERROR(DATA!JTS2,\"\"))","v":""},{"$f":"IF(DATA!JTT2=0,\"\",IFERROR(DATA!JTT2,\"\"))","v":""},{"$f":"IF(DATA!JTU2=0,\"\",IFERROR(DATA!JTU2,\"\"))","v":""},{"$f":"IF(DATA!JTV2=0,\"\",IFERROR(DATA!JTV2,\"\"))","v":""},{"$f":"IF(DATA!JTW2=0,\"\",IFERROR(DATA!JTW2,\"\"))","v":""},{"$f":"IF(DATA!JTX2=0,\"\",IFERROR(DATA!JTX2,\"\"))","v":""},{"$f":"IF(DATA!JTY2=0,\"\",IFERROR(DATA!JTY2,\"\"))","v":""},{"$f":"IF(DATA!JTZ2=0,\"\",IFERROR(DATA!JTZ2,\"\"))","v":""},{"$f":"IF(DATA!JUA2=0,\"\",IFERROR(DATA!JUA2,\"\"))","v":""},{"$f":"IF(DATA!JUB2=0,\"\",IFERROR(DATA!JUB2,\"\"))","v":""},{"$f":"IF(DATA!JUC2=0,\"\",IFERROR(DATA!JUC2,\"\"))","v":""},{"$f":"IF(DATA!JUD2=0,\"\",IFERROR(DATA!JUD2,\"\"))","v":""},{"$f":"IF(DATA!JUE2=0,\"\",IFERROR(DATA!JUE2,\"\"))","v":""},{"$f":"IF(DATA!JUF2=0,\"\",IFERROR(DATA!JUF2,\"\"))","v":""},{"$f":"IF(DATA!JUG2=0,\"\",IFERROR(DATA!JUG2,\"\"))","v":""},{"$f":"IF(DATA!JUH2=0,\"\",IFERROR(DATA!JUH2,\"\"))","v":""},{"$f":"IF(DATA!JUI2=0,\"\",IFERROR(DATA!JUI2,\"\"))","v":""},{"$f":"IF(DATA!JUJ2=0,\"\",IFERROR(DATA!JUJ2,\"\"))","v":""},{"$f":"IF(DATA!JUK2=0,\"\",IFERROR(DATA!JUK2,\"\"))","v":""},{"$f":"IF(DATA!JUL2=0,\"\",IFERROR(DATA!JUL2,\"\"))","v":""},{"$f":"IF(DATA!JUM2=0,\"\",IFERROR(DATA!JUM2,\"\"))","v":""},{"$f":"IF(DATA!JUN2=0,\"\",IFERROR(DATA!JUN2,\"\"))","v":""},{"$f":"IF(DATA!JUO2=0,\"\",IFERROR(DATA!JUO2,\"\"))","v":""},{"$f":"IF(DATA!JUP2=0,\"\",IFERROR(DATA!JUP2,\"\"))","v":""},{"$f":"IF(DATA!JUQ2=0,\"\",IFERROR(DATA!JUQ2,\"\"))","v":""},{"$f":"IF(DATA!JUR2=0,\"\",IFERROR(DATA!JUR2,\"\"))","v":""},{"$f":"IF(DATA!JUS2=0,\"\",IFERROR(DATA!JUS2,\"\"))","v":""},{"$f":"IF(DATA!JUT2=0,\"\",IFERROR(DATA!JUT2,\"\"))","v":""},{"$f":"IF(DATA!JUU2=0,\"\",IFERROR(DATA!JUU2,\"\"))","v":""},{"$f":"IF(DATA!JUV2=0,\"\",IFERROR(DATA!JUV2,\"\"))","v":""},{"$f":"IF(DATA!JUW2=0,\"\",IFERROR(DATA!JUW2,\"\"))","v":""},{"$f":"IF(DATA!JUX2=0,\"\",IFERROR(DATA!JUX2,\"\"))","v":""},{"$f":"IF(DATA!JUY2=0,\"\",IFERROR(DATA!JUY2,\"\"))","v":""},{"$f":"IF(DATA!JUZ2=0,\"\",IFERROR(DATA!JUZ2,\"\"))","v":""},{"$f":"IF(DATA!JVA2=0,\"\",IFERROR(DATA!JVA2,\"\"))","v":""},{"$f":"IF(DATA!JVB2=0,\"\",IFERROR(DATA!JVB2,\"\"))","v":""},{"$f":"IF(DATA!JVC2=0,\"\",IFERROR(DATA!JVC2,\"\"))","v":""},{"$f":"IF(DATA!JVD2=0,\"\",IFERROR(DATA!JVD2,\"\"))","v":""},{"$f":"IF(DATA!JVE2=0,\"\",IFERROR(DATA!JVE2,\"\"))","v":""},{"$f":"IF(DATA!JVF2=0,\"\",IFERROR(DATA!JVF2,\"\"))","v":""},{"$f":"IF(DATA!JVG2=0,\"\",IFERROR(DATA!JVG2,\"\"))","v":""},{"$f":"IF(DATA!JVH2=0,\"\",IFERROR(DATA!JVH2,\"\"))","v":""},{"$f":"IF(DATA!JVI2=0,\"\",IFERROR(DATA!JVI2,\"\"))","v":""},{"$f":"IF(DATA!JVJ2=0,\"\",IFERROR(DATA!JVJ2,\"\"))","v":""},{"$f":"IF(DATA!JVK2=0,\"\",IFERROR(DATA!JVK2,\"\"))","v":""},{"$f":"IF(DATA!JVL2=0,\"\",IFERROR(DATA!JVL2,\"\"))","v":""},{"$f":"IF(DATA!JVM2=0,\"\",IFERROR(DATA!JVM2,\"\"))","v":""},{"$f":"IF(DATA!JVN2=0,\"\",IFERROR(DATA!JVN2,\"\"))","v":""},{"$f":"IF(DATA!JVO2=0,\"\",IFERROR(DATA!JVO2,\"\"))","v":""},{"$f":"IF(DATA!JVP2=0,\"\",IFERROR(DATA!JVP2,\"\"))","v":""},{"$f":"IF(DATA!JVQ2=0,\"\",IFERROR(DATA!JVQ2,\"\"))","v":""},{"$f":"IF(DATA!JVR2=0,\"\",IFERROR(DATA!JVR2,\"\"))","v":""},{"$f":"IF(DATA!JVS2=0,\"\",IFERROR(DATA!JVS2,\"\"))","v":""},{"$f":"IF(DATA!JVT2=0,\"\",IFERROR(DATA!JVT2,\"\"))","v":""},{"$f":"IF(DATA!JVU2=0,\"\",IFERROR(DATA!JVU2,\"\"))","v":""},{"$f":"IF(DATA!JVV2=0,\"\",IFERROR(DATA!JVV2,\"\"))","v":""},{"$f":"IF(DATA!JVW2=0,\"\",IFERROR(DATA!JVW2,\"\"))","v":""},{"$f":"IF(DATA!JVX2=0,\"\",IFERROR(DATA!JVX2,\"\"))","v":""},{"$f":"IF(DATA!JVY2=0,\"\",IFERROR(DATA!JVY2,\"\"))","v":""},{"$f":"IF(DATA!JVZ2=0,\"\",IFERROR(DATA!JVZ2,\"\"))","v":""},{"$f":"IF(DATA!JWA2=0,\"\",IFERROR(DATA!JWA2,\"\"))","v":""},{"$f":"IF(DATA!JWB2=0,\"\",IFERROR(DATA!JWB2,\"\"))","v":""},{"$f":"IF(DATA!JWC2=0,\"\",IFERROR(DATA!JWC2,\"\"))","v":""},{"$f":"IF(DATA!JWD2=0,\"\",IFERROR(DATA!JWD2,\"\"))","v":""},{"$f":"IF(DATA!JWE2=0,\"\",IFERROR(DATA!JWE2,\"\"))","v":""},{"$f":"IF(DATA!JWF2=0,\"\",IFERROR(DATA!JWF2,\"\"))","v":""},{"$f":"IF(DATA!JWG2=0,\"\",IFERROR(DATA!JWG2,\"\"))","v":""},{"$f":"IF(DATA!JWH2=0,\"\",IFERROR(DATA!JWH2,\"\"))","v":""},{"$f":"IF(DATA!JWI2=0,\"\",IFERROR(DATA!JWI2,\"\"))","v":""},{"$f":"IF(DATA!JWJ2=0,\"\",IFERROR(DATA!JWJ2,\"\"))","v":""},{"$f":"IF(DATA!JWK2=0,\"\",IFERROR(DATA!JWK2,\"\"))","v":""},{"$f":"IF(DATA!JWL2=0,\"\",IFERROR(DATA!JWL2,\"\"))","v":""},{"$f":"IF(DATA!JWM2=0,\"\",IFERROR(DATA!JWM2,\"\"))","v":""},{"$f":"IF(DATA!JWN2=0,\"\",IFERROR(DATA!JWN2,\"\"))","v":""},{"$f":"IF(DATA!JWO2=0,\"\",IFERROR(DATA!JWO2,\"\"))","v":""},{"$f":"IF(DATA!JWP2=0,\"\",IFERROR(DATA!JWP2,\"\"))","v":""},{"$f":"IF(DATA!JWQ2=0,\"\",IFERROR(DATA!JWQ2,\"\"))","v":""},{"$f":"IF(DATA!JWR2=0,\"\",IFERROR(DATA!JWR2,\"\"))","v":""},{"$f":"IF(DATA!JWS2=0,\"\",IFERROR(DATA!JWS2,\"\"))","v":""},{"$f":"IF(DATA!JWT2=0,\"\",IFERROR(DATA!JWT2,\"\"))","v":""},{"$f":"IF(DATA!JWU2=0,\"\",IFERROR(DATA!JWU2,\"\"))","v":""},{"$f":"IF(DATA!JWV2=0,\"\",IFERROR(DATA!JWV2,\"\"))","v":""},{"$f":"IF(DATA!JWW2=0,\"\",IFERROR(DATA!JWW2,\"\"))","v":""},{"$f":"IF(DATA!JWX2=0,\"\",IFERROR(DATA!JWX2,\"\"))","v":""},{"$f":"IF(DATA!JWY2=0,\"\",IFERROR(DATA!JWY2,\"\"))","v":""},{"$f":"IF(DATA!JWZ2=0,\"\",IFERROR(DATA!JWZ2,\"\"))","v":""},{"$f":"IF(DATA!JXA2=0,\"\",IFERROR(DATA!JXA2,\"\"))","v":""},{"$f":"IF(DATA!JXB2=0,\"\",IFERROR(DATA!JXB2,\"\"))","v":""},{"$f":"IF(DATA!JXC2=0,\"\",IFERROR(DATA!JXC2,\"\"))","v":""},{"$f":"IF(DATA!JXD2=0,\"\",IFERROR(DATA!JXD2,\"\"))","v":""},{"$f":"IF(DATA!JXE2=0,\"\",IFERROR(DATA!JXE2,\"\"))","v":""},{"$f":"IF(DATA!JXF2=0,\"\",IFERROR(DATA!JXF2,\"\"))","v":""},{"$f":"IF(DATA!JXG2=0,\"\",IFERROR(DATA!JXG2,\"\"))","v":""},{"$f":"IF(DATA!JXH2=0,\"\",IFERROR(DATA!JXH2,\"\"))","v":""},{"$f":"IF(DATA!JXI2=0,\"\",IFERROR(DATA!JXI2,\"\"))","v":""},{"$f":"IF(DATA!JXJ2=0,\"\",IFERROR(DATA!JXJ2,\"\"))","v":""},{"$f":"IF(DATA!JXK2=0,\"\",IFERROR(DATA!JXK2,\"\"))","v":""},{"$f":"IF(DATA!JXL2=0,\"\",IFERROR(DATA!JXL2,\"\"))","v":""},{"$f":"IF(DATA!JXM2=0,\"\",IFERROR(DATA!JXM2,\"\"))","v":""},{"$f":"IF(DATA!JXN2=0,\"\",IFERROR(DATA!JXN2,\"\"))","v":""},{"$f":"IF(DATA!JXO2=0,\"\",IFERROR(DATA!JXO2,\"\"))","v":""},{"$f":"IF(DATA!JXP2=0,\"\",IFERROR(DATA!JXP2,\"\"))","v":""},{"$f":"IF(DATA!JXQ2=0,\"\",IFERROR(DATA!JXQ2,\"\"))","v":""},{"$f":"IF(DATA!JXR2=0,\"\",IFERROR(DATA!JXR2,\"\"))","v":""},{"$f":"IF(DATA!JXS2=0,\"\",IFERROR(DATA!JXS2,\"\"))","v":""},{"$f":"IF(DATA!JXT2=0,\"\",IFERROR(DATA!JXT2,\"\"))","v":""},{"$f":"IF(DATA!JXU2=0,\"\",IFERROR(DATA!JXU2,\"\"))","v":""},{"$f":"IF(DATA!JXV2=0,\"\",IFERROR(DATA!JXV2,\"\"))","v":""},{"$f":"IF(DATA!JXW2=0,\"\",IFERROR(DATA!JXW2,\"\"))","v":""},{"$f":"IF(DATA!JXX2=0,\"\",IFERROR(DATA!JXX2,\"\"))","v":""},{"$f":"IF(DATA!JXY2=0,\"\",IFERROR(DATA!JXY2,\"\"))","v":""},{"$f":"IF(DATA!JXZ2=0,\"\",IFERROR(DATA!JXZ2,\"\"))","v":""},{"$f":"IF(DATA!JYA2=0,\"\",IFERROR(DATA!JYA2,\"\"))","v":""},{"$f":"IF(DATA!JYB2=0,\"\",IFERROR(DATA!JYB2,\"\"))","v":""},{"$f":"IF(DATA!JYC2=0,\"\",IFERROR(DATA!JYC2,\"\"))","v":""},{"$f":"IF(DATA!JYD2=0,\"\",IFERROR(DATA!JYD2,\"\"))","v":""},{"$f":"IF(DATA!JYE2=0,\"\",IFERROR(DATA!JYE2,\"\"))","v":""},{"$f":"IF(DATA!JYF2=0,\"\",IFERROR(DATA!JYF2,\"\"))","v":""},{"$f":"IF(DATA!JYG2=0,\"\",IFERROR(DATA!JYG2,\"\"))","v":""},{"$f":"IF(DATA!JYH2=0,\"\",IFERROR(DATA!JYH2,\"\"))","v":""},{"$f":"IF(DATA!JYI2=0,\"\",IFERROR(DATA!JYI2,\"\"))","v":""},{"$f":"IF(DATA!JYJ2=0,\"\",IFERROR(DATA!JYJ2,\"\"))","v":""},{"$f":"IF(DATA!JYK2=0,\"\",IFERROR(DATA!JYK2,\"\"))","v":""},{"$f":"IF(DATA!JYL2=0,\"\",IFERROR(DATA!JYL2,\"\"))","v":""},{"$f":"IF(DATA!JYM2=0,\"\",IFERROR(DATA!JYM2,\"\"))","v":""},{"$f":"IF(DATA!JYN2=0,\"\",IFERROR(DATA!JYN2,\"\"))","v":""},{"$f":"IF(DATA!JYO2=0,\"\",IFERROR(DATA!JYO2,\"\"))","v":""},{"$f":"IF(DATA!JYP2=0,\"\",IFERROR(DATA!JYP2,\"\"))","v":""},{"$f":"IF(DATA!JYQ2=0,\"\",IFERROR(DATA!JYQ2,\"\"))","v":""},{"$f":"IF(DATA!JYR2=0,\"\",IFERROR(DATA!JYR2,\"\"))","v":""},{"$f":"IF(DATA!JYS2=0,\"\",IFERROR(DATA!JYS2,\"\"))","v":""},{"$f":"IF(DATA!JYT2=0,\"\",IFERROR(DATA!JYT2,\"\"))","v":""},{"$f":"IF(DATA!JYU2=0,\"\",IFERROR(DATA!JYU2,\"\"))","v":""},{"$f":"IF(DATA!JYV2=0,\"\",IFERROR(DATA!JYV2,\"\"))","v":""},{"$f":"IF(DATA!JYW2=0,\"\",IFERROR(DATA!JYW2,\"\"))","v":""},{"$f":"IF(DATA!JYX2=0,\"\",IFERROR(DATA!JYX2,\"\"))","v":""},{"$f":"IF(DATA!JYY2=0,\"\",IFERROR(DATA!JYY2,\"\"))","v":""},{"$f":"IF(DATA!JYZ2=0,\"\",IFERROR(DATA!JYZ2,\"\"))","v":""},{"$f":"IF(DATA!JZA2=0,\"\",IFERROR(DATA!JZA2,\"\"))","v":""},{"$f":"IF(DATA!JZB2=0,\"\",IFERROR(DATA!JZB2,\"\"))","v":""},{"$f":"IF(DATA!JZC2=0,\"\",IFERROR(DATA!JZC2,\"\"))","v":""},{"$f":"IF(DATA!JZD2=0,\"\",IFERROR(DATA!JZD2,\"\"))","v":""},{"$f":"IF(DATA!JZE2=0,\"\",IFERROR(DATA!JZE2,\"\"))","v":""},{"$f":"IF(DATA!JZF2=0,\"\",IFERROR(DATA!JZF2,\"\"))","v":""},{"$f":"IF(DATA!JZG2=0,\"\",IFERROR(DATA!JZG2,\"\"))","v":""},{"$f":"IF(DATA!JZH2=0,\"\",IFERROR(DATA!JZH2,\"\"))","v":""},{"$f":"IF(DATA!JZI2=0,\"\",IFERROR(DATA!JZI2,\"\"))","v":""},{"$f":"IF(DATA!JZJ2=0,\"\",IFERROR(DATA!JZJ2,\"\"))","v":""},{"$f":"IF(DATA!JZK2=0,\"\",IFERROR(DATA!JZK2,\"\"))","v":""},{"$f":"IF(DATA!JZL2=0,\"\",IFERROR(DATA!JZL2,\"\"))","v":""},{"$f":"IF(DATA!JZM2=0,\"\",IFERROR(DATA!JZM2,\"\"))","v":""},{"$f":"IF(DATA!JZN2=0,\"\",IFERROR(DATA!JZN2,\"\"))","v":""},{"$f":"IF(DATA!JZO2=0,\"\",IFERROR(DATA!JZO2,\"\"))","v":""},{"$f":"IF(DATA!JZP2=0,\"\",IFERROR(DATA!JZP2,\"\"))","v":""},{"$f":"IF(DATA!JZQ2=0,\"\",IFERROR(DATA!JZQ2,\"\"))","v":""},{"$f":"IF(DATA!JZR2=0,\"\",IFERROR(DATA!JZR2,\"\"))","v":""},{"$f":"IF(DATA!JZS2=0,\"\",IFERROR(DATA!JZS2,\"\"))","v":""},{"$f":"IF(DATA!JZT2=0,\"\",IFERROR(DATA!JZT2,\"\"))","v":""},{"$f":"IF(DATA!JZU2=0,\"\",IFERROR(DATA!JZU2,\"\"))","v":""},{"$f":"IF(DATA!JZV2=0,\"\",IFERROR(DATA!JZV2,\"\"))","v":""},{"$f":"IF(DATA!JZW2=0,\"\",IFERROR(DATA!JZW2,\"\"))","v":""},{"$f":"IF(DATA!JZX2=0,\"\",IFERROR(DATA!JZX2,\"\"))","v":""},{"$f":"IF(DATA!JZY2=0,\"\",IFERROR(DATA!JZY2,\"\"))","v":""},{"$f":"IF(DATA!JZZ2=0,\"\",IFERROR(DATA!JZZ2,\"\"))","v":""},{"$f":"IF(DATA!KAA2=0,\"\",IFERROR(DATA!KAA2,\"\"))","v":""},{"$f":"IF(DATA!KAB2=0,\"\",IFERROR(DATA!KAB2,\"\"))","v":""},{"$f":"IF(DATA!KAC2=0,\"\",IFERROR(DATA!KAC2,\"\"))","v":""},{"$f":"IF(DATA!KAD2=0,\"\",IFERROR(DATA!KAD2,\"\"))","v":""},{"$f":"IF(DATA!KAE2=0,\"\",IFERROR(DATA!KAE2,\"\"))","v":""},{"$f":"IF(DATA!KAF2=0,\"\",IFERROR(DATA!KAF2,\"\"))","v":""},{"$f":"IF(DATA!KAG2=0,\"\",IFERROR(DATA!KAG2,\"\"))","v":""},{"$f":"IF(DATA!KAH2=0,\"\",IFERROR(DATA!KAH2,\"\"))","v":""},{"$f":"IF(DATA!KAI2=0,\"\",IFERROR(DATA!KAI2,\"\"))","v":""},{"$f":"IF(DATA!KAJ2=0,\"\",IFERROR(DATA!KAJ2,\"\"))","v":""},{"$f":"IF(DATA!KAK2=0,\"\",IFERROR(DATA!KAK2,\"\"))","v":""},{"$f":"IF(DATA!KAL2=0,\"\",IFERROR(DATA!KAL2,\"\"))","v":""},{"$f":"IF(DATA!KAM2=0,\"\",IFERROR(DATA!KAM2,\"\"))","v":""},{"$f":"IF(DATA!KAN2=0,\"\",IFERROR(DATA!KAN2,\"\"))","v":""},{"$f":"IF(DATA!KAO2=0,\"\",IFERROR(DATA!KAO2,\"\"))","v":""},{"$f":"IF(DATA!KAP2=0,\"\",IFERROR(DATA!KAP2,\"\"))","v":""},{"$f":"IF(DATA!KAQ2=0,\"\",IFERROR(DATA!KAQ2,\"\"))","v":""},{"$f":"IF(DATA!KAR2=0,\"\",IFERROR(DATA!KAR2,\"\"))","v":""},{"$f":"IF(DATA!KAS2=0,\"\",IFERROR(DATA!KAS2,\"\"))","v":""},{"$f":"IF(DATA!KAT2=0,\"\",IFERROR(DATA!KAT2,\"\"))","v":""},{"$f":"IF(DATA!KAU2=0,\"\",IFERROR(DATA!KAU2,\"\"))","v":""},{"$f":"IF(DATA!KAV2=0,\"\",IFERROR(DATA!KAV2,\"\"))","v":""},{"$f":"IF(DATA!KAW2=0,\"\",IFERROR(DATA!KAW2,\"\"))","v":""},{"$f":"IF(DATA!KAX2=0,\"\",IFERROR(DATA!KAX2,\"\"))","v":""},{"$f":"IF(DATA!KAY2=0,\"\",IFERROR(DATA!KAY2,\"\"))","v":""},{"$f":"IF(DATA!KAZ2=0,\"\",IFERROR(DATA!KAZ2,\"\"))","v":""},{"$f":"IF(DATA!KBA2=0,\"\",IFERROR(DATA!KBA2,\"\"))","v":""},{"$f":"IF(DATA!KBB2=0,\"\",IFERROR(DATA!KBB2,\"\"))","v":""},{"$f":"IF(DATA!KBC2=0,\"\",IFERROR(DATA!KBC2,\"\"))","v":""},{"$f":"IF(DATA!KBD2=0,\"\",IFERROR(DATA!KBD2,\"\"))","v":""},{"$f":"IF(DATA!KBE2=0,\"\",IFERROR(DATA!KBE2,\"\"))","v":""},{"$f":"IF(DATA!KBF2=0,\"\",IFERROR(DATA!KBF2,\"\"))","v":""},{"$f":"IF(DATA!KBG2=0,\"\",IFERROR(DATA!KBG2,\"\"))","v":""},{"$f":"IF(DATA!KBH2=0,\"\",IFERROR(DATA!KBH2,\"\"))","v":""},{"$f":"IF(DATA!KBI2=0,\"\",IFERROR(DATA!KBI2,\"\"))","v":""},{"$f":"IF(DATA!KBJ2=0,\"\",IFERROR(DATA!KBJ2,\"\"))","v":""},{"$f":"IF(DATA!KBK2=0,\"\",IFERROR(DATA!KBK2,\"\"))","v":""},{"$f":"IF(DATA!KBL2=0,\"\",IFERROR(DATA!KBL2,\"\"))","v":""},{"$f":"IF(DATA!KBM2=0,\"\",IFERROR(DATA!KBM2,\"\"))","v":""},{"$f":"IF(DATA!KBN2=0,\"\",IFERROR(DATA!KBN2,\"\"))","v":""},{"$f":"IF(DATA!KBO2=0,\"\",IFERROR(DATA!KBO2,\"\"))","v":""},{"$f":"IF(DATA!KBP2=0,\"\",IFERROR(DATA!KBP2,\"\"))","v":""},{"$f":"IF(DATA!KBQ2=0,\"\",IFERROR(DATA!KBQ2,\"\"))","v":""},{"$f":"IF(DATA!KBR2=0,\"\",IFERROR(DATA!KBR2,\"\"))","v":""},{"$f":"IF(DATA!KBS2=0,\"\",IFERROR(DATA!KBS2,\"\"))","v":""},{"$f":"IF(DATA!KBT2=0,\"\",IFERROR(DATA!KBT2,\"\"))","v":""},{"$f":"IF(DATA!KBU2=0,\"\",IFERROR(DATA!KBU2,\"\"))","v":""},{"$f":"IF(DATA!KBV2=0,\"\",IFERROR(DATA!KBV2,\"\"))","v":""},{"$f":"IF(DATA!KBW2=0,\"\",IFERROR(DATA!KBW2,\"\"))","v":""},{"$f":"IF(DATA!KBX2=0,\"\",IFERROR(DATA!KBX2,\"\"))","v":""},{"$f":"IF(DATA!KBY2=0,\"\",IFERROR(DATA!KBY2,\"\"))","v":""},{"$f":"IF(DATA!KBZ2=0,\"\",IFERROR(DATA!KBZ2,\"\"))","v":""},{"$f":"IF(DATA!KCA2=0,\"\",IFERROR(DATA!KCA2,\"\"))","v":""},{"$f":"IF(DATA!KCB2=0,\"\",IFERROR(DATA!KCB2,\"\"))","v":""},{"$f":"IF(DATA!KCC2=0,\"\",IFERROR(DATA!KCC2,\"\"))","v":""},{"$f":"IF(DATA!KCD2=0,\"\",IFERROR(DATA!KCD2,\"\"))","v":""},{"$f":"IF(DATA!KCE2=0,\"\",IFERROR(DATA!KCE2,\"\"))","v":""},{"$f":"IF(DATA!KCF2=0,\"\",IFERROR(DATA!KCF2,\"\"))","v":""},{"$f":"IF(DATA!KCG2=0,\"\",IFERROR(DATA!KCG2,\"\"))","v":""},{"$f":"IF(DATA!KCH2=0,\"\",IFERROR(DATA!KCH2,\"\"))","v":""},{"$f":"IF(DATA!KCI2=0,\"\",IFERROR(DATA!KCI2,\"\"))","v":""},{"$f":"IF(DATA!KCJ2=0,\"\",IFERROR(DATA!KCJ2,\"\"))","v":""},{"$f":"IF(DATA!KCK2=0,\"\",IFERROR(DATA!KCK2,\"\"))","v":""},{"$f":"IF(DATA!KCL2=0,\"\",IFERROR(DATA!KCL2,\"\"))","v":""},{"$f":"IF(DATA!KCM2=0,\"\",IFERROR(DATA!KCM2,\"\"))","v":""},{"$f":"IF(DATA!KCN2=0,\"\",IFERROR(DATA!KCN2,\"\"))","v":""},{"$f":"IF(DATA!KCO2=0,\"\",IFERROR(DATA!KCO2,\"\"))","v":""},{"$f":"IF(DATA!KCP2=0,\"\",IFERROR(DATA!KCP2,\"\"))","v":""},{"$f":"IF(DATA!KCQ2=0,\"\",IFERROR(DATA!KCQ2,\"\"))","v":""},{"$f":"IF(DATA!KCR2=0,\"\",IFERROR(DATA!KCR2,\"\"))","v":""},{"$f":"IF(DATA!KCS2=0,\"\",IFERROR(DATA!KCS2,\"\"))","v":""},{"$f":"IF(DATA!KCT2=0,\"\",IFERROR(DATA!KCT2,\"\"))","v":""},{"$f":"IF(DATA!KCU2=0,\"\",IFERROR(DATA!KCU2,\"\"))","v":""},{"$f":"IF(DATA!KCV2=0,\"\",IFERROR(DATA!KCV2,\"\"))","v":""},{"$f":"IF(DATA!KCW2=0,\"\",IFERROR(DATA!KCW2,\"\"))","v":""},{"$f":"IF(DATA!KCX2=0,\"\",IFERROR(DATA!KCX2,\"\"))","v":""},{"$f":"IF(DATA!KCY2=0,\"\",IFERROR(DATA!KCY2,\"\"))","v":""},{"$f":"IF(DATA!KCZ2=0,\"\",IFERROR(DATA!KCZ2,\"\"))","v":""},{"$f":"IF(DATA!KDA2=0,\"\",IFERROR(DATA!KDA2,\"\"))","v":""},{"$f":"IF(DATA!KDB2=0,\"\",IFERROR(DATA!KDB2,\"\"))","v":""},{"$f":"IF(DATA!KDC2=0,\"\",IFERROR(DATA!KDC2,\"\"))","v":""},{"$f":"IF(DATA!KDD2=0,\"\",IFERROR(DATA!KDD2,\"\"))","v":""},{"$f":"IF(DATA!KDE2=0,\"\",IFERROR(DATA!KDE2,\"\"))","v":""},{"$f":"IF(DATA!KDF2=0,\"\",IFERROR(DATA!KDF2,\"\"))","v":""},{"$f":"IF(DATA!KDG2=0,\"\",IFERROR(DATA!KDG2,\"\"))","v":""},{"$f":"IF(DATA!KDH2=0,\"\",IFERROR(DATA!KDH2,\"\"))","v":""},{"$f":"IF(DATA!KDI2=0,\"\",IFERROR(DATA!KDI2,\"\"))","v":""},{"$f":"IF(DATA!KDJ2=0,\"\",IFERROR(DATA!KDJ2,\"\"))","v":""},{"$f":"IF(DATA!KDK2=0,\"\",IFERROR(DATA!KDK2,\"\"))","v":""},{"$f":"IF(DATA!KDL2=0,\"\",IFERROR(DATA!KDL2,\"\"))","v":""},{"$f":"IF(DATA!KDM2=0,\"\",IFERROR(DATA!KDM2,\"\"))","v":""},{"$f":"IF(DATA!KDN2=0,\"\",IFERROR(DATA!KDN2,\"\"))","v":""},{"$f":"IF(DATA!KDO2=0,\"\",IFERROR(DATA!KDO2,\"\"))","v":""},{"$f":"IF(DATA!KDP2=0,\"\",IFERROR(DATA!KDP2,\"\"))","v":""},{"$f":"IF(DATA!KDQ2=0,\"\",IFERROR(DATA!KDQ2,\"\"))","v":""},{"$f":"IF(DATA!KDR2=0,\"\",IFERROR(DATA!KDR2,\"\"))","v":""},{"$f":"IF(DATA!KDS2=0,\"\",IFERROR(DATA!KDS2,\"\"))","v":""},{"$f":"IF(DATA!KDT2=0,\"\",IFERROR(DATA!KDT2,\"\"))","v":""},{"$f":"IF(DATA!KDU2=0,\"\",IFERROR(DATA!KDU2,\"\"))","v":""},{"$f":"IF(DATA!KDV2=0,\"\",IFERROR(DATA!KDV2,\"\"))","v":""},{"$f":"IF(DATA!KDW2=0,\"\",IFERROR(DATA!KDW2,\"\"))","v":""},{"$f":"IF(DATA!KDX2=0,\"\",IFERROR(DATA!KDX2,\"\"))","v":""},{"$f":"IF(DATA!KDY2=0,\"\",IFERROR(DATA!KDY2,\"\"))","v":""},{"$f":"IF(DATA!KDZ2=0,\"\",IFERROR(DATA!KDZ2,\"\"))","v":""},{"$f":"IF(DATA!KEA2=0,\"\",IFERROR(DATA!KEA2,\"\"))","v":""},{"$f":"IF(DATA!KEB2=0,\"\",IFERROR(DATA!KEB2,\"\"))","v":""},{"$f":"IF(DATA!KEC2=0,\"\",IFERROR(DATA!KEC2,\"\"))","v":""},{"$f":"IF(DATA!KED2=0,\"\",IFERROR(DATA!KED2,\"\"))","v":""},{"$f":"IF(DATA!KEE2=0,\"\",IFERROR(DATA!KEE2,\"\"))","v":""},{"$f":"IF(DATA!KEF2=0,\"\",IFERROR(DATA!KEF2,\"\"))","v":""},{"$f":"IF(DATA!KEG2=0,\"\",IFERROR(DATA!KEG2,\"\"))","v":""},{"$f":"IF(DATA!KEH2=0,\"\",IFERROR(DATA!KEH2,\"\"))","v":""},{"$f":"IF(DATA!KEI2=0,\"\",IFERROR(DATA!KEI2,\"\"))","v":""},{"$f":"IF(DATA!KEJ2=0,\"\",IFERROR(DATA!KEJ2,\"\"))","v":""},{"$f":"IF(DATA!KEK2=0,\"\",IFERROR(DATA!KEK2,\"\"))","v":""},{"$f":"IF(DATA!KEL2=0,\"\",IFERROR(DATA!KEL2,\"\"))","v":""},{"$f":"IF(DATA!KEM2=0,\"\",IFERROR(DATA!KEM2,\"\"))","v":""},{"$f":"IF(DATA!KEN2=0,\"\",IFERROR(DATA!KEN2,\"\"))","v":""},{"$f":"IF(DATA!KEO2=0,\"\",IFERROR(DATA!KEO2,\"\"))","v":""},{"$f":"IF(DATA!KEP2=0,\"\",IFERROR(DATA!KEP2,\"\"))","v":""},{"$f":"IF(DATA!KEQ2=0,\"\",IFERROR(DATA!KEQ2,\"\"))","v":""},{"$f":"IF(DATA!KER2=0,\"\",IFERROR(DATA!KER2,\"\"))","v":""},{"$f":"IF(DATA!KES2=0,\"\",IFERROR(DATA!KES2,\"\"))","v":""},{"$f":"IF(DATA!KET2=0,\"\",IFERROR(DATA!KET2,\"\"))","v":""},{"$f":"IF(DATA!KEU2=0,\"\",IFERROR(DATA!KEU2,\"\"))","v":""},{"$f":"IF(DATA!KEV2=0,\"\",IFERROR(DATA!KEV2,\"\"))","v":""},{"$f":"IF(DATA!KEW2=0,\"\",IFERROR(DATA!KEW2,\"\"))","v":""},{"$f":"IF(DATA!KEX2=0,\"\",IFERROR(DATA!KEX2,\"\"))","v":""},{"$f":"IF(DATA!KEY2=0,\"\",IFERROR(DATA!KEY2,\"\"))","v":""},{"$f":"IF(DATA!KEZ2=0,\"\",IFERROR(DATA!KEZ2,\"\"))","v":""},{"$f":"IF(DATA!KFA2=0,\"\",IFERROR(DATA!KFA2,\"\"))","v":""},{"$f":"IF(DATA!KFB2=0,\"\",IFERROR(DATA!KFB2,\"\"))","v":""},{"$f":"IF(DATA!KFC2=0,\"\",IFERROR(DATA!KFC2,\"\"))","v":""},{"$f":"IF(DATA!KFD2=0,\"\",IFERROR(DATA!KFD2,\"\"))","v":""},{"$f":"IF(DATA!KFE2=0,\"\",IFERROR(DATA!KFE2,\"\"))","v":""},{"$f":"IF(DATA!KFF2=0,\"\",IFERROR(DATA!KFF2,\"\"))","v":""},{"$f":"IF(DATA!KFG2=0,\"\",IFERROR(DATA!KFG2,\"\"))","v":""},{"$f":"IF(DATA!KFH2=0,\"\",IFERROR(DATA!KFH2,\"\"))","v":""},{"$f":"IF(DATA!KFI2=0,\"\",IFERROR(DATA!KFI2,\"\"))","v":""},{"$f":"IF(DATA!KFJ2=0,\"\",IFERROR(DATA!KFJ2,\"\"))","v":""},{"$f":"IF(DATA!KFK2=0,\"\",IFERROR(DATA!KFK2,\"\"))","v":""},{"$f":"IF(DATA!KFL2=0,\"\",IFERROR(DATA!KFL2,\"\"))","v":""},{"$f":"IF(DATA!KFM2=0,\"\",IFERROR(DATA!KFM2,\"\"))","v":""},{"$f":"IF(DATA!KFN2=0,\"\",IFERROR(DATA!KFN2,\"\"))","v":""},{"$f":"IF(DATA!KFO2=0,\"\",IFERROR(DATA!KFO2,\"\"))","v":""},{"$f":"IF(DATA!KFP2=0,\"\",IFERROR(DATA!KFP2,\"\"))","v":""},{"$f":"IF(DATA!KFQ2=0,\"\",IFERROR(DATA!KFQ2,\"\"))","v":""},{"$f":"IF(DATA!KFR2=0,\"\",IFERROR(DATA!KFR2,\"\"))","v":""},{"$f":"IF(DATA!KFS2=0,\"\",IFERROR(DATA!KFS2,\"\"))","v":""},{"$f":"IF(DATA!KFT2=0,\"\",IFERROR(DATA!KFT2,\"\"))","v":""},{"$f":"IF(DATA!KFU2=0,\"\",IFERROR(DATA!KFU2,\"\"))","v":""},{"$f":"IF(DATA!KFV2=0,\"\",IFERROR(DATA!KFV2,\"\"))","v":""},{"$f":"IF(DATA!KFW2=0,\"\",IFERROR(DATA!KFW2,\"\"))","v":""},{"$f":"IF(DATA!KFX2=0,\"\",IFERROR(DATA!KFX2,\"\"))","v":""},{"$f":"IF(DATA!KFY2=0,\"\",IFERROR(DATA!KFY2,\"\"))","v":""},{"$f":"IF(DATA!KFZ2=0,\"\",IFERROR(DATA!KFZ2,\"\"))","v":""},{"$f":"IF(DATA!KGA2=0,\"\",IFERROR(DATA!KGA2,\"\"))","v":""},{"$f":"IF(DATA!KGB2=0,\"\",IFERROR(DATA!KGB2,\"\"))","v":""},{"$f":"IF(DATA!KGC2=0,\"\",IFERROR(DATA!KGC2,\"\"))","v":""},{"$f":"IF(DATA!KGD2=0,\"\",IFERROR(DATA!KGD2,\"\"))","v":""},{"$f":"IF(DATA!KGE2=0,\"\",IFERROR(DATA!KGE2,\"\"))","v":""},{"$f":"IF(DATA!KGF2=0,\"\",IFERROR(DATA!KGF2,\"\"))","v":""},{"$f":"IF(DATA!KGG2=0,\"\",IFERROR(DATA!KGG2,\"\"))","v":""},{"$f":"IF(DATA!KGH2=0,\"\",IFERROR(DATA!KGH2,\"\"))","v":""},{"$f":"IF(DATA!KGI2=0,\"\",IFERROR(DATA!KGI2,\"\"))","v":""},{"$f":"IF(DATA!KGJ2=0,\"\",IFERROR(DATA!KGJ2,\"\"))","v":""},{"$f":"IF(DATA!KGK2=0,\"\",IFERROR(DATA!KGK2,\"\"))","v":""},{"$f":"IF(DATA!KGL2=0,\"\",IFERROR(DATA!KGL2,\"\"))","v":""},{"$f":"IF(DATA!KGM2=0,\"\",IFERROR(DATA!KGM2,\"\"))","v":""},{"$f":"IF(DATA!KGN2=0,\"\",IFERROR(DATA!KGN2,\"\"))","v":""},{"$f":"IF(DATA!KGO2=0,\"\",IFERROR(DATA!KGO2,\"\"))","v":""},{"$f":"IF(DATA!KGP2=0,\"\",IFERROR(DATA!KGP2,\"\"))","v":""},{"$f":"IF(DATA!KGQ2=0,\"\",IFERROR(DATA!KGQ2,\"\"))","v":""},{"$f":"IF(DATA!KGR2=0,\"\",IFERROR(DATA!KGR2,\"\"))","v":""},{"$f":"IF(DATA!KGS2=0,\"\",IFERROR(DATA!KGS2,\"\"))","v":""},{"$f":"IF(DATA!KGT2=0,\"\",IFERROR(DATA!KGT2,\"\"))","v":""},{"$f":"IF(DATA!KGU2=0,\"\",IFERROR(DATA!KGU2,\"\"))","v":""},{"$f":"IF(DATA!KGV2=0,\"\",IFERROR(DATA!KGV2,\"\"))","v":""},{"$f":"IF(DATA!KGW2=0,\"\",IFERROR(DATA!KGW2,\"\"))","v":""},{"$f":"IF(DATA!KGX2=0,\"\",IFERROR(DATA!KGX2,\"\"))","v":""},{"$f":"IF(DATA!KGY2=0,\"\",IFERROR(DATA!KGY2,\"\"))","v":""},{"$f":"IF(DATA!KGZ2=0,\"\",IFERROR(DATA!KGZ2,\"\"))","v":""},{"$f":"IF(DATA!KHA2=0,\"\",IFERROR(DATA!KHA2,\"\"))","v":""},{"$f":"IF(DATA!KHB2=0,\"\",IFERROR(DATA!KHB2,\"\"))","v":""},{"$f":"IF(DATA!KHC2=0,\"\",IFERROR(DATA!KHC2,\"\"))","v":""},{"$f":"IF(DATA!KHD2=0,\"\",IFERROR(DATA!KHD2,\"\"))","v":""},{"$f":"IF(DATA!KHE2=0,\"\",IFERROR(DATA!KHE2,\"\"))","v":""},{"$f":"IF(DATA!KHF2=0,\"\",IFERROR(DATA!KHF2,\"\"))","v":""},{"$f":"IF(DATA!KHG2=0,\"\",IFERROR(DATA!KHG2,\"\"))","v":""},{"$f":"IF(DATA!KHH2=0,\"\",IFERROR(DATA!KHH2,\"\"))","v":""},{"$f":"IF(DATA!KHI2=0,\"\",IFERROR(DATA!KHI2,\"\"))","v":""},{"$f":"IF(DATA!KHJ2=0,\"\",IFERROR(DATA!KHJ2,\"\"))","v":""},{"$f":"IF(DATA!KHK2=0,\"\",IFERROR(DATA!KHK2,\"\"))","v":""},{"$f":"IF(DATA!KHL2=0,\"\",IFERROR(DATA!KHL2,\"\"))","v":""},{"$f":"IF(DATA!KHM2=0,\"\",IFERROR(DATA!KHM2,\"\"))","v":""},{"$f":"IF(DATA!KHN2=0,\"\",IFERROR(DATA!KHN2,\"\"))","v":""},{"$f":"IF(DATA!KHO2=0,\"\",IFERROR(DATA!KHO2,\"\"))","v":""},{"$f":"IF(DATA!KHP2=0,\"\",IFERROR(DATA!KHP2,\"\"))","v":""},{"$f":"IF(DATA!KHQ2=0,\"\",IFERROR(DATA!KHQ2,\"\"))","v":""},{"$f":"IF(DATA!KHR2=0,\"\",IFERROR(DATA!KHR2,\"\"))","v":""},{"$f":"IF(DATA!KHS2=0,\"\",IFERROR(DATA!KHS2,\"\"))","v":""},{"$f":"IF(DATA!KHT2=0,\"\",IFERROR(DATA!KHT2,\"\"))","v":""},{"$f":"IF(DATA!KHU2=0,\"\",IFERROR(DATA!KHU2,\"\"))","v":""},{"$f":"IF(DATA!KHV2=0,\"\",IFERROR(DATA!KHV2,\"\"))","v":""},{"$f":"IF(DATA!KHW2=0,\"\",IFERROR(DATA!KHW2,\"\"))","v":""},{"$f":"IF(DATA!KHX2=0,\"\",IFERROR(DATA!KHX2,\"\"))","v":""},{"$f":"IF(DATA!KHY2=0,\"\",IFERROR(DATA!KHY2,\"\"))","v":""},{"$f":"IF(DATA!KHZ2=0,\"\",IFERROR(DATA!KHZ2,\"\"))","v":""},{"$f":"IF(DATA!KIA2=0,\"\",IFERROR(DATA!KIA2,\"\"))","v":""},{"$f":"IF(DATA!KIB2=0,\"\",IFERROR(DATA!KIB2,\"\"))","v":""},{"$f":"IF(DATA!KIC2=0,\"\",IFERROR(DATA!KIC2,\"\"))","v":""},{"$f":"IF(DATA!KID2=0,\"\",IFERROR(DATA!KID2,\"\"))","v":""},{"$f":"IF(DATA!KIE2=0,\"\",IFERROR(DATA!KIE2,\"\"))","v":""},{"$f":"IF(DATA!KIF2=0,\"\",IFERROR(DATA!KIF2,\"\"))","v":""},{"$f":"IF(DATA!KIG2=0,\"\",IFERROR(DATA!KIG2,\"\"))","v":""},{"$f":"IF(DATA!KIH2=0,\"\",IFERROR(DATA!KIH2,\"\"))","v":""},{"$f":"IF(DATA!KII2=0,\"\",IFERROR(DATA!KII2,\"\"))","v":""},{"$f":"IF(DATA!KIJ2=0,\"\",IFERROR(DATA!KIJ2,\"\"))","v":""},{"$f":"IF(DATA!KIK2=0,\"\",IFERROR(DATA!KIK2,\"\"))","v":""},{"$f":"IF(DATA!KIL2=0,\"\",IFERROR(DATA!KIL2,\"\"))","v":""},{"$f":"IF(DATA!KIM2=0,\"\",IFERROR(DATA!KIM2,\"\"))","v":""},{"$f":"IF(DATA!KIN2=0,\"\",IFERROR(DATA!KIN2,\"\"))","v":""},{"$f":"IF(DATA!KIO2=0,\"\",IFERROR(DATA!KIO2,\"\"))","v":""},{"$f":"IF(DATA!KIP2=0,\"\",IFERROR(DATA!KIP2,\"\"))","v":""},{"$f":"IF(DATA!KIQ2=0,\"\",IFERROR(DATA!KIQ2,\"\"))","v":""},{"$f":"IF(DATA!KIR2=0,\"\",IFERROR(DATA!KIR2,\"\"))","v":""},{"$f":"IF(DATA!KIS2=0,\"\",IFERROR(DATA!KIS2,\"\"))","v":""},{"$f":"IF(DATA!KIT2=0,\"\",IFERROR(DATA!KIT2,\"\"))","v":""},{"$f":"IF(DATA!KIU2=0,\"\",IFERROR(DATA!KIU2,\"\"))","v":""},{"$f":"IF(DATA!KIV2=0,\"\",IFERROR(DATA!KIV2,\"\"))","v":""},{"$f":"IF(DATA!KIW2=0,\"\",IFERROR(DATA!KIW2,\"\"))","v":""},{"$f":"IF(DATA!KIX2=0,\"\",IFERROR(DATA!KIX2,\"\"))","v":""},{"$f":"IF(DATA!KIY2=0,\"\",IFERROR(DATA!KIY2,\"\"))","v":""},{"$f":"IF(DATA!KIZ2=0,\"\",IFERROR(DATA!KIZ2,\"\"))","v":""},{"$f":"IF(DATA!KJA2=0,\"\",IFERROR(DATA!KJA2,\"\"))","v":""},{"$f":"IF(DATA!KJB2=0,\"\",IFERROR(DATA!KJB2,\"\"))","v":""},{"$f":"IF(DATA!KJC2=0,\"\",IFERROR(DATA!KJC2,\"\"))","v":""},{"$f":"IF(DATA!KJD2=0,\"\",IFERROR(DATA!KJD2,\"\"))","v":""},{"$f":"IF(DATA!KJE2=0,\"\",IFERROR(DATA!KJE2,\"\"))","v":""},{"$f":"IF(DATA!KJF2=0,\"\",IFERROR(DATA!KJF2,\"\"))","v":""},{"$f":"IF(DATA!KJG2=0,\"\",IFERROR(DATA!KJG2,\"\"))","v":""},{"$f":"IF(DATA!KJH2=0,\"\",IFERROR(DATA!KJH2,\"\"))","v":""},{"$f":"IF(DATA!KJI2=0,\"\",IFERROR(DATA!KJI2,\"\"))","v":""},{"$f":"IF(DATA!KJJ2=0,\"\",IFERROR(DATA!KJJ2,\"\"))","v":""},{"$f":"IF(DATA!KJK2=0,\"\",IFERROR(DATA!KJK2,\"\"))","v":""},{"$f":"IF(DATA!KJL2=0,\"\",IFERROR(DATA!KJL2,\"\"))","v":""},{"$f":"IF(DATA!KJM2=0,\"\",IFERROR(DATA!KJM2,\"\"))","v":""},{"$f":"IF(DATA!KJN2=0,\"\",IFERROR(DATA!KJN2,\"\"))","v":""},{"$f":"IF(DATA!KJO2=0,\"\",IFERROR(DATA!KJO2,\"\"))","v":""},{"$f":"IF(DATA!KJP2=0,\"\",IFERROR(DATA!KJP2,\"\"))","v":""},{"$f":"IF(DATA!KJQ2=0,\"\",IFERROR(DATA!KJQ2,\"\"))","v":""},{"$f":"IF(DATA!KJR2=0,\"\",IFERROR(DATA!KJR2,\"\"))","v":""},{"$f":"IF(DATA!KJS2=0,\"\",IFERROR(DATA!KJS2,\"\"))","v":""},{"$f":"IF(DATA!KJT2=0,\"\",IFERROR(DATA!KJT2,\"\"))","v":""},{"$f":"IF(DATA!KJU2=0,\"\",IFERROR(DATA!KJU2,\"\"))","v":""},{"$f":"IF(DATA!KJV2=0,\"\",IFERROR(DATA!KJV2,\"\"))","v":""},{"$f":"IF(DATA!KJW2=0,\"\",IFERROR(DATA!KJW2,\"\"))","v":""},{"$f":"IF(DATA!KJX2=0,\"\",IFERROR(DATA!KJX2,\"\"))","v":""},{"$f":"IF(DATA!KJY2=0,\"\",IFERROR(DATA!KJY2,\"\"))","v":""},{"$f":"IF(DATA!KJZ2=0,\"\",IFERROR(DATA!KJZ2,\"\"))","v":""},{"$f":"IF(DATA!KKA2=0,\"\",IFERROR(DATA!KKA2,\"\"))","v":""},{"$f":"IF(DATA!KKB2=0,\"\",IFERROR(DATA!KKB2,\"\"))","v":""},{"$f":"IF(DATA!KKC2=0,\"\",IFERROR(DATA!KKC2,\"\"))","v":""},{"$f":"IF(DATA!KKD2=0,\"\",IFERROR(DATA!KKD2,\"\"))","v":""},{"$f":"IF(DATA!KKE2=0,\"\",IFERROR(DATA!KKE2,\"\"))","v":""},{"$f":"IF(DATA!KKF2=0,\"\",IFERROR(DATA!KKF2,\"\"))","v":""},{"$f":"IF(DATA!KKG2=0,\"\",IFERROR(DATA!KKG2,\"\"))","v":""},{"$f":"IF(DATA!KKH2=0,\"\",IFERROR(DATA!KKH2,\"\"))","v":""},{"$f":"IF(DATA!KKI2=0,\"\",IFERROR(DATA!KKI2,\"\"))","v":""},{"$f":"IF(DATA!KKJ2=0,\"\",IFERROR(DATA!KKJ2,\"\"))","v":""},{"$f":"IF(DATA!KKK2=0,\"\",IFERROR(DATA!KKK2,\"\"))","v":""},{"$f":"IF(DATA!KKL2=0,\"\",IFERROR(DATA!KKL2,\"\"))","v":""},{"$f":"IF(DATA!KKM2=0,\"\",IFERROR(DATA!KKM2,\"\"))","v":""},{"$f":"IF(DATA!KKN2=0,\"\",IFERROR(DATA!KKN2,\"\"))","v":""},{"$f":"IF(DATA!KKO2=0,\"\",IFERROR(DATA!KKO2,\"\"))","v":""},{"$f":"IF(DATA!KKP2=0,\"\",IFERROR(DATA!KKP2,\"\"))","v":""},{"$f":"IF(DATA!KKQ2=0,\"\",IFERROR(DATA!KKQ2,\"\"))","v":""},{"$f":"IF(DATA!KKR2=0,\"\",IFERROR(DATA!KKR2,\"\"))","v":""},{"$f":"IF(DATA!KKS2=0,\"\",IFERROR(DATA!KKS2,\"\"))","v":""},{"$f":"IF(DATA!KKT2=0,\"\",IFERROR(DATA!KKT2,\"\"))","v":""},{"$f":"IF(DATA!KKU2=0,\"\",IFERROR(DATA!KKU2,\"\"))","v":""},{"$f":"IF(DATA!KKV2=0,\"\",IFERROR(DATA!KKV2,\"\"))","v":""},{"$f":"IF(DATA!KKW2=0,\"\",IFERROR(DATA!KKW2,\"\"))","v":""},{"$f":"IF(DATA!KKX2=0,\"\",IFERROR(DATA!KKX2,\"\"))","v":""},{"$f":"IF(DATA!KKY2=0,\"\",IFERROR(DATA!KKY2,\"\"))","v":""},{"$f":"IF(DATA!KKZ2=0,\"\",IFERROR(DATA!KKZ2,\"\"))","v":""},{"$f":"IF(DATA!KLA2=0,\"\",IFERROR(DATA!KLA2,\"\"))","v":""},{"$f":"IF(DATA!KLB2=0,\"\",IFERROR(DATA!KLB2,\"\"))","v":""},{"$f":"IF(DATA!KLC2=0,\"\",IFERROR(DATA!KLC2,\"\"))","v":""},{"$f":"IF(DATA!KLD2=0,\"\",IFERROR(DATA!KLD2,\"\"))","v":""},{"$f":"IF(DATA!KLE2=0,\"\",IFERROR(DATA!KLE2,\"\"))","v":""},{"$f":"IF(DATA!KLF2=0,\"\",IFERROR(DATA!KLF2,\"\"))","v":""},{"$f":"IF(DATA!KLG2=0,\"\",IFERROR(DATA!KLG2,\"\"))","v":""},{"$f":"IF(DATA!KLH2=0,\"\",IFERROR(DATA!KLH2,\"\"))","v":""},{"$f":"IF(DATA!KLI2=0,\"\",IFERROR(DATA!KLI2,\"\"))","v":""},{"$f":"IF(DATA!KLJ2=0,\"\",IFERROR(DATA!KLJ2,\"\"))","v":""},{"$f":"IF(DATA!KLK2=0,\"\",IFERROR(DATA!KLK2,\"\"))","v":""},{"$f":"IF(DATA!KLL2=0,\"\",IFERROR(DATA!KLL2,\"\"))","v":""},{"$f":"IF(DATA!KLM2=0,\"\",IFERROR(DATA!KLM2,\"\"))","v":""},{"$f":"IF(DATA!KLN2=0,\"\",IFERROR(DATA!KLN2,\"\"))","v":""},{"$f":"IF(DATA!KLO2=0,\"\",IFERROR(DATA!KLO2,\"\"))","v":""},{"$f":"IF(DATA!KLP2=0,\"\",IFERROR(DATA!KLP2,\"\"))","v":""},{"$f":"IF(DATA!KLQ2=0,\"\",IFERROR(DATA!KLQ2,\"\"))","v":""},{"$f":"IF(DATA!KLR2=0,\"\",IFERROR(DATA!KLR2,\"\"))","v":""},{"$f":"IF(DATA!KLS2=0,\"\",IFERROR(DATA!KLS2,\"\"))","v":""},{"$f":"IF(DATA!KLT2=0,\"\",IFERROR(DATA!KLT2,\"\"))","v":""},{"$f":"IF(DATA!KLU2=0,\"\",IFERROR(DATA!KLU2,\"\"))","v":""},{"$f":"IF(DATA!KLV2=0,\"\",IFERROR(DATA!KLV2,\"\"))","v":""},{"$f":"IF(DATA!KLW2=0,\"\",IFERROR(DATA!KLW2,\"\"))","v":""},{"$f":"IF(DATA!KLX2=0,\"\",IFERROR(DATA!KLX2,\"\"))","v":""},{"$f":"IF(DATA!KLY2=0,\"\",IFERROR(DATA!KLY2,\"\"))","v":""},{"$f":"IF(DATA!KLZ2=0,\"\",IFERROR(DATA!KLZ2,\"\"))","v":""},{"$f":"IF(DATA!KMA2=0,\"\",IFERROR(DATA!KMA2,\"\"))","v":""},{"$f":"IF(DATA!KMB2=0,\"\",IFERROR(DATA!KMB2,\"\"))","v":""},{"$f":"IF(DATA!KMC2=0,\"\",IFERROR(DATA!KMC2,\"\"))","v":""},{"$f":"IF(DATA!KMD2=0,\"\",IFERROR(DATA!KMD2,\"\"))","v":""},{"$f":"IF(DATA!KME2=0,\"\",IFERROR(DATA!KME2,\"\"))","v":""},{"$f":"IF(DATA!KMF2=0,\"\",IFERROR(DATA!KMF2,\"\"))","v":""},{"$f":"IF(DATA!KMG2=0,\"\",IFERROR(DATA!KMG2,\"\"))","v":""},{"$f":"IF(DATA!KMH2=0,\"\",IFERROR(DATA!KMH2,\"\"))","v":""},{"$f":"IF(DATA!KMI2=0,\"\",IFERROR(DATA!KMI2,\"\"))","v":""},{"$f":"IF(DATA!KMJ2=0,\"\",IFERROR(DATA!KMJ2,\"\"))","v":""},{"$f":"IF(DATA!KMK2=0,\"\",IFERROR(DATA!KMK2,\"\"))","v":""},{"$f":"IF(DATA!KML2=0,\"\",IFERROR(DATA!KML2,\"\"))","v":""},{"$f":"IF(DATA!KMM2=0,\"\",IFERROR(DATA!KMM2,\"\"))","v":""},{"$f":"IF(DATA!KMN2=0,\"\",IFERROR(DATA!KMN2,\"\"))","v":""},{"$f":"IF(DATA!KMO2=0,\"\",IFERROR(DATA!KMO2,\"\"))","v":""},{"$f":"IF(DATA!KMP2=0,\"\",IFERROR(DATA!KMP2,\"\"))","v":""},{"$f":"IF(DATA!KMQ2=0,\"\",IFERROR(DATA!KMQ2,\"\"))","v":""},{"$f":"IF(DATA!KMR2=0,\"\",IFERROR(DATA!KMR2,\"\"))","v":""},{"$f":"IF(DATA!KMS2=0,\"\",IFERROR(DATA!KMS2,\"\"))","v":""},{"$f":"IF(DATA!KMT2=0,\"\",IFERROR(DATA!KMT2,\"\"))","v":""},{"$f":"IF(DATA!KMU2=0,\"\",IFERROR(DATA!KMU2,\"\"))","v":""},{"$f":"IF(DATA!KMV2=0,\"\",IFERROR(DATA!KMV2,\"\"))","v":""},{"$f":"IF(DATA!KMW2=0,\"\",IFERROR(DATA!KMW2,\"\"))","v":""},{"$f":"IF(DATA!KMX2=0,\"\",IFERROR(DATA!KMX2,\"\"))","v":""},{"$f":"IF(DATA!KMY2=0,\"\",IFERROR(DATA!KMY2,\"\"))","v":""},{"$f":"IF(DATA!KMZ2=0,\"\",IFERROR(DATA!KMZ2,\"\"))","v":""},{"$f":"IF(DATA!KNA2=0,\"\",IFERROR(DATA!KNA2,\"\"))","v":""},{"$f":"IF(DATA!KNB2=0,\"\",IFERROR(DATA!KNB2,\"\"))","v":""},{"$f":"IF(DATA!KNC2=0,\"\",IFERROR(DATA!KNC2,\"\"))","v":""},{"$f":"IF(DATA!KND2=0,\"\",IFERROR(DATA!KND2,\"\"))","v":""},{"$f":"IF(DATA!KNE2=0,\"\",IFERROR(DATA!KNE2,\"\"))","v":""},{"$f":"IF(DATA!KNF2=0,\"\",IFERROR(DATA!KNF2,\"\"))","v":""},{"$f":"IF(DATA!KNG2=0,\"\",IFERROR(DATA!KNG2,\"\"))","v":""},{"$f":"IF(DATA!KNH2=0,\"\",IFERROR(DATA!KNH2,\"\"))","v":""},{"$f":"IF(DATA!KNI2=0,\"\",IFERROR(DATA!KNI2,\"\"))","v":""},{"$f":"IF(DATA!KNJ2=0,\"\",IFERROR(DATA!KNJ2,\"\"))","v":""},{"$f":"IF(DATA!KNK2=0,\"\",IFERROR(DATA!KNK2,\"\"))","v":""},{"$f":"IF(DATA!KNL2=0,\"\",IFERROR(DATA!KNL2,\"\"))","v":""},{"$f":"IF(DATA!KNM2=0,\"\",IFERROR(DATA!KNM2,\"\"))","v":""},{"$f":"IF(DATA!KNN2=0,\"\",IFERROR(DATA!KNN2,\"\"))","v":""},{"$f":"IF(DATA!KNO2=0,\"\",IFERROR(DATA!KNO2,\"\"))","v":""},{"$f":"IF(DATA!KNP2=0,\"\",IFERROR(DATA!KNP2,\"\"))","v":""},{"$f":"IF(DATA!KNQ2=0,\"\",IFERROR(DATA!KNQ2,\"\"))","v":""},{"$f":"IF(DATA!KNR2=0,\"\",IFERROR(DATA!KNR2,\"\"))","v":""},{"$f":"IF(DATA!KNS2=0,\"\",IFERROR(DATA!KNS2,\"\"))","v":""},{"$f":"IF(DATA!KNT2=0,\"\",IFERROR(DATA!KNT2,\"\"))","v":""},{"$f":"IF(DATA!KNU2=0,\"\",IFERROR(DATA!KNU2,\"\"))","v":""},{"$f":"IF(DATA!KNV2=0,\"\",IFERROR(DATA!KNV2,\"\"))","v":""},{"$f":"IF(DATA!KNW2=0,\"\",IFERROR(DATA!KNW2,\"\"))","v":""},{"$f":"IF(DATA!KNX2=0,\"\",IFERROR(DATA!KNX2,\"\"))","v":""},{"$f":"IF(DATA!KNY2=0,\"\",IFERROR(DATA!KNY2,\"\"))","v":""},{"$f":"IF(DATA!KNZ2=0,\"\",IFERROR(DATA!KNZ2,\"\"))","v":""},{"$f":"IF(DATA!KOA2=0,\"\",IFERROR(DATA!KOA2,\"\"))","v":""},{"$f":"IF(DATA!KOB2=0,\"\",IFERROR(DATA!KOB2,\"\"))","v":""},{"$f":"IF(DATA!KOC2=0,\"\",IFERROR(DATA!KOC2,\"\"))","v":""},{"$f":"IF(DATA!KOD2=0,\"\",IFERROR(DATA!KOD2,\"\"))","v":""},{"$f":"IF(DATA!KOE2=0,\"\",IFERROR(DATA!KOE2,\"\"))","v":""},{"$f":"IF(DATA!KOF2=0,\"\",IFERROR(DATA!KOF2,\"\"))","v":""},{"$f":"IF(DATA!KOG2=0,\"\",IFERROR(DATA!KOG2,\"\"))","v":""},{"$f":"IF(DATA!KOH2=0,\"\",IFERROR(DATA!KOH2,\"\"))","v":""},{"$f":"IF(DATA!KOI2=0,\"\",IFERROR(DATA!KOI2,\"\"))","v":""},{"$f":"IF(DATA!KOJ2=0,\"\",IFERROR(DATA!KOJ2,\"\"))","v":""},{"$f":"IF(DATA!KOK2=0,\"\",IFERROR(DATA!KOK2,\"\"))","v":""},{"$f":"IF(DATA!KOL2=0,\"\",IFERROR(DATA!KOL2,\"\"))","v":""},{"$f":"IF(DATA!KOM2=0,\"\",IFERROR(DATA!KOM2,\"\"))","v":""},{"$f":"IF(DATA!KON2=0,\"\",IFERROR(DATA!KON2,\"\"))","v":""},{"$f":"IF(DATA!KOO2=0,\"\",IFERROR(DATA!KOO2,\"\"))","v":""},{"$f":"IF(DATA!KOP2=0,\"\",IFERROR(DATA!KOP2,\"\"))","v":""},{"$f":"IF(DATA!KOQ2=0,\"\",IFERROR(DATA!KOQ2,\"\"))","v":""},{"$f":"IF(DATA!KOR2=0,\"\",IFERROR(DATA!KOR2,\"\"))","v":""},{"$f":"IF(DATA!KOS2=0,\"\",IFERROR(DATA!KOS2,\"\"))","v":""},{"$f":"IF(DATA!KOT2=0,\"\",IFERROR(DATA!KOT2,\"\"))","v":""},{"$f":"IF(DATA!KOU2=0,\"\",IFERROR(DATA!KOU2,\"\"))","v":""},{"$f":"IF(DATA!KOV2=0,\"\",IFERROR(DATA!KOV2,\"\"))","v":""},{"$f":"IF(DATA!KOW2=0,\"\",IFERROR(DATA!KOW2,\"\"))","v":""},{"$f":"IF(DATA!KOX2=0,\"\",IFERROR(DATA!KOX2,\"\"))","v":""},{"$f":"IF(DATA!KOY2=0,\"\",IFERROR(DATA!KOY2,\"\"))","v":""},{"$f":"IF(DATA!KOZ2=0,\"\",IFERROR(DATA!KOZ2,\"\"))","v":""},{"$f":"IF(DATA!KPA2=0,\"\",IFERROR(DATA!KPA2,\"\"))","v":""},{"$f":"IF(DATA!KPB2=0,\"\",IFERROR(DATA!KPB2,\"\"))","v":""},{"$f":"IF(DATA!KPC2=0,\"\",IFERROR(DATA!KPC2,\"\"))","v":""},{"$f":"IF(DATA!KPD2=0,\"\",IFERROR(DATA!KPD2,\"\"))","v":""},{"$f":"IF(DATA!KPE2=0,\"\",IFERROR(DATA!KPE2,\"\"))","v":""},{"$f":"IF(DATA!KPF2=0,\"\",IFERROR(DATA!KPF2,\"\"))","v":""},{"$f":"IF(DATA!KPG2=0,\"\",IFERROR(DATA!KPG2,\"\"))","v":""},{"$f":"IF(DATA!KPH2=0,\"\",IFERROR(DATA!KPH2,\"\"))","v":""},{"$f":"IF(DATA!KPI2=0,\"\",IFERROR(DATA!KPI2,\"\"))","v":""},{"$f":"IF(DATA!KPJ2=0,\"\",IFERROR(DATA!KPJ2,\"\"))","v":""},{"$f":"IF(DATA!KPK2=0,\"\",IFERROR(DATA!KPK2,\"\"))","v":""},{"$f":"IF(DATA!KPL2=0,\"\",IFERROR(DATA!KPL2,\"\"))","v":""},{"$f":"IF(DATA!KPM2=0,\"\",IFERROR(DATA!KPM2,\"\"))","v":""},{"$f":"IF(DATA!KPN2=0,\"\",IFERROR(DATA!KPN2,\"\"))","v":""},{"$f":"IF(DATA!KPO2=0,\"\",IFERROR(DATA!KPO2,\"\"))","v":""},{"$f":"IF(DATA!KPP2=0,\"\",IFERROR(DATA!KPP2,\"\"))","v":""},{"$f":"IF(DATA!KPQ2=0,\"\",IFERROR(DATA!KPQ2,\"\"))","v":""},{"$f":"IF(DATA!KPR2=0,\"\",IFERROR(DATA!KPR2,\"\"))","v":""},{"$f":"IF(DATA!KPS2=0,\"\",IFERROR(DATA!KPS2,\"\"))","v":""},{"$f":"IF(DATA!KPT2=0,\"\",IFERROR(DATA!KPT2,\"\"))","v":""},{"$f":"IF(DATA!KPU2=0,\"\",IFERROR(DATA!KPU2,\"\"))","v":""},{"$f":"IF(DATA!KPV2=0,\"\",IFERROR(DATA!KPV2,\"\"))","v":""},{"$f":"IF(DATA!KPW2=0,\"\",IFERROR(DATA!KPW2,\"\"))","v":""},{"$f":"IF(DATA!KPX2=0,\"\",IFERROR(DATA!KPX2,\"\"))","v":""},{"$f":"IF(DATA!KPY2=0,\"\",IFERROR(DATA!KPY2,\"\"))","v":""},{"$f":"IF(DATA!KPZ2=0,\"\",IFERROR(DATA!KPZ2,\"\"))","v":""},{"$f":"IF(DATA!KQA2=0,\"\",IFERROR(DATA!KQA2,\"\"))","v":""},{"$f":"IF(DATA!KQB2=0,\"\",IFERROR(DATA!KQB2,\"\"))","v":""},{"$f":"IF(DATA!KQC2=0,\"\",IFERROR(DATA!KQC2,\"\"))","v":""},{"$f":"IF(DATA!KQD2=0,\"\",IFERROR(DATA!KQD2,\"\"))","v":""},{"$f":"IF(DATA!KQE2=0,\"\",IFERROR(DATA!KQE2,\"\"))","v":""},{"$f":"IF(DATA!KQF2=0,\"\",IFERROR(DATA!KQF2,\"\"))","v":""},{"$f":"IF(DATA!KQG2=0,\"\",IFERROR(DATA!KQG2,\"\"))","v":""},{"$f":"IF(DATA!KQH2=0,\"\",IFERROR(DATA!KQH2,\"\"))","v":""},{"$f":"IF(DATA!KQI2=0,\"\",IFERROR(DATA!KQI2,\"\"))","v":""},{"$f":"IF(DATA!KQJ2=0,\"\",IFERROR(DATA!KQJ2,\"\"))","v":""},{"$f":"IF(DATA!KQK2=0,\"\",IFERROR(DATA!KQK2,\"\"))","v":""},{"$f":"IF(DATA!KQL2=0,\"\",IFERROR(DATA!KQL2,\"\"))","v":""},{"$f":"IF(DATA!KQM2=0,\"\",IFERROR(DATA!KQM2,\"\"))","v":""},{"$f":"IF(DATA!KQN2=0,\"\",IFERROR(DATA!KQN2,\"\"))","v":""},{"$f":"IF(DATA!KQO2=0,\"\",IFERROR(DATA!KQO2,\"\"))","v":""},{"$f":"IF(DATA!KQP2=0,\"\",IFERROR(DATA!KQP2,\"\"))","v":""},{"$f":"IF(DATA!KQQ2=0,\"\",IFERROR(DATA!KQQ2,\"\"))","v":""},{"$f":"IF(DATA!KQR2=0,\"\",IFERROR(DATA!KQR2,\"\"))","v":""},{"$f":"IF(DATA!KQS2=0,\"\",IFERROR(DATA!KQS2,\"\"))","v":""},{"$f":"IF(DATA!KQT2=0,\"\",IFERROR(DATA!KQT2,\"\"))","v":""},{"$f":"IF(DATA!KQU2=0,\"\",IFERROR(DATA!KQU2,\"\"))","v":""},{"$f":"IF(DATA!KQV2=0,\"\",IFERROR(DATA!KQV2,\"\"))","v":""},{"$f":"IF(DATA!KQW2=0,\"\",IFERROR(DATA!KQW2,\"\"))","v":""},{"$f":"IF(DATA!KQX2=0,\"\",IFERROR(DATA!KQX2,\"\"))","v":""},{"$f":"IF(DATA!KQY2=0,\"\",IFERROR(DATA!KQY2,\"\"))","v":""},{"$f":"IF(DATA!KQZ2=0,\"\",IFERROR(DATA!KQZ2,\"\"))","v":""},{"$f":"IF(DATA!KRA2=0,\"\",IFERROR(DATA!KRA2,\"\"))","v":""},{"$f":"IF(DATA!KRB2=0,\"\",IFERROR(DATA!KRB2,\"\"))","v":""},{"$f":"IF(DATA!KRC2=0,\"\",IFERROR(DATA!KRC2,\"\"))","v":""},{"$f":"IF(DATA!KRD2=0,\"\",IFERROR(DATA!KRD2,\"\"))","v":""},{"$f":"IF(DATA!KRE2=0,\"\",IFERROR(DATA!KRE2,\"\"))","v":""},{"$f":"IF(DATA!KRF2=0,\"\",IFERROR(DATA!KRF2,\"\"))","v":""},{"$f":"IF(DATA!KRG2=0,\"\",IFERROR(DATA!KRG2,\"\"))","v":""},{"$f":"IF(DATA!KRH2=0,\"\",IFERROR(DATA!KRH2,\"\"))","v":""},{"$f":"IF(DATA!KRI2=0,\"\",IFERROR(DATA!KRI2,\"\"))","v":""},{"$f":"IF(DATA!KRJ2=0,\"\",IFERROR(DATA!KRJ2,\"\"))","v":""},{"$f":"IF(DATA!KRK2=0,\"\",IFERROR(DATA!KRK2,\"\"))","v":""},{"$f":"IF(DATA!KRL2=0,\"\",IFERROR(DATA!KRL2,\"\"))","v":""},{"$f":"IF(DATA!KRM2=0,\"\",IFERROR(DATA!KRM2,\"\"))","v":""},{"$f":"IF(DATA!KRN2=0,\"\",IFERROR(DATA!KRN2,\"\"))","v":""},{"$f":"IF(DATA!KRO2=0,\"\",IFERROR(DATA!KRO2,\"\"))","v":""},{"$f":"IF(DATA!KRP2=0,\"\",IFERROR(DATA!KRP2,\"\"))","v":""},{"$f":"IF(DATA!KRQ2=0,\"\",IFERROR(DATA!KRQ2,\"\"))","v":""},{"$f":"IF(DATA!KRR2=0,\"\",IFERROR(DATA!KRR2,\"\"))","v":""},{"$f":"IF(DATA!KRS2=0,\"\",IFERROR(DATA!KRS2,\"\"))","v":""},{"$f":"IF(DATA!KRT2=0,\"\",IFERROR(DATA!KRT2,\"\"))","v":""},{"$f":"IF(DATA!KRU2=0,\"\",IFERROR(DATA!KRU2,\"\"))","v":""},{"$f":"IF(DATA!KRV2=0,\"\",IFERROR(DATA!KRV2,\"\"))","v":""},{"$f":"IF(DATA!KRW2=0,\"\",IFERROR(DATA!KRW2,\"\"))","v":""},{"$f":"IF(DATA!KRX2=0,\"\",IFERROR(DATA!KRX2,\"\"))","v":""},{"$f":"IF(DATA!KRY2=0,\"\",IFERROR(DATA!KRY2,\"\"))","v":""},{"$f":"IF(DATA!KRZ2=0,\"\",IFERROR(DATA!KRZ2,\"\"))","v":""},{"$f":"IF(DATA!KSA2=0,\"\",IFERROR(DATA!KSA2,\"\"))","v":""},{"$f":"IF(DATA!KSB2=0,\"\",IFERROR(DATA!KSB2,\"\"))","v":""},{"$f":"IF(DATA!KSC2=0,\"\",IFERROR(DATA!KSC2,\"\"))","v":""},{"$f":"IF(DATA!KSD2=0,\"\",IFERROR(DATA!KSD2,\"\"))","v":""},{"$f":"IF(DATA!KSE2=0,\"\",IFERROR(DATA!KSE2,\"\"))","v":""},{"$f":"IF(DATA!KSF2=0,\"\",IFERROR(DATA!KSF2,\"\"))","v":""},{"$f":"IF(DATA!KSG2=0,\"\",IFERROR(DATA!KSG2,\"\"))","v":""},{"$f":"IF(DATA!KSH2=0,\"\",IFERROR(DATA!KSH2,\"\"))","v":""},{"$f":"IF(DATA!KSI2=0,\"\",IFERROR(DATA!KSI2,\"\"))","v":""},{"$f":"IF(DATA!KSJ2=0,\"\",IFERROR(DATA!KSJ2,\"\"))","v":""},{"$f":"IF(DATA!KSK2=0,\"\",IFERROR(DATA!KSK2,\"\"))","v":""},{"$f":"IF(DATA!KSL2=0,\"\",IFERROR(DATA!KSL2,\"\"))","v":""},{"$f":"IF(DATA!KSM2=0,\"\",IFERROR(DATA!KSM2,\"\"))","v":""},{"$f":"IF(DATA!KSN2=0,\"\",IFERROR(DATA!KSN2,\"\"))","v":""},{"$f":"IF(DATA!KSO2=0,\"\",IFERROR(DATA!KSO2,\"\"))","v":""},{"$f":"IF(DATA!KSP2=0,\"\",IFERROR(DATA!KSP2,\"\"))","v":""},{"$f":"IF(DATA!KSQ2=0,\"\",IFERROR(DATA!KSQ2,\"\"))","v":""},{"$f":"IF(DATA!KSR2=0,\"\",IFERROR(DATA!KSR2,\"\"))","v":""},{"$f":"IF(DATA!KSS2=0,\"\",IFERROR(DATA!KSS2,\"\"))","v":""},{"$f":"IF(DATA!KST2=0,\"\",IFERROR(DATA!KST2,\"\"))","v":""},{"$f":"IF(DATA!KSU2=0,\"\",IFERROR(DATA!KSU2,\"\"))","v":""},{"$f":"IF(DATA!KSV2=0,\"\",IFERROR(DATA!KSV2,\"\"))","v":""},{"$f":"IF(DATA!KSW2=0,\"\",IFERROR(DATA!KSW2,\"\"))","v":""},{"$f":"IF(DATA!KSX2=0,\"\",IFERROR(DATA!KSX2,\"\"))","v":""},{"$f":"IF(DATA!KSY2=0,\"\",IFERROR(DATA!KSY2,\"\"))","v":""},{"$f":"IF(DATA!KSZ2=0,\"\",IFERROR(DATA!KSZ2,\"\"))","v":""},{"$f":"IF(DATA!KTA2=0,\"\",IFERROR(DATA!KTA2,\"\"))","v":""},{"$f":"IF(DATA!KTB2=0,\"\",IFERROR(DATA!KTB2,\"\"))","v":""},{"$f":"IF(DATA!KTC2=0,\"\",IFERROR(DATA!KTC2,\"\"))","v":""},{"$f":"IF(DATA!KTD2=0,\"\",IFERROR(DATA!KTD2,\"\"))","v":""},{"$f":"IF(DATA!KTE2=0,\"\",IFERROR(DATA!KTE2,\"\"))","v":""},{"$f":"IF(DATA!KTF2=0,\"\",IFERROR(DATA!KTF2,\"\"))","v":""},{"$f":"IF(DATA!KTG2=0,\"\",IFERROR(DATA!KTG2,\"\"))","v":""},{"$f":"IF(DATA!KTH2=0,\"\",IFERROR(DATA!KTH2,\"\"))","v":""},{"$f":"IF(DATA!KTI2=0,\"\",IFERROR(DATA!KTI2,\"\"))","v":""},{"$f":"IF(DATA!KTJ2=0,\"\",IFERROR(DATA!KTJ2,\"\"))","v":""},{"$f":"IF(DATA!KTK2=0,\"\",IFERROR(DATA!KTK2,\"\"))","v":""},{"$f":"IF(DATA!KTL2=0,\"\",IFERROR(DATA!KTL2,\"\"))","v":""},{"$f":"IF(DATA!KTM2=0,\"\",IFERROR(DATA!KTM2,\"\"))","v":""},{"$f":"IF(DATA!KTN2=0,\"\",IFERROR(DATA!KTN2,\"\"))","v":""},{"$f":"IF(DATA!KTO2=0,\"\",IFERROR(DATA!KTO2,\"\"))","v":""},{"$f":"IF(DATA!KTP2=0,\"\",IFERROR(DATA!KTP2,\"\"))","v":""},{"$f":"IF(DATA!KTQ2=0,\"\",IFERROR(DATA!KTQ2,\"\"))","v":""},{"$f":"IF(DATA!KTR2=0,\"\",IFERROR(DATA!KTR2,\"\"))","v":""},{"$f":"IF(DATA!KTS2=0,\"\",IFERROR(DATA!KTS2,\"\"))","v":""},{"$f":"IF(DATA!KTT2=0,\"\",IFERROR(DATA!KTT2,\"\"))","v":""},{"$f":"IF(DATA!KTU2=0,\"\",IFERROR(DATA!KTU2,\"\"))","v":""},{"$f":"IF(DATA!KTV2=0,\"\",IFERROR(DATA!KTV2,\"\"))","v":""},{"$f":"IF(DATA!KTW2=0,\"\",IFERROR(DATA!KTW2,\"\"))","v":""},{"$f":"IF(DATA!KTX2=0,\"\",IFERROR(DATA!KTX2,\"\"))","v":""},{"$f":"IF(DATA!KTY2=0,\"\",IFERROR(DATA!KTY2,\"\"))","v":""},{"$f":"IF(DATA!KTZ2=0,\"\",IFERROR(DATA!KTZ2,\"\"))","v":""},{"$f":"IF(DATA!KUA2=0,\"\",IFERROR(DATA!KUA2,\"\"))","v":""},{"$f":"IF(DATA!KUB2=0,\"\",IFERROR(DATA!KUB2,\"\"))","v":""},{"$f":"IF(DATA!KUC2=0,\"\",IFERROR(DATA!KUC2,\"\"))","v":""},{"$f":"IF(DATA!KUD2=0,\"\",IFERROR(DATA!KUD2,\"\"))","v":""},{"$f":"IF(DATA!KUE2=0,\"\",IFERROR(DATA!KUE2,\"\"))","v":""},{"$f":"IF(DATA!KUF2=0,\"\",IFERROR(DATA!KUF2,\"\"))","v":""},{"$f":"IF(DATA!KUG2=0,\"\",IFERROR(DATA!KUG2,\"\"))","v":""},{"$f":"IF(DATA!KUH2=0,\"\",IFERROR(DATA!KUH2,\"\"))","v":""},{"$f":"IF(DATA!KUI2=0,\"\",IFERROR(DATA!KUI2,\"\"))","v":""},{"$f":"IF(DATA!KUJ2=0,\"\",IFERROR(DATA!KUJ2,\"\"))","v":""},{"$f":"IF(DATA!KUK2=0,\"\",IFERROR(DATA!KUK2,\"\"))","v":""},{"$f":"IF(DATA!KUL2=0,\"\",IFERROR(DATA!KUL2,\"\"))","v":""},{"$f":"IF(DATA!KUM2=0,\"\",IFERROR(DATA!KUM2,\"\"))","v":""},{"$f":"IF(DATA!KUN2=0,\"\",IFERROR(DATA!KUN2,\"\"))","v":""},{"$f":"IF(DATA!KUO2=0,\"\",IFERROR(DATA!KUO2,\"\"))","v":""},{"$f":"IF(DATA!KUP2=0,\"\",IFERROR(DATA!KUP2,\"\"))","v":""},{"$f":"IF(DATA!KUQ2=0,\"\",IFERROR(DATA!KUQ2,\"\"))","v":""},{"$f":"IF(DATA!KUR2=0,\"\",IFERROR(DATA!KUR2,\"\"))","v":""},{"$f":"IF(DATA!KUS2=0,\"\",IFERROR(DATA!KUS2,\"\"))","v":""},{"$f":"IF(DATA!KUT2=0,\"\",IFERROR(DATA!KUT2,\"\"))","v":""},{"$f":"IF(DATA!KUU2=0,\"\",IFERROR(DATA!KUU2,\"\"))","v":""},{"$f":"IF(DATA!KUV2=0,\"\",IFERROR(DATA!KUV2,\"\"))","v":""},{"$f":"IF(DATA!KUW2=0,\"\",IFERROR(DATA!KUW2,\"\"))","v":""},{"$f":"IF(DATA!KUX2=0,\"\",IFERROR(DATA!KUX2,\"\"))","v":""},{"$f":"IF(DATA!KUY2=0,\"\",IFERROR(DATA!KUY2,\"\"))","v":""},{"$f":"IF(DATA!KUZ2=0,\"\",IFERROR(DATA!KUZ2,\"\"))","v":""},{"$f":"IF(DATA!KVA2=0,\"\",IFERROR(DATA!KVA2,\"\"))","v":""},{"$f":"IF(DATA!KVB2=0,\"\",IFERROR(DATA!KVB2,\"\"))","v":""},{"$f":"IF(DATA!KVC2=0,\"\",IFERROR(DATA!KVC2,\"\"))","v":""},{"$f":"IF(DATA!KVD2=0,\"\",IFERROR(DATA!KVD2,\"\"))","v":""},{"$f":"IF(DATA!KVE2=0,\"\",IFERROR(DATA!KVE2,\"\"))","v":""},{"$f":"IF(DATA!KVF2=0,\"\",IFERROR(DATA!KVF2,\"\"))","v":""},{"$f":"IF(DATA!KVG2=0,\"\",IFERROR(DATA!KVG2,\"\"))","v":""},{"$f":"IF(DATA!KVH2=0,\"\",IFERROR(DATA!KVH2,\"\"))","v":""},{"$f":"IF(DATA!KVI2=0,\"\",IFERROR(DATA!KVI2,\"\"))","v":""},{"$f":"IF(DATA!KVJ2=0,\"\",IFERROR(DATA!KVJ2,\"\"))","v":""},{"$f":"IF(DATA!KVK2=0,\"\",IFERROR(DATA!KVK2,\"\"))","v":""},{"$f":"IF(DATA!KVL2=0,\"\",IFERROR(DATA!KVL2,\"\"))","v":""},{"$f":"IF(DATA!KVM2=0,\"\",IFERROR(DATA!KVM2,\"\"))","v":""},{"$f":"IF(DATA!KVN2=0,\"\",IFERROR(DATA!KVN2,\"\"))","v":""},{"$f":"IF(DATA!KVO2=0,\"\",IFERROR(DATA!KVO2,\"\"))","v":""},{"$f":"IF(DATA!KVP2=0,\"\",IFERROR(DATA!KVP2,\"\"))","v":""},{"$f":"IF(DATA!KVQ2=0,\"\",IFERROR(DATA!KVQ2,\"\"))","v":""},{"$f":"IF(DATA!KVR2=0,\"\",IFERROR(DATA!KVR2,\"\"))","v":""},{"$f":"IF(DATA!KVS2=0,\"\",IFERROR(DATA!KVS2,\"\"))","v":""},{"$f":"IF(DATA!KVT2=0,\"\",IFERROR(DATA!KVT2,\"\"))","v":""},{"$f":"IF(DATA!KVU2=0,\"\",IFERROR(DATA!KVU2,\"\"))","v":""},{"$f":"IF(DATA!KVV2=0,\"\",IFERROR(DATA!KVV2,\"\"))","v":""},{"$f":"IF(DATA!KVW2=0,\"\",IFERROR(DATA!KVW2,\"\"))","v":""},{"$f":"IF(DATA!KVX2=0,\"\",IFERROR(DATA!KVX2,\"\"))","v":""},{"$f":"IF(DATA!KVY2=0,\"\",IFERROR(DATA!KVY2,\"\"))","v":""},{"$f":"IF(DATA!KVZ2=0,\"\",IFERROR(DATA!KVZ2,\"\"))","v":""},{"$f":"IF(DATA!KWA2=0,\"\",IFERROR(DATA!KWA2,\"\"))","v":""},{"$f":"IF(DATA!KWB2=0,\"\",IFERROR(DATA!KWB2,\"\"))","v":""},{"$f":"IF(DATA!KWC2=0,\"\",IFERROR(DATA!KWC2,\"\"))","v":""},{"$f":"IF(DATA!KWD2=0,\"\",IFERROR(DATA!KWD2,\"\"))","v":""},{"$f":"IF(DATA!KWE2=0,\"\",IFERROR(DATA!KWE2,\"\"))","v":""},{"$f":"IF(DATA!KWF2=0,\"\",IFERROR(DATA!KWF2,\"\"))","v":""},{"$f":"IF(DATA!KWG2=0,\"\",IFERROR(DATA!KWG2,\"\"))","v":""},{"$f":"IF(DATA!KWH2=0,\"\",IFERROR(DATA!KWH2,\"\"))","v":""},{"$f":"IF(DATA!KWI2=0,\"\",IFERROR(DATA!KWI2,\"\"))","v":""},{"$f":"IF(DATA!KWJ2=0,\"\",IFERROR(DATA!KWJ2,\"\"))","v":""},{"$f":"IF(DATA!KWK2=0,\"\",IFERROR(DATA!KWK2,\"\"))","v":""},{"$f":"IF(DATA!KWL2=0,\"\",IFERROR(DATA!KWL2,\"\"))","v":""},{"$f":"IF(DATA!KWM2=0,\"\",IFERROR(DATA!KWM2,\"\"))","v":""},{"$f":"IF(DATA!KWN2=0,\"\",IFERROR(DATA!KWN2,\"\"))","v":""},{"$f":"IF(DATA!KWO2=0,\"\",IFERROR(DATA!KWO2,\"\"))","v":""},{"$f":"IF(DATA!KWP2=0,\"\",IFERROR(DATA!KWP2,\"\"))","v":""},{"$f":"IF(DATA!KWQ2=0,\"\",IFERROR(DATA!KWQ2,\"\"))","v":""},{"$f":"IF(DATA!KWR2=0,\"\",IFERROR(DATA!KWR2,\"\"))","v":""},{"$f":"IF(DATA!KWS2=0,\"\",IFERROR(DATA!KWS2,\"\"))","v":""},{"$f":"IF(DATA!KWT2=0,\"\",IFERROR(DATA!KWT2,\"\"))","v":""},{"$f":"IF(DATA!KWU2=0,\"\",IFERROR(DATA!KWU2,\"\"))","v":""},{"$f":"IF(DATA!KWV2=0,\"\",IFERROR(DATA!KWV2,\"\"))","v":""},{"$f":"IF(DATA!KWW2=0,\"\",IFERROR(DATA!KWW2,\"\"))","v":""},{"$f":"IF(DATA!KWX2=0,\"\",IFERROR(DATA!KWX2,\"\"))","v":""},{"$f":"IF(DATA!KWY2=0,\"\",IFERROR(DATA!KWY2,\"\"))","v":""},{"$f":"IF(DATA!KWZ2=0,\"\",IFERROR(DATA!KWZ2,\"\"))","v":""},{"$f":"IF(DATA!KXA2=0,\"\",IFERROR(DATA!KXA2,\"\"))","v":""},{"$f":"IF(DATA!KXB2=0,\"\",IFERROR(DATA!KXB2,\"\"))","v":""},{"$f":"IF(DATA!KXC2=0,\"\",IFERROR(DATA!KXC2,\"\"))","v":""},{"$f":"IF(DATA!KXD2=0,\"\",IFERROR(DATA!KXD2,\"\"))","v":""},{"$f":"IF(DATA!KXE2=0,\"\",IFERROR(DATA!KXE2,\"\"))","v":""},{"$f":"IF(DATA!KXF2=0,\"\",IFERROR(DATA!KXF2,\"\"))","v":""},{"$f":"IF(DATA!KXG2=0,\"\",IFERROR(DATA!KXG2,\"\"))","v":""},{"$f":"IF(DATA!KXH2=0,\"\",IFERROR(DATA!KXH2,\"\"))","v":""},{"$f":"IF(DATA!KXI2=0,\"\",IFERROR(DATA!KXI2,\"\"))","v":""},{"$f":"IF(DATA!KXJ2=0,\"\",IFERROR(DATA!KXJ2,\"\"))","v":""},{"$f":"IF(DATA!KXK2=0,\"\",IFERROR(DATA!KXK2,\"\"))","v":""},{"$f":"IF(DATA!KXL2=0,\"\",IFERROR(DATA!KXL2,\"\"))","v":""},{"$f":"IF(DATA!KXM2=0,\"\",IFERROR(DATA!KXM2,\"\"))","v":""},{"$f":"IF(DATA!KXN2=0,\"\",IFERROR(DATA!KXN2,\"\"))","v":""},{"$f":"IF(DATA!KXO2=0,\"\",IFERROR(DATA!KXO2,\"\"))","v":""},{"$f":"IF(DATA!KXP2=0,\"\",IFERROR(DATA!KXP2,\"\"))","v":""},{"$f":"IF(DATA!KXQ2=0,\"\",IFERROR(DATA!KXQ2,\"\"))","v":""},{"$f":"IF(DATA!KXR2=0,\"\",IFERROR(DATA!KXR2,\"\"))","v":""},{"$f":"IF(DATA!KXS2=0,\"\",IFERROR(DATA!KXS2,\"\"))","v":""},{"$f":"IF(DATA!KXT2=0,\"\",IFERROR(DATA!KXT2,\"\"))","v":""},{"$f":"IF(DATA!KXU2=0,\"\",IFERROR(DATA!KXU2,\"\"))","v":""},{"$f":"IF(DATA!KXV2=0,\"\",IFERROR(DATA!KXV2,\"\"))","v":""},{"$f":"IF(DATA!KXW2=0,\"\",IFERROR(DATA!KXW2,\"\"))","v":""},{"$f":"IF(DATA!KXX2=0,\"\",IFERROR(DATA!KXX2,\"\"))","v":""},{"$f":"IF(DATA!KXY2=0,\"\",IFERROR(DATA!KXY2,\"\"))","v":""},{"$f":"IF(DATA!KXZ2=0,\"\",IFERROR(DATA!KXZ2,\"\"))","v":""},{"$f":"IF(DATA!KYA2=0,\"\",IFERROR(DATA!KYA2,\"\"))","v":""},{"$f":"IF(DATA!KYB2=0,\"\",IFERROR(DATA!KYB2,\"\"))","v":""},{"$f":"IF(DATA!KYC2=0,\"\",IFERROR(DATA!KYC2,\"\"))","v":""},{"$f":"IF(DATA!KYD2=0,\"\",IFERROR(DATA!KYD2,\"\"))","v":""},{"$f":"IF(DATA!KYE2=0,\"\",IFERROR(DATA!KYE2,\"\"))","v":""},{"$f":"IF(DATA!KYF2=0,\"\",IFERROR(DATA!KYF2,\"\"))","v":""},{"$f":"IF(DATA!KYG2=0,\"\",IFERROR(DATA!KYG2,\"\"))","v":""},{"$f":"IF(DATA!KYH2=0,\"\",IFERROR(DATA!KYH2,\"\"))","v":""},{"$f":"IF(DATA!KYI2=0,\"\",IFERROR(DATA!KYI2,\"\"))","v":""},{"$f":"IF(DATA!KYJ2=0,\"\",IFERROR(DATA!KYJ2,\"\"))","v":""},{"$f":"IF(DATA!KYK2=0,\"\",IFERROR(DATA!KYK2,\"\"))","v":""},{"$f":"IF(DATA!KYL2=0,\"\",IFERROR(DATA!KYL2,\"\"))","v":""},{"$f":"IF(DATA!KYM2=0,\"\",IFERROR(DATA!KYM2,\"\"))","v":""},{"$f":"IF(DATA!KYN2=0,\"\",IFERROR(DATA!KYN2,\"\"))","v":""},{"$f":"IF(DATA!KYO2=0,\"\",IFERROR(DATA!KYO2,\"\"))","v":""},{"$f":"IF(DATA!KYP2=0,\"\",IFERROR(DATA!KYP2,\"\"))","v":""},{"$f":"IF(DATA!KYQ2=0,\"\",IFERROR(DATA!KYQ2,\"\"))","v":""},{"$f":"IF(DATA!KYR2=0,\"\",IFERROR(DATA!KYR2,\"\"))","v":""},{"$f":"IF(DATA!KYS2=0,\"\",IFERROR(DATA!KYS2,\"\"))","v":""},{"$f":"IF(DATA!KYT2=0,\"\",IFERROR(DATA!KYT2,\"\"))","v":""},{"$f":"IF(DATA!KYU2=0,\"\",IFERROR(DATA!KYU2,\"\"))","v":""},{"$f":"IF(DATA!KYV2=0,\"\",IFERROR(DATA!KYV2,\"\"))","v":""},{"$f":"IF(DATA!KYW2=0,\"\",IFERROR(DATA!KYW2,\"\"))","v":""},{"$f":"IF(DATA!KYX2=0,\"\",IFERROR(DATA!KYX2,\"\"))","v":""},{"$f":"IF(DATA!KYY2=0,\"\",IFERROR(DATA!KYY2,\"\"))","v":""},{"$f":"IF(DATA!KYZ2=0,\"\",IFERROR(DATA!KYZ2,\"\"))","v":""},{"$f":"IF(DATA!KZA2=0,\"\",IFERROR(DATA!KZA2,\"\"))","v":""},{"$f":"IF(DATA!KZB2=0,\"\",IFERROR(DATA!KZB2,\"\"))","v":""},{"$f":"IF(DATA!KZC2=0,\"\",IFERROR(DATA!KZC2,\"\"))","v":""},{"$f":"IF(DATA!KZD2=0,\"\",IFERROR(DATA!KZD2,\"\"))","v":""},{"$f":"IF(DATA!KZE2=0,\"\",IFERROR(DATA!KZE2,\"\"))","v":""},{"$f":"IF(DATA!KZF2=0,\"\",IFERROR(DATA!KZF2,\"\"))","v":""},{"$f":"IF(DATA!KZG2=0,\"\",IFERROR(DATA!KZG2,\"\"))","v":""},{"$f":"IF(DATA!KZH2=0,\"\",IFERROR(DATA!KZH2,\"\"))","v":""},{"$f":"IF(DATA!KZI2=0,\"\",IFERROR(DATA!KZI2,\"\"))","v":""},{"$f":"IF(DATA!KZJ2=0,\"\",IFERROR(DATA!KZJ2,\"\"))","v":""},{"$f":"IF(DATA!KZK2=0,\"\",IFERROR(DATA!KZK2,\"\"))","v":""},{"$f":"IF(DATA!KZL2=0,\"\",IFERROR(DATA!KZL2,\"\"))","v":""},{"$f":"IF(DATA!KZM2=0,\"\",IFERROR(DATA!KZM2,\"\"))","v":""},{"$f":"IF(DATA!KZN2=0,\"\",IFERROR(DATA!KZN2,\"\"))","v":""},{"$f":"IF(DATA!KZO2=0,\"\",IFERROR(DATA!KZO2,\"\"))","v":""},{"$f":"IF(DATA!KZP2=0,\"\",IFERROR(DATA!KZP2,\"\"))","v":""},{"$f":"IF(DATA!KZQ2=0,\"\",IFERROR(DATA!KZQ2,\"\"))","v":""},{"$f":"IF(DATA!KZR2=0,\"\",IFERROR(DATA!KZR2,\"\"))","v":""},{"$f":"IF(DATA!KZS2=0,\"\",IFERROR(DATA!KZS2,\"\"))","v":""},{"$f":"IF(DATA!KZT2=0,\"\",IFERROR(DATA!KZT2,\"\"))","v":""},{"$f":"IF(DATA!KZU2=0,\"\",IFERROR(DATA!KZU2,\"\"))","v":""},{"$f":"IF(DATA!KZV2=0,\"\",IFERROR(DATA!KZV2,\"\"))","v":""},{"$f":"IF(DATA!KZW2=0,\"\",IFERROR(DATA!KZW2,\"\"))","v":""},{"$f":"IF(DATA!KZX2=0,\"\",IFERROR(DATA!KZX2,\"\"))","v":""},{"$f":"IF(DATA!KZY2=0,\"\",IFERROR(DATA!KZY2,\"\"))","v":""},{"$f":"IF(DATA!KZZ2=0,\"\",IFERROR(DATA!KZZ2,\"\"))","v":""},{"$f":"IF(DATA!LAA2=0,\"\",IFERROR(DATA!LAA2,\"\"))","v":""},{"$f":"IF(DATA!LAB2=0,\"\",IFERROR(DATA!LAB2,\"\"))","v":""},{"$f":"IF(DATA!LAC2=0,\"\",IFERROR(DATA!LAC2,\"\"))","v":""},{"$f":"IF(DATA!LAD2=0,\"\",IFERROR(DATA!LAD2,\"\"))","v":""},{"$f":"IF(DATA!LAE2=0,\"\",IFERROR(DATA!LAE2,\"\"))","v":""},{"$f":"IF(DATA!LAF2=0,\"\",IFERROR(DATA!LAF2,\"\"))","v":""},{"$f":"IF(DATA!LAG2=0,\"\",IFERROR(DATA!LAG2,\"\"))","v":""},{"$f":"IF(DATA!LAH2=0,\"\",IFERROR(DATA!LAH2,\"\"))","v":""},{"$f":"IF(DATA!LAI2=0,\"\",IFERROR(DATA!LAI2,\"\"))","v":""},{"$f":"IF(DATA!LAJ2=0,\"\",IFERROR(DATA!LAJ2,\"\"))","v":""},{"$f":"IF(DATA!LAK2=0,\"\",IFERROR(DATA!LAK2,\"\"))","v":""},{"$f":"IF(DATA!LAL2=0,\"\",IFERROR(DATA!LAL2,\"\"))","v":""},{"$f":"IF(DATA!LAM2=0,\"\",IFERROR(DATA!LAM2,\"\"))","v":""},{"$f":"IF(DATA!LAN2=0,\"\",IFERROR(DATA!LAN2,\"\"))","v":""},{"$f":"IF(DATA!LAO2=0,\"\",IFERROR(DATA!LAO2,\"\"))","v":""},{"$f":"IF(DATA!LAP2=0,\"\",IFERROR(DATA!LAP2,\"\"))","v":""},{"$f":"IF(DATA!LAQ2=0,\"\",IFERROR(DATA!LAQ2,\"\"))","v":""},{"$f":"IF(DATA!LAR2=0,\"\",IFERROR(DATA!LAR2,\"\"))","v":""},{"$f":"IF(DATA!LAS2=0,\"\",IFERROR(DATA!LAS2,\"\"))","v":""},{"$f":"IF(DATA!LAT2=0,\"\",IFERROR(DATA!LAT2,\"\"))","v":""},{"$f":"IF(DATA!LAU2=0,\"\",IFERROR(DATA!LAU2,\"\"))","v":""},{"$f":"IF(DATA!LAV2=0,\"\",IFERROR(DATA!LAV2,\"\"))","v":""},{"$f":"IF(DATA!LAW2=0,\"\",IFERROR(DATA!LAW2,\"\"))","v":""},{"$f":"IF(DATA!LAX2=0,\"\",IFERROR(DATA!LAX2,\"\"))","v":""},{"$f":"IF(DATA!LAY2=0,\"\",IFERROR(DATA!LAY2,\"\"))","v":""},{"$f":"IF(DATA!LAZ2=0,\"\",IFERROR(DATA!LAZ2,\"\"))","v":""},{"$f":"IF(DATA!LBA2=0,\"\",IFERROR(DATA!LBA2,\"\"))","v":""},{"$f":"IF(DATA!LBB2=0,\"\",IFERROR(DATA!LBB2,\"\"))","v":""},{"$f":"IF(DATA!LBC2=0,\"\",IFERROR(DATA!LBC2,\"\"))","v":""},{"$f":"IF(DATA!LBD2=0,\"\",IFERROR(DATA!LBD2,\"\"))","v":""},{"$f":"IF(DATA!LBE2=0,\"\",IFERROR(DATA!LBE2,\"\"))","v":""},{"$f":"IF(DATA!LBF2=0,\"\",IFERROR(DATA!LBF2,\"\"))","v":""},{"$f":"IF(DATA!LBG2=0,\"\",IFERROR(DATA!LBG2,\"\"))","v":""},{"$f":"IF(DATA!LBH2=0,\"\",IFERROR(DATA!LBH2,\"\"))","v":""},{"$f":"IF(DATA!LBI2=0,\"\",IFERROR(DATA!LBI2,\"\"))","v":""},{"$f":"IF(DATA!LBJ2=0,\"\",IFERROR(DATA!LBJ2,\"\"))","v":""},{"$f":"IF(DATA!LBK2=0,\"\",IFERROR(DATA!LBK2,\"\"))","v":""},{"$f":"IF(DATA!LBL2=0,\"\",IFERROR(DATA!LBL2,\"\"))","v":""},{"$f":"IF(DATA!LBM2=0,\"\",IFERROR(DATA!LBM2,\"\"))","v":""},{"$f":"IF(DATA!LBN2=0,\"\",IFERROR(DATA!LBN2,\"\"))","v":""},{"$f":"IF(DATA!LBO2=0,\"\",IFERROR(DATA!LBO2,\"\"))","v":""},{"$f":"IF(DATA!LBP2=0,\"\",IFERROR(DATA!LBP2,\"\"))","v":""},{"$f":"IF(DATA!LBQ2=0,\"\",IFERROR(DATA!LBQ2,\"\"))","v":""},{"$f":"IF(DATA!LBR2=0,\"\",IFERROR(DATA!LBR2,\"\"))","v":""},{"$f":"IF(DATA!LBS2=0,\"\",IFERROR(DATA!LBS2,\"\"))","v":""},{"$f":"IF(DATA!LBT2=0,\"\",IFERROR(DATA!LBT2,\"\"))","v":""},{"$f":"IF(DATA!LBU2=0,\"\",IFERROR(DATA!LBU2,\"\"))","v":""},{"$f":"IF(DATA!LBV2=0,\"\",IFERROR(DATA!LBV2,\"\"))","v":""},{"$f":"IF(DATA!LBW2=0,\"\",IFERROR(DATA!LBW2,\"\"))","v":""},{"$f":"IF(DATA!LBX2=0,\"\",IFERROR(DATA!LBX2,\"\"))","v":""},{"$f":"IF(DATA!LBY2=0,\"\",IFERROR(DATA!LBY2,\"\"))","v":""},{"$f":"IF(DATA!LBZ2=0,\"\",IFERROR(DATA!LBZ2,\"\"))","v":""},{"$f":"IF(DATA!LCA2=0,\"\",IFERROR(DATA!LCA2,\"\"))","v":""},{"$f":"IF(DATA!LCB2=0,\"\",IFERROR(DATA!LCB2,\"\"))","v":""},{"$f":"IF(DATA!LCC2=0,\"\",IFERROR(DATA!LCC2,\"\"))","v":""},{"$f":"IF(DATA!LCD2=0,\"\",IFERROR(DATA!LCD2,\"\"))","v":""},{"$f":"IF(DATA!LCE2=0,\"\",IFERROR(DATA!LCE2,\"\"))","v":""},{"$f":"IF(DATA!LCF2=0,\"\",IFERROR(DATA!LCF2,\"\"))","v":""},{"$f":"IF(DATA!LCG2=0,\"\",IFERROR(DATA!LCG2,\"\"))","v":""},{"$f":"IF(DATA!LCH2=0,\"\",IFERROR(DATA!LCH2,\"\"))","v":""},{"$f":"IF(DATA!LCI2=0,\"\",IFERROR(DATA!LCI2,\"\"))","v":""},{"$f":"IF(DATA!LCJ2=0,\"\",IFERROR(DATA!LCJ2,\"\"))","v":""},{"$f":"IF(DATA!LCK2=0,\"\",IFERROR(DATA!LCK2,\"\"))","v":""},{"$f":"IF(DATA!LCL2=0,\"\",IFERROR(DATA!LCL2,\"\"))","v":""},{"$f":"IF(DATA!LCM2=0,\"\",IFERROR(DATA!LCM2,\"\"))","v":""},{"$f":"IF(DATA!LCN2=0,\"\",IFERROR(DATA!LCN2,\"\"))","v":""},{"$f":"IF(DATA!LCO2=0,\"\",IFERROR(DATA!LCO2,\"\"))","v":""},{"$f":"IF(DATA!LCP2=0,\"\",IFERROR(DATA!LCP2,\"\"))","v":""},{"$f":"IF(DATA!LCQ2=0,\"\",IFERROR(DATA!LCQ2,\"\"))","v":""},{"$f":"IF(DATA!LCR2=0,\"\",IFERROR(DATA!LCR2,\"\"))","v":""},{"$f":"IF(DATA!LCS2=0,\"\",IFERROR(DATA!LCS2,\"\"))","v":""},{"$f":"IF(DATA!LCT2=0,\"\",IFERROR(DATA!LCT2,\"\"))","v":""},{"$f":"IF(DATA!LCU2=0,\"\",IFERROR(DATA!LCU2,\"\"))","v":""},{"$f":"IF(DATA!LCV2=0,\"\",IFERROR(DATA!LCV2,\"\"))","v":""},{"$f":"IF(DATA!LCW2=0,\"\",IFERROR(DATA!LCW2,\"\"))","v":""},{"$f":"IF(DATA!LCX2=0,\"\",IFERROR(DATA!LCX2,\"\"))","v":""},{"$f":"IF(DATA!LCY2=0,\"\",IFERROR(DATA!LCY2,\"\"))","v":""},{"$f":"IF(DATA!LCZ2=0,\"\",IFERROR(DATA!LCZ2,\"\"))","v":""},{"$f":"IF(DATA!LDA2=0,\"\",IFERROR(DATA!LDA2,\"\"))","v":""},{"$f":"IF(DATA!LDB2=0,\"\",IFERROR(DATA!LDB2,\"\"))","v":""},{"$f":"IF(DATA!LDC2=0,\"\",IFERROR(DATA!LDC2,\"\"))","v":""},{"$f":"IF(DATA!LDD2=0,\"\",IFERROR(DATA!LDD2,\"\"))","v":""},{"$f":"IF(DATA!LDE2=0,\"\",IFERROR(DATA!LDE2,\"\"))","v":""},{"$f":"IF(DATA!LDF2=0,\"\",IFERROR(DATA!LDF2,\"\"))","v":""},{"$f":"IF(DATA!LDG2=0,\"\",IFERROR(DATA!LDG2,\"\"))","v":""},{"$f":"IF(DATA!LDH2=0,\"\",IFERROR(DATA!LDH2,\"\"))","v":""},{"$f":"IF(DATA!LDI2=0,\"\",IFERROR(DATA!LDI2,\"\"))","v":""},{"$f":"IF(DATA!LDJ2=0,\"\",IFERROR(DATA!LDJ2,\"\"))","v":""},{"$f":"IF(DATA!LDK2=0,\"\",IFERROR(DATA!LDK2,\"\"))","v":""},{"$f":"IF(DATA!LDL2=0,\"\",IFERROR(DATA!LDL2,\"\"))","v":""},{"$f":"IF(DATA!LDM2=0,\"\",IFERROR(DATA!LDM2,\"\"))","v":""},{"$f":"IF(DATA!LDN2=0,\"\",IFERROR(DATA!LDN2,\"\"))","v":""},{"$f":"IF(DATA!LDO2=0,\"\",IFERROR(DATA!LDO2,\"\"))","v":""},{"$f":"IF(DATA!LDP2=0,\"\",IFERROR(DATA!LDP2,\"\"))","v":""},{"$f":"IF(DATA!LDQ2=0,\"\",IFERROR(DATA!LDQ2,\"\"))","v":""},{"$f":"IF(DATA!LDR2=0,\"\",IFERROR(DATA!LDR2,\"\"))","v":""},{"$f":"IF(DATA!LDS2=0,\"\",IFERROR(DATA!LDS2,\"\"))","v":""},{"$f":"IF(DATA!LDT2=0,\"\",IFERROR(DATA!LDT2,\"\"))","v":""},{"$f":"IF(DATA!LDU2=0,\"\",IFERROR(DATA!LDU2,\"\"))","v":""},{"$f":"IF(DATA!LDV2=0,\"\",IFERROR(DATA!LDV2,\"\"))","v":""},{"$f":"IF(DATA!LDW2=0,\"\",IFERROR(DATA!LDW2,\"\"))","v":""},{"$f":"IF(DATA!LDX2=0,\"\",IFERROR(DATA!LDX2,\"\"))","v":""},{"$f":"IF(DATA!LDY2=0,\"\",IFERROR(DATA!LDY2,\"\"))","v":""},{"$f":"IF(DATA!LDZ2=0,\"\",IFERROR(DATA!LDZ2,\"\"))","v":""},{"$f":"IF(DATA!LEA2=0,\"\",IFERROR(DATA!LEA2,\"\"))","v":""},{"$f":"IF(DATA!LEB2=0,\"\",IFERROR(DATA!LEB2,\"\"))","v":""},{"$f":"IF(DATA!LEC2=0,\"\",IFERROR(DATA!LEC2,\"\"))","v":""},{"$f":"IF(DATA!LED2=0,\"\",IFERROR(DATA!LED2,\"\"))","v":""},{"$f":"IF(DATA!LEE2=0,\"\",IFERROR(DATA!LEE2,\"\"))","v":""},{"$f":"IF(DATA!LEF2=0,\"\",IFERROR(DATA!LEF2,\"\"))","v":""},{"$f":"IF(DATA!LEG2=0,\"\",IFERROR(DATA!LEG2,\"\"))","v":""},{"$f":"IF(DATA!LEH2=0,\"\",IFERROR(DATA!LEH2,\"\"))","v":""},{"$f":"IF(DATA!LEI2=0,\"\",IFERROR(DATA!LEI2,\"\"))","v":""},{"$f":"IF(DATA!LEJ2=0,\"\",IFERROR(DATA!LEJ2,\"\"))","v":""},{"$f":"IF(DATA!LEK2=0,\"\",IFERROR(DATA!LEK2,\"\"))","v":""},{"$f":"IF(DATA!LEL2=0,\"\",IFERROR(DATA!LEL2,\"\"))","v":""},{"$f":"IF(DATA!LEM2=0,\"\",IFERROR(DATA!LEM2,\"\"))","v":""},{"$f":"IF(DATA!LEN2=0,\"\",IFERROR(DATA!LEN2,\"\"))","v":""},{"$f":"IF(DATA!LEO2=0,\"\",IFERROR(DATA!LEO2,\"\"))","v":""},{"$f":"IF(DATA!LEP2=0,\"\",IFERROR(DATA!LEP2,\"\"))","v":""},{"$f":"IF(DATA!LEQ2=0,\"\",IFERROR(DATA!LEQ2,\"\"))","v":""},{"$f":"IF(DATA!LER2=0,\"\",IFERROR(DATA!LER2,\"\"))","v":""},{"$f":"IF(DATA!LES2=0,\"\",IFERROR(DATA!LES2,\"\"))","v":""},{"$f":"IF(DATA!LET2=0,\"\",IFERROR(DATA!LET2,\"\"))","v":""},{"$f":"IF(DATA!LEU2=0,\"\",IFERROR(DATA!LEU2,\"\"))","v":""},{"$f":"IF(DATA!LEV2=0,\"\",IFERROR(DATA!LEV2,\"\"))","v":""},{"$f":"IF(DATA!LEW2=0,\"\",IFERROR(DATA!LEW2,\"\"))","v":""},{"$f":"IF(DATA!LEX2=0,\"\",IFERROR(DATA!LEX2,\"\"))","v":""},{"$f":"IF(DATA!LEY2=0,\"\",IFERROR(DATA!LEY2,\"\"))","v":""},{"$f":"IF(DATA!LEZ2=0,\"\",IFERROR(DATA!LEZ2,\"\"))","v":""},{"$f":"IF(DATA!LFA2=0,\"\",IFERROR(DATA!LFA2,\"\"))","v":""},{"$f":"IF(DATA!LFB2=0,\"\",IFERROR(DATA!LFB2,\"\"))","v":""},{"$f":"IF(DATA!LFC2=0,\"\",IFERROR(DATA!LFC2,\"\"))","v":""},{"$f":"IF(DATA!LFD2=0,\"\",IFERROR(DATA!LFD2,\"\"))","v":""},{"$f":"IF(DATA!LFE2=0,\"\",IFERROR(DATA!LFE2,\"\"))","v":""},{"$f":"IF(DATA!LFF2=0,\"\",IFERROR(DATA!LFF2,\"\"))","v":""},{"$f":"IF(DATA!LFG2=0,\"\",IFERROR(DATA!LFG2,\"\"))","v":""},{"$f":"IF(DATA!LFH2=0,\"\",IFERROR(DATA!LFH2,\"\"))","v":""},{"$f":"IF(DATA!LFI2=0,\"\",IFERROR(DATA!LFI2,\"\"))","v":""},{"$f":"IF(DATA!LFJ2=0,\"\",IFERROR(DATA!LFJ2,\"\"))","v":""},{"$f":"IF(DATA!LFK2=0,\"\",IFERROR(DATA!LFK2,\"\"))","v":""},{"$f":"IF(DATA!LFL2=0,\"\",IFERROR(DATA!LFL2,\"\"))","v":""},{"$f":"IF(DATA!LFM2=0,\"\",IFERROR(DATA!LFM2,\"\"))","v":""},{"$f":"IF(DATA!LFN2=0,\"\",IFERROR(DATA!LFN2,\"\"))","v":""},{"$f":"IF(DATA!LFO2=0,\"\",IFERROR(DATA!LFO2,\"\"))","v":""},{"$f":"IF(DATA!LFP2=0,\"\",IFERROR(DATA!LFP2,\"\"))","v":""},{"$f":"IF(DATA!LFQ2=0,\"\",IFERROR(DATA!LFQ2,\"\"))","v":""},{"$f":"IF(DATA!LFR2=0,\"\",IFERROR(DATA!LFR2,\"\"))","v":""},{"$f":"IF(DATA!LFS2=0,\"\",IFERROR(DATA!LFS2,\"\"))","v":""},{"$f":"IF(DATA!LFT2=0,\"\",IFERROR(DATA!LFT2,\"\"))","v":""},{"$f":"IF(DATA!LFU2=0,\"\",IFERROR(DATA!LFU2,\"\"))","v":""},{"$f":"IF(DATA!LFV2=0,\"\",IFERROR(DATA!LFV2,\"\"))","v":""},{"$f":"IF(DATA!LFW2=0,\"\",IFERROR(DATA!LFW2,\"\"))","v":""},{"$f":"IF(DATA!LFX2=0,\"\",IFERROR(DATA!LFX2,\"\"))","v":""},{"$f":"IF(DATA!LFY2=0,\"\",IFERROR(DATA!LFY2,\"\"))","v":""},{"$f":"IF(DATA!LFZ2=0,\"\",IFERROR(DATA!LFZ2,\"\"))","v":""},{"$f":"IF(DATA!LGA2=0,\"\",IFERROR(DATA!LGA2,\"\"))","v":""},{"$f":"IF(DATA!LGB2=0,\"\",IFERROR(DATA!LGB2,\"\"))","v":""},{"$f":"IF(DATA!LGC2=0,\"\",IFERROR(DATA!LGC2,\"\"))","v":""},{"$f":"IF(DATA!LGD2=0,\"\",IFERROR(DATA!LGD2,\"\"))","v":""},{"$f":"IF(DATA!LGE2=0,\"\",IFERROR(DATA!LGE2,\"\"))","v":""},{"$f":"IF(DATA!LGF2=0,\"\",IFERROR(DATA!LGF2,\"\"))","v":""},{"$f":"IF(DATA!LGG2=0,\"\",IFERROR(DATA!LGG2,\"\"))","v":""},{"$f":"IF(DATA!LGH2=0,\"\",IFERROR(DATA!LGH2,\"\"))","v":""},{"$f":"IF(DATA!LGI2=0,\"\",IFERROR(DATA!LGI2,\"\"))","v":""},{"$f":"IF(DATA!LGJ2=0,\"\",IFERROR(DATA!LGJ2,\"\"))","v":""},{"$f":"IF(DATA!LGK2=0,\"\",IFERROR(DATA!LGK2,\"\"))","v":""},{"$f":"IF(DATA!LGL2=0,\"\",IFERROR(DATA!LGL2,\"\"))","v":""},{"$f":"IF(DATA!LGM2=0,\"\",IFERROR(DATA!LGM2,\"\"))","v":""},{"$f":"IF(DATA!LGN2=0,\"\",IFERROR(DATA!LGN2,\"\"))","v":""},{"$f":"IF(DATA!LGO2=0,\"\",IFERROR(DATA!LGO2,\"\"))","v":""},{"$f":"IF(DATA!LGP2=0,\"\",IFERROR(DATA!LGP2,\"\"))","v":""},{"$f":"IF(DATA!LGQ2=0,\"\",IFERROR(DATA!LGQ2,\"\"))","v":""},{"$f":"IF(DATA!LGR2=0,\"\",IFERROR(DATA!LGR2,\"\"))","v":""},{"$f":"IF(DATA!LGS2=0,\"\",IFERROR(DATA!LGS2,\"\"))","v":""},{"$f":"IF(DATA!LGT2=0,\"\",IFERROR(DATA!LGT2,\"\"))","v":""},{"$f":"IF(DATA!LGU2=0,\"\",IFERROR(DATA!LGU2,\"\"))","v":""},{"$f":"IF(DATA!LGV2=0,\"\",IFERROR(DATA!LGV2,\"\"))","v":""},{"$f":"IF(DATA!LGW2=0,\"\",IFERROR(DATA!LGW2,\"\"))","v":""},{"$f":"IF(DATA!LGX2=0,\"\",IFERROR(DATA!LGX2,\"\"))","v":""},{"$f":"IF(DATA!LGY2=0,\"\",IFERROR(DATA!LGY2,\"\"))","v":""},{"$f":"IF(DATA!LGZ2=0,\"\",IFERROR(DATA!LGZ2,\"\"))","v":""},{"$f":"IF(DATA!LHA2=0,\"\",IFERROR(DATA!LHA2,\"\"))","v":""},{"$f":"IF(DATA!LHB2=0,\"\",IFERROR(DATA!LHB2,\"\"))","v":""},{"$f":"IF(DATA!LHC2=0,\"\",IFERROR(DATA!LHC2,\"\"))","v":""},{"$f":"IF(DATA!LHD2=0,\"\",IFERROR(DATA!LHD2,\"\"))","v":""},{"$f":"IF(DATA!LHE2=0,\"\",IFERROR(DATA!LHE2,\"\"))","v":""},{"$f":"IF(DATA!LHF2=0,\"\",IFERROR(DATA!LHF2,\"\"))","v":""},{"$f":"IF(DATA!LHG2=0,\"\",IFERROR(DATA!LHG2,\"\"))","v":""},{"$f":"IF(DATA!LHH2=0,\"\",IFERROR(DATA!LHH2,\"\"))","v":""},{"$f":"IF(DATA!LHI2=0,\"\",IFERROR(DATA!LHI2,\"\"))","v":""},{"$f":"IF(DATA!LHJ2=0,\"\",IFERROR(DATA!LHJ2,\"\"))","v":""},{"$f":"IF(DATA!LHK2=0,\"\",IFERROR(DATA!LHK2,\"\"))","v":""},{"$f":"IF(DATA!LHL2=0,\"\",IFERROR(DATA!LHL2,\"\"))","v":""},{"$f":"IF(DATA!LHM2=0,\"\",IFERROR(DATA!LHM2,\"\"))","v":""},{"$f":"IF(DATA!LHN2=0,\"\",IFERROR(DATA!LHN2,\"\"))","v":""},{"$f":"IF(DATA!LHO2=0,\"\",IFERROR(DATA!LHO2,\"\"))","v":""},{"$f":"IF(DATA!LHP2=0,\"\",IFERROR(DATA!LHP2,\"\"))","v":""},{"$f":"IF(DATA!LHQ2=0,\"\",IFERROR(DATA!LHQ2,\"\"))","v":""},{"$f":"IF(DATA!LHR2=0,\"\",IFERROR(DATA!LHR2,\"\"))","v":""},{"$f":"IF(DATA!LHS2=0,\"\",IFERROR(DATA!LHS2,\"\"))","v":""},{"$f":"IF(DATA!LHT2=0,\"\",IFERROR(DATA!LHT2,\"\"))","v":""},{"$f":"IF(DATA!LHU2=0,\"\",IFERROR(DATA!LHU2,\"\"))","v":""},{"$f":"IF(DATA!LHV2=0,\"\",IFERROR(DATA!LHV2,\"\"))","v":""},{"$f":"IF(DATA!LHW2=0,\"\",IFERROR(DATA!LHW2,\"\"))","v":""},{"$f":"IF(DATA!LHX2=0,\"\",IFERROR(DATA!LHX2,\"\"))","v":""},{"$f":"IF(DATA!LHY2=0,\"\",IFERROR(DATA!LHY2,\"\"))","v":""},{"$f":"IF(DATA!LHZ2=0,\"\",IFERROR(DATA!LHZ2,\"\"))","v":""},{"$f":"IF(DATA!LIA2=0,\"\",IFERROR(DATA!LIA2,\"\"))","v":""},{"$f":"IF(DATA!LIB2=0,\"\",IFERROR(DATA!LIB2,\"\"))","v":""},{"$f":"IF(DATA!LIC2=0,\"\",IFERROR(DATA!LIC2,\"\"))","v":""},{"$f":"IF(DATA!LID2=0,\"\",IFERROR(DATA!LID2,\"\"))","v":""},{"$f":"IF(DATA!LIE2=0,\"\",IFERROR(DATA!LIE2,\"\"))","v":""},{"$f":"IF(DATA!LIF2=0,\"\",IFERROR(DATA!LIF2,\"\"))","v":""},{"$f":"IF(DATA!LIG2=0,\"\",IFERROR(DATA!LIG2,\"\"))","v":""},{"$f":"IF(DATA!LIH2=0,\"\",IFERROR(DATA!LIH2,\"\"))","v":""},{"$f":"IF(DATA!LII2=0,\"\",IFERROR(DATA!LII2,\"\"))","v":""},{"$f":"IF(DATA!LIJ2=0,\"\",IFERROR(DATA!LIJ2,\"\"))","v":""},{"$f":"IF(DATA!LIK2=0,\"\",IFERROR(DATA!LIK2,\"\"))","v":""},{"$f":"IF(DATA!LIL2=0,\"\",IFERROR(DATA!LIL2,\"\"))","v":""},{"$f":"IF(DATA!LIM2=0,\"\",IFERROR(DATA!LIM2,\"\"))","v":""},{"$f":"IF(DATA!LIN2=0,\"\",IFERROR(DATA!LIN2,\"\"))","v":""},{"$f":"IF(DATA!LIO2=0,\"\",IFERROR(DATA!LIO2,\"\"))","v":""},{"$f":"IF(DATA!LIP2=0,\"\",IFERROR(DATA!LIP2,\"\"))","v":""},{"$f":"IF(DATA!LIQ2=0,\"\",IFERROR(DATA!LIQ2,\"\"))","v":""},{"$f":"IF(DATA!LIR2=0,\"\",IFERROR(DATA!LIR2,\"\"))","v":""},{"$f":"IF(DATA!LIS2=0,\"\",IFERROR(DATA!LIS2,\"\"))","v":""},{"$f":"IF(DATA!LIT2=0,\"\",IFERROR(DATA!LIT2,\"\"))","v":""},{"$f":"IF(DATA!LIU2=0,\"\",IFERROR(DATA!LIU2,\"\"))","v":""},{"$f":"IF(DATA!LIV2=0,\"\",IFERROR(DATA!LIV2,\"\"))","v":""},{"$f":"IF(DATA!LIW2=0,\"\",IFERROR(DATA!LIW2,\"\"))","v":""},{"$f":"IF(DATA!LIX2=0,\"\",IFERROR(DATA!LIX2,\"\"))","v":""},{"$f":"IF(DATA!LIY2=0,\"\",IFERROR(DATA!LIY2,\"\"))","v":""},{"$f":"IF(DATA!LIZ2=0,\"\",IFERROR(DATA!LIZ2,\"\"))","v":""},{"$f":"IF(DATA!LJA2=0,\"\",IFERROR(DATA!LJA2,\"\"))","v":""},{"$f":"IF(DATA!LJB2=0,\"\",IFERROR(DATA!LJB2,\"\"))","v":""},{"$f":"IF(DATA!LJC2=0,\"\",IFERROR(DATA!LJC2,\"\"))","v":""},{"$f":"IF(DATA!LJD2=0,\"\",IFERROR(DATA!LJD2,\"\"))","v":""},{"$f":"IF(DATA!LJE2=0,\"\",IFERROR(DATA!LJE2,\"\"))","v":""},{"$f":"IF(DATA!LJF2=0,\"\",IFERROR(DATA!LJF2,\"\"))","v":""},{"$f":"IF(DATA!LJG2=0,\"\",IFERROR(DATA!LJG2,\"\"))","v":""},{"$f":"IF(DATA!LJH2=0,\"\",IFERROR(DATA!LJH2,\"\"))","v":""},{"$f":"IF(DATA!LJI2=0,\"\",IFERROR(DATA!LJI2,\"\"))","v":""},{"$f":"IF(DATA!LJJ2=0,\"\",IFERROR(DATA!LJJ2,\"\"))","v":""},{"$f":"IF(DATA!LJK2=0,\"\",IFERROR(DATA!LJK2,\"\"))","v":""},{"$f":"IF(DATA!LJL2=0,\"\",IFERROR(DATA!LJL2,\"\"))","v":""},{"$f":"IF(DATA!LJM2=0,\"\",IFERROR(DATA!LJM2,\"\"))","v":""},{"$f":"IF(DATA!LJN2=0,\"\",IFERROR(DATA!LJN2,\"\"))","v":""},{"$f":"IF(DATA!LJO2=0,\"\",IFERROR(DATA!LJO2,\"\"))","v":""},{"$f":"IF(DATA!LJP2=0,\"\",IFERROR(DATA!LJP2,\"\"))","v":""},{"$f":"IF(DATA!LJQ2=0,\"\",IFERROR(DATA!LJQ2,\"\"))","v":""},{"$f":"IF(DATA!LJR2=0,\"\",IFERROR(DATA!LJR2,\"\"))","v":""},{"$f":"IF(DATA!LJS2=0,\"\",IFERROR(DATA!LJS2,\"\"))","v":""},{"$f":"IF(DATA!LJT2=0,\"\",IFERROR(DATA!LJT2,\"\"))","v":""},{"$f":"IF(DATA!LJU2=0,\"\",IFERROR(DATA!LJU2,\"\"))","v":""},{"$f":"IF(DATA!LJV2=0,\"\",IFERROR(DATA!LJV2,\"\"))","v":""},{"$f":"IF(DATA!LJW2=0,\"\",IFERROR(DATA!LJW2,\"\"))","v":""},{"$f":"IF(DATA!LJX2=0,\"\",IFERROR(DATA!LJX2,\"\"))","v":""},{"$f":"IF(DATA!LJY2=0,\"\",IFERROR(DATA!LJY2,\"\"))","v":""},{"$f":"IF(DATA!LJZ2=0,\"\",IFERROR(DATA!LJZ2,\"\"))","v":""},{"$f":"IF(DATA!LKA2=0,\"\",IFERROR(DATA!LKA2,\"\"))","v":""},{"$f":"IF(DATA!LKB2=0,\"\",IFERROR(DATA!LKB2,\"\"))","v":""},{"$f":"IF(DATA!LKC2=0,\"\",IFERROR(DATA!LKC2,\"\"))","v":""},{"$f":"IF(DATA!LKD2=0,\"\",IFERROR(DATA!LKD2,\"\"))","v":""},{"$f":"IF(DATA!LKE2=0,\"\",IFERROR(DATA!LKE2,\"\"))","v":""},{"$f":"IF(DATA!LKF2=0,\"\",IFERROR(DATA!LKF2,\"\"))","v":""},{"$f":"IF(DATA!LKG2=0,\"\",IFERROR(DATA!LKG2,\"\"))","v":""},{"$f":"IF(DATA!LKH2=0,\"\",IFERROR(DATA!LKH2,\"\"))","v":""},{"$f":"IF(DATA!LKI2=0,\"\",IFERROR(DATA!LKI2,\"\"))","v":""},{"$f":"IF(DATA!LKJ2=0,\"\",IFERROR(DATA!LKJ2,\"\"))","v":""},{"$f":"IF(DATA!LKK2=0,\"\",IFERROR(DATA!LKK2,\"\"))","v":""},{"$f":"IF(DATA!LKL2=0,\"\",IFERROR(DATA!LKL2,\"\"))","v":""},{"$f":"IF(DATA!LKM2=0,\"\",IFERROR(DATA!LKM2,\"\"))","v":""},{"$f":"IF(DATA!LKN2=0,\"\",IFERROR(DATA!LKN2,\"\"))","v":""},{"$f":"IF(DATA!LKO2=0,\"\",IFERROR(DATA!LKO2,\"\"))","v":""},{"$f":"IF(DATA!LKP2=0,\"\",IFERROR(DATA!LKP2,\"\"))","v":""},{"$f":"IF(DATA!LKQ2=0,\"\",IFERROR(DATA!LKQ2,\"\"))","v":""},{"$f":"IF(DATA!LKR2=0,\"\",IFERROR(DATA!LKR2,\"\"))","v":""},{"$f":"IF(DATA!LKS2=0,\"\",IFERROR(DATA!LKS2,\"\"))","v":""},{"$f":"IF(DATA!LKT2=0,\"\",IFERROR(DATA!LKT2,\"\"))","v":""},{"$f":"IF(DATA!LKU2=0,\"\",IFERROR(DATA!LKU2,\"\"))","v":""},{"$f":"IF(DATA!LKV2=0,\"\",IFERROR(DATA!LKV2,\"\"))","v":""},{"$f":"IF(DATA!LKW2=0,\"\",IFERROR(DATA!LKW2,\"\"))","v":""},{"$f":"IF(DATA!LKX2=0,\"\",IFERROR(DATA!LKX2,\"\"))","v":""},{"$f":"IF(DATA!LKY2=0,\"\",IFERROR(DATA!LKY2,\"\"))","v":""},{"$f":"IF(DATA!LKZ2=0,\"\",IFERROR(DATA!LKZ2,\"\"))","v":""},{"$f":"IF(DATA!LLA2=0,\"\",IFERROR(DATA!LLA2,\"\"))","v":""},{"$f":"IF(DATA!LLB2=0,\"\",IFERROR(DATA!LLB2,\"\"))","v":""},{"$f":"IF(DATA!LLC2=0,\"\",IFERROR(DATA!LLC2,\"\"))","v":""},{"$f":"IF(DATA!LLD2=0,\"\",IFERROR(DATA!LLD2,\"\"))","v":""},{"$f":"IF(DATA!LLE2=0,\"\",IFERROR(DATA!LLE2,\"\"))","v":""},{"$f":"IF(DATA!LLF2=0,\"\",IFERROR(DATA!LLF2,\"\"))","v":""},{"$f":"IF(DATA!LLG2=0,\"\",IFERROR(DATA!LLG2,\"\"))","v":""},{"$f":"IF(DATA!LLH2=0,\"\",IFERROR(DATA!LLH2,\"\"))","v":""},{"$f":"IF(DATA!LLI2=0,\"\",IFERROR(DATA!LLI2,\"\"))","v":""},{"$f":"IF(DATA!LLJ2=0,\"\",IFERROR(DATA!LLJ2,\"\"))","v":""},{"$f":"IF(DATA!LLK2=0,\"\",IFERROR(DATA!LLK2,\"\"))","v":""},{"$f":"IF(DATA!LLL2=0,\"\",IFERROR(DATA!LLL2,\"\"))","v":""},{"$f":"IF(DATA!LLM2=0,\"\",IFERROR(DATA!LLM2,\"\"))","v":""},{"$f":"IF(DATA!LLN2=0,\"\",IFERROR(DATA!LLN2,\"\"))","v":""},{"$f":"IF(DATA!LLO2=0,\"\",IFERROR(DATA!LLO2,\"\"))","v":""},{"$f":"IF(DATA!LLP2=0,\"\",IFERROR(DATA!LLP2,\"\"))","v":""},{"$f":"IF(DATA!LLQ2=0,\"\",IFERROR(DATA!LLQ2,\"\"))","v":""},{"$f":"IF(DATA!LLR2=0,\"\",IFERROR(DATA!LLR2,\"\"))","v":""},{"$f":"IF(DATA!LLS2=0,\"\",IFERROR(DATA!LLS2,\"\"))","v":""},{"$f":"IF(DATA!LLT2=0,\"\",IFERROR(DATA!LLT2,\"\"))","v":""},{"$f":"IF(DATA!LLU2=0,\"\",IFERROR(DATA!LLU2,\"\"))","v":""},{"$f":"IF(DATA!LLV2=0,\"\",IFERROR(DATA!LLV2,\"\"))","v":""},{"$f":"IF(DATA!LLW2=0,\"\",IFERROR(DATA!LLW2,\"\"))","v":""},{"$f":"IF(DATA!LLX2=0,\"\",IFERROR(DATA!LLX2,\"\"))","v":""},{"$f":"IF(DATA!LLY2=0,\"\",IFERROR(DATA!LLY2,\"\"))","v":""},{"$f":"IF(DATA!LLZ2=0,\"\",IFERROR(DATA!LLZ2,\"\"))","v":""},{"$f":"IF(DATA!LMA2=0,\"\",IFERROR(DATA!LMA2,\"\"))","v":""},{"$f":"IF(DATA!LMB2=0,\"\",IFERROR(DATA!LMB2,\"\"))","v":""},{"$f":"IF(DATA!LMC2=0,\"\",IFERROR(DATA!LMC2,\"\"))","v":""},{"$f":"IF(DATA!LMD2=0,\"\",IFERROR(DATA!LMD2,\"\"))","v":""},{"$f":"IF(DATA!LME2=0,\"\",IFERROR(DATA!LME2,\"\"))","v":""},{"$f":"IF(DATA!LMF2=0,\"\",IFERROR(DATA!LMF2,\"\"))","v":""},{"$f":"IF(DATA!LMG2=0,\"\",IFERROR(DATA!LMG2,\"\"))","v":""},{"$f":"IF(DATA!LMH2=0,\"\",IFERROR(DATA!LMH2,\"\"))","v":""},{"$f":"IF(DATA!LMI2=0,\"\",IFERROR(DATA!LMI2,\"\"))","v":""},{"$f":"IF(DATA!LMJ2=0,\"\",IFERROR(DATA!LMJ2,\"\"))","v":""},{"$f":"IF(DATA!LMK2=0,\"\",IFERROR(DATA!LMK2,\"\"))","v":""},{"$f":"IF(DATA!LML2=0,\"\",IFERROR(DATA!LML2,\"\"))","v":""},{"$f":"IF(DATA!LMM2=0,\"\",IFERROR(DATA!LMM2,\"\"))","v":""},{"$f":"IF(DATA!LMN2=0,\"\",IFERROR(DATA!LMN2,\"\"))","v":""},{"$f":"IF(DATA!LMO2=0,\"\",IFERROR(DATA!LMO2,\"\"))","v":""},{"$f":"IF(DATA!LMP2=0,\"\",IFERROR(DATA!LMP2,\"\"))","v":""},{"$f":"IF(DATA!LMQ2=0,\"\",IFERROR(DATA!LMQ2,\"\"))","v":""},{"$f":"IF(DATA!LMR2=0,\"\",IFERROR(DATA!LMR2,\"\"))","v":""},{"$f":"IF(DATA!LMS2=0,\"\",IFERROR(DATA!LMS2,\"\"))","v":""},{"$f":"IF(DATA!LMT2=0,\"\",IFERROR(DATA!LMT2,\"\"))","v":""},{"$f":"IF(DATA!LMU2=0,\"\",IFERROR(DATA!LMU2,\"\"))","v":""},{"$f":"IF(DATA!LMV2=0,\"\",IFERROR(DATA!LMV2,\"\"))","v":""},{"$f":"IF(DATA!LMW2=0,\"\",IFERROR(DATA!LMW2,\"\"))","v":""},{"$f":"IF(DATA!LMX2=0,\"\",IFERROR(DATA!LMX2,\"\"))","v":""},{"$f":"IF(DATA!LMY2=0,\"\",IFERROR(DATA!LMY2,\"\"))","v":""},{"$f":"IF(DATA!LMZ2=0,\"\",IFERROR(DATA!LMZ2,\"\"))","v":""},{"$f":"IF(DATA!LNA2=0,\"\",IFERROR(DATA!LNA2,\"\"))","v":""},{"$f":"IF(DATA!LNB2=0,\"\",IFERROR(DATA!LNB2,\"\"))","v":""},{"$f":"IF(DATA!LNC2=0,\"\",IFERROR(DATA!LNC2,\"\"))","v":""},{"$f":"IF(DATA!LND2=0,\"\",IFERROR(DATA!LND2,\"\"))","v":""},{"$f":"IF(DATA!LNE2=0,\"\",IFERROR(DATA!LNE2,\"\"))","v":""},{"$f":"IF(DATA!LNF2=0,\"\",IFERROR(DATA!LNF2,\"\"))","v":""},{"$f":"IF(DATA!LNG2=0,\"\",IFERROR(DATA!LNG2,\"\"))","v":""},{"$f":"IF(DATA!LNH2=0,\"\",IFERROR(DATA!LNH2,\"\"))","v":""},{"$f":"IF(DATA!LNI2=0,\"\",IFERROR(DATA!LNI2,\"\"))","v":""},{"$f":"IF(DATA!LNJ2=0,\"\",IFERROR(DATA!LNJ2,\"\"))","v":""},{"$f":"IF(DATA!LNK2=0,\"\",IFERROR(DATA!LNK2,\"\"))","v":""},{"$f":"IF(DATA!LNL2=0,\"\",IFERROR(DATA!LNL2,\"\"))","v":""},{"$f":"IF(DATA!LNM2=0,\"\",IFERROR(DATA!LNM2,\"\"))","v":""},{"$f":"IF(DATA!LNN2=0,\"\",IFERROR(DATA!LNN2,\"\"))","v":""},{"$f":"IF(DATA!LNO2=0,\"\",IFERROR(DATA!LNO2,\"\"))","v":""},{"$f":"IF(DATA!LNP2=0,\"\",IFERROR(DATA!LNP2,\"\"))","v":""},{"$f":"IF(DATA!LNQ2=0,\"\",IFERROR(DATA!LNQ2,\"\"))","v":""},{"$f":"IF(DATA!LNR2=0,\"\",IFERROR(DATA!LNR2,\"\"))","v":""},{"$f":"IF(DATA!LNS2=0,\"\",IFERROR(DATA!LNS2,\"\"))","v":""},{"$f":"IF(DATA!LNT2=0,\"\",IFERROR(DATA!LNT2,\"\"))","v":""},{"$f":"IF(DATA!LNU2=0,\"\",IFERROR(DATA!LNU2,\"\"))","v":""},{"$f":"IF(DATA!LNV2=0,\"\",IFERROR(DATA!LNV2,\"\"))","v":""},{"$f":"IF(DATA!LNW2=0,\"\",IFERROR(DATA!LNW2,\"\"))","v":""},{"$f":"IF(DATA!LNX2=0,\"\",IFERROR(DATA!LNX2,\"\"))","v":""},{"$f":"IF(DATA!LNY2=0,\"\",IFERROR(DATA!LNY2,\"\"))","v":""},{"$f":"IF(DATA!LNZ2=0,\"\",IFERROR(DATA!LNZ2,\"\"))","v":""},{"$f":"IF(DATA!LOA2=0,\"\",IFERROR(DATA!LOA2,\"\"))","v":""},{"$f":"IF(DATA!LOB2=0,\"\",IFERROR(DATA!LOB2,\"\"))","v":""},{"$f":"IF(DATA!LOC2=0,\"\",IFERROR(DATA!LOC2,\"\"))","v":""},{"$f":"IF(DATA!LOD2=0,\"\",IFERROR(DATA!LOD2,\"\"))","v":""},{"$f":"IF(DATA!LOE2=0,\"\",IFERROR(DATA!LOE2,\"\"))","v":""},{"$f":"IF(DATA!LOF2=0,\"\",IFERROR(DATA!LOF2,\"\"))","v":""},{"$f":"IF(DATA!LOG2=0,\"\",IFERROR(DATA!LOG2,\"\"))","v":""},{"$f":"IF(DATA!LOH2=0,\"\",IFERROR(DATA!LOH2,\"\"))","v":""},{"$f":"IF(DATA!LOI2=0,\"\",IFERROR(DATA!LOI2,\"\"))","v":""},{"$f":"IF(DATA!LOJ2=0,\"\",IFERROR(DATA!LOJ2,\"\"))","v":""},{"$f":"IF(DATA!LOK2=0,\"\",IFERROR(DATA!LOK2,\"\"))","v":""},{"$f":"IF(DATA!LOL2=0,\"\",IFERROR(DATA!LOL2,\"\"))","v":""},{"$f":"IF(DATA!LOM2=0,\"\",IFERROR(DATA!LOM2,\"\"))","v":""},{"$f":"IF(DATA!LON2=0,\"\",IFERROR(DATA!LON2,\"\"))","v":""},{"$f":"IF(DATA!LOO2=0,\"\",IFERROR(DATA!LOO2,\"\"))","v":""},{"$f":"IF(DATA!LOP2=0,\"\",IFERROR(DATA!LOP2,\"\"))","v":""},{"$f":"IF(DATA!LOQ2=0,\"\",IFERROR(DATA!LOQ2,\"\"))","v":""},{"$f":"IF(DATA!LOR2=0,\"\",IFERROR(DATA!LOR2,\"\"))","v":""},{"$f":"IF(DATA!LOS2=0,\"\",IFERROR(DATA!LOS2,\"\"))","v":""},{"$f":"IF(DATA!LOT2=0,\"\",IFERROR(DATA!LOT2,\"\"))","v":""},{"$f":"IF(DATA!LOU2=0,\"\",IFERROR(DATA!LOU2,\"\"))","v":""},{"$f":"IF(DATA!LOV2=0,\"\",IFERROR(DATA!LOV2,\"\"))","v":""},{"$f":"IF(DATA!LOW2=0,\"\",IFERROR(DATA!LOW2,\"\"))","v":""},{"$f":"IF(DATA!LOX2=0,\"\",IFERROR(DATA!LOX2,\"\"))","v":""},{"$f":"IF(DATA!LOY2=0,\"\",IFERROR(DATA!LOY2,\"\"))","v":""},{"$f":"IF(DATA!LOZ2=0,\"\",IFERROR(DATA!LOZ2,\"\"))","v":""},{"$f":"IF(DATA!LPA2=0,\"\",IFERROR(DATA!LPA2,\"\"))","v":""},{"$f":"IF(DATA!LPB2=0,\"\",IFERROR(DATA!LPB2,\"\"))","v":""},{"$f":"IF(DATA!LPC2=0,\"\",IFERROR(DATA!LPC2,\"\"))","v":""},{"$f":"IF(DATA!LPD2=0,\"\",IFERROR(DATA!LPD2,\"\"))","v":""},{"$f":"IF(DATA!LPE2=0,\"\",IFERROR(DATA!LPE2,\"\"))","v":""},{"$f":"IF(DATA!LPF2=0,\"\",IFERROR(DATA!LPF2,\"\"))","v":""},{"$f":"IF(DATA!LPG2=0,\"\",IFERROR(DATA!LPG2,\"\"))","v":""},{"$f":"IF(DATA!LPH2=0,\"\",IFERROR(DATA!LPH2,\"\"))","v":""},{"$f":"IF(DATA!LPI2=0,\"\",IFERROR(DATA!LPI2,\"\"))","v":""},{"$f":"IF(DATA!LPJ2=0,\"\",IFERROR(DATA!LPJ2,\"\"))","v":""},{"$f":"IF(DATA!LPK2=0,\"\",IFERROR(DATA!LPK2,\"\"))","v":""},{"$f":"IF(DATA!LPL2=0,\"\",IFERROR(DATA!LPL2,\"\"))","v":""},{"$f":"IF(DATA!LPM2=0,\"\",IFERROR(DATA!LPM2,\"\"))","v":""},{"$f":"IF(DATA!LPN2=0,\"\",IFERROR(DATA!LPN2,\"\"))","v":""},{"$f":"IF(DATA!LPO2=0,\"\",IFERROR(DATA!LPO2,\"\"))","v":""},{"$f":"IF(DATA!LPP2=0,\"\",IFERROR(DATA!LPP2,\"\"))","v":""},{"$f":"IF(DATA!LPQ2=0,\"\",IFERROR(DATA!LPQ2,\"\"))","v":""},{"$f":"IF(DATA!LPR2=0,\"\",IFERROR(DATA!LPR2,\"\"))","v":""},{"$f":"IF(DATA!LPS2=0,\"\",IFERROR(DATA!LPS2,\"\"))","v":""},{"$f":"IF(DATA!LPT2=0,\"\",IFERROR(DATA!LPT2,\"\"))","v":""},{"$f":"IF(DATA!LPU2=0,\"\",IFERROR(DATA!LPU2,\"\"))","v":""},{"$f":"IF(DATA!LPV2=0,\"\",IFERROR(DATA!LPV2,\"\"))","v":""},{"$f":"IF(DATA!LPW2=0,\"\",IFERROR(DATA!LPW2,\"\"))","v":""},{"$f":"IF(DATA!LPX2=0,\"\",IFERROR(DATA!LPX2,\"\"))","v":""},{"$f":"IF(DATA!LPY2=0,\"\",IFERROR(DATA!LPY2,\"\"))","v":""},{"$f":"IF(DATA!LPZ2=0,\"\",IFERROR(DATA!LPZ2,\"\"))","v":""},{"$f":"IF(DATA!LQA2=0,\"\",IFERROR(DATA!LQA2,\"\"))","v":""},{"$f":"IF(DATA!LQB2=0,\"\",IFERROR(DATA!LQB2,\"\"))","v":""},{"$f":"IF(DATA!LQC2=0,\"\",IFERROR(DATA!LQC2,\"\"))","v":""},{"$f":"IF(DATA!LQD2=0,\"\",IFERROR(DATA!LQD2,\"\"))","v":""},{"$f":"IF(DATA!LQE2=0,\"\",IFERROR(DATA!LQE2,\"\"))","v":""},{"$f":"IF(DATA!LQF2=0,\"\",IFERROR(DATA!LQF2,\"\"))","v":""},{"$f":"IF(DATA!LQG2=0,\"\",IFERROR(DATA!LQG2,\"\"))","v":""},{"$f":"IF(DATA!LQH2=0,\"\",IFERROR(DATA!LQH2,\"\"))","v":""},{"$f":"IF(DATA!LQI2=0,\"\",IFERROR(DATA!LQI2,\"\"))","v":""},{"$f":"IF(DATA!LQJ2=0,\"\",IFERROR(DATA!LQJ2,\"\"))","v":""},{"$f":"IF(DATA!LQK2=0,\"\",IFERROR(DATA!LQK2,\"\"))","v":""},{"$f":"IF(DATA!LQL2=0,\"\",IFERROR(DATA!LQL2,\"\"))","v":""},{"$f":"IF(DATA!LQM2=0,\"\",IFERROR(DATA!LQM2,\"\"))","v":""},{"$f":"IF(DATA!LQN2=0,\"\",IFERROR(DATA!LQN2,\"\"))","v":""},{"$f":"IF(DATA!LQO2=0,\"\",IFERROR(DATA!LQO2,\"\"))","v":""},{"$f":"IF(DATA!LQP2=0,\"\",IFERROR(DATA!LQP2,\"\"))","v":""},{"$f":"IF(DATA!LQQ2=0,\"\",IFERROR(DATA!LQQ2,\"\"))","v":""},{"$f":"IF(DATA!LQR2=0,\"\",IFERROR(DATA!LQR2,\"\"))","v":""},{"$f":"IF(DATA!LQS2=0,\"\",IFERROR(DATA!LQS2,\"\"))","v":""},{"$f":"IF(DATA!LQT2=0,\"\",IFERROR(DATA!LQT2,\"\"))","v":""},{"$f":"IF(DATA!LQU2=0,\"\",IFERROR(DATA!LQU2,\"\"))","v":""},{"$f":"IF(DATA!LQV2=0,\"\",IFERROR(DATA!LQV2,\"\"))","v":""},{"$f":"IF(DATA!LQW2=0,\"\",IFERROR(DATA!LQW2,\"\"))","v":""},{"$f":"IF(DATA!LQX2=0,\"\",IFERROR(DATA!LQX2,\"\"))","v":""},{"$f":"IF(DATA!LQY2=0,\"\",IFERROR(DATA!LQY2,\"\"))","v":""},{"$f":"IF(DATA!LQZ2=0,\"\",IFERROR(DATA!LQZ2,\"\"))","v":""},{"$f":"IF(DATA!LRA2=0,\"\",IFERROR(DATA!LRA2,\"\"))","v":""},{"$f":"IF(DATA!LRB2=0,\"\",IFERROR(DATA!LRB2,\"\"))","v":""},{"$f":"IF(DATA!LRC2=0,\"\",IFERROR(DATA!LRC2,\"\"))","v":""},{"$f":"IF(DATA!LRD2=0,\"\",IFERROR(DATA!LRD2,\"\"))","v":""},{"$f":"IF(DATA!LRE2=0,\"\",IFERROR(DATA!LRE2,\"\"))","v":""},{"$f":"IF(DATA!LRF2=0,\"\",IFERROR(DATA!LRF2,\"\"))","v":""},{"$f":"IF(DATA!LRG2=0,\"\",IFERROR(DATA!LRG2,\"\"))","v":""},{"$f":"IF(DATA!LRH2=0,\"\",IFERROR(DATA!LRH2,\"\"))","v":""},{"$f":"IF(DATA!LRI2=0,\"\",IFERROR(DATA!LRI2,\"\"))","v":""},{"$f":"IF(DATA!LRJ2=0,\"\",IFERROR(DATA!LRJ2,\"\"))","v":""},{"$f":"IF(DATA!LRK2=0,\"\",IFERROR(DATA!LRK2,\"\"))","v":""},{"$f":"IF(DATA!LRL2=0,\"\",IFERROR(DATA!LRL2,\"\"))","v":""},{"$f":"IF(DATA!LRM2=0,\"\",IFERROR(DATA!LRM2,\"\"))","v":""},{"$f":"IF(DATA!LRN2=0,\"\",IFERROR(DATA!LRN2,\"\"))","v":""},{"$f":"IF(DATA!LRO2=0,\"\",IFERROR(DATA!LRO2,\"\"))","v":""},{"$f":"IF(DATA!LRP2=0,\"\",IFERROR(DATA!LRP2,\"\"))","v":""},{"$f":"IF(DATA!LRQ2=0,\"\",IFERROR(DATA!LRQ2,\"\"))","v":""},{"$f":"IF(DATA!LRR2=0,\"\",IFERROR(DATA!LRR2,\"\"))","v":""},{"$f":"IF(DATA!LRS2=0,\"\",IFERROR(DATA!LRS2,\"\"))","v":""},{"$f":"IF(DATA!LRT2=0,\"\",IFERROR(DATA!LRT2,\"\"))","v":""},{"$f":"IF(DATA!LRU2=0,\"\",IFERROR(DATA!LRU2,\"\"))","v":""},{"$f":"IF(DATA!LRV2=0,\"\",IFERROR(DATA!LRV2,\"\"))","v":""},{"$f":"IF(DATA!LRW2=0,\"\",IFERROR(DATA!LRW2,\"\"))","v":""},{"$f":"IF(DATA!LRX2=0,\"\",IFERROR(DATA!LRX2,\"\"))","v":""},{"$f":"IF(DATA!LRY2=0,\"\",IFERROR(DATA!LRY2,\"\"))","v":""},{"$f":"IF(DATA!LRZ2=0,\"\",IFERROR(DATA!LRZ2,\"\"))","v":""},{"$f":"IF(DATA!LSA2=0,\"\",IFERROR(DATA!LSA2,\"\"))","v":""},{"$f":"IF(DATA!LSB2=0,\"\",IFERROR(DATA!LSB2,\"\"))","v":""},{"$f":"IF(DATA!LSC2=0,\"\",IFERROR(DATA!LSC2,\"\"))","v":""},{"$f":"IF(DATA!LSD2=0,\"\",IFERROR(DATA!LSD2,\"\"))","v":""},{"$f":"IF(DATA!LSE2=0,\"\",IFERROR(DATA!LSE2,\"\"))","v":""},{"$f":"IF(DATA!LSF2=0,\"\",IFERROR(DATA!LSF2,\"\"))","v":""},{"$f":"IF(DATA!LSG2=0,\"\",IFERROR(DATA!LSG2,\"\"))","v":""},{"$f":"IF(DATA!LSH2=0,\"\",IFERROR(DATA!LSH2,\"\"))","v":""},{"$f":"IF(DATA!LSI2=0,\"\",IFERROR(DATA!LSI2,\"\"))","v":""},{"$f":"IF(DATA!LSJ2=0,\"\",IFERROR(DATA!LSJ2,\"\"))","v":""},{"$f":"IF(DATA!LSK2=0,\"\",IFERROR(DATA!LSK2,\"\"))","v":""},{"$f":"IF(DATA!LSL2=0,\"\",IFERROR(DATA!LSL2,\"\"))","v":""},{"$f":"IF(DATA!LSM2=0,\"\",IFERROR(DATA!LSM2,\"\"))","v":""},{"$f":"IF(DATA!LSN2=0,\"\",IFERROR(DATA!LSN2,\"\"))","v":""},{"$f":"IF(DATA!LSO2=0,\"\",IFERROR(DATA!LSO2,\"\"))","v":""},{"$f":"IF(DATA!LSP2=0,\"\",IFERROR(DATA!LSP2,\"\"))","v":""},{"$f":"IF(DATA!LSQ2=0,\"\",IFERROR(DATA!LSQ2,\"\"))","v":""},{"$f":"IF(DATA!LSR2=0,\"\",IFERROR(DATA!LSR2,\"\"))","v":""},{"$f":"IF(DATA!LSS2=0,\"\",IFERROR(DATA!LSS2,\"\"))","v":""},{"$f":"IF(DATA!LST2=0,\"\",IFERROR(DATA!LST2,\"\"))","v":""},{"$f":"IF(DATA!LSU2=0,\"\",IFERROR(DATA!LSU2,\"\"))","v":""},{"$f":"IF(DATA!LSV2=0,\"\",IFERROR(DATA!LSV2,\"\"))","v":""},{"$f":"IF(DATA!LSW2=0,\"\",IFERROR(DATA!LSW2,\"\"))","v":""},{"$f":"IF(DATA!LSX2=0,\"\",IFERROR(DATA!LSX2,\"\"))","v":""},{"$f":"IF(DATA!LSY2=0,\"\",IFERROR(DATA!LSY2,\"\"))","v":""},{"$f":"IF(DATA!LSZ2=0,\"\",IFERROR(DATA!LSZ2,\"\"))","v":""},{"$f":"IF(DATA!LTA2=0,\"\",IFERROR(DATA!LTA2,\"\"))","v":""},{"$f":"IF(DATA!LTB2=0,\"\",IFERROR(DATA!LTB2,\"\"))","v":""},{"$f":"IF(DATA!LTC2=0,\"\",IFERROR(DATA!LTC2,\"\"))","v":""},{"$f":"IF(DATA!LTD2=0,\"\",IFERROR(DATA!LTD2,\"\"))","v":""},{"$f":"IF(DATA!LTE2=0,\"\",IFERROR(DATA!LTE2,\"\"))","v":""},{"$f":"IF(DATA!LTF2=0,\"\",IFERROR(DATA!LTF2,\"\"))","v":""},{"$f":"IF(DATA!LTG2=0,\"\",IFERROR(DATA!LTG2,\"\"))","v":""},{"$f":"IF(DATA!LTH2=0,\"\",IFERROR(DATA!LTH2,\"\"))","v":""},{"$f":"IF(DATA!LTI2=0,\"\",IFERROR(DATA!LTI2,\"\"))","v":""},{"$f":"IF(DATA!LTJ2=0,\"\",IFERROR(DATA!LTJ2,\"\"))","v":""},{"$f":"IF(DATA!LTK2=0,\"\",IFERROR(DATA!LTK2,\"\"))","v":""},{"$f":"IF(DATA!LTL2=0,\"\",IFERROR(DATA!LTL2,\"\"))","v":""},{"$f":"IF(DATA!LTM2=0,\"\",IFERROR(DATA!LTM2,\"\"))","v":""},{"$f":"IF(DATA!LTN2=0,\"\",IFERROR(DATA!LTN2,\"\"))","v":""},{"$f":"IF(DATA!LTO2=0,\"\",IFERROR(DATA!LTO2,\"\"))","v":""},{"$f":"IF(DATA!LTP2=0,\"\",IFERROR(DATA!LTP2,\"\"))","v":""},{"$f":"IF(DATA!LTQ2=0,\"\",IFERROR(DATA!LTQ2,\"\"))","v":""},{"$f":"IF(DATA!LTR2=0,\"\",IFERROR(DATA!LTR2,\"\"))","v":""},{"$f":"IF(DATA!LTS2=0,\"\",IFERROR(DATA!LTS2,\"\"))","v":""},{"$f":"IF(DATA!LTT2=0,\"\",IFERROR(DATA!LTT2,\"\"))","v":""},{"$f":"IF(DATA!LTU2=0,\"\",IFERROR(DATA!LTU2,\"\"))","v":""},{"$f":"IF(DATA!LTV2=0,\"\",IFERROR(DATA!LTV2,\"\"))","v":""},{"$f":"IF(DATA!LTW2=0,\"\",IFERROR(DATA!LTW2,\"\"))","v":""},{"$f":"IF(DATA!LTX2=0,\"\",IFERROR(DATA!LTX2,\"\"))","v":""},{"$f":"IF(DATA!LTY2=0,\"\",IFERROR(DATA!LTY2,\"\"))","v":""},{"$f":"IF(DATA!LTZ2=0,\"\",IFERROR(DATA!LTZ2,\"\"))","v":""},{"$f":"IF(DATA!LUA2=0,\"\",IFERROR(DATA!LUA2,\"\"))","v":""},{"$f":"IF(DATA!LUB2=0,\"\",IFERROR(DATA!LUB2,\"\"))","v":""},{"$f":"IF(DATA!LUC2=0,\"\",IFERROR(DATA!LUC2,\"\"))","v":""},{"$f":"IF(DATA!LUD2=0,\"\",IFERROR(DATA!LUD2,\"\"))","v":""},{"$f":"IF(DATA!LUE2=0,\"\",IFERROR(DATA!LUE2,\"\"))","v":""},{"$f":"IF(DATA!LUF2=0,\"\",IFERROR(DATA!LUF2,\"\"))","v":""},{"$f":"IF(DATA!LUG2=0,\"\",IFERROR(DATA!LUG2,\"\"))","v":""},{"$f":"IF(DATA!LUH2=0,\"\",IFERROR(DATA!LUH2,\"\"))","v":""},{"$f":"IF(DATA!LUI2=0,\"\",IFERROR(DATA!LUI2,\"\"))","v":""},{"$f":"IF(DATA!LUJ2=0,\"\",IFERROR(DATA!LUJ2,\"\"))","v":""},{"$f":"IF(DATA!LUK2=0,\"\",IFERROR(DATA!LUK2,\"\"))","v":""},{"$f":"IF(DATA!LUL2=0,\"\",IFERROR(DATA!LUL2,\"\"))","v":""},{"$f":"IF(DATA!LUM2=0,\"\",IFERROR(DATA!LUM2,\"\"))","v":""},{"$f":"IF(DATA!LUN2=0,\"\",IFERROR(DATA!LUN2,\"\"))","v":""},{"$f":"IF(DATA!LUO2=0,\"\",IFERROR(DATA!LUO2,\"\"))","v":""},{"$f":"IF(DATA!LUP2=0,\"\",IFERROR(DATA!LUP2,\"\"))","v":""},{"$f":"IF(DATA!LUQ2=0,\"\",IFERROR(DATA!LUQ2,\"\"))","v":""},{"$f":"IF(DATA!LUR2=0,\"\",IFERROR(DATA!LUR2,\"\"))","v":""},{"$f":"IF(DATA!LUS2=0,\"\",IFERROR(DATA!LUS2,\"\"))","v":""},{"$f":"IF(DATA!LUT2=0,\"\",IFERROR(DATA!LUT2,\"\"))","v":""},{"$f":"IF(DATA!LUU2=0,\"\",IFERROR(DATA!LUU2,\"\"))","v":""},{"$f":"IF(DATA!LUV2=0,\"\",IFERROR(DATA!LUV2,\"\"))","v":""},{"$f":"IF(DATA!LUW2=0,\"\",IFERROR(DATA!LUW2,\"\"))","v":""},{"$f":"IF(DATA!LUX2=0,\"\",IFERROR(DATA!LUX2,\"\"))","v":""},{"$f":"IF(DATA!LUY2=0,\"\",IFERROR(DATA!LUY2,\"\"))","v":""},{"$f":"IF(DATA!LUZ2=0,\"\",IFERROR(DATA!LUZ2,\"\"))","v":""},{"$f":"IF(DATA!LVA2=0,\"\",IFERROR(DATA!LVA2,\"\"))","v":""},{"$f":"IF(DATA!LVB2=0,\"\",IFERROR(DATA!LVB2,\"\"))","v":""},{"$f":"IF(DATA!LVC2=0,\"\",IFERROR(DATA!LVC2,\"\"))","v":""},{"$f":"IF(DATA!LVD2=0,\"\",IFERROR(DATA!LVD2,\"\"))","v":""},{"$f":"IF(DATA!LVE2=0,\"\",IFERROR(DATA!LVE2,\"\"))","v":""},{"$f":"IF(DATA!LVF2=0,\"\",IFERROR(DATA!LVF2,\"\"))","v":""},{"$f":"IF(DATA!LVG2=0,\"\",IFERROR(DATA!LVG2,\"\"))","v":""},{"$f":"IF(DATA!LVH2=0,\"\",IFERROR(DATA!LVH2,\"\"))","v":""},{"$f":"IF(DATA!LVI2=0,\"\",IFERROR(DATA!LVI2,\"\"))","v":""},{"$f":"IF(DATA!LVJ2=0,\"\",IFERROR(DATA!LVJ2,\"\"))","v":""},{"$f":"IF(DATA!LVK2=0,\"\",IFERROR(DATA!LVK2,\"\"))","v":""},{"$f":"IF(DATA!LVL2=0,\"\",IFERROR(DATA!LVL2,\"\"))","v":""},{"$f":"IF(DATA!LVM2=0,\"\",IFERROR(DATA!LVM2,\"\"))","v":""},{"$f":"IF(DATA!LVN2=0,\"\",IFERROR(DATA!LVN2,\"\"))","v":""},{"$f":"IF(DATA!LVO2=0,\"\",IFERROR(DATA!LVO2,\"\"))","v":""},{"$f":"IF(DATA!LVP2=0,\"\",IFERROR(DATA!LVP2,\"\"))","v":""},{"$f":"IF(DATA!LVQ2=0,\"\",IFERROR(DATA!LVQ2,\"\"))","v":""},{"$f":"IF(DATA!LVR2=0,\"\",IFERROR(DATA!LVR2,\"\"))","v":""},{"$f":"IF(DATA!LVS2=0,\"\",IFERROR(DATA!LVS2,\"\"))","v":""},{"$f":"IF(DATA!LVT2=0,\"\",IFERROR(DATA!LVT2,\"\"))","v":""},{"$f":"IF(DATA!LVU2=0,\"\",IFERROR(DATA!LVU2,\"\"))","v":""},{"$f":"IF(DATA!LVV2=0,\"\",IFERROR(DATA!LVV2,\"\"))","v":""},{"$f":"IF(DATA!LVW2=0,\"\",IFERROR(DATA!LVW2,\"\"))","v":""},{"$f":"IF(DATA!LVX2=0,\"\",IFERROR(DATA!LVX2,\"\"))","v":""},{"$f":"IF(DATA!LVY2=0,\"\",IFERROR(DATA!LVY2,\"\"))","v":""},{"$f":"IF(DATA!LVZ2=0,\"\",IFERROR(DATA!LVZ2,\"\"))","v":""},{"$f":"IF(DATA!LWA2=0,\"\",IFERROR(DATA!LWA2,\"\"))","v":""},{"$f":"IF(DATA!LWB2=0,\"\",IFERROR(DATA!LWB2,\"\"))","v":""},{"$f":"IF(DATA!LWC2=0,\"\",IFERROR(DATA!LWC2,\"\"))","v":""},{"$f":"IF(DATA!LWD2=0,\"\",IFERROR(DATA!LWD2,\"\"))","v":""},{"$f":"IF(DATA!LWE2=0,\"\",IFERROR(DATA!LWE2,\"\"))","v":""},{"$f":"IF(DATA!LWF2=0,\"\",IFERROR(DATA!LWF2,\"\"))","v":""},{"$f":"IF(DATA!LWG2=0,\"\",IFERROR(DATA!LWG2,\"\"))","v":""},{"$f":"IF(DATA!LWH2=0,\"\",IFERROR(DATA!LWH2,\"\"))","v":""},{"$f":"IF(DATA!LWI2=0,\"\",IFERROR(DATA!LWI2,\"\"))","v":""},{"$f":"IF(DATA!LWJ2=0,\"\",IFERROR(DATA!LWJ2,\"\"))","v":""},{"$f":"IF(DATA!LWK2=0,\"\",IFERROR(DATA!LWK2,\"\"))","v":""},{"$f":"IF(DATA!LWL2=0,\"\",IFERROR(DATA!LWL2,\"\"))","v":""},{"$f":"IF(DATA!LWM2=0,\"\",IFERROR(DATA!LWM2,\"\"))","v":""},{"$f":"IF(DATA!LWN2=0,\"\",IFERROR(DATA!LWN2,\"\"))","v":""},{"$f":"IF(DATA!LWO2=0,\"\",IFERROR(DATA!LWO2,\"\"))","v":""},{"$f":"IF(DATA!LWP2=0,\"\",IFERROR(DATA!LWP2,\"\"))","v":""},{"$f":"IF(DATA!LWQ2=0,\"\",IFERROR(DATA!LWQ2,\"\"))","v":""},{"$f":"IF(DATA!LWR2=0,\"\",IFERROR(DATA!LWR2,\"\"))","v":""},{"$f":"IF(DATA!LWS2=0,\"\",IFERROR(DATA!LWS2,\"\"))","v":""},{"$f":"IF(DATA!LWT2=0,\"\",IFERROR(DATA!LWT2,\"\"))","v":""},{"$f":"IF(DATA!LWU2=0,\"\",IFERROR(DATA!LWU2,\"\"))","v":""},{"$f":"IF(DATA!LWV2=0,\"\",IFERROR(DATA!LWV2,\"\"))","v":""},{"$f":"IF(DATA!LWW2=0,\"\",IFERROR(DATA!LWW2,\"\"))","v":""},{"$f":"IF(DATA!LWX2=0,\"\",IFERROR(DATA!LWX2,\"\"))","v":""},{"$f":"IF(DATA!LWY2=0,\"\",IFERROR(DATA!LWY2,\"\"))","v":""},{"$f":"IF(DATA!LWZ2=0,\"\",IFERROR(DATA!LWZ2,\"\"))","v":""},{"$f":"IF(DATA!LXA2=0,\"\",IFERROR(DATA!LXA2,\"\"))","v":""},{"$f":"IF(DATA!LXB2=0,\"\",IFERROR(DATA!LXB2,\"\"))","v":""},{"$f":"IF(DATA!LXC2=0,\"\",IFERROR(DATA!LXC2,\"\"))","v":""},{"$f":"IF(DATA!LXD2=0,\"\",IFERROR(DATA!LXD2,\"\"))","v":""},{"$f":"IF(DATA!LXE2=0,\"\",IFERROR(DATA!LXE2,\"\"))","v":""},{"$f":"IF(DATA!LXF2=0,\"\",IFERROR(DATA!LXF2,\"\"))","v":""},{"$f":"IF(DATA!LXG2=0,\"\",IFERROR(DATA!LXG2,\"\"))","v":""},{"$f":"IF(DATA!LXH2=0,\"\",IFERROR(DATA!LXH2,\"\"))","v":""},{"$f":"IF(DATA!LXI2=0,\"\",IFERROR(DATA!LXI2,\"\"))","v":""},{"$f":"IF(DATA!LXJ2=0,\"\",IFERROR(DATA!LXJ2,\"\"))","v":""},{"$f":"IF(DATA!LXK2=0,\"\",IFERROR(DATA!LXK2,\"\"))","v":""},{"$f":"IF(DATA!LXL2=0,\"\",IFERROR(DATA!LXL2,\"\"))","v":""},{"$f":"IF(DATA!LXM2=0,\"\",IFERROR(DATA!LXM2,\"\"))","v":""},{"$f":"IF(DATA!LXN2=0,\"\",IFERROR(DATA!LXN2,\"\"))","v":""},{"$f":"IF(DATA!LXO2=0,\"\",IFERROR(DATA!LXO2,\"\"))","v":""},{"$f":"IF(DATA!LXP2=0,\"\",IFERROR(DATA!LXP2,\"\"))","v":""},{"$f":"IF(DATA!LXQ2=0,\"\",IFERROR(DATA!LXQ2,\"\"))","v":""},{"$f":"IF(DATA!LXR2=0,\"\",IFERROR(DATA!LXR2,\"\"))","v":""},{"$f":"IF(DATA!LXS2=0,\"\",IFERROR(DATA!LXS2,\"\"))","v":""},{"$f":"IF(DATA!LXT2=0,\"\",IFERROR(DATA!LXT2,\"\"))","v":""},{"$f":"IF(DATA!LXU2=0,\"\",IFERROR(DATA!LXU2,\"\"))","v":""},{"$f":"IF(DATA!LXV2=0,\"\",IFERROR(DATA!LXV2,\"\"))","v":""},{"$f":"IF(DATA!LXW2=0,\"\",IFERROR(DATA!LXW2,\"\"))","v":""},{"$f":"IF(DATA!LXX2=0,\"\",IFERROR(DATA!LXX2,\"\"))","v":""},{"$f":"IF(DATA!LXY2=0,\"\",IFERROR(DATA!LXY2,\"\"))","v":""},{"$f":"IF(DATA!LXZ2=0,\"\",IFERROR(DATA!LXZ2,\"\"))","v":""},{"$f":"IF(DATA!LYA2=0,\"\",IFERROR(DATA!LYA2,\"\"))","v":""},{"$f":"IF(DATA!LYB2=0,\"\",IFERROR(DATA!LYB2,\"\"))","v":""},{"$f":"IF(DATA!LYC2=0,\"\",IFERROR(DATA!LYC2,\"\"))","v":""},{"$f":"IF(DATA!LYD2=0,\"\",IFERROR(DATA!LYD2,\"\"))","v":""},{"$f":"IF(DATA!LYE2=0,\"\",IFERROR(DATA!LYE2,\"\"))","v":""},{"$f":"IF(DATA!LYF2=0,\"\",IFERROR(DATA!LYF2,\"\"))","v":""},{"$f":"IF(DATA!LYG2=0,\"\",IFERROR(DATA!LYG2,\"\"))","v":""},{"$f":"IF(DATA!LYH2=0,\"\",IFERROR(DATA!LYH2,\"\"))","v":""},{"$f":"IF(DATA!LYI2=0,\"\",IFERROR(DATA!LYI2,\"\"))","v":""},{"$f":"IF(DATA!LYJ2=0,\"\",IFERROR(DATA!LYJ2,\"\"))","v":""},{"$f":"IF(DATA!LYK2=0,\"\",IFERROR(DATA!LYK2,\"\"))","v":""},{"$f":"IF(DATA!LYL2=0,\"\",IFERROR(DATA!LYL2,\"\"))","v":""},{"$f":"IF(DATA!LYM2=0,\"\",IFERROR(DATA!LYM2,\"\"))","v":""},{"$f":"IF(DATA!LYN2=0,\"\",IFERROR(DATA!LYN2,\"\"))","v":""},{"$f":"IF(DATA!LYO2=0,\"\",IFERROR(DATA!LYO2,\"\"))","v":""},{"$f":"IF(DATA!LYP2=0,\"\",IFERROR(DATA!LYP2,\"\"))","v":""},{"$f":"IF(DATA!LYQ2=0,\"\",IFERROR(DATA!LYQ2,\"\"))","v":""},{"$f":"IF(DATA!LYR2=0,\"\",IFERROR(DATA!LYR2,\"\"))","v":""},{"$f":"IF(DATA!LYS2=0,\"\",IFERROR(DATA!LYS2,\"\"))","v":""},{"$f":"IF(DATA!LYT2=0,\"\",IFERROR(DATA!LYT2,\"\"))","v":""},{"$f":"IF(DATA!LYU2=0,\"\",IFERROR(DATA!LYU2,\"\"))","v":""},{"$f":"IF(DATA!LYV2=0,\"\",IFERROR(DATA!LYV2,\"\"))","v":""},{"$f":"IF(DATA!LYW2=0,\"\",IFERROR(DATA!LYW2,\"\"))","v":""},{"$f":"IF(DATA!LYX2=0,\"\",IFERROR(DATA!LYX2,\"\"))","v":""},{"$f":"IF(DATA!LYY2=0,\"\",IFERROR(DATA!LYY2,\"\"))","v":""},{"$f":"IF(DATA!LYZ2=0,\"\",IFERROR(DATA!LYZ2,\"\"))","v":""},{"$f":"IF(DATA!LZA2=0,\"\",IFERROR(DATA!LZA2,\"\"))","v":""},{"$f":"IF(DATA!LZB2=0,\"\",IFERROR(DATA!LZB2,\"\"))","v":""},{"$f":"IF(DATA!LZC2=0,\"\",IFERROR(DATA!LZC2,\"\"))","v":""},{"$f":"IF(DATA!LZD2=0,\"\",IFERROR(DATA!LZD2,\"\"))","v":""},{"$f":"IF(DATA!LZE2=0,\"\",IFERROR(DATA!LZE2,\"\"))","v":""},{"$f":"IF(DATA!LZF2=0,\"\",IFERROR(DATA!LZF2,\"\"))","v":""},{"$f":"IF(DATA!LZG2=0,\"\",IFERROR(DATA!LZG2,\"\"))","v":""},{"$f":"IF(DATA!LZH2=0,\"\",IFERROR(DATA!LZH2,\"\"))","v":""},{"$f":"IF(DATA!LZI2=0,\"\",IFERROR(DATA!LZI2,\"\"))","v":""},{"$f":"IF(DATA!LZJ2=0,\"\",IFERROR(DATA!LZJ2,\"\"))","v":""},{"$f":"IF(DATA!LZK2=0,\"\",IFERROR(DATA!LZK2,\"\"))","v":""},{"$f":"IF(DATA!LZL2=0,\"\",IFERROR(DATA!LZL2,\"\"))","v":""},{"$f":"IF(DATA!LZM2=0,\"\",IFERROR(DATA!LZM2,\"\"))","v":""},{"$f":"IF(DATA!LZN2=0,\"\",IFERROR(DATA!LZN2,\"\"))","v":""},{"$f":"IF(DATA!LZO2=0,\"\",IFERROR(DATA!LZO2,\"\"))","v":""},{"$f":"IF(DATA!LZP2=0,\"\",IFERROR(DATA!LZP2,\"\"))","v":""},{"$f":"IF(DATA!LZQ2=0,\"\",IFERROR(DATA!LZQ2,\"\"))","v":""},{"$f":"IF(DATA!LZR2=0,\"\",IFERROR(DATA!LZR2,\"\"))","v":""},{"$f":"IF(DATA!LZS2=0,\"\",IFERROR(DATA!LZS2,\"\"))","v":""},{"$f":"IF(DATA!LZT2=0,\"\",IFERROR(DATA!LZT2,\"\"))","v":""},{"$f":"IF(DATA!LZU2=0,\"\",IFERROR(DATA!LZU2,\"\"))","v":""},{"$f":"IF(DATA!LZV2=0,\"\",IFERROR(DATA!LZV2,\"\"))","v":""},{"$f":"IF(DATA!LZW2=0,\"\",IFERROR(DATA!LZW2,\"\"))","v":""},{"$f":"IF(DATA!LZX2=0,\"\",IFERROR(DATA!LZX2,\"\"))","v":""},{"$f":"IF(DATA!LZY2=0,\"\",IFERROR(DATA!LZY2,\"\"))","v":""},{"$f":"IF(DATA!LZZ2=0,\"\",IFERROR(DATA!LZZ2,\"\"))","v":""},{"$f":"IF(DATA!MAA2=0,\"\",IFERROR(DATA!MAA2,\"\"))","v":""},{"$f":"IF(DATA!MAB2=0,\"\",IFERROR(DATA!MAB2,\"\"))","v":""},{"$f":"IF(DATA!MAC2=0,\"\",IFERROR(DATA!MAC2,\"\"))","v":""},{"$f":"IF(DATA!MAD2=0,\"\",IFERROR(DATA!MAD2,\"\"))","v":""},{"$f":"IF(DATA!MAE2=0,\"\",IFERROR(DATA!MAE2,\"\"))","v":""},{"$f":"IF(DATA!MAF2=0,\"\",IFERROR(DATA!MAF2,\"\"))","v":""},{"$f":"IF(DATA!MAG2=0,\"\",IFERROR(DATA!MAG2,\"\"))","v":""},{"$f":"IF(DATA!MAH2=0,\"\",IFERROR(DATA!MAH2,\"\"))","v":""},{"$f":"IF(DATA!MAI2=0,\"\",IFERROR(DATA!MAI2,\"\"))","v":""},{"$f":"IF(DATA!MAJ2=0,\"\",IFERROR(DATA!MAJ2,\"\"))","v":""},{"$f":"IF(DATA!MAK2=0,\"\",IFERROR(DATA!MAK2,\"\"))","v":""},{"$f":"IF(DATA!MAL2=0,\"\",IFERROR(DATA!MAL2,\"\"))","v":""},{"$f":"IF(DATA!MAM2=0,\"\",IFERROR(DATA!MAM2,\"\"))","v":""},{"$f":"IF(DATA!MAN2=0,\"\",IFERROR(DATA!MAN2,\"\"))","v":""},{"$f":"IF(DATA!MAO2=0,\"\",IFERROR(DATA!MAO2,\"\"))","v":""},{"$f":"IF(DATA!MAP2=0,\"\",IFERROR(DATA!MAP2,\"\"))","v":""},{"$f":"IF(DATA!MAQ2=0,\"\",IFERROR(DATA!MAQ2,\"\"))","v":""},{"$f":"IF(DATA!MAR2=0,\"\",IFERROR(DATA!MAR2,\"\"))","v":""},{"$f":"IF(DATA!MAS2=0,\"\",IFERROR(DATA!MAS2,\"\"))","v":""},{"$f":"IF(DATA!MAT2=0,\"\",IFERROR(DATA!MAT2,\"\"))","v":""},{"$f":"IF(DATA!MAU2=0,\"\",IFERROR(DATA!MAU2,\"\"))","v":""},{"$f":"IF(DATA!MAV2=0,\"\",IFERROR(DATA!MAV2,\"\"))","v":""},{"$f":"IF(DATA!MAW2=0,\"\",IFERROR(DATA!MAW2,\"\"))","v":""},{"$f":"IF(DATA!MAX2=0,\"\",IFERROR(DATA!MAX2,\"\"))","v":""},{"$f":"IF(DATA!MAY2=0,\"\",IFERROR(DATA!MAY2,\"\"))","v":""},{"$f":"IF(DATA!MAZ2=0,\"\",IFERROR(DATA!MAZ2,\"\"))","v":""},{"$f":"IF(DATA!MBA2=0,\"\",IFERROR(DATA!MBA2,\"\"))","v":""},{"$f":"IF(DATA!MBB2=0,\"\",IFERROR(DATA!MBB2,\"\"))","v":""},{"$f":"IF(DATA!MBC2=0,\"\",IFERROR(DATA!MBC2,\"\"))","v":""},{"$f":"IF(DATA!MBD2=0,\"\",IFERROR(DATA!MBD2,\"\"))","v":""},{"$f":"IF(DATA!MBE2=0,\"\",IFERROR(DATA!MBE2,\"\"))","v":""},{"$f":"IF(DATA!MBF2=0,\"\",IFERROR(DATA!MBF2,\"\"))","v":""},{"$f":"IF(DATA!MBG2=0,\"\",IFERROR(DATA!MBG2,\"\"))","v":""},{"$f":"IF(DATA!MBH2=0,\"\",IFERROR(DATA!MBH2,\"\"))","v":""},{"$f":"IF(DATA!MBI2=0,\"\",IFERROR(DATA!MBI2,\"\"))","v":""},{"$f":"IF(DATA!MBJ2=0,\"\",IFERROR(DATA!MBJ2,\"\"))","v":""},{"$f":"IF(DATA!MBK2=0,\"\",IFERROR(DATA!MBK2,\"\"))","v":""},{"$f":"IF(DATA!MBL2=0,\"\",IFERROR(DATA!MBL2,\"\"))","v":""},{"$f":"IF(DATA!MBM2=0,\"\",IFERROR(DATA!MBM2,\"\"))","v":""},{"$f":"IF(DATA!MBN2=0,\"\",IFERROR(DATA!MBN2,\"\"))","v":""},{"$f":"IF(DATA!MBO2=0,\"\",IFERROR(DATA!MBO2,\"\"))","v":""},{"$f":"IF(DATA!MBP2=0,\"\",IFERROR(DATA!MBP2,\"\"))","v":""},{"$f":"IF(DATA!MBQ2=0,\"\",IFERROR(DATA!MBQ2,\"\"))","v":""},{"$f":"IF(DATA!MBR2=0,\"\",IFERROR(DATA!MBR2,\"\"))","v":""},{"$f":"IF(DATA!MBS2=0,\"\",IFERROR(DATA!MBS2,\"\"))","v":""},{"$f":"IF(DATA!MBT2=0,\"\",IFERROR(DATA!MBT2,\"\"))","v":""},{"$f":"IF(DATA!MBU2=0,\"\",IFERROR(DATA!MBU2,\"\"))","v":""},{"$f":"IF(DATA!MBV2=0,\"\",IFERROR(DATA!MBV2,\"\"))","v":""},{"$f":"IF(DATA!MBW2=0,\"\",IFERROR(DATA!MBW2,\"\"))","v":""},{"$f":"IF(DATA!MBX2=0,\"\",IFERROR(DATA!MBX2,\"\"))","v":""},{"$f":"IF(DATA!MBY2=0,\"\",IFERROR(DATA!MBY2,\"\"))","v":""},{"$f":"IF(DATA!MBZ2=0,\"\",IFERROR(DATA!MBZ2,\"\"))","v":""},{"$f":"IF(DATA!MCA2=0,\"\",IFERROR(DATA!MCA2,\"\"))","v":""},{"$f":"IF(DATA!MCB2=0,\"\",IFERROR(DATA!MCB2,\"\"))","v":""},{"$f":"IF(DATA!MCC2=0,\"\",IFERROR(DATA!MCC2,\"\"))","v":""},{"$f":"IF(DATA!MCD2=0,\"\",IFERROR(DATA!MCD2,\"\"))","v":""},{"$f":"IF(DATA!MCE2=0,\"\",IFERROR(DATA!MCE2,\"\"))","v":""},{"$f":"IF(DATA!MCF2=0,\"\",IFERROR(DATA!MCF2,\"\"))","v":""},{"$f":"IF(DATA!MCG2=0,\"\",IFERROR(DATA!MCG2,\"\"))","v":""},{"$f":"IF(DATA!MCH2=0,\"\",IFERROR(DATA!MCH2,\"\"))","v":""},{"$f":"IF(DATA!MCI2=0,\"\",IFERROR(DATA!MCI2,\"\"))","v":""},{"$f":"IF(DATA!MCJ2=0,\"\",IFERROR(DATA!MCJ2,\"\"))","v":""},{"$f":"IF(DATA!MCK2=0,\"\",IFERROR(DATA!MCK2,\"\"))","v":""},{"$f":"IF(DATA!MCL2=0,\"\",IFERROR(DATA!MCL2,\"\"))","v":""},{"$f":"IF(DATA!MCM2=0,\"\",IFERROR(DATA!MCM2,\"\"))","v":""},{"$f":"IF(DATA!MCN2=0,\"\",IFERROR(DATA!MCN2,\"\"))","v":""},{"$f":"IF(DATA!MCO2=0,\"\",IFERROR(DATA!MCO2,\"\"))","v":""},{"$f":"IF(DATA!MCP2=0,\"\",IFERROR(DATA!MCP2,\"\"))","v":""},{"$f":"IF(DATA!MCQ2=0,\"\",IFERROR(DATA!MCQ2,\"\"))","v":""},{"$f":"IF(DATA!MCR2=0,\"\",IFERROR(DATA!MCR2,\"\"))","v":""},{"$f":"IF(DATA!MCS2=0,\"\",IFERROR(DATA!MCS2,\"\"))","v":""},{"$f":"IF(DATA!MCT2=0,\"\",IFERROR(DATA!MCT2,\"\"))","v":""},{"$f":"IF(DATA!MCU2=0,\"\",IFERROR(DATA!MCU2,\"\"))","v":""},{"$f":"IF(DATA!MCV2=0,\"\",IFERROR(DATA!MCV2,\"\"))","v":""},{"$f":"IF(DATA!MCW2=0,\"\",IFERROR(DATA!MCW2,\"\"))","v":""},{"$f":"IF(DATA!MCX2=0,\"\",IFERROR(DATA!MCX2,\"\"))","v":""},{"$f":"IF(DATA!MCY2=0,\"\",IFERROR(DATA!MCY2,\"\"))","v":""},{"$f":"IF(DATA!MCZ2=0,\"\",IFERROR(DATA!MCZ2,\"\"))","v":""},{"$f":"IF(DATA!MDA2=0,\"\",IFERROR(DATA!MDA2,\"\"))","v":""},{"$f":"IF(DATA!MDB2=0,\"\",IFERROR(DATA!MDB2,\"\"))","v":""},{"$f":"IF(DATA!MDC2=0,\"\",IFERROR(DATA!MDC2,\"\"))","v":""},{"$f":"IF(DATA!MDD2=0,\"\",IFERROR(DATA!MDD2,\"\"))","v":""},{"$f":"IF(DATA!MDE2=0,\"\",IFERROR(DATA!MDE2,\"\"))","v":""},{"$f":"IF(DATA!MDF2=0,\"\",IFERROR(DATA!MDF2,\"\"))","v":""},{"$f":"IF(DATA!MDG2=0,\"\",IFERROR(DATA!MDG2,\"\"))","v":""},{"$f":"IF(DATA!MDH2=0,\"\",IFERROR(DATA!MDH2,\"\"))","v":""},{"$f":"IF(DATA!MDI2=0,\"\",IFERROR(DATA!MDI2,\"\"))","v":""},{"$f":"IF(DATA!MDJ2=0,\"\",IFERROR(DATA!MDJ2,\"\"))","v":""},{"$f":"IF(DATA!MDK2=0,\"\",IFERROR(DATA!MDK2,\"\"))","v":""},{"$f":"IF(DATA!MDL2=0,\"\",IFERROR(DATA!MDL2,\"\"))","v":""},{"$f":"IF(DATA!MDM2=0,\"\",IFERROR(DATA!MDM2,\"\"))","v":""},{"$f":"IF(DATA!MDN2=0,\"\",IFERROR(DATA!MDN2,\"\"))","v":""},{"$f":"IF(DATA!MDO2=0,\"\",IFERROR(DATA!MDO2,\"\"))","v":""},{"$f":"IF(DATA!MDP2=0,\"\",IFERROR(DATA!MDP2,\"\"))","v":""},{"$f":"IF(DATA!MDQ2=0,\"\",IFERROR(DATA!MDQ2,\"\"))","v":""},{"$f":"IF(DATA!MDR2=0,\"\",IFERROR(DATA!MDR2,\"\"))","v":""},{"$f":"IF(DATA!MDS2=0,\"\",IFERROR(DATA!MDS2,\"\"))","v":""},{"$f":"IF(DATA!MDT2=0,\"\",IFERROR(DATA!MDT2,\"\"))","v":""},{"$f":"IF(DATA!MDU2=0,\"\",IFERROR(DATA!MDU2,\"\"))","v":""},{"$f":"IF(DATA!MDV2=0,\"\",IFERROR(DATA!MDV2,\"\"))","v":""},{"$f":"IF(DATA!MDW2=0,\"\",IFERROR(DATA!MDW2,\"\"))","v":""},{"$f":"IF(DATA!MDX2=0,\"\",IFERROR(DATA!MDX2,\"\"))","v":""},{"$f":"IF(DATA!MDY2=0,\"\",IFERROR(DATA!MDY2,\"\"))","v":""},{"$f":"IF(DATA!MDZ2=0,\"\",IFERROR(DATA!MDZ2,\"\"))","v":""},{"$f":"IF(DATA!MEA2=0,\"\",IFERROR(DATA!MEA2,\"\"))","v":""},{"$f":"IF(DATA!MEB2=0,\"\",IFERROR(DATA!MEB2,\"\"))","v":""},{"$f":"IF(DATA!MEC2=0,\"\",IFERROR(DATA!MEC2,\"\"))","v":""},{"$f":"IF(DATA!MED2=0,\"\",IFERROR(DATA!MED2,\"\"))","v":""},{"$f":"IF(DATA!MEE2=0,\"\",IFERROR(DATA!MEE2,\"\"))","v":""},{"$f":"IF(DATA!MEF2=0,\"\",IFERROR(DATA!MEF2,\"\"))","v":""},{"$f":"IF(DATA!MEG2=0,\"\",IFERROR(DATA!MEG2,\"\"))","v":""},{"$f":"IF(DATA!MEH2=0,\"\",IFERROR(DATA!MEH2,\"\"))","v":""},{"$f":"IF(DATA!MEI2=0,\"\",IFERROR(DATA!MEI2,\"\"))","v":""},{"$f":"IF(DATA!MEJ2=0,\"\",IFERROR(DATA!MEJ2,\"\"))","v":""},{"$f":"IF(DATA!MEK2=0,\"\",IFERROR(DATA!MEK2,\"\"))","v":""},{"$f":"IF(DATA!MEL2=0,\"\",IFERROR(DATA!MEL2,\"\"))","v":""},{"$f":"IF(DATA!MEM2=0,\"\",IFERROR(DATA!MEM2,\"\"))","v":""},{"$f":"IF(DATA!MEN2=0,\"\",IFERROR(DATA!MEN2,\"\"))","v":""},{"$f":"IF(DATA!MEO2=0,\"\",IFERROR(DATA!MEO2,\"\"))","v":""},{"$f":"IF(DATA!MEP2=0,\"\",IFERROR(DATA!MEP2,\"\"))","v":""},{"$f":"IF(DATA!MEQ2=0,\"\",IFERROR(DATA!MEQ2,\"\"))","v":""},{"$f":"IF(DATA!MER2=0,\"\",IFERROR(DATA!MER2,\"\"))","v":""},{"$f":"IF(DATA!MES2=0,\"\",IFERROR(DATA!MES2,\"\"))","v":""},{"$f":"IF(DATA!MET2=0,\"\",IFERROR(DATA!MET2,\"\"))","v":""},{"$f":"IF(DATA!MEU2=0,\"\",IFERROR(DATA!MEU2,\"\"))","v":""},{"$f":"IF(DATA!MEV2=0,\"\",IFERROR(DATA!MEV2,\"\"))","v":""},{"$f":"IF(DATA!MEW2=0,\"\",IFERROR(DATA!MEW2,\"\"))","v":""},{"$f":"IF(DATA!MEX2=0,\"\",IFERROR(DATA!MEX2,\"\"))","v":""},{"$f":"IF(DATA!MEY2=0,\"\",IFERROR(DATA!MEY2,\"\"))","v":""},{"$f":"IF(DATA!MEZ2=0,\"\",IFERROR(DATA!MEZ2,\"\"))","v":""},{"$f":"IF(DATA!MFA2=0,\"\",IFERROR(DATA!MFA2,\"\"))","v":""},{"$f":"IF(DATA!MFB2=0,\"\",IFERROR(DATA!MFB2,\"\"))","v":""},{"$f":"IF(DATA!MFC2=0,\"\",IFERROR(DATA!MFC2,\"\"))","v":""},{"$f":"IF(DATA!MFD2=0,\"\",IFERROR(DATA!MFD2,\"\"))","v":""},{"$f":"IF(DATA!MFE2=0,\"\",IFERROR(DATA!MFE2,\"\"))","v":""},{"$f":"IF(DATA!MFF2=0,\"\",IFERROR(DATA!MFF2,\"\"))","v":""},{"$f":"IF(DATA!MFG2=0,\"\",IFERROR(DATA!MFG2,\"\"))","v":""},{"$f":"IF(DATA!MFH2=0,\"\",IFERROR(DATA!MFH2,\"\"))","v":""},{"$f":"IF(DATA!MFI2=0,\"\",IFERROR(DATA!MFI2,\"\"))","v":""},{"$f":"IF(DATA!MFJ2=0,\"\",IFERROR(DATA!MFJ2,\"\"))","v":""},{"$f":"IF(DATA!MFK2=0,\"\",IFERROR(DATA!MFK2,\"\"))","v":""},{"$f":"IF(DATA!MFL2=0,\"\",IFERROR(DATA!MFL2,\"\"))","v":""},{"$f":"IF(DATA!MFM2=0,\"\",IFERROR(DATA!MFM2,\"\"))","v":""},{"$f":"IF(DATA!MFN2=0,\"\",IFERROR(DATA!MFN2,\"\"))","v":""},{"$f":"IF(DATA!MFO2=0,\"\",IFERROR(DATA!MFO2,\"\"))","v":""},{"$f":"IF(DATA!MFP2=0,\"\",IFERROR(DATA!MFP2,\"\"))","v":""},{"$f":"IF(DATA!MFQ2=0,\"\",IFERROR(DATA!MFQ2,\"\"))","v":""},{"$f":"IF(DATA!MFR2=0,\"\",IFERROR(DATA!MFR2,\"\"))","v":""},{"$f":"IF(DATA!MFS2=0,\"\",IFERROR(DATA!MFS2,\"\"))","v":""},{"$f":"IF(DATA!MFT2=0,\"\",IFERROR(DATA!MFT2,\"\"))","v":""},{"$f":"IF(DATA!MFU2=0,\"\",IFERROR(DATA!MFU2,\"\"))","v":""},{"$f":"IF(DATA!MFV2=0,\"\",IFERROR(DATA!MFV2,\"\"))","v":""},{"$f":"IF(DATA!MFW2=0,\"\",IFERROR(DATA!MFW2,\"\"))","v":""},{"$f":"IF(DATA!MFX2=0,\"\",IFERROR(DATA!MFX2,\"\"))","v":""},{"$f":"IF(DATA!MFY2=0,\"\",IFERROR(DATA!MFY2,\"\"))","v":""},{"$f":"IF(DATA!MFZ2=0,\"\",IFERROR(DATA!MFZ2,\"\"))","v":""},{"$f":"IF(DATA!MGA2=0,\"\",IFERROR(DATA!MGA2,\"\"))","v":""},{"$f":"IF(DATA!MGB2=0,\"\",IFERROR(DATA!MGB2,\"\"))","v":""},{"$f":"IF(DATA!MGC2=0,\"\",IFERROR(DATA!MGC2,\"\"))","v":""},{"$f":"IF(DATA!MGD2=0,\"\",IFERROR(DATA!MGD2,\"\"))","v":""},{"$f":"IF(DATA!MGE2=0,\"\",IFERROR(DATA!MGE2,\"\"))","v":""},{"$f":"IF(DATA!MGF2=0,\"\",IFERROR(DATA!MGF2,\"\"))","v":""},{"$f":"IF(DATA!MGG2=0,\"\",IFERROR(DATA!MGG2,\"\"))","v":""},{"$f":"IF(DATA!MGH2=0,\"\",IFERROR(DATA!MGH2,\"\"))","v":""},{"$f":"IF(DATA!MGI2=0,\"\",IFERROR(DATA!MGI2,\"\"))","v":""},{"$f":"IF(DATA!MGJ2=0,\"\",IFERROR(DATA!MGJ2,\"\"))","v":""},{"$f":"IF(DATA!MGK2=0,\"\",IFERROR(DATA!MGK2,\"\"))","v":""},{"$f":"IF(DATA!MGL2=0,\"\",IFERROR(DATA!MGL2,\"\"))","v":""},{"$f":"IF(DATA!MGM2=0,\"\",IFERROR(DATA!MGM2,\"\"))","v":""},{"$f":"IF(DATA!MGN2=0,\"\",IFERROR(DATA!MGN2,\"\"))","v":""},{"$f":"IF(DATA!MGO2=0,\"\",IFERROR(DATA!MGO2,\"\"))","v":""},{"$f":"IF(DATA!MGP2=0,\"\",IFERROR(DATA!MGP2,\"\"))","v":""},{"$f":"IF(DATA!MGQ2=0,\"\",IFERROR(DATA!MGQ2,\"\"))","v":""},{"$f":"IF(DATA!MGR2=0,\"\",IFERROR(DATA!MGR2,\"\"))","v":""},{"$f":"IF(DATA!MGS2=0,\"\",IFERROR(DATA!MGS2,\"\"))","v":""},{"$f":"IF(DATA!MGT2=0,\"\",IFERROR(DATA!MGT2,\"\"))","v":""},{"$f":"IF(DATA!MGU2=0,\"\",IFERROR(DATA!MGU2,\"\"))","v":""},{"$f":"IF(DATA!MGV2=0,\"\",IFERROR(DATA!MGV2,\"\"))","v":""},{"$f":"IF(DATA!MGW2=0,\"\",IFERROR(DATA!MGW2,\"\"))","v":""},{"$f":"IF(DATA!MGX2=0,\"\",IFERROR(DATA!MGX2,\"\"))","v":""},{"$f":"IF(DATA!MGY2=0,\"\",IFERROR(DATA!MGY2,\"\"))","v":""},{"$f":"IF(DATA!MGZ2=0,\"\",IFERROR(DATA!MGZ2,\"\"))","v":""},{"$f":"IF(DATA!MHA2=0,\"\",IFERROR(DATA!MHA2,\"\"))","v":""},{"$f":"IF(DATA!MHB2=0,\"\",IFERROR(DATA!MHB2,\"\"))","v":""},{"$f":"IF(DATA!MHC2=0,\"\",IFERROR(DATA!MHC2,\"\"))","v":""},{"$f":"IF(DATA!MHD2=0,\"\",IFERROR(DATA!MHD2,\"\"))","v":""},{"$f":"IF(DATA!MHE2=0,\"\",IFERROR(DATA!MHE2,\"\"))","v":""},{"$f":"IF(DATA!MHF2=0,\"\",IFERROR(DATA!MHF2,\"\"))","v":""},{"$f":"IF(DATA!MHG2=0,\"\",IFERROR(DATA!MHG2,\"\"))","v":""},{"$f":"IF(DATA!MHH2=0,\"\",IFERROR(DATA!MHH2,\"\"))","v":""},{"$f":"IF(DATA!MHI2=0,\"\",IFERROR(DATA!MHI2,\"\"))","v":""},{"$f":"IF(DATA!MHJ2=0,\"\",IFERROR(DATA!MHJ2,\"\"))","v":""},{"$f":"IF(DATA!MHK2=0,\"\",IFERROR(DATA!MHK2,\"\"))","v":""},{"$f":"IF(DATA!MHL2=0,\"\",IFERROR(DATA!MHL2,\"\"))","v":""},{"$f":"IF(DATA!MHM2=0,\"\",IFERROR(DATA!MHM2,\"\"))","v":""},{"$f":"IF(DATA!MHN2=0,\"\",IFERROR(DATA!MHN2,\"\"))","v":""},{"$f":"IF(DATA!MHO2=0,\"\",IFERROR(DATA!MHO2,\"\"))","v":""},{"$f":"IF(DATA!MHP2=0,\"\",IFERROR(DATA!MHP2,\"\"))","v":""},{"$f":"IF(DATA!MHQ2=0,\"\",IFERROR(DATA!MHQ2,\"\"))","v":""},{"$f":"IF(DATA!MHR2=0,\"\",IFERROR(DATA!MHR2,\"\"))","v":""},{"$f":"IF(DATA!MHS2=0,\"\",IFERROR(DATA!MHS2,\"\"))","v":""},{"$f":"IF(DATA!MHT2=0,\"\",IFERROR(DATA!MHT2,\"\"))","v":""},{"$f":"IF(DATA!MHU2=0,\"\",IFERROR(DATA!MHU2,\"\"))","v":""},{"$f":"IF(DATA!MHV2=0,\"\",IFERROR(DATA!MHV2,\"\"))","v":""},{"$f":"IF(DATA!MHW2=0,\"\",IFERROR(DATA!MHW2,\"\"))","v":""},{"$f":"IF(DATA!MHX2=0,\"\",IFERROR(DATA!MHX2,\"\"))","v":""},{"$f":"IF(DATA!MHY2=0,\"\",IFERROR(DATA!MHY2,\"\"))","v":""},{"$f":"IF(DATA!MHZ2=0,\"\",IFERROR(DATA!MHZ2,\"\"))","v":""},{"$f":"IF(DATA!MIA2=0,\"\",IFERROR(DATA!MIA2,\"\"))","v":""},{"$f":"IF(DATA!MIB2=0,\"\",IFERROR(DATA!MIB2,\"\"))","v":""},{"$f":"IF(DATA!MIC2=0,\"\",IFERROR(DATA!MIC2,\"\"))","v":""},{"$f":"IF(DATA!MID2=0,\"\",IFERROR(DATA!MID2,\"\"))","v":""},{"$f":"IF(DATA!MIE2=0,\"\",IFERROR(DATA!MIE2,\"\"))","v":""},{"$f":"IF(DATA!MIF2=0,\"\",IFERROR(DATA!MIF2,\"\"))","v":""},{"$f":"IF(DATA!MIG2=0,\"\",IFERROR(DATA!MIG2,\"\"))","v":""},{"$f":"IF(DATA!MIH2=0,\"\",IFERROR(DATA!MIH2,\"\"))","v":""},{"$f":"IF(DATA!MII2=0,\"\",IFERROR(DATA!MII2,\"\"))","v":""},{"$f":"IF(DATA!MIJ2=0,\"\",IFERROR(DATA!MIJ2,\"\"))","v":""},{"$f":"IF(DATA!MIK2=0,\"\",IFERROR(DATA!MIK2,\"\"))","v":""},{"$f":"IF(DATA!MIL2=0,\"\",IFERROR(DATA!MIL2,\"\"))","v":""},{"$f":"IF(DATA!MIM2=0,\"\",IFERROR(DATA!MIM2,\"\"))","v":""},{"$f":"IF(DATA!MIN2=0,\"\",IFERROR(DATA!MIN2,\"\"))","v":""},{"$f":"IF(DATA!MIO2=0,\"\",IFERROR(DATA!MIO2,\"\"))","v":""},{"$f":"IF(DATA!MIP2=0,\"\",IFERROR(DATA!MIP2,\"\"))","v":""},{"$f":"IF(DATA!MIQ2=0,\"\",IFERROR(DATA!MIQ2,\"\"))","v":""},{"$f":"IF(DATA!MIR2=0,\"\",IFERROR(DATA!MIR2,\"\"))","v":""},{"$f":"IF(DATA!MIS2=0,\"\",IFERROR(DATA!MIS2,\"\"))","v":""},{"$f":"IF(DATA!MIT2=0,\"\",IFERROR(DATA!MIT2,\"\"))","v":""},{"$f":"IF(DATA!MIU2=0,\"\",IFERROR(DATA!MIU2,\"\"))","v":""},{"$f":"IF(DATA!MIV2=0,\"\",IFERROR(DATA!MIV2,\"\"))","v":""},{"$f":"IF(DATA!MIW2=0,\"\",IFERROR(DATA!MIW2,\"\"))","v":""},{"$f":"IF(DATA!MIX2=0,\"\",IFERROR(DATA!MIX2,\"\"))","v":""},{"$f":"IF(DATA!MIY2=0,\"\",IFERROR(DATA!MIY2,\"\"))","v":""},{"$f":"IF(DATA!MIZ2=0,\"\",IFERROR(DATA!MIZ2,\"\"))","v":""},{"$f":"IF(DATA!MJA2=0,\"\",IFERROR(DATA!MJA2,\"\"))","v":""},{"$f":"IF(DATA!MJB2=0,\"\",IFERROR(DATA!MJB2,\"\"))","v":""},{"$f":"IF(DATA!MJC2=0,\"\",IFERROR(DATA!MJC2,\"\"))","v":""},{"$f":"IF(DATA!MJD2=0,\"\",IFERROR(DATA!MJD2,\"\"))","v":""},{"$f":"IF(DATA!MJE2=0,\"\",IFERROR(DATA!MJE2,\"\"))","v":""},{"$f":"IF(DATA!MJF2=0,\"\",IFERROR(DATA!MJF2,\"\"))","v":""},{"$f":"IF(DATA!MJG2=0,\"\",IFERROR(DATA!MJG2,\"\"))","v":""},{"$f":"IF(DATA!MJH2=0,\"\",IFERROR(DATA!MJH2,\"\"))","v":""},{"$f":"IF(DATA!MJI2=0,\"\",IFERROR(DATA!MJI2,\"\"))","v":""},{"$f":"IF(DATA!MJJ2=0,\"\",IFERROR(DATA!MJJ2,\"\"))","v":""},{"$f":"IF(DATA!MJK2=0,\"\",IFERROR(DATA!MJK2,\"\"))","v":""},{"$f":"IF(DATA!MJL2=0,\"\",IFERROR(DATA!MJL2,\"\"))","v":""},{"$f":"IF(DATA!MJM2=0,\"\",IFERROR(DATA!MJM2,\"\"))","v":""},{"$f":"IF(DATA!MJN2=0,\"\",IFERROR(DATA!MJN2,\"\"))","v":""},{"$f":"IF(DATA!MJO2=0,\"\",IFERROR(DATA!MJO2,\"\"))","v":""},{"$f":"IF(DATA!MJP2=0,\"\",IFERROR(DATA!MJP2,\"\"))","v":""},{"$f":"IF(DATA!MJQ2=0,\"\",IFERROR(DATA!MJQ2,\"\"))","v":""},{"$f":"IF(DATA!MJR2=0,\"\",IFERROR(DATA!MJR2,\"\"))","v":""},{"$f":"IF(DATA!MJS2=0,\"\",IFERROR(DATA!MJS2,\"\"))","v":""},{"$f":"IF(DATA!MJT2=0,\"\",IFERROR(DATA!MJT2,\"\"))","v":""},{"$f":"IF(DATA!MJU2=0,\"\",IFERROR(DATA!MJU2,\"\"))","v":""},{"$f":"IF(DATA!MJV2=0,\"\",IFERROR(DATA!MJV2,\"\"))","v":""},{"$f":"IF(DATA!MJW2=0,\"\",IFERROR(DATA!MJW2,\"\"))","v":""},{"$f":"IF(DATA!MJX2=0,\"\",IFERROR(DATA!MJX2,\"\"))","v":""},{"$f":"IF(DATA!MJY2=0,\"\",IFERROR(DATA!MJY2,\"\"))","v":""},{"$f":"IF(DATA!MJZ2=0,\"\",IFERROR(DATA!MJZ2,\"\"))","v":""},{"$f":"IF(DATA!MKA2=0,\"\",IFERROR(DATA!MKA2,\"\"))","v":""},{"$f":"IF(DATA!MKB2=0,\"\",IFERROR(DATA!MKB2,\"\"))","v":""},{"$f":"IF(DATA!MKC2=0,\"\",IFERROR(DATA!MKC2,\"\"))","v":""},{"$f":"IF(DATA!MKD2=0,\"\",IFERROR(DATA!MKD2,\"\"))","v":""},{"$f":"IF(DATA!MKE2=0,\"\",IFERROR(DATA!MKE2,\"\"))","v":""},{"$f":"IF(DATA!MKF2=0,\"\",IFERROR(DATA!MKF2,\"\"))","v":""},{"$f":"IF(DATA!MKG2=0,\"\",IFERROR(DATA!MKG2,\"\"))","v":""},{"$f":"IF(DATA!MKH2=0,\"\",IFERROR(DATA!MKH2,\"\"))","v":""},{"$f":"IF(DATA!MKI2=0,\"\",IFERROR(DATA!MKI2,\"\"))","v":""},{"$f":"IF(DATA!MKJ2=0,\"\",IFERROR(DATA!MKJ2,\"\"))","v":""},{"$f":"IF(DATA!MKK2=0,\"\",IFERROR(DATA!MKK2,\"\"))","v":""},{"$f":"IF(DATA!MKL2=0,\"\",IFERROR(DATA!MKL2,\"\"))","v":""},{"$f":"IF(DATA!MKM2=0,\"\",IFERROR(DATA!MKM2,\"\"))","v":""},{"$f":"IF(DATA!MKN2=0,\"\",IFERROR(DATA!MKN2,\"\"))","v":""},{"$f":"IF(DATA!MKO2=0,\"\",IFERROR(DATA!MKO2,\"\"))","v":""},{"$f":"IF(DATA!MKP2=0,\"\",IFERROR(DATA!MKP2,\"\"))","v":""},{"$f":"IF(DATA!MKQ2=0,\"\",IFERROR(DATA!MKQ2,\"\"))","v":""},{"$f":"IF(DATA!MKR2=0,\"\",IFERROR(DATA!MKR2,\"\"))","v":""},{"$f":"IF(DATA!MKS2=0,\"\",IFERROR(DATA!MKS2,\"\"))","v":""},{"$f":"IF(DATA!MKT2=0,\"\",IFERROR(DATA!MKT2,\"\"))","v":""},{"$f":"IF(DATA!MKU2=0,\"\",IFERROR(DATA!MKU2,\"\"))","v":""},{"$f":"IF(DATA!MKV2=0,\"\",IFERROR(DATA!MKV2,\"\"))","v":""},{"$f":"IF(DATA!MKW2=0,\"\",IFERROR(DATA!MKW2,\"\"))","v":""},{"$f":"IF(DATA!MKX2=0,\"\",IFERROR(DATA!MKX2,\"\"))","v":""},{"$f":"IF(DATA!MKY2=0,\"\",IFERROR(DATA!MKY2,\"\"))","v":""},{"$f":"IF(DATA!MKZ2=0,\"\",IFERROR(DATA!MKZ2,\"\"))","v":""},{"$f":"IF(DATA!MLA2=0,\"\",IFERROR(DATA!MLA2,\"\"))","v":""},{"$f":"IF(DATA!MLB2=0,\"\",IFERROR(DATA!MLB2,\"\"))","v":""},{"$f":"IF(DATA!MLC2=0,\"\",IFERROR(DATA!MLC2,\"\"))","v":""},{"$f":"IF(DATA!MLD2=0,\"\",IFERROR(DATA!MLD2,\"\"))","v":""},{"$f":"IF(DATA!MLE2=0,\"\",IFERROR(DATA!MLE2,\"\"))","v":""},{"$f":"IF(DATA!MLF2=0,\"\",IFERROR(DATA!MLF2,\"\"))","v":""},{"$f":"IF(DATA!MLG2=0,\"\",IFERROR(DATA!MLG2,\"\"))","v":""},{"$f":"IF(DATA!MLH2=0,\"\",IFERROR(DATA!MLH2,\"\"))","v":""},{"$f":"IF(DATA!MLI2=0,\"\",IFERROR(DATA!MLI2,\"\"))","v":""},{"$f":"IF(DATA!MLJ2=0,\"\",IFERROR(DATA!MLJ2,\"\"))","v":""},{"$f":"IF(DATA!MLK2=0,\"\",IFERROR(DATA!MLK2,\"\"))","v":""},{"$f":"IF(DATA!MLL2=0,\"\",IFERROR(DATA!MLL2,\"\"))","v":""},{"$f":"IF(DATA!MLM2=0,\"\",IFERROR(DATA!MLM2,\"\"))","v":""},{"$f":"IF(DATA!MLN2=0,\"\",IFERROR(DATA!MLN2,\"\"))","v":""},{"$f":"IF(DATA!MLO2=0,\"\",IFERROR(DATA!MLO2,\"\"))","v":""},{"$f":"IF(DATA!MLP2=0,\"\",IFERROR(DATA!MLP2,\"\"))","v":""},{"$f":"IF(DATA!MLQ2=0,\"\",IFERROR(DATA!MLQ2,\"\"))","v":""},{"$f":"IF(DATA!MLR2=0,\"\",IFERROR(DATA!MLR2,\"\"))","v":""},{"$f":"IF(DATA!MLS2=0,\"\",IFERROR(DATA!MLS2,\"\"))","v":""},{"$f":"IF(DATA!MLT2=0,\"\",IFERROR(DATA!MLT2,\"\"))","v":""},{"$f":"IF(DATA!MLU2=0,\"\",IFERROR(DATA!MLU2,\"\"))","v":""},{"$f":"IF(DATA!MLV2=0,\"\",IFERROR(DATA!MLV2,\"\"))","v":""},{"$f":"IF(DATA!MLW2=0,\"\",IFERROR(DATA!MLW2,\"\"))","v":""},{"$f":"IF(DATA!MLX2=0,\"\",IFERROR(DATA!MLX2,\"\"))","v":""},{"$f":"IF(DATA!MLY2=0,\"\",IFERROR(DATA!MLY2,\"\"))","v":""},{"$f":"IF(DATA!MLZ2=0,\"\",IFERROR(DATA!MLZ2,\"\"))","v":""},{"$f":"IF(DATA!MMA2=0,\"\",IFERROR(DATA!MMA2,\"\"))","v":""},{"$f":"IF(DATA!MMB2=0,\"\",IFERROR(DATA!MMB2,\"\"))","v":""},{"$f":"IF(DATA!MMC2=0,\"\",IFERROR(DATA!MMC2,\"\"))","v":""},{"$f":"IF(DATA!MMD2=0,\"\",IFERROR(DATA!MMD2,\"\"))","v":""},{"$f":"IF(DATA!MME2=0,\"\",IFERROR(DATA!MME2,\"\"))","v":""},{"$f":"IF(DATA!MMF2=0,\"\",IFERROR(DATA!MMF2,\"\"))","v":""},{"$f":"IF(DATA!MMG2=0,\"\",IFERROR(DATA!MMG2,\"\"))","v":""},{"$f":"IF(DATA!MMH2=0,\"\",IFERROR(DATA!MMH2,\"\"))","v":""},{"$f":"IF(DATA!MMI2=0,\"\",IFERROR(DATA!MMI2,\"\"))","v":""},{"$f":"IF(DATA!MMJ2=0,\"\",IFERROR(DATA!MMJ2,\"\"))","v":""},{"$f":"IF(DATA!MMK2=0,\"\",IFERROR(DATA!MMK2,\"\"))","v":""},{"$f":"IF(DATA!MML2=0,\"\",IFERROR(DATA!MML2,\"\"))","v":""},{"$f":"IF(DATA!MMM2=0,\"\",IFERROR(DATA!MMM2,\"\"))","v":""},{"$f":"IF(DATA!MMN2=0,\"\",IFERROR(DATA!MMN2,\"\"))","v":""},{"$f":"IF(DATA!MMO2=0,\"\",IFERROR(DATA!MMO2,\"\"))","v":""},{"$f":"IF(DATA!MMP2=0,\"\",IFERROR(DATA!MMP2,\"\"))","v":""},{"$f":"IF(DATA!MMQ2=0,\"\",IFERROR(DATA!MMQ2,\"\"))","v":""},{"$f":"IF(DATA!MMR2=0,\"\",IFERROR(DATA!MMR2,\"\"))","v":""},{"$f":"IF(DATA!MMS2=0,\"\",IFERROR(DATA!MMS2,\"\"))","v":""},{"$f":"IF(DATA!MMT2=0,\"\",IFERROR(DATA!MMT2,\"\"))","v":""},{"$f":"IF(DATA!MMU2=0,\"\",IFERROR(DATA!MMU2,\"\"))","v":""},{"$f":"IF(DATA!MMV2=0,\"\",IFERROR(DATA!MMV2,\"\"))","v":""},{"$f":"IF(DATA!MMW2=0,\"\",IFERROR(DATA!MMW2,\"\"))","v":""},{"$f":"IF(DATA!MMX2=0,\"\",IFERROR(DATA!MMX2,\"\"))","v":""},{"$f":"IF(DATA!MMY2=0,\"\",IFERROR(DATA!MMY2,\"\"))","v":""},{"$f":"IF(DATA!MMZ2=0,\"\",IFERROR(DATA!MMZ2,\"\"))","v":""},{"$f":"IF(DATA!MNA2=0,\"\",IFERROR(DATA!MNA2,\"\"))","v":""},{"$f":"IF(DATA!MNB2=0,\"\",IFERROR(DATA!MNB2,\"\"))","v":""},{"$f":"IF(DATA!MNC2=0,\"\",IFERROR(DATA!MNC2,\"\"))","v":""},{"$f":"IF(DATA!MND2=0,\"\",IFERROR(DATA!MND2,\"\"))","v":""},{"$f":"IF(DATA!MNE2=0,\"\",IFERROR(DATA!MNE2,\"\"))","v":""},{"$f":"IF(DATA!MNF2=0,\"\",IFERROR(DATA!MNF2,\"\"))","v":""},{"$f":"IF(DATA!MNG2=0,\"\",IFERROR(DATA!MNG2,\"\"))","v":""},{"$f":"IF(DATA!MNH2=0,\"\",IFERROR(DATA!MNH2,\"\"))","v":""},{"$f":"IF(DATA!MNI2=0,\"\",IFERROR(DATA!MNI2,\"\"))","v":""},{"$f":"IF(DATA!MNJ2=0,\"\",IFERROR(DATA!MNJ2,\"\"))","v":""},{"$f":"IF(DATA!MNK2=0,\"\",IFERROR(DATA!MNK2,\"\"))","v":""},{"$f":"IF(DATA!MNL2=0,\"\",IFERROR(DATA!MNL2,\"\"))","v":""},{"$f":"IF(DATA!MNM2=0,\"\",IFERROR(DATA!MNM2,\"\"))","v":""},{"$f":"IF(DATA!MNN2=0,\"\",IFERROR(DATA!MNN2,\"\"))","v":""},{"$f":"IF(DATA!MNO2=0,\"\",IFERROR(DATA!MNO2,\"\"))","v":""},{"$f":"IF(DATA!MNP2=0,\"\",IFERROR(DATA!MNP2,\"\"))","v":""},{"$f":"IF(DATA!MNQ2=0,\"\",IFERROR(DATA!MNQ2,\"\"))","v":""},{"$f":"IF(DATA!MNR2=0,\"\",IFERROR(DATA!MNR2,\"\"))","v":""},{"$f":"IF(DATA!MNS2=0,\"\",IFERROR(DATA!MNS2,\"\"))","v":""},{"$f":"IF(DATA!MNT2=0,\"\",IFERROR(DATA!MNT2,\"\"))","v":""},{"$f":"IF(DATA!MNU2=0,\"\",IFERROR(DATA!MNU2,\"\"))","v":""},{"$f":"IF(DATA!MNV2=0,\"\",IFERROR(DATA!MNV2,\"\"))","v":""},{"$f":"IF(DATA!MNW2=0,\"\",IFERROR(DATA!MNW2,\"\"))","v":""},{"$f":"IF(DATA!MNX2=0,\"\",IFERROR(DATA!MNX2,\"\"))","v":""},{"$f":"IF(DATA!MNY2=0,\"\",IFERROR(DATA!MNY2,\"\"))","v":""},{"$f":"IF(DATA!MNZ2=0,\"\",IFERROR(DATA!MNZ2,\"\"))","v":""},{"$f":"IF(DATA!MOA2=0,\"\",IFERROR(DATA!MOA2,\"\"))","v":""},{"$f":"IF(DATA!MOB2=0,\"\",IFERROR(DATA!MOB2,\"\"))","v":""},{"$f":"IF(DATA!MOC2=0,\"\",IFERROR(DATA!MOC2,\"\"))","v":""},{"$f":"IF(DATA!MOD2=0,\"\",IFERROR(DATA!MOD2,\"\"))","v":""},{"$f":"IF(DATA!MOE2=0,\"\",IFERROR(DATA!MOE2,\"\"))","v":""},{"$f":"IF(DATA!MOF2=0,\"\",IFERROR(DATA!MOF2,\"\"))","v":""},{"$f":"IF(DATA!MOG2=0,\"\",IFERROR(DATA!MOG2,\"\"))","v":""},{"$f":"IF(DATA!MOH2=0,\"\",IFERROR(DATA!MOH2,\"\"))","v":""},{"$f":"IF(DATA!MOI2=0,\"\",IFERROR(DATA!MOI2,\"\"))","v":""},{"$f":"IF(DATA!MOJ2=0,\"\",IFERROR(DATA!MOJ2,\"\"))","v":""},{"$f":"IF(DATA!MOK2=0,\"\",IFERROR(DATA!MOK2,\"\"))","v":""},{"$f":"IF(DATA!MOL2=0,\"\",IFERROR(DATA!MOL2,\"\"))","v":""},{"$f":"IF(DATA!MOM2=0,\"\",IFERROR(DATA!MOM2,\"\"))","v":""},{"$f":"IF(DATA!MON2=0,\"\",IFERROR(DATA!MON2,\"\"))","v":""},{"$f":"IF(DATA!MOO2=0,\"\",IFERROR(DATA!MOO2,\"\"))","v":""},{"$f":"IF(DATA!MOP2=0,\"\",IFERROR(DATA!MOP2,\"\"))","v":""},{"$f":"IF(DATA!MOQ2=0,\"\",IFERROR(DATA!MOQ2,\"\"))","v":""},{"$f":"IF(DATA!MOR2=0,\"\",IFERROR(DATA!MOR2,\"\"))","v":""},{"$f":"IF(DATA!MOS2=0,\"\",IFERROR(DATA!MOS2,\"\"))","v":""},{"$f":"IF(DATA!MOT2=0,\"\",IFERROR(DATA!MOT2,\"\"))","v":""},{"$f":"IF(DATA!MOU2=0,\"\",IFERROR(DATA!MOU2,\"\"))","v":""},{"$f":"IF(DATA!MOV2=0,\"\",IFERROR(DATA!MOV2,\"\"))","v":""},{"$f":"IF(DATA!MOW2=0,\"\",IFERROR(DATA!MOW2,\"\"))","v":""},{"$f":"IF(DATA!MOX2=0,\"\",IFERROR(DATA!MOX2,\"\"))","v":""},{"$f":"IF(DATA!MOY2=0,\"\",IFERROR(DATA!MOY2,\"\"))","v":""},{"$f":"IF(DATA!MOZ2=0,\"\",IFERROR(DATA!MOZ2,\"\"))","v":""},{"$f":"IF(DATA!MPA2=0,\"\",IFERROR(DATA!MPA2,\"\"))","v":""},{"$f":"IF(DATA!MPB2=0,\"\",IFERROR(DATA!MPB2,\"\"))","v":""},{"$f":"IF(DATA!MPC2=0,\"\",IFERROR(DATA!MPC2,\"\"))","v":""},{"$f":"IF(DATA!MPD2=0,\"\",IFERROR(DATA!MPD2,\"\"))","v":""},{"$f":"IF(DATA!MPE2=0,\"\",IFERROR(DATA!MPE2,\"\"))","v":""},{"$f":"IF(DATA!MPF2=0,\"\",IFERROR(DATA!MPF2,\"\"))","v":""},{"$f":"IF(DATA!MPG2=0,\"\",IFERROR(DATA!MPG2,\"\"))","v":""},{"$f":"IF(DATA!MPH2=0,\"\",IFERROR(DATA!MPH2,\"\"))","v":""},{"$f":"IF(DATA!MPI2=0,\"\",IFERROR(DATA!MPI2,\"\"))","v":""},{"$f":"IF(DATA!MPJ2=0,\"\",IFERROR(DATA!MPJ2,\"\"))","v":""},{"$f":"IF(DATA!MPK2=0,\"\",IFERROR(DATA!MPK2,\"\"))","v":""},{"$f":"IF(DATA!MPL2=0,\"\",IFERROR(DATA!MPL2,\"\"))","v":""},{"$f":"IF(DATA!MPM2=0,\"\",IFERROR(DATA!MPM2,\"\"))","v":""},{"$f":"IF(DATA!MPN2=0,\"\",IFERROR(DATA!MPN2,\"\"))","v":""},{"$f":"IF(DATA!MPO2=0,\"\",IFERROR(DATA!MPO2,\"\"))","v":""},{"$f":"IF(DATA!MPP2=0,\"\",IFERROR(DATA!MPP2,\"\"))","v":""},{"$f":"IF(DATA!MPQ2=0,\"\",IFERROR(DATA!MPQ2,\"\"))","v":""},{"$f":"IF(DATA!MPR2=0,\"\",IFERROR(DATA!MPR2,\"\"))","v":""},{"$f":"IF(DATA!MPS2=0,\"\",IFERROR(DATA!MPS2,\"\"))","v":""},{"$f":"IF(DATA!MPT2=0,\"\",IFERROR(DATA!MPT2,\"\"))","v":""},{"$f":"IF(DATA!MPU2=0,\"\",IFERROR(DATA!MPU2,\"\"))","v":""},{"$f":"IF(DATA!MPV2=0,\"\",IFERROR(DATA!MPV2,\"\"))","v":""},{"$f":"IF(DATA!MPW2=0,\"\",IFERROR(DATA!MPW2,\"\"))","v":""},{"$f":"IF(DATA!MPX2=0,\"\",IFERROR(DATA!MPX2,\"\"))","v":""},{"$f":"IF(DATA!MPY2=0,\"\",IFERROR(DATA!MPY2,\"\"))","v":""},{"$f":"IF(DATA!MPZ2=0,\"\",IFERROR(DATA!MPZ2,\"\"))","v":""},{"$f":"IF(DATA!MQA2=0,\"\",IFERROR(DATA!MQA2,\"\"))","v":""},{"$f":"IF(DATA!MQB2=0,\"\",IFERROR(DATA!MQB2,\"\"))","v":""},{"$f":"IF(DATA!MQC2=0,\"\",IFERROR(DATA!MQC2,\"\"))","v":""},{"$f":"IF(DATA!MQD2=0,\"\",IFERROR(DATA!MQD2,\"\"))","v":""},{"$f":"IF(DATA!MQE2=0,\"\",IFERROR(DATA!MQE2,\"\"))","v":""},{"$f":"IF(DATA!MQF2=0,\"\",IFERROR(DATA!MQF2,\"\"))","v":""},{"$f":"IF(DATA!MQG2=0,\"\",IFERROR(DATA!MQG2,\"\"))","v":""},{"$f":"IF(DATA!MQH2=0,\"\",IFERROR(DATA!MQH2,\"\"))","v":""},{"$f":"IF(DATA!MQI2=0,\"\",IFERROR(DATA!MQI2,\"\"))","v":""},{"$f":"IF(DATA!MQJ2=0,\"\",IFERROR(DATA!MQJ2,\"\"))","v":""},{"$f":"IF(DATA!MQK2=0,\"\",IFERROR(DATA!MQK2,\"\"))","v":""},{"$f":"IF(DATA!MQL2=0,\"\",IFERROR(DATA!MQL2,\"\"))","v":""},{"$f":"IF(DATA!MQM2=0,\"\",IFERROR(DATA!MQM2,\"\"))","v":""},{"$f":"IF(DATA!MQN2=0,\"\",IFERROR(DATA!MQN2,\"\"))","v":""},{"$f":"IF(DATA!MQO2=0,\"\",IFERROR(DATA!MQO2,\"\"))","v":""},{"$f":"IF(DATA!MQP2=0,\"\",IFERROR(DATA!MQP2,\"\"))","v":""},{"$f":"IF(DATA!MQQ2=0,\"\",IFERROR(DATA!MQQ2,\"\"))","v":""},{"$f":"IF(DATA!MQR2=0,\"\",IFERROR(DATA!MQR2,\"\"))","v":""},{"$f":"IF(DATA!MQS2=0,\"\",IFERROR(DATA!MQS2,\"\"))","v":""},{"$f":"IF(DATA!MQT2=0,\"\",IFERROR(DATA!MQT2,\"\"))","v":""},{"$f":"IF(DATA!MQU2=0,\"\",IFERROR(DATA!MQU2,\"\"))","v":""},{"$f":"IF(DATA!MQV2=0,\"\",IFERROR(DATA!MQV2,\"\"))","v":""},{"$f":"IF(DATA!MQW2=0,\"\",IFERROR(DATA!MQW2,\"\"))","v":""},{"$f":"IF(DATA!MQX2=0,\"\",IFERROR(DATA!MQX2,\"\"))","v":""},{"$f":"IF(DATA!MQY2=0,\"\",IFERROR(DATA!MQY2,\"\"))","v":""},{"$f":"IF(DATA!MQZ2=0,\"\",IFERROR(DATA!MQZ2,\"\"))","v":""},{"$f":"IF(DATA!MRA2=0,\"\",IFERROR(DATA!MRA2,\"\"))","v":""},{"$f":"IF(DATA!MRB2=0,\"\",IFERROR(DATA!MRB2,\"\"))","v":""},{"$f":"IF(DATA!MRC2=0,\"\",IFERROR(DATA!MRC2,\"\"))","v":""},{"$f":"IF(DATA!MRD2=0,\"\",IFERROR(DATA!MRD2,\"\"))","v":""},{"$f":"IF(DATA!MRE2=0,\"\",IFERROR(DATA!MRE2,\"\"))","v":""},{"$f":"IF(DATA!MRF2=0,\"\",IFERROR(DATA!MRF2,\"\"))","v":""},{"$f":"IF(DATA!MRG2=0,\"\",IFERROR(DATA!MRG2,\"\"))","v":""},{"$f":"IF(DATA!MRH2=0,\"\",IFERROR(DATA!MRH2,\"\"))","v":""},{"$f":"IF(DATA!MRI2=0,\"\",IFERROR(DATA!MRI2,\"\"))","v":""},{"$f":"IF(DATA!MRJ2=0,\"\",IFERROR(DATA!MRJ2,\"\"))","v":""},{"$f":"IF(DATA!MRK2=0,\"\",IFERROR(DATA!MRK2,\"\"))","v":""},{"$f":"IF(DATA!MRL2=0,\"\",IFERROR(DATA!MRL2,\"\"))","v":""},{"$f":"IF(DATA!MRM2=0,\"\",IFERROR(DATA!MRM2,\"\"))","v":""},{"$f":"IF(DATA!MRN2=0,\"\",IFERROR(DATA!MRN2,\"\"))","v":""},{"$f":"IF(DATA!MRO2=0,\"\",IFERROR(DATA!MRO2,\"\"))","v":""},{"$f":"IF(DATA!MRP2=0,\"\",IFERROR(DATA!MRP2,\"\"))","v":""},{"$f":"IF(DATA!MRQ2=0,\"\",IFERROR(DATA!MRQ2,\"\"))","v":""},{"$f":"IF(DATA!MRR2=0,\"\",IFERROR(DATA!MRR2,\"\"))","v":""},{"$f":"IF(DATA!MRS2=0,\"\",IFERROR(DATA!MRS2,\"\"))","v":""},{"$f":"IF(DATA!MRT2=0,\"\",IFERROR(DATA!MRT2,\"\"))","v":""},{"$f":"IF(DATA!MRU2=0,\"\",IFERROR(DATA!MRU2,\"\"))","v":""},{"$f":"IF(DATA!MRV2=0,\"\",IFERROR(DATA!MRV2,\"\"))","v":""},{"$f":"IF(DATA!MRW2=0,\"\",IFERROR(DATA!MRW2,\"\"))","v":""},{"$f":"IF(DATA!MRX2=0,\"\",IFERROR(DATA!MRX2,\"\"))","v":""},{"$f":"IF(DATA!MRY2=0,\"\",IFERROR(DATA!MRY2,\"\"))","v":""},{"$f":"IF(DATA!MRZ2=0,\"\",IFERROR(DATA!MRZ2,\"\"))","v":""},{"$f":"IF(DATA!MSA2=0,\"\",IFERROR(DATA!MSA2,\"\"))","v":""},{"$f":"IF(DATA!MSB2=0,\"\",IFERROR(DATA!MSB2,\"\"))","v":""},{"$f":"IF(DATA!MSC2=0,\"\",IFERROR(DATA!MSC2,\"\"))","v":""},{"$f":"IF(DATA!MSD2=0,\"\",IFERROR(DATA!MSD2,\"\"))","v":""},{"$f":"IF(DATA!MSE2=0,\"\",IFERROR(DATA!MSE2,\"\"))","v":""},{"$f":"IF(DATA!MSF2=0,\"\",IFERROR(DATA!MSF2,\"\"))","v":""},{"$f":"IF(DATA!MSG2=0,\"\",IFERROR(DATA!MSG2,\"\"))","v":""},{"$f":"IF(DATA!MSH2=0,\"\",IFERROR(DATA!MSH2,\"\"))","v":""},{"$f":"IF(DATA!MSI2=0,\"\",IFERROR(DATA!MSI2,\"\"))","v":""},{"$f":"IF(DATA!MSJ2=0,\"\",IFERROR(DATA!MSJ2,\"\"))","v":""},{"$f":"IF(DATA!MSK2=0,\"\",IFERROR(DATA!MSK2,\"\"))","v":""},{"$f":"IF(DATA!MSL2=0,\"\",IFERROR(DATA!MSL2,\"\"))","v":""},{"$f":"IF(DATA!MSM2=0,\"\",IFERROR(DATA!MSM2,\"\"))","v":""},{"$f":"IF(DATA!MSN2=0,\"\",IFERROR(DATA!MSN2,\"\"))","v":""},{"$f":"IF(DATA!MSO2=0,\"\",IFERROR(DATA!MSO2,\"\"))","v":""},{"$f":"IF(DATA!MSP2=0,\"\",IFERROR(DATA!MSP2,\"\"))","v":""},{"$f":"IF(DATA!MSQ2=0,\"\",IFERROR(DATA!MSQ2,\"\"))","v":""},{"$f":"IF(DATA!MSR2=0,\"\",IFERROR(DATA!MSR2,\"\"))","v":""},{"$f":"IF(DATA!MSS2=0,\"\",IFERROR(DATA!MSS2,\"\"))","v":""},{"$f":"IF(DATA!MST2=0,\"\",IFERROR(DATA!MST2,\"\"))","v":""},{"$f":"IF(DATA!MSU2=0,\"\",IFERROR(DATA!MSU2,\"\"))","v":""},{"$f":"IF(DATA!MSV2=0,\"\",IFERROR(DATA!MSV2,\"\"))","v":""},{"$f":"IF(DATA!MSW2=0,\"\",IFERROR(DATA!MSW2,\"\"))","v":""},{"$f":"IF(DATA!MSX2=0,\"\",IFERROR(DATA!MSX2,\"\"))","v":""},{"$f":"IF(DATA!MSY2=0,\"\",IFERROR(DATA!MSY2,\"\"))","v":""},{"$f":"IF(DATA!MSZ2=0,\"\",IFERROR(DATA!MSZ2,\"\"))","v":""},{"$f":"IF(DATA!MTA2=0,\"\",IFERROR(DATA!MTA2,\"\"))","v":""},{"$f":"IF(DATA!MTB2=0,\"\",IFERROR(DATA!MTB2,\"\"))","v":""},{"$f":"IF(DATA!MTC2=0,\"\",IFERROR(DATA!MTC2,\"\"))","v":""},{"$f":"IF(DATA!MTD2=0,\"\",IFERROR(DATA!MTD2,\"\"))","v":""},{"$f":"IF(DATA!MTE2=0,\"\",IFERROR(DATA!MTE2,\"\"))","v":""},{"$f":"IF(DATA!MTF2=0,\"\",IFERROR(DATA!MTF2,\"\"))","v":""},{"$f":"IF(DATA!MTG2=0,\"\",IFERROR(DATA!MTG2,\"\"))","v":""},{"$f":"IF(DATA!MTH2=0,\"\",IFERROR(DATA!MTH2,\"\"))","v":""},{"$f":"IF(DATA!MTI2=0,\"\",IFERROR(DATA!MTI2,\"\"))","v":""},{"$f":"IF(DATA!MTJ2=0,\"\",IFERROR(DATA!MTJ2,\"\"))","v":""},{"$f":"IF(DATA!MTK2=0,\"\",IFERROR(DATA!MTK2,\"\"))","v":""},{"$f":"IF(DATA!MTL2=0,\"\",IFERROR(DATA!MTL2,\"\"))","v":""},{"$f":"IF(DATA!MTM2=0,\"\",IFERROR(DATA!MTM2,\"\"))","v":""},{"$f":"IF(DATA!MTN2=0,\"\",IFERROR(DATA!MTN2,\"\"))","v":""},{"$f":"IF(DATA!MTO2=0,\"\",IFERROR(DATA!MTO2,\"\"))","v":""},{"$f":"IF(DATA!MTP2=0,\"\",IFERROR(DATA!MTP2,\"\"))","v":""},{"$f":"IF(DATA!MTQ2=0,\"\",IFERROR(DATA!MTQ2,\"\"))","v":""},{"$f":"IF(DATA!MTR2=0,\"\",IFERROR(DATA!MTR2,\"\"))","v":""},{"$f":"IF(DATA!MTS2=0,\"\",IFERROR(DATA!MTS2,\"\"))","v":""},{"$f":"IF(DATA!MTT2=0,\"\",IFERROR(DATA!MTT2,\"\"))","v":""},{"$f":"IF(DATA!MTU2=0,\"\",IFERROR(DATA!MTU2,\"\"))","v":""},{"$f":"IF(DATA!MTV2=0,\"\",IFERROR(DATA!MTV2,\"\"))","v":""},{"$f":"IF(DATA!MTW2=0,\"\",IFERROR(DATA!MTW2,\"\"))","v":""},{"$f":"IF(DATA!MTX2=0,\"\",IFERROR(DATA!MTX2,\"\"))","v":""},{"$f":"IF(DATA!MTY2=0,\"\",IFERROR(DATA!MTY2,\"\"))","v":""},{"$f":"IF(DATA!MTZ2=0,\"\",IFERROR(DATA!MTZ2,\"\"))","v":""},{"$f":"IF(DATA!MUA2=0,\"\",IFERROR(DATA!MUA2,\"\"))","v":""},{"$f":"IF(DATA!MUB2=0,\"\",IFERROR(DATA!MUB2,\"\"))","v":""},{"$f":"IF(DATA!MUC2=0,\"\",IFERROR(DATA!MUC2,\"\"))","v":""},{"$f":"IF(DATA!MUD2=0,\"\",IFERROR(DATA!MUD2,\"\"))","v":""},{"$f":"IF(DATA!MUE2=0,\"\",IFERROR(DATA!MUE2,\"\"))","v":""},{"$f":"IF(DATA!MUF2=0,\"\",IFERROR(DATA!MUF2,\"\"))","v":""},{"$f":"IF(DATA!MUG2=0,\"\",IFERROR(DATA!MUG2,\"\"))","v":""},{"$f":"IF(DATA!MUH2=0,\"\",IFERROR(DATA!MUH2,\"\"))","v":""},{"$f":"IF(DATA!MUI2=0,\"\",IFERROR(DATA!MUI2,\"\"))","v":""},{"$f":"IF(DATA!MUJ2=0,\"\",IFERROR(DATA!MUJ2,\"\"))","v":""},{"$f":"IF(DATA!MUK2=0,\"\",IFERROR(DATA!MUK2,\"\"))","v":""},{"$f":"IF(DATA!MUL2=0,\"\",IFERROR(DATA!MUL2,\"\"))","v":""},{"$f":"IF(DATA!MUM2=0,\"\",IFERROR(DATA!MUM2,\"\"))","v":""},{"$f":"IF(DATA!MUN2=0,\"\",IFERROR(DATA!MUN2,\"\"))","v":""},{"$f":"IF(DATA!MUO2=0,\"\",IFERROR(DATA!MUO2,\"\"))","v":""},{"$f":"IF(DATA!MUP2=0,\"\",IFERROR(DATA!MUP2,\"\"))","v":""},{"$f":"IF(DATA!MUQ2=0,\"\",IFERROR(DATA!MUQ2,\"\"))","v":""},{"$f":"IF(DATA!MUR2=0,\"\",IFERROR(DATA!MUR2,\"\"))","v":""},{"$f":"IF(DATA!MUS2=0,\"\",IFERROR(DATA!MUS2,\"\"))","v":""},{"$f":"IF(DATA!MUT2=0,\"\",IFERROR(DATA!MUT2,\"\"))","v":""},{"$f":"IF(DATA!MUU2=0,\"\",IFERROR(DATA!MUU2,\"\"))","v":""},{"$f":"IF(DATA!MUV2=0,\"\",IFERROR(DATA!MUV2,\"\"))","v":""},{"$f":"IF(DATA!MUW2=0,\"\",IFERROR(DATA!MUW2,\"\"))","v":""},{"$f":"IF(DATA!MUX2=0,\"\",IFERROR(DATA!MUX2,\"\"))","v":""},{"$f":"IF(DATA!MUY2=0,\"\",IFERROR(DATA!MUY2,\"\"))","v":""},{"$f":"IF(DATA!MUZ2=0,\"\",IFERROR(DATA!MUZ2,\"\"))","v":""},{"$f":"IF(DATA!MVA2=0,\"\",IFERROR(DATA!MVA2,\"\"))","v":""},{"$f":"IF(DATA!MVB2=0,\"\",IFERROR(DATA!MVB2,\"\"))","v":""},{"$f":"IF(DATA!MVC2=0,\"\",IFERROR(DATA!MVC2,\"\"))","v":""},{"$f":"IF(DATA!MVD2=0,\"\",IFERROR(DATA!MVD2,\"\"))","v":""},{"$f":"IF(DATA!MVE2=0,\"\",IFERROR(DATA!MVE2,\"\"))","v":""},{"$f":"IF(DATA!MVF2=0,\"\",IFERROR(DATA!MVF2,\"\"))","v":""},{"$f":"IF(DATA!MVG2=0,\"\",IFERROR(DATA!MVG2,\"\"))","v":""},{"$f":"IF(DATA!MVH2=0,\"\",IFERROR(DATA!MVH2,\"\"))","v":""},{"$f":"IF(DATA!MVI2=0,\"\",IFERROR(DATA!MVI2,\"\"))","v":""},{"$f":"IF(DATA!MVJ2=0,\"\",IFERROR(DATA!MVJ2,\"\"))","v":""},{"$f":"IF(DATA!MVK2=0,\"\",IFERROR(DATA!MVK2,\"\"))","v":""},{"$f":"IF(DATA!MVL2=0,\"\",IFERROR(DATA!MVL2,\"\"))","v":""},{"$f":"IF(DATA!MVM2=0,\"\",IFERROR(DATA!MVM2,\"\"))","v":""},{"$f":"IF(DATA!MVN2=0,\"\",IFERROR(DATA!MVN2,\"\"))","v":""},{"$f":"IF(DATA!MVO2=0,\"\",IFERROR(DATA!MVO2,\"\"))","v":""},{"$f":"IF(DATA!MVP2=0,\"\",IFERROR(DATA!MVP2,\"\"))","v":""},{"$f":"IF(DATA!MVQ2=0,\"\",IFERROR(DATA!MVQ2,\"\"))","v":""},{"$f":"IF(DATA!MVR2=0,\"\",IFERROR(DATA!MVR2,\"\"))","v":""},{"$f":"IF(DATA!MVS2=0,\"\",IFERROR(DATA!MVS2,\"\"))","v":""},{"$f":"IF(DATA!MVT2=0,\"\",IFERROR(DATA!MVT2,\"\"))","v":""},{"$f":"IF(DATA!MVU2=0,\"\",IFERROR(DATA!MVU2,\"\"))","v":""},{"$f":"IF(DATA!MVV2=0,\"\",IFERROR(DATA!MVV2,\"\"))","v":""},{"$f":"IF(DATA!MVW2=0,\"\",IFERROR(DATA!MVW2,\"\"))","v":""},{"$f":"IF(DATA!MVX2=0,\"\",IFERROR(DATA!MVX2,\"\"))","v":""},{"$f":"IF(DATA!MVY2=0,\"\",IFERROR(DATA!MVY2,\"\"))","v":""},{"$f":"IF(DATA!MVZ2=0,\"\",IFERROR(DATA!MVZ2,\"\"))","v":""},{"$f":"IF(DATA!MWA2=0,\"\",IFERROR(DATA!MWA2,\"\"))","v":""},{"$f":"IF(DATA!MWB2=0,\"\",IFERROR(DATA!MWB2,\"\"))","v":""},{"$f":"IF(DATA!MWC2=0,\"\",IFERROR(DATA!MWC2,\"\"))","v":""},{"$f":"IF(DATA!MWD2=0,\"\",IFERROR(DATA!MWD2,\"\"))","v":""},{"$f":"IF(DATA!MWE2=0,\"\",IFERROR(DATA!MWE2,\"\"))","v":""},{"$f":"IF(DATA!MWF2=0,\"\",IFERROR(DATA!MWF2,\"\"))","v":""},{"$f":"IF(DATA!MWG2=0,\"\",IFERROR(DATA!MWG2,\"\"))","v":""},{"$f":"IF(DATA!MWH2=0,\"\",IFERROR(DATA!MWH2,\"\"))","v":""},{"$f":"IF(DATA!MWI2=0,\"\",IFERROR(DATA!MWI2,\"\"))","v":""},{"$f":"IF(DATA!MWJ2=0,\"\",IFERROR(DATA!MWJ2,\"\"))","v":""},{"$f":"IF(DATA!MWK2=0,\"\",IFERROR(DATA!MWK2,\"\"))","v":""},{"$f":"IF(DATA!MWL2=0,\"\",IFERROR(DATA!MWL2,\"\"))","v":""},{"$f":"IF(DATA!MWM2=0,\"\",IFERROR(DATA!MWM2,\"\"))","v":""},{"$f":"IF(DATA!MWN2=0,\"\",IFERROR(DATA!MWN2,\"\"))","v":""},{"$f":"IF(DATA!MWO2=0,\"\",IFERROR(DATA!MWO2,\"\"))","v":""},{"$f":"IF(DATA!MWP2=0,\"\",IFERROR(DATA!MWP2,\"\"))","v":""},{"$f":"IF(DATA!MWQ2=0,\"\",IFERROR(DATA!MWQ2,\"\"))","v":""},{"$f":"IF(DATA!MWR2=0,\"\",IFERROR(DATA!MWR2,\"\"))","v":""},{"$f":"IF(DATA!MWS2=0,\"\",IFERROR(DATA!MWS2,\"\"))","v":""},{"$f":"IF(DATA!MWT2=0,\"\",IFERROR(DATA!MWT2,\"\"))","v":""},{"$f":"IF(DATA!MWU2=0,\"\",IFERROR(DATA!MWU2,\"\"))","v":""},{"$f":"IF(DATA!MWV2=0,\"\",IFERROR(DATA!MWV2,\"\"))","v":""},{"$f":"IF(DATA!MWW2=0,\"\",IFERROR(DATA!MWW2,\"\"))","v":""},{"$f":"IF(DATA!MWX2=0,\"\",IFERROR(DATA!MWX2,\"\"))","v":""},{"$f":"IF(DATA!MWY2=0,\"\",IFERROR(DATA!MWY2,\"\"))","v":""},{"$f":"IF(DATA!MWZ2=0,\"\",IFERROR(DATA!MWZ2,\"\"))","v":""},{"$f":"IF(DATA!MXA2=0,\"\",IFERROR(DATA!MXA2,\"\"))","v":""},{"$f":"IF(DATA!MXB2=0,\"\",IFERROR(DATA!MXB2,\"\"))","v":""},{"$f":"IF(DATA!MXC2=0,\"\",IFERROR(DATA!MXC2,\"\"))","v":""},{"$f":"IF(DATA!MXD2=0,\"\",IFERROR(DATA!MXD2,\"\"))","v":""},{"$f":"IF(DATA!MXE2=0,\"\",IFERROR(DATA!MXE2,\"\"))","v":""},{"$f":"IF(DATA!MXF2=0,\"\",IFERROR(DATA!MXF2,\"\"))","v":""},{"$f":"IF(DATA!MXG2=0,\"\",IFERROR(DATA!MXG2,\"\"))","v":""},{"$f":"IF(DATA!MXH2=0,\"\",IFERROR(DATA!MXH2,\"\"))","v":""},{"$f":"IF(DATA!MXI2=0,\"\",IFERROR(DATA!MXI2,\"\"))","v":""},{"$f":"IF(DATA!MXJ2=0,\"\",IFERROR(DATA!MXJ2,\"\"))","v":""},{"$f":"IF(DATA!MXK2=0,\"\",IFERROR(DATA!MXK2,\"\"))","v":""},{"$f":"IF(DATA!MXL2=0,\"\",IFERROR(DATA!MXL2,\"\"))","v":""},{"$f":"IF(DATA!MXM2=0,\"\",IFERROR(DATA!MXM2,\"\"))","v":""},{"$f":"IF(DATA!MXN2=0,\"\",IFERROR(DATA!MXN2,\"\"))","v":""},{"$f":"IF(DATA!MXO2=0,\"\",IFERROR(DATA!MXO2,\"\"))","v":""},{"$f":"IF(DATA!MXP2=0,\"\",IFERROR(DATA!MXP2,\"\"))","v":""},{"$f":"IF(DATA!MXQ2=0,\"\",IFERROR(DATA!MXQ2,\"\"))","v":""},{"$f":"IF(DATA!MXR2=0,\"\",IFERROR(DATA!MXR2,\"\"))","v":""},{"$f":"IF(DATA!MXS2=0,\"\",IFERROR(DATA!MXS2,\"\"))","v":""},{"$f":"IF(DATA!MXT2=0,\"\",IFERROR(DATA!MXT2,\"\"))","v":""},{"$f":"IF(DATA!MXU2=0,\"\",IFERROR(DATA!MXU2,\"\"))","v":""},{"$f":"IF(DATA!MXV2=0,\"\",IFERROR(DATA!MXV2,\"\"))","v":""},{"$f":"IF(DATA!MXW2=0,\"\",IFERROR(DATA!MXW2,\"\"))","v":""},{"$f":"IF(DATA!MXX2=0,\"\",IFERROR(DATA!MXX2,\"\"))","v":""},{"$f":"IF(DATA!MXY2=0,\"\",IFERROR(DATA!MXY2,\"\"))","v":""},{"$f":"IF(DATA!MXZ2=0,\"\",IFERROR(DATA!MXZ2,\"\"))","v":""},{"$f":"IF(DATA!MYA2=0,\"\",IFERROR(DATA!MYA2,\"\"))","v":""},{"$f":"IF(DATA!MYB2=0,\"\",IFERROR(DATA!MYB2,\"\"))","v":""},{"$f":"IF(DATA!MYC2=0,\"\",IFERROR(DATA!MYC2,\"\"))","v":""},{"$f":"IF(DATA!MYD2=0,\"\",IFERROR(DATA!MYD2,\"\"))","v":""},{"$f":"IF(DATA!MYE2=0,\"\",IFERROR(DATA!MYE2,\"\"))","v":""},{"$f":"IF(DATA!MYF2=0,\"\",IFERROR(DATA!MYF2,\"\"))","v":""},{"$f":"IF(DATA!MYG2=0,\"\",IFERROR(DATA!MYG2,\"\"))","v":""},{"$f":"IF(DATA!MYH2=0,\"\",IFERROR(DATA!MYH2,\"\"))","v":""},{"$f":"IF(DATA!MYI2=0,\"\",IFERROR(DATA!MYI2,\"\"))","v":""},{"$f":"IF(DATA!MYJ2=0,\"\",IFERROR(DATA!MYJ2,\"\"))","v":""},{"$f":"IF(DATA!MYK2=0,\"\",IFERROR(DATA!MYK2,\"\"))","v":""},{"$f":"IF(DATA!MYL2=0,\"\",IFERROR(DATA!MYL2,\"\"))","v":""},{"$f":"IF(DATA!MYM2=0,\"\",IFERROR(DATA!MYM2,\"\"))","v":""},{"$f":"IF(DATA!MYN2=0,\"\",IFERROR(DATA!MYN2,\"\"))","v":""},{"$f":"IF(DATA!MYO2=0,\"\",IFERROR(DATA!MYO2,\"\"))","v":""},{"$f":"IF(DATA!MYP2=0,\"\",IFERROR(DATA!MYP2,\"\"))","v":""},{"$f":"IF(DATA!MYQ2=0,\"\",IFERROR(DATA!MYQ2,\"\"))","v":""},{"$f":"IF(DATA!MYR2=0,\"\",IFERROR(DATA!MYR2,\"\"))","v":""},{"$f":"IF(DATA!MYS2=0,\"\",IFERROR(DATA!MYS2,\"\"))","v":""},{"$f":"IF(DATA!MYT2=0,\"\",IFERROR(DATA!MYT2,\"\"))","v":""},{"$f":"IF(DATA!MYU2=0,\"\",IFERROR(DATA!MYU2,\"\"))","v":""},{"$f":"IF(DATA!MYV2=0,\"\",IFERROR(DATA!MYV2,\"\"))","v":""},{"$f":"IF(DATA!MYW2=0,\"\",IFERROR(DATA!MYW2,\"\"))","v":""},{"$f":"IF(DATA!MYX2=0,\"\",IFERROR(DATA!MYX2,\"\"))","v":""},{"$f":"IF(DATA!MYY2=0,\"\",IFERROR(DATA!MYY2,\"\"))","v":""},{"$f":"IF(DATA!MYZ2=0,\"\",IFERROR(DATA!MYZ2,\"\"))","v":""},{"$f":"IF(DATA!MZA2=0,\"\",IFERROR(DATA!MZA2,\"\"))","v":""},{"$f":"IF(DATA!MZB2=0,\"\",IFERROR(DATA!MZB2,\"\"))","v":""},{"$f":"IF(DATA!MZC2=0,\"\",IFERROR(DATA!MZC2,\"\"))","v":""},{"$f":"IF(DATA!MZD2=0,\"\",IFERROR(DATA!MZD2,\"\"))","v":""},{"$f":"IF(DATA!MZE2=0,\"\",IFERROR(DATA!MZE2,\"\"))","v":""},{"$f":"IF(DATA!MZF2=0,\"\",IFERROR(DATA!MZF2,\"\"))","v":""},{"$f":"IF(DATA!MZG2=0,\"\",IFERROR(DATA!MZG2,\"\"))","v":""},{"$f":"IF(DATA!MZH2=0,\"\",IFERROR(DATA!MZH2,\"\"))","v":""},{"$f":"IF(DATA!MZI2=0,\"\",IFERROR(DATA!MZI2,\"\"))","v":""},{"$f":"IF(DATA!MZJ2=0,\"\",IFERROR(DATA!MZJ2,\"\"))","v":""},{"$f":"IF(DATA!MZK2=0,\"\",IFERROR(DATA!MZK2,\"\"))","v":""},{"$f":"IF(DATA!MZL2=0,\"\",IFERROR(DATA!MZL2,\"\"))","v":""},{"$f":"IF(DATA!MZM2=0,\"\",IFERROR(DATA!MZM2,\"\"))","v":""},{"$f":"IF(DATA!MZN2=0,\"\",IFERROR(DATA!MZN2,\"\"))","v":""},{"$f":"IF(DATA!MZO2=0,\"\",IFERROR(DATA!MZO2,\"\"))","v":""},{"$f":"IF(DATA!MZP2=0,\"\",IFERROR(DATA!MZP2,\"\"))","v":""},{"$f":"IF(DATA!MZQ2=0,\"\",IFERROR(DATA!MZQ2,\"\"))","v":""},{"$f":"IF(DATA!MZR2=0,\"\",IFERROR(DATA!MZR2,\"\"))","v":""},{"$f":"IF(DATA!MZS2=0,\"\",IFERROR(DATA!MZS2,\"\"))","v":""},{"$f":"IF(DATA!MZT2=0,\"\",IFERROR(DATA!MZT2,\"\"))","v":""},{"$f":"IF(DATA!MZU2=0,\"\",IFERROR(DATA!MZU2,\"\"))","v":""},{"$f":"IF(DATA!MZV2=0,\"\",IFERROR(DATA!MZV2,\"\"))","v":""},{"$f":"IF(DATA!MZW2=0,\"\",IFERROR(DATA!MZW2,\"\"))","v":""},{"$f":"IF(DATA!MZX2=0,\"\",IFERROR(DATA!MZX2,\"\"))","v":""},{"$f":"IF(DATA!MZY2=0,\"\",IFERROR(DATA!MZY2,\"\"))","v":""},{"$f":"IF(DATA!MZZ2=0,\"\",IFERROR(DATA!MZZ2,\"\"))","v":""},{"$f":"IF(DATA!NAA2=0,\"\",IFERROR(DATA!NAA2,\"\"))","v":""},{"$f":"IF(DATA!NAB2=0,\"\",IFERROR(DATA!NAB2,\"\"))","v":""},{"$f":"IF(DATA!NAC2=0,\"\",IFERROR(DATA!NAC2,\"\"))","v":""},{"$f":"IF(DATA!NAD2=0,\"\",IFERROR(DATA!NAD2,\"\"))","v":""},{"$f":"IF(DATA!NAE2=0,\"\",IFERROR(DATA!NAE2,\"\"))","v":""},{"$f":"IF(DATA!NAF2=0,\"\",IFERROR(DATA!NAF2,\"\"))","v":""},{"$f":"IF(DATA!NAG2=0,\"\",IFERROR(DATA!NAG2,\"\"))","v":""},{"$f":"IF(DATA!NAH2=0,\"\",IFERROR(DATA!NAH2,\"\"))","v":""},{"$f":"IF(DATA!NAI2=0,\"\",IFERROR(DATA!NAI2,\"\"))","v":""},{"$f":"IF(DATA!NAJ2=0,\"\",IFERROR(DATA!NAJ2,\"\"))","v":""},{"$f":"IF(DATA!NAK2=0,\"\",IFERROR(DATA!NAK2,\"\"))","v":""},{"$f":"IF(DATA!NAL2=0,\"\",IFERROR(DATA!NAL2,\"\"))","v":""},{"$f":"IF(DATA!NAM2=0,\"\",IFERROR(DATA!NAM2,\"\"))","v":""},{"$f":"IF(DATA!NAN2=0,\"\",IFERROR(DATA!NAN2,\"\"))","v":""},{"$f":"IF(DATA!NAO2=0,\"\",IFERROR(DATA!NAO2,\"\"))","v":""},{"$f":"IF(DATA!NAP2=0,\"\",IFERROR(DATA!NAP2,\"\"))","v":""},{"$f":"IF(DATA!NAQ2=0,\"\",IFERROR(DATA!NAQ2,\"\"))","v":""},{"$f":"IF(DATA!NAR2=0,\"\",IFERROR(DATA!NAR2,\"\"))","v":""},{"$f":"IF(DATA!NAS2=0,\"\",IFERROR(DATA!NAS2,\"\"))","v":""},{"$f":"IF(DATA!NAT2=0,\"\",IFERROR(DATA!NAT2,\"\"))","v":""},{"$f":"IF(DATA!NAU2=0,\"\",IFERROR(DATA!NAU2,\"\"))","v":""},{"$f":"IF(DATA!NAV2=0,\"\",IFERROR(DATA!NAV2,\"\"))","v":""},{"$f":"IF(DATA!NAW2=0,\"\",IFERROR(DATA!NAW2,\"\"))","v":""},{"$f":"IF(DATA!NAX2=0,\"\",IFERROR(DATA!NAX2,\"\"))","v":""},{"$f":"IF(DATA!NAY2=0,\"\",IFERROR(DATA!NAY2,\"\"))","v":""},{"$f":"IF(DATA!NAZ2=0,\"\",IFERROR(DATA!NAZ2,\"\"))","v":""},{"$f":"IF(DATA!NBA2=0,\"\",IFERROR(DATA!NBA2,\"\"))","v":""},{"$f":"IF(DATA!NBB2=0,\"\",IFERROR(DATA!NBB2,\"\"))","v":""},{"$f":"IF(DATA!NBC2=0,\"\",IFERROR(DATA!NBC2,\"\"))","v":""},{"$f":"IF(DATA!NBD2=0,\"\",IFERROR(DATA!NBD2,\"\"))","v":""},{"$f":"IF(DATA!NBE2=0,\"\",IFERROR(DATA!NBE2,\"\"))","v":""},{"$f":"IF(DATA!NBF2=0,\"\",IFERROR(DATA!NBF2,\"\"))","v":""},{"$f":"IF(DATA!NBG2=0,\"\",IFERROR(DATA!NBG2,\"\"))","v":""},{"$f":"IF(DATA!NBH2=0,\"\",IFERROR(DATA!NBH2,\"\"))","v":""},{"$f":"IF(DATA!NBI2=0,\"\",IFERROR(DATA!NBI2,\"\"))","v":""},{"$f":"IF(DATA!NBJ2=0,\"\",IFERROR(DATA!NBJ2,\"\"))","v":""},{"$f":"IF(DATA!NBK2=0,\"\",IFERROR(DATA!NBK2,\"\"))","v":""},{"$f":"IF(DATA!NBL2=0,\"\",IFERROR(DATA!NBL2,\"\"))","v":""},{"$f":"IF(DATA!NBM2=0,\"\",IFERROR(DATA!NBM2,\"\"))","v":""},{"$f":"IF(DATA!NBN2=0,\"\",IFERROR(DATA!NBN2,\"\"))","v":""},{"$f":"IF(DATA!NBO2=0,\"\",IFERROR(DATA!NBO2,\"\"))","v":""},{"$f":"IF(DATA!NBP2=0,\"\",IFERROR(DATA!NBP2,\"\"))","v":""},{"$f":"IF(DATA!NBQ2=0,\"\",IFERROR(DATA!NBQ2,\"\"))","v":""},{"$f":"IF(DATA!NBR2=0,\"\",IFERROR(DATA!NBR2,\"\"))","v":""},{"$f":"IF(DATA!NBS2=0,\"\",IFERROR(DATA!NBS2,\"\"))","v":""},{"$f":"IF(DATA!NBT2=0,\"\",IFERROR(DATA!NBT2,\"\"))","v":""},{"$f":"IF(DATA!NBU2=0,\"\",IFERROR(DATA!NBU2,\"\"))","v":""},{"$f":"IF(DATA!NBV2=0,\"\",IFERROR(DATA!NBV2,\"\"))","v":""},{"$f":"IF(DATA!NBW2=0,\"\",IFERROR(DATA!NBW2,\"\"))","v":""},{"$f":"IF(DATA!NBX2=0,\"\",IFERROR(DATA!NBX2,\"\"))","v":""},{"$f":"IF(DATA!NBY2=0,\"\",IFERROR(DATA!NBY2,\"\"))","v":""},{"$f":"IF(DATA!NBZ2=0,\"\",IFERROR(DATA!NBZ2,\"\"))","v":""},{"$f":"IF(DATA!NCA2=0,\"\",IFERROR(DATA!NCA2,\"\"))","v":""},{"$f":"IF(DATA!NCB2=0,\"\",IFERROR(DATA!NCB2,\"\"))","v":""},{"$f":"IF(DATA!NCC2=0,\"\",IFERROR(DATA!NCC2,\"\"))","v":""},{"$f":"IF(DATA!NCD2=0,\"\",IFERROR(DATA!NCD2,\"\"))","v":""},{"$f":"IF(DATA!NCE2=0,\"\",IFERROR(DATA!NCE2,\"\"))","v":""},{"$f":"IF(DATA!NCF2=0,\"\",IFERROR(DATA!NCF2,\"\"))","v":""},{"$f":"IF(DATA!NCG2=0,\"\",IFERROR(DATA!NCG2,\"\"))","v":""},{"$f":"IF(DATA!NCH2=0,\"\",IFERROR(DATA!NCH2,\"\"))","v":""},{"$f":"IF(DATA!NCI2=0,\"\",IFERROR(DATA!NCI2,\"\"))","v":""},{"$f":"IF(DATA!NCJ2=0,\"\",IFERROR(DATA!NCJ2,\"\"))","v":""},{"$f":"IF(DATA!NCK2=0,\"\",IFERROR(DATA!NCK2,\"\"))","v":""},{"$f":"IF(DATA!NCL2=0,\"\",IFERROR(DATA!NCL2,\"\"))","v":""},{"$f":"IF(DATA!NCM2=0,\"\",IFERROR(DATA!NCM2,\"\"))","v":""},{"$f":"IF(DATA!NCN2=0,\"\",IFERROR(DATA!NCN2,\"\"))","v":""},{"$f":"IF(DATA!NCO2=0,\"\",IFERROR(DATA!NCO2,\"\"))","v":""},{"$f":"IF(DATA!NCP2=0,\"\",IFERROR(DATA!NCP2,\"\"))","v":""},{"$f":"IF(DATA!NCQ2=0,\"\",IFERROR(DATA!NCQ2,\"\"))","v":""},{"$f":"IF(DATA!NCR2=0,\"\",IFERROR(DATA!NCR2,\"\"))","v":""},{"$f":"IF(DATA!NCS2=0,\"\",IFERROR(DATA!NCS2,\"\"))","v":""},{"$f":"IF(DATA!NCT2=0,\"\",IFERROR(DATA!NCT2,\"\"))","v":""},{"$f":"IF(DATA!NCU2=0,\"\",IFERROR(DATA!NCU2,\"\"))","v":""},{"$f":"IF(DATA!NCV2=0,\"\",IFERROR(DATA!NCV2,\"\"))","v":""},{"$f":"IF(DATA!NCW2=0,\"\",IFERROR(DATA!NCW2,\"\"))","v":""},{"$f":"IF(DATA!NCX2=0,\"\",IFERROR(DATA!NCX2,\"\"))","v":""},{"$f":"IF(DATA!NCY2=0,\"\",IFERROR(DATA!NCY2,\"\"))","v":""},{"$f":"IF(DATA!NCZ2=0,\"\",IFERROR(DATA!NCZ2,\"\"))","v":""},{"$f":"IF(DATA!NDA2=0,\"\",IFERROR(DATA!NDA2,\"\"))","v":""},{"$f":"IF(DATA!NDB2=0,\"\",IFERROR(DATA!NDB2,\"\"))","v":""},{"$f":"IF(DATA!NDC2=0,\"\",IFERROR(DATA!NDC2,\"\"))","v":""},{"$f":"IF(DATA!NDD2=0,\"\",IFERROR(DATA!NDD2,\"\"))","v":""},{"$f":"IF(DATA!NDE2=0,\"\",IFERROR(DATA!NDE2,\"\"))","v":""},{"$f":"IF(DATA!NDF2=0,\"\",IFERROR(DATA!NDF2,\"\"))","v":""},{"$f":"IF(DATA!NDG2=0,\"\",IFERROR(DATA!NDG2,\"\"))","v":""},{"$f":"IF(DATA!NDH2=0,\"\",IFERROR(DATA!NDH2,\"\"))","v":""},{"$f":"IF(DATA!NDI2=0,\"\",IFERROR(DATA!NDI2,\"\"))","v":""},{"$f":"IF(DATA!NDJ2=0,\"\",IFERROR(DATA!NDJ2,\"\"))","v":""},{"$f":"IF(DATA!NDK2=0,\"\",IFERROR(DATA!NDK2,\"\"))","v":""},{"$f":"IF(DATA!NDL2=0,\"\",IFERROR(DATA!NDL2,\"\"))","v":""},{"$f":"IF(DATA!NDM2=0,\"\",IFERROR(DATA!NDM2,\"\"))","v":""},{"$f":"IF(DATA!NDN2=0,\"\",IFERROR(DATA!NDN2,\"\"))","v":""},{"$f":"IF(DATA!NDO2=0,\"\",IFERROR(DATA!NDO2,\"\"))","v":""},{"$f":"IF(DATA!NDP2=0,\"\",IFERROR(DATA!NDP2,\"\"))","v":""},{"$f":"IF(DATA!NDQ2=0,\"\",IFERROR(DATA!NDQ2,\"\"))","v":""},{"$f":"IF(DATA!NDR2=0,\"\",IFERROR(DATA!NDR2,\"\"))","v":""},{"$f":"IF(DATA!NDS2=0,\"\",IFERROR(DATA!NDS2,\"\"))","v":""},{"$f":"IF(DATA!NDT2=0,\"\",IFERROR(DATA!NDT2,\"\"))","v":""},{"$f":"IF(DATA!NDU2=0,\"\",IFERROR(DATA!NDU2,\"\"))","v":""},{"$f":"IF(DATA!NDV2=0,\"\",IFERROR(DATA!NDV2,\"\"))","v":""},{"$f":"IF(DATA!NDW2=0,\"\",IFERROR(DATA!NDW2,\"\"))","v":""},{"$f":"IF(DATA!NDX2=0,\"\",IFERROR(DATA!NDX2,\"\"))","v":""},{"$f":"IF(DATA!NDY2=0,\"\",IFERROR(DATA!NDY2,\"\"))","v":""},{"$f":"IF(DATA!NDZ2=0,\"\",IFERROR(DATA!NDZ2,\"\"))","v":""},{"$f":"IF(DATA!NEA2=0,\"\",IFERROR(DATA!NEA2,\"\"))","v":""},{"$f":"IF(DATA!NEB2=0,\"\",IFERROR(DATA!NEB2,\"\"))","v":""},{"$f":"IF(DATA!NEC2=0,\"\",IFERROR(DATA!NEC2,\"\"))","v":""},{"$f":"IF(DATA!NED2=0,\"\",IFERROR(DATA!NED2,\"\"))","v":""},{"$f":"IF(DATA!NEE2=0,\"\",IFERROR(DATA!NEE2,\"\"))","v":""},{"$f":"IF(DATA!NEF2=0,\"\",IFERROR(DATA!NEF2,\"\"))","v":""},{"$f":"IF(DATA!NEG2=0,\"\",IFERROR(DATA!NEG2,\"\"))","v":""},{"$f":"IF(DATA!NEH2=0,\"\",IFERROR(DATA!NEH2,\"\"))","v":""},{"$f":"IF(DATA!NEI2=0,\"\",IFERROR(DATA!NEI2,\"\"))","v":""},{"$f":"IF(DATA!NEJ2=0,\"\",IFERROR(DATA!NEJ2,\"\"))","v":""},{"$f":"IF(DATA!NEK2=0,\"\",IFERROR(DATA!NEK2,\"\"))","v":""},{"$f":"IF(DATA!NEL2=0,\"\",IFERROR(DATA!NEL2,\"\"))","v":""},{"$f":"IF(DATA!NEM2=0,\"\",IFERROR(DATA!NEM2,\"\"))","v":""},{"$f":"IF(DATA!NEN2=0,\"\",IFERROR(DATA!NEN2,\"\"))","v":""},{"$f":"IF(DATA!NEO2=0,\"\",IFERROR(DATA!NEO2,\"\"))","v":""},{"$f":"IF(DATA!NEP2=0,\"\",IFERROR(DATA!NEP2,\"\"))","v":""},{"$f":"IF(DATA!NEQ2=0,\"\",IFERROR(DATA!NEQ2,\"\"))","v":""},{"$f":"IF(DATA!NER2=0,\"\",IFERROR(DATA!NER2,\"\"))","v":""},{"$f":"IF(DATA!NES2=0,\"\",IFERROR(DATA!NES2,\"\"))","v":""},{"$f":"IF(DATA!NET2=0,\"\",IFERROR(DATA!NET2,\"\"))","v":""},{"$f":"IF(DATA!NEU2=0,\"\",IFERROR(DATA!NEU2,\"\"))","v":""},{"$f":"IF(DATA!NEV2=0,\"\",IFERROR(DATA!NEV2,\"\"))","v":""},{"$f":"IF(DATA!NEW2=0,\"\",IFERROR(DATA!NEW2,\"\"))","v":""},{"$f":"IF(DATA!NEX2=0,\"\",IFERROR(DATA!NEX2,\"\"))","v":""},{"$f":"IF(DATA!NEY2=0,\"\",IFERROR(DATA!NEY2,\"\"))","v":""},{"$f":"IF(DATA!NEZ2=0,\"\",IFERROR(DATA!NEZ2,\"\"))","v":""},{"$f":"IF(DATA!NFA2=0,\"\",IFERROR(DATA!NFA2,\"\"))","v":""},{"$f":"IF(DATA!NFB2=0,\"\",IFERROR(DATA!NFB2,\"\"))","v":""},{"$f":"IF(DATA!NFC2=0,\"\",IFERROR(DATA!NFC2,\"\"))","v":""},{"$f":"IF(DATA!NFD2=0,\"\",IFERROR(DATA!NFD2,\"\"))","v":""},{"$f":"IF(DATA!NFE2=0,\"\",IFERROR(DATA!NFE2,\"\"))","v":""},{"$f":"IF(DATA!NFF2=0,\"\",IFERROR(DATA!NFF2,\"\"))","v":""},{"$f":"IF(DATA!NFG2=0,\"\",IFERROR(DATA!NFG2,\"\"))","v":""},{"$f":"IF(DATA!NFH2=0,\"\",IFERROR(DATA!NFH2,\"\"))","v":""},{"$f":"IF(DATA!NFI2=0,\"\",IFERROR(DATA!NFI2,\"\"))","v":""},{"$f":"IF(DATA!NFJ2=0,\"\",IFERROR(DATA!NFJ2,\"\"))","v":""},{"$f":"IF(DATA!NFK2=0,\"\",IFERROR(DATA!NFK2,\"\"))","v":""},{"$f":"IF(DATA!NFL2=0,\"\",IFERROR(DATA!NFL2,\"\"))","v":""},{"$f":"IF(DATA!NFM2=0,\"\",IFERROR(DATA!NFM2,\"\"))","v":""},{"$f":"IF(DATA!NFN2=0,\"\",IFERROR(DATA!NFN2,\"\"))","v":""},{"$f":"IF(DATA!NFO2=0,\"\",IFERROR(DATA!NFO2,\"\"))","v":""},{"$f":"IF(DATA!NFP2=0,\"\",IFERROR(DATA!NFP2,\"\"))","v":""},{"$f":"IF(DATA!NFQ2=0,\"\",IFERROR(DATA!NFQ2,\"\"))","v":""},{"$f":"IF(DATA!NFR2=0,\"\",IFERROR(DATA!NFR2,\"\"))","v":""},{"$f":"IF(DATA!NFS2=0,\"\",IFERROR(DATA!NFS2,\"\"))","v":""},{"$f":"IF(DATA!NFT2=0,\"\",IFERROR(DATA!NFT2,\"\"))","v":""},{"$f":"IF(DATA!NFU2=0,\"\",IFERROR(DATA!NFU2,\"\"))","v":""},{"$f":"IF(DATA!NFV2=0,\"\",IFERROR(DATA!NFV2,\"\"))","v":""},{"$f":"IF(DATA!NFW2=0,\"\",IFERROR(DATA!NFW2,\"\"))","v":""},{"$f":"IF(DATA!NFX2=0,\"\",IFERROR(DATA!NFX2,\"\"))","v":""},{"$f":"IF(DATA!NFY2=0,\"\",IFERROR(DATA!NFY2,\"\"))","v":""},{"$f":"IF(DATA!NFZ2=0,\"\",IFERROR(DATA!NFZ2,\"\"))","v":""},{"$f":"IF(DATA!NGA2=0,\"\",IFERROR(DATA!NGA2,\"\"))","v":""},{"$f":"IF(DATA!NGB2=0,\"\",IFERROR(DATA!NGB2,\"\"))","v":""},{"$f":"IF(DATA!NGC2=0,\"\",IFERROR(DATA!NGC2,\"\"))","v":""},{"$f":"IF(DATA!NGD2=0,\"\",IFERROR(DATA!NGD2,\"\"))","v":""},{"$f":"IF(DATA!NGE2=0,\"\",IFERROR(DATA!NGE2,\"\"))","v":""},{"$f":"IF(DATA!NGF2=0,\"\",IFERROR(DATA!NGF2,\"\"))","v":""},{"$f":"IF(DATA!NGG2=0,\"\",IFERROR(DATA!NGG2,\"\"))","v":""},{"$f":"IF(DATA!NGH2=0,\"\",IFERROR(DATA!NGH2,\"\"))","v":""},{"$f":"IF(DATA!NGI2=0,\"\",IFERROR(DATA!NGI2,\"\"))","v":""},{"$f":"IF(DATA!NGJ2=0,\"\",IFERROR(DATA!NGJ2,\"\"))","v":""},{"$f":"IF(DATA!NGK2=0,\"\",IFERROR(DATA!NGK2,\"\"))","v":""},{"$f":"IF(DATA!NGL2=0,\"\",IFERROR(DATA!NGL2,\"\"))","v":""},{"$f":"IF(DATA!NGM2=0,\"\",IFERROR(DATA!NGM2,\"\"))","v":""},{"$f":"IF(DATA!NGN2=0,\"\",IFERROR(DATA!NGN2,\"\"))","v":""},{"$f":"IF(DATA!NGO2=0,\"\",IFERROR(DATA!NGO2,\"\"))","v":""},{"$f":"IF(DATA!NGP2=0,\"\",IFERROR(DATA!NGP2,\"\"))","v":""},{"$f":"IF(DATA!NGQ2=0,\"\",IFERROR(DATA!NGQ2,\"\"))","v":""},{"$f":"IF(DATA!NGR2=0,\"\",IFERROR(DATA!NGR2,\"\"))","v":""},{"$f":"IF(DATA!NGS2=0,\"\",IFERROR(DATA!NGS2,\"\"))","v":""},{"$f":"IF(DATA!NGT2=0,\"\",IFERROR(DATA!NGT2,\"\"))","v":""},{"$f":"IF(DATA!NGU2=0,\"\",IFERROR(DATA!NGU2,\"\"))","v":""},{"$f":"IF(DATA!NGV2=0,\"\",IFERROR(DATA!NGV2,\"\"))","v":""},{"$f":"IF(DATA!NGW2=0,\"\",IFERROR(DATA!NGW2,\"\"))","v":""},{"$f":"IF(DATA!NGX2=0,\"\",IFERROR(DATA!NGX2,\"\"))","v":""},{"$f":"IF(DATA!NGY2=0,\"\",IFERROR(DATA!NGY2,\"\"))","v":""},{"$f":"IF(DATA!NGZ2=0,\"\",IFERROR(DATA!NGZ2,\"\"))","v":""},{"$f":"IF(DATA!NHA2=0,\"\",IFERROR(DATA!NHA2,\"\"))","v":""},{"$f":"IF(DATA!NHB2=0,\"\",IFERROR(DATA!NHB2,\"\"))","v":""},{"$f":"IF(DATA!NHC2=0,\"\",IFERROR(DATA!NHC2,\"\"))","v":""},{"$f":"IF(DATA!NHD2=0,\"\",IFERROR(DATA!NHD2,\"\"))","v":""},{"$f":"IF(DATA!NHE2=0,\"\",IFERROR(DATA!NHE2,\"\"))","v":""},{"$f":"IF(DATA!NHF2=0,\"\",IFERROR(DATA!NHF2,\"\"))","v":""},{"$f":"IF(DATA!NHG2=0,\"\",IFERROR(DATA!NHG2,\"\"))","v":""},{"$f":"IF(DATA!NHH2=0,\"\",IFERROR(DATA!NHH2,\"\"))","v":""},{"$f":"IF(DATA!NHI2=0,\"\",IFERROR(DATA!NHI2,\"\"))","v":""},{"$f":"IF(DATA!NHJ2=0,\"\",IFERROR(DATA!NHJ2,\"\"))","v":""},{"$f":"IF(DATA!NHK2=0,\"\",IFERROR(DATA!NHK2,\"\"))","v":""},{"$f":"IF(DATA!NHL2=0,\"\",IFERROR(DATA!NHL2,\"\"))","v":""},{"$f":"IF(DATA!NHM2=0,\"\",IFERROR(DATA!NHM2,\"\"))","v":""},{"$f":"IF(DATA!NHN2=0,\"\",IFERROR(DATA!NHN2,\"\"))","v":""},{"$f":"IF(DATA!NHO2=0,\"\",IFERROR(DATA!NHO2,\"\"))","v":""},{"$f":"IF(DATA!NHP2=0,\"\",IFERROR(DATA!NHP2,\"\"))","v":""},{"$f":"IF(DATA!NHQ2=0,\"\",IFERROR(DATA!NHQ2,\"\"))","v":""},{"$f":"IF(DATA!NHR2=0,\"\",IFERROR(DATA!NHR2,\"\"))","v":""},{"$f":"IF(DATA!NHS2=0,\"\",IFERROR(DATA!NHS2,\"\"))","v":""},{"$f":"IF(DATA!NHT2=0,\"\",IFERROR(DATA!NHT2,\"\"))","v":""},{"$f":"IF(DATA!NHU2=0,\"\",IFERROR(DATA!NHU2,\"\"))","v":""},{"$f":"IF(DATA!NHV2=0,\"\",IFERROR(DATA!NHV2,\"\"))","v":""},{"$f":"IF(DATA!NHW2=0,\"\",IFERROR(DATA!NHW2,\"\"))","v":""},{"$f":"IF(DATA!NHX2=0,\"\",IFERROR(DATA!NHX2,\"\"))","v":""},{"$f":"IF(DATA!NHY2=0,\"\",IFERROR(DATA!NHY2,\"\"))","v":""},{"$f":"IF(DATA!NHZ2=0,\"\",IFERROR(DATA!NHZ2,\"\"))","v":""},{"$f":"IF(DATA!NIA2=0,\"\",IFERROR(DATA!NIA2,\"\"))","v":""},{"$f":"IF(DATA!NIB2=0,\"\",IFERROR(DATA!NIB2,\"\"))","v":""},{"$f":"IF(DATA!NIC2=0,\"\",IFERROR(DATA!NIC2,\"\"))","v":""},{"$f":"IF(DATA!NID2=0,\"\",IFERROR(DATA!NID2,\"\"))","v":""},{"$f":"IF(DATA!NIE2=0,\"\",IFERROR(DATA!NIE2,\"\"))","v":""},{"$f":"IF(DATA!NIF2=0,\"\",IFERROR(DATA!NIF2,\"\"))","v":""},{"$f":"IF(DATA!NIG2=0,\"\",IFERROR(DATA!NIG2,\"\"))","v":""},{"$f":"IF(DATA!NIH2=0,\"\",IFERROR(DATA!NIH2,\"\"))","v":""},{"$f":"IF(DATA!NII2=0,\"\",IFERROR(DATA!NII2,\"\"))","v":""},{"$f":"IF(DATA!NIJ2=0,\"\",IFERROR(DATA!NIJ2,\"\"))","v":""},{"$f":"IF(DATA!NIK2=0,\"\",IFERROR(DATA!NIK2,\"\"))","v":""},{"$f":"IF(DATA!NIL2=0,\"\",IFERROR(DATA!NIL2,\"\"))","v":""},{"$f":"IF(DATA!NIM2=0,\"\",IFERROR(DATA!NIM2,\"\"))","v":""},{"$f":"IF(DATA!NIN2=0,\"\",IFERROR(DATA!NIN2,\"\"))","v":""},{"$f":"IF(DATA!NIO2=0,\"\",IFERROR(DATA!NIO2,\"\"))","v":""},{"$f":"IF(DATA!NIP2=0,\"\",IFERROR(DATA!NIP2,\"\"))","v":""},{"$f":"IF(DATA!NIQ2=0,\"\",IFERROR(DATA!NIQ2,\"\"))","v":""},{"$f":"IF(DATA!NIR2=0,\"\",IFERROR(DATA!NIR2,\"\"))","v":""},{"$f":"IF(DATA!NIS2=0,\"\",IFERROR(DATA!NIS2,\"\"))","v":""},{"$f":"IF(DATA!NIT2=0,\"\",IFERROR(DATA!NIT2,\"\"))","v":""},{"$f":"IF(DATA!NIU2=0,\"\",IFERROR(DATA!NIU2,\"\"))","v":""},{"$f":"IF(DATA!NIV2=0,\"\",IFERROR(DATA!NIV2,\"\"))","v":""},{"$f":"IF(DATA!NIW2=0,\"\",IFERROR(DATA!NIW2,\"\"))","v":""},{"$f":"IF(DATA!NIX2=0,\"\",IFERROR(DATA!NIX2,\"\"))","v":""},{"$f":"IF(DATA!NIY2=0,\"\",IFERROR(DATA!NIY2,\"\"))","v":""},{"$f":"IF(DATA!NIZ2=0,\"\",IFERROR(DATA!NIZ2,\"\"))","v":""},{"$f":"IF(DATA!NJA2=0,\"\",IFERROR(DATA!NJA2,\"\"))","v":""},{"$f":"IF(DATA!NJB2=0,\"\",IFERROR(DATA!NJB2,\"\"))","v":""},{"$f":"IF(DATA!NJC2=0,\"\",IFERROR(DATA!NJC2,\"\"))","v":""},{"$f":"IF(DATA!NJD2=0,\"\",IFERROR(DATA!NJD2,\"\"))","v":""},{"$f":"IF(DATA!NJE2=0,\"\",IFERROR(DATA!NJE2,\"\"))","v":""},{"$f":"IF(DATA!NJF2=0,\"\",IFERROR(DATA!NJF2,\"\"))","v":""},{"$f":"IF(DATA!NJG2=0,\"\",IFERROR(DATA!NJG2,\"\"))","v":""},{"$f":"IF(DATA!NJH2=0,\"\",IFERROR(DATA!NJH2,\"\"))","v":""},{"$f":"IF(DATA!NJI2=0,\"\",IFERROR(DATA!NJI2,\"\"))","v":""},{"$f":"IF(DATA!NJJ2=0,\"\",IFERROR(DATA!NJJ2,\"\"))","v":""},{"$f":"IF(DATA!NJK2=0,\"\",IFERROR(DATA!NJK2,\"\"))","v":""},{"$f":"IF(DATA!NJL2=0,\"\",IFERROR(DATA!NJL2,\"\"))","v":""},{"$f":"IF(DATA!NJM2=0,\"\",IFERROR(DATA!NJM2,\"\"))","v":""},{"$f":"IF(DATA!NJN2=0,\"\",IFERROR(DATA!NJN2,\"\"))","v":""},{"$f":"IF(DATA!NJO2=0,\"\",IFERROR(DATA!NJO2,\"\"))","v":""},{"$f":"IF(DATA!NJP2=0,\"\",IFERROR(DATA!NJP2,\"\"))","v":""},{"$f":"IF(DATA!NJQ2=0,\"\",IFERROR(DATA!NJQ2,\"\"))","v":""},{"$f":"IF(DATA!NJR2=0,\"\",IFERROR(DATA!NJR2,\"\"))","v":""},{"$f":"IF(DATA!NJS2=0,\"\",IFERROR(DATA!NJS2,\"\"))","v":""},{"$f":"IF(DATA!NJT2=0,\"\",IFERROR(DATA!NJT2,\"\"))","v":""},{"$f":"IF(DATA!NJU2=0,\"\",IFERROR(DATA!NJU2,\"\"))","v":""},{"$f":"IF(DATA!NJV2=0,\"\",IFERROR(DATA!NJV2,\"\"))","v":""},{"$f":"IF(DATA!NJW2=0,\"\",IFERROR(DATA!NJW2,\"\"))","v":""},{"$f":"IF(DATA!NJX2=0,\"\",IFERROR(DATA!NJX2,\"\"))","v":""},{"$f":"IF(DATA!NJY2=0,\"\",IFERROR(DATA!NJY2,\"\"))","v":""},{"$f":"IF(DATA!NJZ2=0,\"\",IFERROR(DATA!NJZ2,\"\"))","v":""},{"$f":"IF(DATA!NKA2=0,\"\",IFERROR(DATA!NKA2,\"\"))","v":""},{"$f":"IF(DATA!NKB2=0,\"\",IFERROR(DATA!NKB2,\"\"))","v":""},{"$f":"IF(DATA!NKC2=0,\"\",IFERROR(DATA!NKC2,\"\"))","v":""},{"$f":"IF(DATA!NKD2=0,\"\",IFERROR(DATA!NKD2,\"\"))","v":""},{"$f":"IF(DATA!NKE2=0,\"\",IFERROR(DATA!NKE2,\"\"))","v":""},{"$f":"IF(DATA!NKF2=0,\"\",IFERROR(DATA!NKF2,\"\"))","v":""},{"$f":"IF(DATA!NKG2=0,\"\",IFERROR(DATA!NKG2,\"\"))","v":""},{"$f":"IF(DATA!NKH2=0,\"\",IFERROR(DATA!NKH2,\"\"))","v":""},{"$f":"IF(DATA!NKI2=0,\"\",IFERROR(DATA!NKI2,\"\"))","v":""},{"$f":"IF(DATA!NKJ2=0,\"\",IFERROR(DATA!NKJ2,\"\"))","v":""},{"$f":"IF(DATA!NKK2=0,\"\",IFERROR(DATA!NKK2,\"\"))","v":""},{"$f":"IF(DATA!NKL2=0,\"\",IFERROR(DATA!NKL2,\"\"))","v":""},{"$f":"IF(DATA!NKM2=0,\"\",IFERROR(DATA!NKM2,\"\"))","v":""},{"$f":"IF(DATA!NKN2=0,\"\",IFERROR(DATA!NKN2,\"\"))","v":""},{"$f":"IF(DATA!NKO2=0,\"\",IFERROR(DATA!NKO2,\"\"))","v":""},{"$f":"IF(DATA!NKP2=0,\"\",IFERROR(DATA!NKP2,\"\"))","v":""},{"$f":"IF(DATA!NKQ2=0,\"\",IFERROR(DATA!NKQ2,\"\"))","v":""},{"$f":"IF(DATA!NKR2=0,\"\",IFERROR(DATA!NKR2,\"\"))","v":""},{"$f":"IF(DATA!NKS2=0,\"\",IFERROR(DATA!NKS2,\"\"))","v":""},{"$f":"IF(DATA!NKT2=0,\"\",IFERROR(DATA!NKT2,\"\"))","v":""},{"$f":"IF(DATA!NKU2=0,\"\",IFERROR(DATA!NKU2,\"\"))","v":""},{"$f":"IF(DATA!NKV2=0,\"\",IFERROR(DATA!NKV2,\"\"))","v":""},{"$f":"IF(DATA!NKW2=0,\"\",IFERROR(DATA!NKW2,\"\"))","v":""},{"$f":"IF(DATA!NKX2=0,\"\",IFERROR(DATA!NKX2,\"\"))","v":""},{"$f":"IF(DATA!NKY2=0,\"\",IFERROR(DATA!NKY2,\"\"))","v":""},{"$f":"IF(DATA!NKZ2=0,\"\",IFERROR(DATA!NKZ2,\"\"))","v":""},{"$f":"IF(DATA!NLA2=0,\"\",IFERROR(DATA!NLA2,\"\"))","v":""},{"$f":"IF(DATA!NLB2=0,\"\",IFERROR(DATA!NLB2,\"\"))","v":""},{"$f":"IF(DATA!NLC2=0,\"\",IFERROR(DATA!NLC2,\"\"))","v":""},{"$f":"IF(DATA!NLD2=0,\"\",IFERROR(DATA!NLD2,\"\"))","v":""},{"$f":"IF(DATA!NLE2=0,\"\",IFERROR(DATA!NLE2,\"\"))","v":""},{"$f":"IF(DATA!NLF2=0,\"\",IFERROR(DATA!NLF2,\"\"))","v":""},{"$f":"IF(DATA!NLG2=0,\"\",IFERROR(DATA!NLG2,\"\"))","v":""},{"$f":"IF(DATA!NLH2=0,\"\",IFERROR(DATA!NLH2,\"\"))","v":""},{"$f":"IF(DATA!NLI2=0,\"\",IFERROR(DATA!NLI2,\"\"))","v":""},{"$f":"IF(DATA!NLJ2=0,\"\",IFERROR(DATA!NLJ2,\"\"))","v":""},{"$f":"IF(DATA!NLK2=0,\"\",IFERROR(DATA!NLK2,\"\"))","v":""},{"$f":"IF(DATA!NLL2=0,\"\",IFERROR(DATA!NLL2,\"\"))","v":""},{"$f":"IF(DATA!NLM2=0,\"\",IFERROR(DATA!NLM2,\"\"))","v":""},{"$f":"IF(DATA!NLN2=0,\"\",IFERROR(DATA!NLN2,\"\"))","v":""},{"$f":"IF(DATA!NLO2=0,\"\",IFERROR(DATA!NLO2,\"\"))","v":""},{"$f":"IF(DATA!NLP2=0,\"\",IFERROR(DATA!NLP2,\"\"))","v":""},{"$f":"IF(DATA!NLQ2=0,\"\",IFERROR(DATA!NLQ2,\"\"))","v":""},{"$f":"IF(DATA!NLR2=0,\"\",IFERROR(DATA!NLR2,\"\"))","v":""},{"$f":"IF(DATA!NLS2=0,\"\",IFERROR(DATA!NLS2,\"\"))","v":""},{"$f":"IF(DATA!NLT2=0,\"\",IFERROR(DATA!NLT2,\"\"))","v":""},{"$f":"IF(DATA!NLU2=0,\"\",IFERROR(DATA!NLU2,\"\"))","v":""},{"$f":"IF(DATA!NLV2=0,\"\",IFERROR(DATA!NLV2,\"\"))","v":""},{"$f":"IF(DATA!NLW2=0,\"\",IFERROR(DATA!NLW2,\"\"))","v":""},{"$f":"IF(DATA!NLX2=0,\"\",IFERROR(DATA!NLX2,\"\"))","v":""},{"$f":"IF(DATA!NLY2=0,\"\",IFERROR(DATA!NLY2,\"\"))","v":""},{"$f":"IF(DATA!NLZ2=0,\"\",IFERROR(DATA!NLZ2,\"\"))","v":""},{"$f":"IF(DATA!NMA2=0,\"\",IFERROR(DATA!NMA2,\"\"))","v":""},{"$f":"IF(DATA!NMB2=0,\"\",IFERROR(DATA!NMB2,\"\"))","v":""},{"$f":"IF(DATA!NMC2=0,\"\",IFERROR(DATA!NMC2,\"\"))","v":""},{"$f":"IF(DATA!NMD2=0,\"\",IFERROR(DATA!NMD2,\"\"))","v":""},{"$f":"IF(DATA!NME2=0,\"\",IFERROR(DATA!NME2,\"\"))","v":""},{"$f":"IF(DATA!NMF2=0,\"\",IFERROR(DATA!NMF2,\"\"))","v":""},{"$f":"IF(DATA!NMG2=0,\"\",IFERROR(DATA!NMG2,\"\"))","v":""},{"$f":"IF(DATA!NMH2=0,\"\",IFERROR(DATA!NMH2,\"\"))","v":""},{"$f":"IF(DATA!NMI2=0,\"\",IFERROR(DATA!NMI2,\"\"))","v":""},{"$f":"IF(DATA!NMJ2=0,\"\",IFERROR(DATA!NMJ2,\"\"))","v":""},{"$f":"IF(DATA!NMK2=0,\"\",IFERROR(DATA!NMK2,\"\"))","v":""},{"$f":"IF(DATA!NML2=0,\"\",IFERROR(DATA!NML2,\"\"))","v":""},{"$f":"IF(DATA!NMM2=0,\"\",IFERROR(DATA!NMM2,\"\"))","v":""},{"$f":"IF(DATA!NMN2=0,\"\",IFERROR(DATA!NMN2,\"\"))","v":""},{"$f":"IF(DATA!NMO2=0,\"\",IFERROR(DATA!NMO2,\"\"))","v":""},{"$f":"IF(DATA!NMP2=0,\"\",IFERROR(DATA!NMP2,\"\"))","v":""},{"$f":"IF(DATA!NMQ2=0,\"\",IFERROR(DATA!NMQ2,\"\"))","v":""},{"$f":"IF(DATA!NMR2=0,\"\",IFERROR(DATA!NMR2,\"\"))","v":""},{"$f":"IF(DATA!NMS2=0,\"\",IFERROR(DATA!NMS2,\"\"))","v":""},{"$f":"IF(DATA!NMT2=0,\"\",IFERROR(DATA!NMT2,\"\"))","v":""},{"$f":"IF(DATA!NMU2=0,\"\",IFERROR(DATA!NMU2,\"\"))","v":""},{"$f":"IF(DATA!NMV2=0,\"\",IFERROR(DATA!NMV2,\"\"))","v":""},{"$f":"IF(DATA!NMW2=0,\"\",IFERROR(DATA!NMW2,\"\"))","v":""},{"$f":"IF(DATA!NMX2=0,\"\",IFERROR(DATA!NMX2,\"\"))","v":""},{"$f":"IF(DATA!NMY2=0,\"\",IFERROR(DATA!NMY2,\"\"))","v":""},{"$f":"IF(DATA!NMZ2=0,\"\",IFERROR(DATA!NMZ2,\"\"))","v":""},{"$f":"IF(DATA!NNA2=0,\"\",IFERROR(DATA!NNA2,\"\"))","v":""},{"$f":"IF(DATA!NNB2=0,\"\",IFERROR(DATA!NNB2,\"\"))","v":""},{"$f":"IF(DATA!NNC2=0,\"\",IFERROR(DATA!NNC2,\"\"))","v":""},{"$f":"IF(DATA!NND2=0,\"\",IFERROR(DATA!NND2,\"\"))","v":""},{"$f":"IF(DATA!NNE2=0,\"\",IFERROR(DATA!NNE2,\"\"))","v":""},{"$f":"IF(DATA!NNF2=0,\"\",IFERROR(DATA!NNF2,\"\"))","v":""},{"$f":"IF(DATA!NNG2=0,\"\",IFERROR(DATA!NNG2,\"\"))","v":""},{"$f":"IF(DATA!NNH2=0,\"\",IFERROR(DATA!NNH2,\"\"))","v":""},{"$f":"IF(DATA!NNI2=0,\"\",IFERROR(DATA!NNI2,\"\"))","v":""},{"$f":"IF(DATA!NNJ2=0,\"\",IFERROR(DATA!NNJ2,\"\"))","v":""},{"$f":"IF(DATA!NNK2=0,\"\",IFERROR(DATA!NNK2,\"\"))","v":""},{"$f":"IF(DATA!NNL2=0,\"\",IFERROR(DATA!NNL2,\"\"))","v":""},{"$f":"IF(DATA!NNM2=0,\"\",IFERROR(DATA!NNM2,\"\"))","v":""},{"$f":"IF(DATA!NNN2=0,\"\",IFERROR(DATA!NNN2,\"\"))","v":""},{"$f":"IF(DATA!NNO2=0,\"\",IFERROR(DATA!NNO2,\"\"))","v":""},{"$f":"IF(DATA!NNP2=0,\"\",IFERROR(DATA!NNP2,\"\"))","v":""},{"$f":"IF(DATA!NNQ2=0,\"\",IFERROR(DATA!NNQ2,\"\"))","v":""},{"$f":"IF(DATA!NNR2=0,\"\",IFERROR(DATA!NNR2,\"\"))","v":""},{"$f":"IF(DATA!NNS2=0,\"\",IFERROR(DATA!NNS2,\"\"))","v":""},{"$f":"IF(DATA!NNT2=0,\"\",IFERROR(DATA!NNT2,\"\"))","v":""},{"$f":"IF(DATA!NNU2=0,\"\",IFERROR(DATA!NNU2,\"\"))","v":""},{"$f":"IF(DATA!NNV2=0,\"\",IFERROR(DATA!NNV2,\"\"))","v":""},{"$f":"IF(DATA!NNW2=0,\"\",IFERROR(DATA!NNW2,\"\"))","v":""},{"$f":"IF(DATA!NNX2=0,\"\",IFERROR(DATA!NNX2,\"\"))","v":""},{"$f":"IF(DATA!NNY2=0,\"\",IFERROR(DATA!NNY2,\"\"))","v":""},{"$f":"IF(DATA!NNZ2=0,\"\",IFERROR(DATA!NNZ2,\"\"))","v":""},{"$f":"IF(DATA!NOA2=0,\"\",IFERROR(DATA!NOA2,\"\"))","v":""},{"$f":"IF(DATA!NOB2=0,\"\",IFERROR(DATA!NOB2,\"\"))","v":""},{"$f":"IF(DATA!NOC2=0,\"\",IFERROR(DATA!NOC2,\"\"))","v":""},{"$f":"IF(DATA!NOD2=0,\"\",IFERROR(DATA!NOD2,\"\"))","v":""},{"$f":"IF(DATA!NOE2=0,\"\",IFERROR(DATA!NOE2,\"\"))","v":""},{"$f":"IF(DATA!NOF2=0,\"\",IFERROR(DATA!NOF2,\"\"))","v":""},{"$f":"IF(DATA!NOG2=0,\"\",IFERROR(DATA!NOG2,\"\"))","v":""},{"$f":"IF(DATA!NOH2=0,\"\",IFERROR(DATA!NOH2,\"\"))","v":""},{"$f":"IF(DATA!NOI2=0,\"\",IFERROR(DATA!NOI2,\"\"))","v":""},{"$f":"IF(DATA!NOJ2=0,\"\",IFERROR(DATA!NOJ2,\"\"))","v":""},{"$f":"IF(DATA!NOK2=0,\"\",IFERROR(DATA!NOK2,\"\"))","v":""},{"$f":"IF(DATA!NOL2=0,\"\",IFERROR(DATA!NOL2,\"\"))","v":""},{"$f":"IF(DATA!NOM2=0,\"\",IFERROR(DATA!NOM2,\"\"))","v":""},{"$f":"IF(DATA!NON2=0,\"\",IFERROR(DATA!NON2,\"\"))","v":""},{"$f":"IF(DATA!NOO2=0,\"\",IFERROR(DATA!NOO2,\"\"))","v":""},{"$f":"IF(DATA!NOP2=0,\"\",IFERROR(DATA!NOP2,\"\"))","v":""},{"$f":"IF(DATA!NOQ2=0,\"\",IFERROR(DATA!NOQ2,\"\"))","v":""},{"$f":"IF(DATA!NOR2=0,\"\",IFERROR(DATA!NOR2,\"\"))","v":""},{"$f":"IF(DATA!NOS2=0,\"\",IFERROR(DATA!NOS2,\"\"))","v":""},{"$f":"IF(DATA!NOT2=0,\"\",IFERROR(DATA!NOT2,\"\"))","v":""},{"$f":"IF(DATA!NOU2=0,\"\",IFERROR(DATA!NOU2,\"\"))","v":""},{"$f":"IF(DATA!NOV2=0,\"\",IFERROR(DATA!NOV2,\"\"))","v":""},{"$f":"IF(DATA!NOW2=0,\"\",IFERROR(DATA!NOW2,\"\"))","v":""},{"$f":"IF(DATA!NOX2=0,\"\",IFERROR(DATA!NOX2,\"\"))","v":""},{"$f":"IF(DATA!NOY2=0,\"\",IFERROR(DATA!NOY2,\"\"))","v":""},{"$f":"IF(DATA!NOZ2=0,\"\",IFERROR(DATA!NOZ2,\"\"))","v":""},{"$f":"IF(DATA!NPA2=0,\"\",IFERROR(DATA!NPA2,\"\"))","v":""},{"$f":"IF(DATA!NPB2=0,\"\",IFERROR(DATA!NPB2,\"\"))","v":""},{"$f":"IF(DATA!NPC2=0,\"\",IFERROR(DATA!NPC2,\"\"))","v":""},{"$f":"IF(DATA!NPD2=0,\"\",IFERROR(DATA!NPD2,\"\"))","v":""},{"$f":"IF(DATA!NPE2=0,\"\",IFERROR(DATA!NPE2,\"\"))","v":""},{"$f":"IF(DATA!NPF2=0,\"\",IFERROR(DATA!NPF2,\"\"))","v":""},{"$f":"IF(DATA!NPG2=0,\"\",IFERROR(DATA!NPG2,\"\"))","v":""},{"$f":"IF(DATA!NPH2=0,\"\",IFERROR(DATA!NPH2,\"\"))","v":""},{"$f":"IF(DATA!NPI2=0,\"\",IFERROR(DATA!NPI2,\"\"))","v":""},{"$f":"IF(DATA!NPJ2=0,\"\",IFERROR(DATA!NPJ2,\"\"))","v":""},{"$f":"IF(DATA!NPK2=0,\"\",IFERROR(DATA!NPK2,\"\"))","v":""},{"$f":"IF(DATA!NPL2=0,\"\",IFERROR(DATA!NPL2,\"\"))","v":""},{"$f":"IF(DATA!NPM2=0,\"\",IFERROR(DATA!NPM2,\"\"))","v":""},{"$f":"IF(DATA!NPN2=0,\"\",IFERROR(DATA!NPN2,\"\"))","v":""},{"$f":"IF(DATA!NPO2=0,\"\",IFERROR(DATA!NPO2,\"\"))","v":""},{"$f":"IF(DATA!NPP2=0,\"\",IFERROR(DATA!NPP2,\"\"))","v":""},{"$f":"IF(DATA!NPQ2=0,\"\",IFERROR(DATA!NPQ2,\"\"))","v":""},{"$f":"IF(DATA!NPR2=0,\"\",IFERROR(DATA!NPR2,\"\"))","v":""},{"$f":"IF(DATA!NPS2=0,\"\",IFERROR(DATA!NPS2,\"\"))","v":""},{"$f":"IF(DATA!NPT2=0,\"\",IFERROR(DATA!NPT2,\"\"))","v":""},{"$f":"IF(DATA!NPU2=0,\"\",IFERROR(DATA!NPU2,\"\"))","v":""},{"$f":"IF(DATA!NPV2=0,\"\",IFERROR(DATA!NPV2,\"\"))","v":""},{"$f":"IF(DATA!NPW2=0,\"\",IFERROR(DATA!NPW2,\"\"))","v":""},{"$f":"IF(DATA!NPX2=0,\"\",IFERROR(DATA!NPX2,\"\"))","v":""},{"$f":"IF(DATA!NPY2=0,\"\",IFERROR(DATA!NPY2,\"\"))","v":""},{"$f":"IF(DATA!NPZ2=0,\"\",IFERROR(DATA!NPZ2,\"\"))","v":""},{"$f":"IF(DATA!NQA2=0,\"\",IFERROR(DATA!NQA2,\"\"))","v":""},{"$f":"IF(DATA!NQB2=0,\"\",IFERROR(DATA!NQB2,\"\"))","v":""},{"$f":"IF(DATA!NQC2=0,\"\",IFERROR(DATA!NQC2,\"\"))","v":""},{"$f":"IF(DATA!NQD2=0,\"\",IFERROR(DATA!NQD2,\"\"))","v":""},{"$f":"IF(DATA!NQE2=0,\"\",IFERROR(DATA!NQE2,\"\"))","v":""},{"$f":"IF(DATA!NQF2=0,\"\",IFERROR(DATA!NQF2,\"\"))","v":""},{"$f":"IF(DATA!NQG2=0,\"\",IFERROR(DATA!NQG2,\"\"))","v":""},{"$f":"IF(DATA!NQH2=0,\"\",IFERROR(DATA!NQH2,\"\"))","v":""},{"$f":"IF(DATA!NQI2=0,\"\",IFERROR(DATA!NQI2,\"\"))","v":""},{"$f":"IF(DATA!NQJ2=0,\"\",IFERROR(DATA!NQJ2,\"\"))","v":""},{"$f":"IF(DATA!NQK2=0,\"\",IFERROR(DATA!NQK2,\"\"))","v":""},{"$f":"IF(DATA!NQL2=0,\"\",IFERROR(DATA!NQL2,\"\"))","v":""},{"$f":"IF(DATA!NQM2=0,\"\",IFERROR(DATA!NQM2,\"\"))","v":""},{"$f":"IF(DATA!NQN2=0,\"\",IFERROR(DATA!NQN2,\"\"))","v":""},{"$f":"IF(DATA!NQO2=0,\"\",IFERROR(DATA!NQO2,\"\"))","v":""},{"$f":"IF(DATA!NQP2=0,\"\",IFERROR(DATA!NQP2,\"\"))","v":""},{"$f":"IF(DATA!NQQ2=0,\"\",IFERROR(DATA!NQQ2,\"\"))","v":""},{"$f":"IF(DATA!NQR2=0,\"\",IFERROR(DATA!NQR2,\"\"))","v":""},{"$f":"IF(DATA!NQS2=0,\"\",IFERROR(DATA!NQS2,\"\"))","v":""},{"$f":"IF(DATA!NQT2=0,\"\",IFERROR(DATA!NQT2,\"\"))","v":""},{"$f":"IF(DATA!NQU2=0,\"\",IFERROR(DATA!NQU2,\"\"))","v":""},{"$f":"IF(DATA!NQV2=0,\"\",IFERROR(DATA!NQV2,\"\"))","v":""},{"$f":"IF(DATA!NQW2=0,\"\",IFERROR(DATA!NQW2,\"\"))","v":""},{"$f":"IF(DATA!NQX2=0,\"\",IFERROR(DATA!NQX2,\"\"))","v":""},{"$f":"IF(DATA!NQY2=0,\"\",IFERROR(DATA!NQY2,\"\"))","v":""},{"$f":"IF(DATA!NQZ2=0,\"\",IFERROR(DATA!NQZ2,\"\"))","v":""},{"$f":"IF(DATA!NRA2=0,\"\",IFERROR(DATA!NRA2,\"\"))","v":""},{"$f":"IF(DATA!NRB2=0,\"\",IFERROR(DATA!NRB2,\"\"))","v":""},{"$f":"IF(DATA!NRC2=0,\"\",IFERROR(DATA!NRC2,\"\"))","v":""},{"$f":"IF(DATA!NRD2=0,\"\",IFERROR(DATA!NRD2,\"\"))","v":""},{"$f":"IF(DATA!NRE2=0,\"\",IFERROR(DATA!NRE2,\"\"))","v":""},{"$f":"IF(DATA!NRF2=0,\"\",IFERROR(DATA!NRF2,\"\"))","v":""},{"$f":"IF(DATA!NRG2=0,\"\",IFERROR(DATA!NRG2,\"\"))","v":""},{"$f":"IF(DATA!NRH2=0,\"\",IFERROR(DATA!NRH2,\"\"))","v":""},{"$f":"IF(DATA!NRI2=0,\"\",IFERROR(DATA!NRI2,\"\"))","v":""},{"$f":"IF(DATA!NRJ2=0,\"\",IFERROR(DATA!NRJ2,\"\"))","v":""},{"$f":"IF(DATA!NRK2=0,\"\",IFERROR(DATA!NRK2,\"\"))","v":""},{"$f":"IF(DATA!NRL2=0,\"\",IFERROR(DATA!NRL2,\"\"))","v":""},{"$f":"IF(DATA!NRM2=0,\"\",IFERROR(DATA!NRM2,\"\"))","v":""},{"$f":"IF(DATA!NRN2=0,\"\",IFERROR(DATA!NRN2,\"\"))","v":""},{"$f":"IF(DATA!NRO2=0,\"\",IFERROR(DATA!NRO2,\"\"))","v":""},{"$f":"IF(DATA!NRP2=0,\"\",IFERROR(DATA!NRP2,\"\"))","v":""},{"$f":"IF(DATA!NRQ2=0,\"\",IFERROR(DATA!NRQ2,\"\"))","v":""},{"$f":"IF(DATA!NRR2=0,\"\",IFERROR(DATA!NRR2,\"\"))","v":""},{"$f":"IF(DATA!NRS2=0,\"\",IFERROR(DATA!NRS2,\"\"))","v":""},{"$f":"IF(DATA!NRT2=0,\"\",IFERROR(DATA!NRT2,\"\"))","v":""},{"$f":"IF(DATA!NRU2=0,\"\",IFERROR(DATA!NRU2,\"\"))","v":""},{"$f":"IF(DATA!NRV2=0,\"\",IFERROR(DATA!NRV2,\"\"))","v":""},{"$f":"IF(DATA!NRW2=0,\"\",IFERROR(DATA!NRW2,\"\"))","v":""},{"$f":"IF(DATA!NRX2=0,\"\",IFERROR(DATA!NRX2,\"\"))","v":""},{"$f":"IF(DATA!NRY2=0,\"\",IFERROR(DATA!NRY2,\"\"))","v":""},{"$f":"IF(DATA!NRZ2=0,\"\",IFERROR(DATA!NRZ2,\"\"))","v":""},{"$f":"IF(DATA!NSA2=0,\"\",IFERROR(DATA!NSA2,\"\"))","v":""},{"$f":"IF(DATA!NSB2=0,\"\",IFERROR(DATA!NSB2,\"\"))","v":""},{"$f":"IF(DATA!NSC2=0,\"\",IFERROR(DATA!NSC2,\"\"))","v":""},{"$f":"IF(DATA!NSD2=0,\"\",IFERROR(DATA!NSD2,\"\"))","v":""},{"$f":"IF(DATA!NSE2=0,\"\",IFERROR(DATA!NSE2,\"\"))","v":""},{"$f":"IF(DATA!NSF2=0,\"\",IFERROR(DATA!NSF2,\"\"))","v":""},{"$f":"IF(DATA!NSG2=0,\"\",IFERROR(DATA!NSG2,\"\"))","v":""},{"$f":"IF(DATA!NSH2=0,\"\",IFERROR(DATA!NSH2,\"\"))","v":""},{"$f":"IF(DATA!NSI2=0,\"\",IFERROR(DATA!NSI2,\"\"))","v":""},{"$f":"IF(DATA!NSJ2=0,\"\",IFERROR(DATA!NSJ2,\"\"))","v":""},{"$f":"IF(DATA!NSK2=0,\"\",IFERROR(DATA!NSK2,\"\"))","v":""},{"$f":"IF(DATA!NSL2=0,\"\",IFERROR(DATA!NSL2,\"\"))","v":""},{"$f":"IF(DATA!NSM2=0,\"\",IFERROR(DATA!NSM2,\"\"))","v":""},{"$f":"IF(DATA!NSN2=0,\"\",IFERROR(DATA!NSN2,\"\"))","v":""},{"$f":"IF(DATA!NSO2=0,\"\",IFERROR(DATA!NSO2,\"\"))","v":""},{"$f":"IF(DATA!NSP2=0,\"\",IFERROR(DATA!NSP2,\"\"))","v":""},{"$f":"IF(DATA!NSQ2=0,\"\",IFERROR(DATA!NSQ2,\"\"))","v":""},{"$f":"IF(DATA!NSR2=0,\"\",IFERROR(DATA!NSR2,\"\"))","v":""},{"$f":"IF(DATA!NSS2=0,\"\",IFERROR(DATA!NSS2,\"\"))","v":""},{"$f":"IF(DATA!NST2=0,\"\",IFERROR(DATA!NST2,\"\"))","v":""},{"$f":"IF(DATA!NSU2=0,\"\",IFERROR(DATA!NSU2,\"\"))","v":""},{"$f":"IF(DATA!NSV2=0,\"\",IFERROR(DATA!NSV2,\"\"))","v":""},{"$f":"IF(DATA!NSW2=0,\"\",IFERROR(DATA!NSW2,\"\"))","v":""},{"$f":"IF(DATA!NSX2=0,\"\",IFERROR(DATA!NSX2,\"\"))","v":""},{"$f":"IF(DATA!NSY2=0,\"\",IFERROR(DATA!NSY2,\"\"))","v":""},{"$f":"IF(DATA!NSZ2=0,\"\",IFERROR(DATA!NSZ2,\"\"))","v":""},{"$f":"IF(DATA!NTA2=0,\"\",IFERROR(DATA!NTA2,\"\"))","v":""},{"$f":"IF(DATA!NTB2=0,\"\",IFERROR(DATA!NTB2,\"\"))","v":""},{"$f":"IF(DATA!NTC2=0,\"\",IFERROR(DATA!NTC2,\"\"))","v":""},{"$f":"IF(DATA!NTD2=0,\"\",IFERROR(DATA!NTD2,\"\"))","v":""},{"$f":"IF(DATA!NTE2=0,\"\",IFERROR(DATA!NTE2,\"\"))","v":""},{"$f":"IF(DATA!NTF2=0,\"\",IFERROR(DATA!NTF2,\"\"))","v":""},{"$f":"IF(DATA!NTG2=0,\"\",IFERROR(DATA!NTG2,\"\"))","v":""},{"$f":"IF(DATA!NTH2=0,\"\",IFERROR(DATA!NTH2,\"\"))","v":""},{"$f":"IF(DATA!NTI2=0,\"\",IFERROR(DATA!NTI2,\"\"))","v":""},{"$f":"IF(DATA!NTJ2=0,\"\",IFERROR(DATA!NTJ2,\"\"))","v":""},{"$f":"IF(DATA!NTK2=0,\"\",IFERROR(DATA!NTK2,\"\"))","v":""},{"$f":"IF(DATA!NTL2=0,\"\",IFERROR(DATA!NTL2,\"\"))","v":""},{"$f":"IF(DATA!NTM2=0,\"\",IFERROR(DATA!NTM2,\"\"))","v":""},{"$f":"IF(DATA!NTN2=0,\"\",IFERROR(DATA!NTN2,\"\"))","v":""},{"$f":"IF(DATA!NTO2=0,\"\",IFERROR(DATA!NTO2,\"\"))","v":""},{"$f":"IF(DATA!NTP2=0,\"\",IFERROR(DATA!NTP2,\"\"))","v":""},{"$f":"IF(DATA!NTQ2=0,\"\",IFERROR(DATA!NTQ2,\"\"))","v":""},{"$f":"IF(DATA!NTR2=0,\"\",IFERROR(DATA!NTR2,\"\"))","v":""},{"$f":"IF(DATA!NTS2=0,\"\",IFERROR(DATA!NTS2,\"\"))","v":""},{"$f":"IF(DATA!NTT2=0,\"\",IFERROR(DATA!NTT2,\"\"))","v":""},{"$f":"IF(DATA!NTU2=0,\"\",IFERROR(DATA!NTU2,\"\"))","v":""},{"$f":"IF(DATA!NTV2=0,\"\",IFERROR(DATA!NTV2,\"\"))","v":""},{"$f":"IF(DATA!NTW2=0,\"\",IFERROR(DATA!NTW2,\"\"))","v":""},{"$f":"IF(DATA!NTX2=0,\"\",IFERROR(DATA!NTX2,\"\"))","v":""},{"$f":"IF(DATA!NTY2=0,\"\",IFERROR(DATA!NTY2,\"\"))","v":""},{"$f":"IF(DATA!NTZ2=0,\"\",IFERROR(DATA!NTZ2,\"\"))","v":""},{"$f":"IF(DATA!NUA2=0,\"\",IFERROR(DATA!NUA2,\"\"))","v":""},{"$f":"IF(DATA!NUB2=0,\"\",IFERROR(DATA!NUB2,\"\"))","v":""},{"$f":"IF(DATA!NUC2=0,\"\",IFERROR(DATA!NUC2,\"\"))","v":""},{"$f":"IF(DATA!NUD2=0,\"\",IFERROR(DATA!NUD2,\"\"))","v":""},{"$f":"IF(DATA!NUE2=0,\"\",IFERROR(DATA!NUE2,\"\"))","v":""},{"$f":"IF(DATA!NUF2=0,\"\",IFERROR(DATA!NUF2,\"\"))","v":""},{"$f":"IF(DATA!NUG2=0,\"\",IFERROR(DATA!NUG2,\"\"))","v":""},{"$f":"IF(DATA!NUH2=0,\"\",IFERROR(DATA!NUH2,\"\"))","v":""},{"$f":"IF(DATA!NUI2=0,\"\",IFERROR(DATA!NUI2,\"\"))","v":""},{"$f":"IF(DATA!NUJ2=0,\"\",IFERROR(DATA!NUJ2,\"\"))","v":""},{"$f":"IF(DATA!NUK2=0,\"\",IFERROR(DATA!NUK2,\"\"))","v":""},{"$f":"IF(DATA!NUL2=0,\"\",IFERROR(DATA!NUL2,\"\"))","v":""},{"$f":"IF(DATA!NUM2=0,\"\",IFERROR(DATA!NUM2,\"\"))","v":""},{"$f":"IF(DATA!NUN2=0,\"\",IFERROR(DATA!NUN2,\"\"))","v":""},{"$f":"IF(DATA!NUO2=0,\"\",IFERROR(DATA!NUO2,\"\"))","v":""},{"$f":"IF(DATA!NUP2=0,\"\",IFERROR(DATA!NUP2,\"\"))","v":""},{"$f":"IF(DATA!NUQ2=0,\"\",IFERROR(DATA!NUQ2,\"\"))","v":""},{"$f":"IF(DATA!NUR2=0,\"\",IFERROR(DATA!NUR2,\"\"))","v":""},{"$f":"IF(DATA!NUS2=0,\"\",IFERROR(DATA!NUS2,\"\"))","v":""},{"$f":"IF(DATA!NUT2=0,\"\",IFERROR(DATA!NUT2,\"\"))","v":""},{"$f":"IF(DATA!NUU2=0,\"\",IFERROR(DATA!NUU2,\"\"))","v":""},{"$f":"IF(DATA!NUV2=0,\"\",IFERROR(DATA!NUV2,\"\"))","v":""},{"$f":"IF(DATA!NUW2=0,\"\",IFERROR(DATA!NUW2,\"\"))","v":""},{"$f":"IF(DATA!NUX2=0,\"\",IFERROR(DATA!NUX2,\"\"))","v":""},{"$f":"IF(DATA!NUY2=0,\"\",IFERROR(DATA!NUY2,\"\"))","v":""},{"$f":"IF(DATA!NUZ2=0,\"\",IFERROR(DATA!NUZ2,\"\"))","v":""},{"$f":"IF(DATA!NVA2=0,\"\",IFERROR(DATA!NVA2,\"\"))","v":""},{"$f":"IF(DATA!NVB2=0,\"\",IFERROR(DATA!NVB2,\"\"))","v":""},{"$f":"IF(DATA!NVC2=0,\"\",IFERROR(DATA!NVC2,\"\"))","v":""},{"$f":"IF(DATA!NVD2=0,\"\",IFERROR(DATA!NVD2,\"\"))","v":""},{"$f":"IF(DATA!NVE2=0,\"\",IFERROR(DATA!NVE2,\"\"))","v":""},{"$f":"IF(DATA!NVF2=0,\"\",IFERROR(DATA!NVF2,\"\"))","v":""},{"$f":"IF(DATA!NVG2=0,\"\",IFERROR(DATA!NVG2,\"\"))","v":""},{"$f":"IF(DATA!NVH2=0,\"\",IFERROR(DATA!NVH2,\"\"))","v":""},{"$f":"IF(DATA!NVI2=0,\"\",IFERROR(DATA!NVI2,\"\"))","v":""},{"$f":"IF(DATA!NVJ2=0,\"\",IFERROR(DATA!NVJ2,\"\"))","v":""},{"$f":"IF(DATA!NVK2=0,\"\",IFERROR(DATA!NVK2,\"\"))","v":""},{"$f":"IF(DATA!NVL2=0,\"\",IFERROR(DATA!NVL2,\"\"))","v":""},{"$f":"IF(DATA!NVM2=0,\"\",IFERROR(DATA!NVM2,\"\"))","v":""},{"$f":"IF(DATA!NVN2=0,\"\",IFERROR(DATA!NVN2,\"\"))","v":""},{"$f":"IF(DATA!NVO2=0,\"\",IFERROR(DATA!NVO2,\"\"))","v":""},{"$f":"IF(DATA!NVP2=0,\"\",IFERROR(DATA!NVP2,\"\"))","v":""},{"$f":"IF(DATA!NVQ2=0,\"\",IFERROR(DATA!NVQ2,\"\"))","v":""},{"$f":"IF(DATA!NVR2=0,\"\",IFERROR(DATA!NVR2,\"\"))","v":""},{"$f":"IF(DATA!NVS2=0,\"\",IFERROR(DATA!NVS2,\"\"))","v":""},{"$f":"IF(DATA!NVT2=0,\"\",IFERROR(DATA!NVT2,\"\"))","v":""},{"$f":"IF(DATA!NVU2=0,\"\",IFERROR(DATA!NVU2,\"\"))","v":""},{"$f":"IF(DATA!NVV2=0,\"\",IFERROR(DATA!NVV2,\"\"))","v":""},{"$f":"IF(DATA!NVW2=0,\"\",IFERROR(DATA!NVW2,\"\"))","v":""},{"$f":"IF(DATA!NVX2=0,\"\",IFERROR(DATA!NVX2,\"\"))","v":""},{"$f":"IF(DATA!NVY2=0,\"\",IFERROR(DATA!NVY2,\"\"))","v":""},{"$f":"IF(DATA!NVZ2=0,\"\",IFERROR(DATA!NVZ2,\"\"))","v":""},{"$f":"IF(DATA!NWA2=0,\"\",IFERROR(DATA!NWA2,\"\"))","v":""},{"$f":"IF(DATA!NWB2=0,\"\",IFERROR(DATA!NWB2,\"\"))","v":""},{"$f":"IF(DATA!NWC2=0,\"\",IFERROR(DATA!NWC2,\"\"))","v":""},{"$f":"IF(DATA!NWD2=0,\"\",IFERROR(DATA!NWD2,\"\"))","v":""},{"$f":"IF(DATA!NWE2=0,\"\",IFERROR(DATA!NWE2,\"\"))","v":""},{"$f":"IF(DATA!NWF2=0,\"\",IFERROR(DATA!NWF2,\"\"))","v":""},{"$f":"IF(DATA!NWG2=0,\"\",IFERROR(DATA!NWG2,\"\"))","v":""},{"$f":"IF(DATA!NWH2=0,\"\",IFERROR(DATA!NWH2,\"\"))","v":""},{"$f":"IF(DATA!NWI2=0,\"\",IFERROR(DATA!NWI2,\"\"))","v":""},{"$f":"IF(DATA!NWJ2=0,\"\",IFERROR(DATA!NWJ2,\"\"))","v":""},{"$f":"IF(DATA!NWK2=0,\"\",IFERROR(DATA!NWK2,\"\"))","v":""},{"$f":"IF(DATA!NWL2=0,\"\",IFERROR(DATA!NWL2,\"\"))","v":""},{"$f":"IF(DATA!NWM2=0,\"\",IFERROR(DATA!NWM2,\"\"))","v":""},{"$f":"IF(DATA!NWN2=0,\"\",IFERROR(DATA!NWN2,\"\"))","v":""},{"$f":"IF(DATA!NWO2=0,\"\",IFERROR(DATA!NWO2,\"\"))","v":""},{"$f":"IF(DATA!NWP2=0,\"\",IFERROR(DATA!NWP2,\"\"))","v":""},{"$f":"IF(DATA!NWQ2=0,\"\",IFERROR(DATA!NWQ2,\"\"))","v":""},{"$f":"IF(DATA!NWR2=0,\"\",IFERROR(DATA!NWR2,\"\"))","v":""},{"$f":"IF(DATA!NWS2=0,\"\",IFERROR(DATA!NWS2,\"\"))","v":""},{"$f":"IF(DATA!NWT2=0,\"\",IFERROR(DATA!NWT2,\"\"))","v":""},{"$f":"IF(DATA!NWU2=0,\"\",IFERROR(DATA!NWU2,\"\"))","v":""},{"$f":"IF(DATA!NWV2=0,\"\",IFERROR(DATA!NWV2,\"\"))","v":""},{"$f":"IF(DATA!NWW2=0,\"\",IFERROR(DATA!NWW2,\"\"))","v":""},{"$f":"IF(DATA!NWX2=0,\"\",IFERROR(DATA!NWX2,\"\"))","v":""},{"$f":"IF(DATA!NWY2=0,\"\",IFERROR(DATA!NWY2,\"\"))","v":""},{"$f":"IF(DATA!NWZ2=0,\"\",IFERROR(DATA!NWZ2,\"\"))","v":""},{"$f":"IF(DATA!NXA2=0,\"\",IFERROR(DATA!NXA2,\"\"))","v":""},{"$f":"IF(DATA!NXB2=0,\"\",IFERROR(DATA!NXB2,\"\"))","v":""},{"$f":"IF(DATA!NXC2=0,\"\",IFERROR(DATA!NXC2,\"\"))","v":""},{"$f":"IF(DATA!NXD2=0,\"\",IFERROR(DATA!NXD2,\"\"))","v":""},{"$f":"IF(DATA!NXE2=0,\"\",IFERROR(DATA!NXE2,\"\"))","v":""},{"$f":"IF(DATA!NXF2=0,\"\",IFERROR(DATA!NXF2,\"\"))","v":""},{"$f":"IF(DATA!NXG2=0,\"\",IFERROR(DATA!NXG2,\"\"))","v":""},{"$f":"IF(DATA!NXH2=0,\"\",IFERROR(DATA!NXH2,\"\"))","v":""},{"$f":"IF(DATA!NXI2=0,\"\",IFERROR(DATA!NXI2,\"\"))","v":""},{"$f":"IF(DATA!NXJ2=0,\"\",IFERROR(DATA!NXJ2,\"\"))","v":""},{"$f":"IF(DATA!NXK2=0,\"\",IFERROR(DATA!NXK2,\"\"))","v":""},{"$f":"IF(DATA!NXL2=0,\"\",IFERROR(DATA!NXL2,\"\"))","v":""},{"$f":"IF(DATA!NXM2=0,\"\",IFERROR(DATA!NXM2,\"\"))","v":""},{"$f":"IF(DATA!NXN2=0,\"\",IFERROR(DATA!NXN2,\"\"))","v":""},{"$f":"IF(DATA!NXO2=0,\"\",IFERROR(DATA!NXO2,\"\"))","v":""},{"$f":"IF(DATA!NXP2=0,\"\",IFERROR(DATA!NXP2,\"\"))","v":""},{"$f":"IF(DATA!NXQ2=0,\"\",IFERROR(DATA!NXQ2,\"\"))","v":""},{"$f":"IF(DATA!NXR2=0,\"\",IFERROR(DATA!NXR2,\"\"))","v":""},{"$f":"IF(DATA!NXS2=0,\"\",IFERROR(DATA!NXS2,\"\"))","v":""},{"$f":"IF(DATA!NXT2=0,\"\",IFERROR(DATA!NXT2,\"\"))","v":""},{"$f":"IF(DATA!NXU2=0,\"\",IFERROR(DATA!NXU2,\"\"))","v":""},{"$f":"IF(DATA!NXV2=0,\"\",IFERROR(DATA!NXV2,\"\"))","v":""},{"$f":"IF(DATA!NXW2=0,\"\",IFERROR(DATA!NXW2,\"\"))","v":""},{"$f":"IF(DATA!NXX2=0,\"\",IFERROR(DATA!NXX2,\"\"))","v":""},{"$f":"IF(DATA!NXY2=0,\"\",IFERROR(DATA!NXY2,\"\"))","v":""},{"$f":"IF(DATA!NXZ2=0,\"\",IFERROR(DATA!NXZ2,\"\"))","v":""},{"$f":"IF(DATA!NYA2=0,\"\",IFERROR(DATA!NYA2,\"\"))","v":""},{"$f":"IF(DATA!NYB2=0,\"\",IFERROR(DATA!NYB2,\"\"))","v":""},{"$f":"IF(DATA!NYC2=0,\"\",IFERROR(DATA!NYC2,\"\"))","v":""},{"$f":"IF(DATA!NYD2=0,\"\",IFERROR(DATA!NYD2,\"\"))","v":""},{"$f":"IF(DATA!NYE2=0,\"\",IFERROR(DATA!NYE2,\"\"))","v":""},{"$f":"IF(DATA!NYF2=0,\"\",IFERROR(DATA!NYF2,\"\"))","v":""},{"$f":"IF(DATA!NYG2=0,\"\",IFERROR(DATA!NYG2,\"\"))","v":""},{"$f":"IF(DATA!NYH2=0,\"\",IFERROR(DATA!NYH2,\"\"))","v":""},{"$f":"IF(DATA!NYI2=0,\"\",IFERROR(DATA!NYI2,\"\"))","v":""},{"$f":"IF(DATA!NYJ2=0,\"\",IFERROR(DATA!NYJ2,\"\"))","v":""},{"$f":"IF(DATA!NYK2=0,\"\",IFERROR(DATA!NYK2,\"\"))","v":""},{"$f":"IF(DATA!NYL2=0,\"\",IFERROR(DATA!NYL2,\"\"))","v":""},{"$f":"IF(DATA!NYM2=0,\"\",IFERROR(DATA!NYM2,\"\"))","v":""},{"$f":"IF(DATA!NYN2=0,\"\",IFERROR(DATA!NYN2,\"\"))","v":""},{"$f":"IF(DATA!NYO2=0,\"\",IFERROR(DATA!NYO2,\"\"))","v":""},{"$f":"IF(DATA!NYP2=0,\"\",IFERROR(DATA!NYP2,\"\"))","v":""},{"$f":"IF(DATA!NYQ2=0,\"\",IFERROR(DATA!NYQ2,\"\"))","v":""},{"$f":"IF(DATA!NYR2=0,\"\",IFERROR(DATA!NYR2,\"\"))","v":""},{"$f":"IF(DATA!NYS2=0,\"\",IFERROR(DATA!NYS2,\"\"))","v":""},{"$f":"IF(DATA!NYT2=0,\"\",IFERROR(DATA!NYT2,\"\"))","v":""},{"$f":"IF(DATA!NYU2=0,\"\",IFERROR(DATA!NYU2,\"\"))","v":""},{"$f":"IF(DATA!NYV2=0,\"\",IFERROR(DATA!NYV2,\"\"))","v":""},{"$f":"IF(DATA!NYW2=0,\"\",IFERROR(DATA!NYW2,\"\"))","v":""},{"$f":"IF(DATA!NYX2=0,\"\",IFERROR(DATA!NYX2,\"\"))","v":""},{"$f":"IF(DATA!NYY2=0,\"\",IFERROR(DATA!NYY2,\"\"))","v":""},{"$f":"IF(DATA!NYZ2=0,\"\",IFERROR(DATA!NYZ2,\"\"))","v":""},{"$f":"IF(DATA!NZA2=0,\"\",IFERROR(DATA!NZA2,\"\"))","v":""},{"$f":"IF(DATA!NZB2=0,\"\",IFERROR(DATA!NZB2,\"\"))","v":""},{"$f":"IF(DATA!NZC2=0,\"\",IFERROR(DATA!NZC2,\"\"))","v":""},{"$f":"IF(DATA!NZD2=0,\"\",IFERROR(DATA!NZD2,\"\"))","v":""},{"$f":"IF(DATA!NZE2=0,\"\",IFERROR(DATA!NZE2,\"\"))","v":""},{"$f":"IF(DATA!NZF2=0,\"\",IFERROR(DATA!NZF2,\"\"))","v":""},{"$f":"IF(DATA!NZG2=0,\"\",IFERROR(DATA!NZG2,\"\"))","v":""},{"$f":"IF(DATA!NZH2=0,\"\",IFERROR(DATA!NZH2,\"\"))","v":""},{"$f":"IF(DATA!NZI2=0,\"\",IFERROR(DATA!NZI2,\"\"))","v":""},{"$f":"IF(DATA!NZJ2=0,\"\",IFERROR(DATA!NZJ2,\"\"))","v":""},{"$f":"IF(DATA!NZK2=0,\"\",IFERROR(DATA!NZK2,\"\"))","v":""},{"$f":"IF(DATA!NZL2=0,\"\",IFERROR(DATA!NZL2,\"\"))","v":""},{"$f":"IF(DATA!NZM2=0,\"\",IFERROR(DATA!NZM2,\"\"))","v":""},{"$f":"IF(DATA!NZN2=0,\"\",IFERROR(DATA!NZN2,\"\"))","v":""},{"$f":"IF(DATA!NZO2=0,\"\",IFERROR(DATA!NZO2,\"\"))","v":""},{"$f":"IF(DATA!NZP2=0,\"\",IFERROR(DATA!NZP2,\"\"))","v":""},{"$f":"IF(DATA!NZQ2=0,\"\",IFERROR(DATA!NZQ2,\"\"))","v":""},{"$f":"IF(DATA!NZR2=0,\"\",IFERROR(DATA!NZR2,\"\"))","v":""},{"$f":"IF(DATA!NZS2=0,\"\",IFERROR(DATA!NZS2,\"\"))","v":""},{"$f":"IF(DATA!NZT2=0,\"\",IFERROR(DATA!NZT2,\"\"))","v":""},{"$f":"IF(DATA!NZU2=0,\"\",IFERROR(DATA!NZU2,\"\"))","v":""},{"$f":"IF(DATA!NZV2=0,\"\",IFERROR(DATA!NZV2,\"\"))","v":""},{"$f":"IF(DATA!NZW2=0,\"\",IFERROR(DATA!NZW2,\"\"))","v":""},{"$f":"IF(DATA!NZX2=0,\"\",IFERROR(DATA!NZX2,\"\"))","v":""},{"$f":"IF(DATA!NZY2=0,\"\",IFERROR(DATA!NZY2,\"\"))","v":""},{"$f":"IF(DATA!NZZ2=0,\"\",IFERROR(DATA!NZZ2,\"\"))","v":""},{"$f":"IF(DATA!OAA2=0,\"\",IFERROR(DATA!OAA2,\"\"))","v":""},{"$f":"IF(DATA!OAB2=0,\"\",IFERROR(DATA!OAB2,\"\"))","v":""},{"$f":"IF(DATA!OAC2=0,\"\",IFERROR(DATA!OAC2,\"\"))","v":""},{"$f":"IF(DATA!OAD2=0,\"\",IFERROR(DATA!OAD2,\"\"))","v":""},{"$f":"IF(DATA!OAE2=0,\"\",IFERROR(DATA!OAE2,\"\"))","v":""},{"$f":"IF(DATA!OAF2=0,\"\",IFERROR(DATA!OAF2,\"\"))","v":""},{"$f":"IF(DATA!OAG2=0,\"\",IFERROR(DATA!OAG2,\"\"))","v":""},{"$f":"IF(DATA!OAH2=0,\"\",IFERROR(DATA!OAH2,\"\"))","v":""},{"$f":"IF(DATA!OAI2=0,\"\",IFERROR(DATA!OAI2,\"\"))","v":""},{"$f":"IF(DATA!OAJ2=0,\"\",IFERROR(DATA!OAJ2,\"\"))","v":""},{"$f":"IF(DATA!OAK2=0,\"\",IFERROR(DATA!OAK2,\"\"))","v":""},{"$f":"IF(DATA!OAL2=0,\"\",IFERROR(DATA!OAL2,\"\"))","v":""},{"$f":"IF(DATA!OAM2=0,\"\",IFERROR(DATA!OAM2,\"\"))","v":""},{"$f":"IF(DATA!OAN2=0,\"\",IFERROR(DATA!OAN2,\"\"))","v":""},{"$f":"IF(DATA!OAO2=0,\"\",IFERROR(DATA!OAO2,\"\"))","v":""},{"$f":"IF(DATA!OAP2=0,\"\",IFERROR(DATA!OAP2,\"\"))","v":""},{"$f":"IF(DATA!OAQ2=0,\"\",IFERROR(DATA!OAQ2,\"\"))","v":""},{"$f":"IF(DATA!OAR2=0,\"\",IFERROR(DATA!OAR2,\"\"))","v":""},{"$f":"IF(DATA!OAS2=0,\"\",IFERROR(DATA!OAS2,\"\"))","v":""},{"$f":"IF(DATA!OAT2=0,\"\",IFERROR(DATA!OAT2,\"\"))","v":""},{"$f":"IF(DATA!OAU2=0,\"\",IFERROR(DATA!OAU2,\"\"))","v":""},{"$f":"IF(DATA!OAV2=0,\"\",IFERROR(DATA!OAV2,\"\"))","v":""},{"$f":"IF(DATA!OAW2=0,\"\",IFERROR(DATA!OAW2,\"\"))","v":""},{"$f":"IF(DATA!OAX2=0,\"\",IFERROR(DATA!OAX2,\"\"))","v":""},{"$f":"IF(DATA!OAY2=0,\"\",IFERROR(DATA!OAY2,\"\"))","v":""},{"$f":"IF(DATA!OAZ2=0,\"\",IFERROR(DATA!OAZ2,\"\"))","v":""},{"$f":"IF(DATA!OBA2=0,\"\",IFERROR(DATA!OBA2,\"\"))","v":""},{"$f":"IF(DATA!OBB2=0,\"\",IFERROR(DATA!OBB2,\"\"))","v":""},{"$f":"IF(DATA!OBC2=0,\"\",IFERROR(DATA!OBC2,\"\"))","v":""},{"$f":"IF(DATA!OBD2=0,\"\",IFERROR(DATA!OBD2,\"\"))","v":""},{"$f":"IF(DATA!OBE2=0,\"\",IFERROR(DATA!OBE2,\"\"))","v":""},{"$f":"IF(DATA!OBF2=0,\"\",IFERROR(DATA!OBF2,\"\"))","v":""},{"$f":"IF(DATA!OBG2=0,\"\",IFERROR(DATA!OBG2,\"\"))","v":""},{"$f":"IF(DATA!OBH2=0,\"\",IFERROR(DATA!OBH2,\"\"))","v":""},{"$f":"IF(DATA!OBI2=0,\"\",IFERROR(DATA!OBI2,\"\"))","v":""},{"$f":"IF(DATA!OBJ2=0,\"\",IFERROR(DATA!OBJ2,\"\"))","v":""},{"$f":"IF(DATA!OBK2=0,\"\",IFERROR(DATA!OBK2,\"\"))","v":""},{"$f":"IF(DATA!OBL2=0,\"\",IFERROR(DATA!OBL2,\"\"))","v":""},{"$f":"IF(DATA!OBM2=0,\"\",IFERROR(DATA!OBM2,\"\"))","v":""},{"$f":"IF(DATA!OBN2=0,\"\",IFERROR(DATA!OBN2,\"\"))","v":""},{"$f":"IF(DATA!OBO2=0,\"\",IFERROR(DATA!OBO2,\"\"))","v":""},{"$f":"IF(DATA!OBP2=0,\"\",IFERROR(DATA!OBP2,\"\"))","v":""},{"$f":"IF(DATA!OBQ2=0,\"\",IFERROR(DATA!OBQ2,\"\"))","v":""},{"$f":"IF(DATA!OBR2=0,\"\",IFERROR(DATA!OBR2,\"\"))","v":""},{"$f":"IF(DATA!OBS2=0,\"\",IFERROR(DATA!OBS2,\"\"))","v":""},{"$f":"IF(DATA!OBT2=0,\"\",IFERROR(DATA!OBT2,\"\"))","v":""},{"$f":"IF(DATA!OBU2=0,\"\",IFERROR(DATA!OBU2,\"\"))","v":""},{"$f":"IF(DATA!OBV2=0,\"\",IFERROR(DATA!OBV2,\"\"))","v":""},{"$f":"IF(DATA!OBW2=0,\"\",IFERROR(DATA!OBW2,\"\"))","v":""},{"$f":"IF(DATA!OBX2=0,\"\",IFERROR(DATA!OBX2,\"\"))","v":""},{"$f":"IF(DATA!OBY2=0,\"\",IFERROR(DATA!OBY2,\"\"))","v":""},{"$f":"IF(DATA!OBZ2=0,\"\",IFERROR(DATA!OBZ2,\"\"))","v":""},{"$f":"IF(DATA!OCA2=0,\"\",IFERROR(DATA!OCA2,\"\"))","v":""},{"$f":"IF(DATA!OCB2=0,\"\",IFERROR(DATA!OCB2,\"\"))","v":""},{"$f":"IF(DATA!OCC2=0,\"\",IFERROR(DATA!OCC2,\"\"))","v":""},{"$f":"IF(DATA!OCD2=0,\"\",IFERROR(DATA!OCD2,\"\"))","v":""},{"$f":"IF(DATA!OCE2=0,\"\",IFERROR(DATA!OCE2,\"\"))","v":""},{"$f":"IF(DATA!OCF2=0,\"\",IFERROR(DATA!OCF2,\"\"))","v":""},{"$f":"IF(DATA!OCG2=0,\"\",IFERROR(DATA!OCG2,\"\"))","v":""},{"$f":"IF(DATA!OCH2=0,\"\",IFERROR(DATA!OCH2,\"\"))","v":""},{"$f":"IF(DATA!OCI2=0,\"\",IFERROR(DATA!OCI2,\"\"))","v":""},{"$f":"IF(DATA!OCJ2=0,\"\",IFERROR(DATA!OCJ2,\"\"))","v":""},{"$f":"IF(DATA!OCK2=0,\"\",IFERROR(DATA!OCK2,\"\"))","v":""},{"$f":"IF(DATA!OCL2=0,\"\",IFERROR(DATA!OCL2,\"\"))","v":""},{"$f":"IF(DATA!OCM2=0,\"\",IFERROR(DATA!OCM2,\"\"))","v":""},{"$f":"IF(DATA!OCN2=0,\"\",IFERROR(DATA!OCN2,\"\"))","v":""},{"$f":"IF(DATA!OCO2=0,\"\",IFERROR(DATA!OCO2,\"\"))","v":""},{"$f":"IF(DATA!OCP2=0,\"\",IFERROR(DATA!OCP2,\"\"))","v":""},{"$f":"IF(DATA!OCQ2=0,\"\",IFERROR(DATA!OCQ2,\"\"))","v":""},{"$f":"IF(DATA!OCR2=0,\"\",IFERROR(DATA!OCR2,\"\"))","v":""},{"$f":"IF(DATA!OCS2=0,\"\",IFERROR(DATA!OCS2,\"\"))","v":""},{"$f":"IF(DATA!OCT2=0,\"\",IFERROR(DATA!OCT2,\"\"))","v":""},{"$f":"IF(DATA!OCU2=0,\"\",IFERROR(DATA!OCU2,\"\"))","v":""},{"$f":"IF(DATA!OCV2=0,\"\",IFERROR(DATA!OCV2,\"\"))","v":""},{"$f":"IF(DATA!OCW2=0,\"\",IFERROR(DATA!OCW2,\"\"))","v":""},{"$f":"IF(DATA!OCX2=0,\"\",IFERROR(DATA!OCX2,\"\"))","v":""},{"$f":"IF(DATA!OCY2=0,\"\",IFERROR(DATA!OCY2,\"\"))","v":""},{"$f":"IF(DATA!OCZ2=0,\"\",IFERROR(DATA!OCZ2,\"\"))","v":""},{"$f":"IF(DATA!ODA2=0,\"\",IFERROR(DATA!ODA2,\"\"))","v":""},{"$f":"IF(DATA!ODB2=0,\"\",IFERROR(DATA!ODB2,\"\"))","v":""},{"$f":"IF(DATA!ODC2=0,\"\",IFERROR(DATA!ODC2,\"\"))","v":""},{"$f":"IF(DATA!ODD2=0,\"\",IFERROR(DATA!ODD2,\"\"))","v":""},{"$f":"IF(DATA!ODE2=0,\"\",IFERROR(DATA!ODE2,\"\"))","v":""},{"$f":"IF(DATA!ODF2=0,\"\",IFERROR(DATA!ODF2,\"\"))","v":""},{"$f":"IF(DATA!ODG2=0,\"\",IFERROR(DATA!ODG2,\"\"))","v":""},{"$f":"IF(DATA!ODH2=0,\"\",IFERROR(DATA!ODH2,\"\"))","v":""},{"$f":"IF(DATA!ODI2=0,\"\",IFERROR(DATA!ODI2,\"\"))","v":""},{"$f":"IF(DATA!ODJ2=0,\"\",IFERROR(DATA!ODJ2,\"\"))","v":""},{"$f":"IF(DATA!ODK2=0,\"\",IFERROR(DATA!ODK2,\"\"))","v":""},{"$f":"IF(DATA!ODL2=0,\"\",IFERROR(DATA!ODL2,\"\"))","v":""},{"$f":"IF(DATA!ODM2=0,\"\",IFERROR(DATA!ODM2,\"\"))","v":""},{"$f":"IF(DATA!ODN2=0,\"\",IFERROR(DATA!ODN2,\"\"))","v":""},{"$f":"IF(DATA!ODO2=0,\"\",IFERROR(DATA!ODO2,\"\"))","v":""},{"$f":"IF(DATA!ODP2=0,\"\",IFERROR(DATA!ODP2,\"\"))","v":""},{"$f":"IF(DATA!ODQ2=0,\"\",IFERROR(DATA!ODQ2,\"\"))","v":""},{"$f":"IF(DATA!ODR2=0,\"\",IFERROR(DATA!ODR2,\"\"))","v":""},{"$f":"IF(DATA!ODS2=0,\"\",IFERROR(DATA!ODS2,\"\"))","v":""},{"$f":"IF(DATA!ODT2=0,\"\",IFERROR(DATA!ODT2,\"\"))","v":""},{"$f":"IF(DATA!ODU2=0,\"\",IFERROR(DATA!ODU2,\"\"))","v":""},{"$f":"IF(DATA!ODV2=0,\"\",IFERROR(DATA!ODV2,\"\"))","v":""},{"$f":"IF(DATA!ODW2=0,\"\",IFERROR(DATA!ODW2,\"\"))","v":""},{"$f":"IF(DATA!ODX2=0,\"\",IFERROR(DATA!ODX2,\"\"))","v":""},{"$f":"IF(DATA!ODY2=0,\"\",IFERROR(DATA!ODY2,\"\"))","v":""},{"$f":"IF(DATA!ODZ2=0,\"\",IFERROR(DATA!ODZ2,\"\"))","v":""},{"$f":"IF(DATA!OEA2=0,\"\",IFERROR(DATA!OEA2,\"\"))","v":""},{"$f":"IF(DATA!OEB2=0,\"\",IFERROR(DATA!OEB2,\"\"))","v":""},{"$f":"IF(DATA!OEC2=0,\"\",IFERROR(DATA!OEC2,\"\"))","v":""},{"$f":"IF(DATA!OED2=0,\"\",IFERROR(DATA!OED2,\"\"))","v":""},{"$f":"IF(DATA!OEE2=0,\"\",IFERROR(DATA!OEE2,\"\"))","v":""},{"$f":"IF(DATA!OEF2=0,\"\",IFERROR(DATA!OEF2,\"\"))","v":""},{"$f":"IF(DATA!OEG2=0,\"\",IFERROR(DATA!OEG2,\"\"))","v":""},{"$f":"IF(DATA!OEH2=0,\"\",IFERROR(DATA!OEH2,\"\"))","v":""},{"$f":"IF(DATA!OEI2=0,\"\",IFERROR(DATA!OEI2,\"\"))","v":""},{"$f":"IF(DATA!OEJ2=0,\"\",IFERROR(DATA!OEJ2,\"\"))","v":""},{"$f":"IF(DATA!OEK2=0,\"\",IFERROR(DATA!OEK2,\"\"))","v":""},{"$f":"IF(DATA!OEL2=0,\"\",IFERROR(DATA!OEL2,\"\"))","v":""},{"$f":"IF(DATA!OEM2=0,\"\",IFERROR(DATA!OEM2,\"\"))","v":""},{"$f":"IF(DATA!OEN2=0,\"\",IFERROR(DATA!OEN2,\"\"))","v":""},{"$f":"IF(DATA!OEO2=0,\"\",IFERROR(DATA!OEO2,\"\"))","v":""},{"$f":"IF(DATA!OEP2=0,\"\",IFERROR(DATA!OEP2,\"\"))","v":""},{"$f":"IF(DATA!OEQ2=0,\"\",IFERROR(DATA!OEQ2,\"\"))","v":""},{"$f":"IF(DATA!OER2=0,\"\",IFERROR(DATA!OER2,\"\"))","v":""},{"$f":"IF(DATA!OES2=0,\"\",IFERROR(DATA!OES2,\"\"))","v":""},{"$f":"IF(DATA!OET2=0,\"\",IFERROR(DATA!OET2,\"\"))","v":""},{"$f":"IF(DATA!OEU2=0,\"\",IFERROR(DATA!OEU2,\"\"))","v":""},{"$f":"IF(DATA!OEV2=0,\"\",IFERROR(DATA!OEV2,\"\"))","v":""},{"$f":"IF(DATA!OEW2=0,\"\",IFERROR(DATA!OEW2,\"\"))","v":""},{"$f":"IF(DATA!OEX2=0,\"\",IFERROR(DATA!OEX2,\"\"))","v":""},{"$f":"IF(DATA!OEY2=0,\"\",IFERROR(DATA!OEY2,\"\"))","v":""},{"$f":"IF(DATA!OEZ2=0,\"\",IFERROR(DATA!OEZ2,\"\"))","v":""},{"$f":"IF(DATA!OFA2=0,\"\",IFERROR(DATA!OFA2,\"\"))","v":""},{"$f":"IF(DATA!OFB2=0,\"\",IFERROR(DATA!OFB2,\"\"))","v":""},{"$f":"IF(DATA!OFC2=0,\"\",IFERROR(DATA!OFC2,\"\"))","v":""},{"$f":"IF(DATA!OFD2=0,\"\",IFERROR(DATA!OFD2,\"\"))","v":""},{"$f":"IF(DATA!OFE2=0,\"\",IFERROR(DATA!OFE2,\"\"))","v":""},{"$f":"IF(DATA!OFF2=0,\"\",IFERROR(DATA!OFF2,\"\"))","v":""},{"$f":"IF(DATA!OFG2=0,\"\",IFERROR(DATA!OFG2,\"\"))","v":""},{"$f":"IF(DATA!OFH2=0,\"\",IFERROR(DATA!OFH2,\"\"))","v":""},{"$f":"IF(DATA!OFI2=0,\"\",IFERROR(DATA!OFI2,\"\"))","v":""},{"$f":"IF(DATA!OFJ2=0,\"\",IFERROR(DATA!OFJ2,\"\"))","v":""},{"$f":"IF(DATA!OFK2=0,\"\",IFERROR(DATA!OFK2,\"\"))","v":""},{"$f":"IF(DATA!OFL2=0,\"\",IFERROR(DATA!OFL2,\"\"))","v":""},{"$f":"IF(DATA!OFM2=0,\"\",IFERROR(DATA!OFM2,\"\"))","v":""},{"$f":"IF(DATA!OFN2=0,\"\",IFERROR(DATA!OFN2,\"\"))","v":""},{"$f":"IF(DATA!OFO2=0,\"\",IFERROR(DATA!OFO2,\"\"))","v":""},{"$f":"IF(DATA!OFP2=0,\"\",IFERROR(DATA!OFP2,\"\"))","v":""},{"$f":"IF(DATA!OFQ2=0,\"\",IFERROR(DATA!OFQ2,\"\"))","v":""},{"$f":"IF(DATA!OFR2=0,\"\",IFERROR(DATA!OFR2,\"\"))","v":""},{"$f":"IF(DATA!OFS2=0,\"\",IFERROR(DATA!OFS2,\"\"))","v":""},{"$f":"IF(DATA!OFT2=0,\"\",IFERROR(DATA!OFT2,\"\"))","v":""},{"$f":"IF(DATA!OFU2=0,\"\",IFERROR(DATA!OFU2,\"\"))","v":""},{"$f":"IF(DATA!OFV2=0,\"\",IFERROR(DATA!OFV2,\"\"))","v":""},{"$f":"IF(DATA!OFW2=0,\"\",IFERROR(DATA!OFW2,\"\"))","v":""},{"$f":"IF(DATA!OFX2=0,\"\",IFERROR(DATA!OFX2,\"\"))","v":""},{"$f":"IF(DATA!OFY2=0,\"\",IFERROR(DATA!OFY2,\"\"))","v":""},{"$f":"IF(DATA!OFZ2=0,\"\",IFERROR(DATA!OFZ2,\"\"))","v":""},{"$f":"IF(DATA!OGA2=0,\"\",IFERROR(DATA!OGA2,\"\"))","v":""},{"$f":"IF(DATA!OGB2=0,\"\",IFERROR(DATA!OGB2,\"\"))","v":""},{"$f":"IF(DATA!OGC2=0,\"\",IFERROR(DATA!OGC2,\"\"))","v":""},{"$f":"IF(DATA!OGD2=0,\"\",IFERROR(DATA!OGD2,\"\"))","v":""},{"$f":"IF(DATA!OGE2=0,\"\",IFERROR(DATA!OGE2,\"\"))","v":""},{"$f":"IF(DATA!OGF2=0,\"\",IFERROR(DATA!OGF2,\"\"))","v":""},{"$f":"IF(DATA!OGG2=0,\"\",IFERROR(DATA!OGG2,\"\"))","v":""},{"$f":"IF(DATA!OGH2=0,\"\",IFERROR(DATA!OGH2,\"\"))","v":""},{"$f":"IF(DATA!OGI2=0,\"\",IFERROR(DATA!OGI2,\"\"))","v":""},{"$f":"IF(DATA!OGJ2=0,\"\",IFERROR(DATA!OGJ2,\"\"))","v":""},{"$f":"IF(DATA!OGK2=0,\"\",IFERROR(DATA!OGK2,\"\"))","v":""},{"$f":"IF(DATA!OGL2=0,\"\",IFERROR(DATA!OGL2,\"\"))","v":""},{"$f":"IF(DATA!OGM2=0,\"\",IFERROR(DATA!OGM2,\"\"))","v":""},{"$f":"IF(DATA!OGN2=0,\"\",IFERROR(DATA!OGN2,\"\"))","v":""},{"$f":"IF(DATA!OGO2=0,\"\",IFERROR(DATA!OGO2,\"\"))","v":""},{"$f":"IF(DATA!OGP2=0,\"\",IFERROR(DATA!OGP2,\"\"))","v":""},{"$f":"IF(DATA!OGQ2=0,\"\",IFERROR(DATA!OGQ2,\"\"))","v":""},{"$f":"IF(DATA!OGR2=0,\"\",IFERROR(DATA!OGR2,\"\"))","v":""},{"$f":"IF(DATA!OGS2=0,\"\",IFERROR(DATA!OGS2,\"\"))","v":""},{"$f":"IF(DATA!OGT2=0,\"\",IFERROR(DATA!OGT2,\"\"))","v":""},{"$f":"IF(DATA!OGU2=0,\"\",IFERROR(DATA!OGU2,\"\"))","v":""},{"$f":"IF(DATA!OGV2=0,\"\",IFERROR(DATA!OGV2,\"\"))","v":""},{"$f":"IF(DATA!OGW2=0,\"\",IFERROR(DATA!OGW2,\"\"))","v":""},{"$f":"IF(DATA!OGX2=0,\"\",IFERROR(DATA!OGX2,\"\"))","v":""},{"$f":"IF(DATA!OGY2=0,\"\",IFERROR(DATA!OGY2,\"\"))","v":""},{"$f":"IF(DATA!OGZ2=0,\"\",IFERROR(DATA!OGZ2,\"\"))","v":""},{"$f":"IF(DATA!OHA2=0,\"\",IFERROR(DATA!OHA2,\"\"))","v":""},{"$f":"IF(DATA!OHB2=0,\"\",IFERROR(DATA!OHB2,\"\"))","v":""},{"$f":"IF(DATA!OHC2=0,\"\",IFERROR(DATA!OHC2,\"\"))","v":""},{"$f":"IF(DATA!OHD2=0,\"\",IFERROR(DATA!OHD2,\"\"))","v":""},{"$f":"IF(DATA!OHE2=0,\"\",IFERROR(DATA!OHE2,\"\"))","v":""},{"$f":"IF(DATA!OHF2=0,\"\",IFERROR(DATA!OHF2,\"\"))","v":""},{"$f":"IF(DATA!OHG2=0,\"\",IFERROR(DATA!OHG2,\"\"))","v":""},{"$f":"IF(DATA!OHH2=0,\"\",IFERROR(DATA!OHH2,\"\"))","v":""},{"$f":"IF(DATA!OHI2=0,\"\",IFERROR(DATA!OHI2,\"\"))","v":""},{"$f":"IF(DATA!OHJ2=0,\"\",IFERROR(DATA!OHJ2,\"\"))","v":""},{"$f":"IF(DATA!OHK2=0,\"\",IFERROR(DATA!OHK2,\"\"))","v":""},{"$f":"IF(DATA!OHL2=0,\"\",IFERROR(DATA!OHL2,\"\"))","v":""},{"$f":"IF(DATA!OHM2=0,\"\",IFERROR(DATA!OHM2,\"\"))","v":""},{"$f":"IF(DATA!OHN2=0,\"\",IFERROR(DATA!OHN2,\"\"))","v":""},{"$f":"IF(DATA!OHO2=0,\"\",IFERROR(DATA!OHO2,\"\"))","v":""},{"$f":"IF(DATA!OHP2=0,\"\",IFERROR(DATA!OHP2,\"\"))","v":""},{"$f":"IF(DATA!OHQ2=0,\"\",IFERROR(DATA!OHQ2,\"\"))","v":""},{"$f":"IF(DATA!OHR2=0,\"\",IFERROR(DATA!OHR2,\"\"))","v":""},{"$f":"IF(DATA!OHS2=0,\"\",IFERROR(DATA!OHS2,\"\"))","v":""},{"$f":"IF(DATA!OHT2=0,\"\",IFERROR(DATA!OHT2,\"\"))","v":""},{"$f":"IF(DATA!OHU2=0,\"\",IFERROR(DATA!OHU2,\"\"))","v":""},{"$f":"IF(DATA!OHV2=0,\"\",IFERROR(DATA!OHV2,\"\"))","v":""},{"$f":"IF(DATA!OHW2=0,\"\",IFERROR(DATA!OHW2,\"\"))","v":""},{"$f":"IF(DATA!OHX2=0,\"\",IFERROR(DATA!OHX2,\"\"))","v":""},{"$f":"IF(DATA!OHY2=0,\"\",IFERROR(DATA!OHY2,\"\"))","v":""},{"$f":"IF(DATA!OHZ2=0,\"\",IFERROR(DATA!OHZ2,\"\"))","v":""},{"$f":"IF(DATA!OIA2=0,\"\",IFERROR(DATA!OIA2,\"\"))","v":""},{"$f":"IF(DATA!OIB2=0,\"\",IFERROR(DATA!OIB2,\"\"))","v":""},{"$f":"IF(DATA!OIC2=0,\"\",IFERROR(DATA!OIC2,\"\"))","v":""},{"$f":"IF(DATA!OID2=0,\"\",IFERROR(DATA!OID2,\"\"))","v":""},{"$f":"IF(DATA!OIE2=0,\"\",IFERROR(DATA!OIE2,\"\"))","v":""},{"$f":"IF(DATA!OIF2=0,\"\",IFERROR(DATA!OIF2,\"\"))","v":""},{"$f":"IF(DATA!OIG2=0,\"\",IFERROR(DATA!OIG2,\"\"))","v":""},{"$f":"IF(DATA!OIH2=0,\"\",IFERROR(DATA!OIH2,\"\"))","v":""},{"$f":"IF(DATA!OII2=0,\"\",IFERROR(DATA!OII2,\"\"))","v":""},{"$f":"IF(DATA!OIJ2=0,\"\",IFERROR(DATA!OIJ2,\"\"))","v":""},{"$f":"IF(DATA!OIK2=0,\"\",IFERROR(DATA!OIK2,\"\"))","v":""},{"$f":"IF(DATA!OIL2=0,\"\",IFERROR(DATA!OIL2,\"\"))","v":""},{"$f":"IF(DATA!OIM2=0,\"\",IFERROR(DATA!OIM2,\"\"))","v":""},{"$f":"IF(DATA!OIN2=0,\"\",IFERROR(DATA!OIN2,\"\"))","v":""},{"$f":"IF(DATA!OIO2=0,\"\",IFERROR(DATA!OIO2,\"\"))","v":""},{"$f":"IF(DATA!OIP2=0,\"\",IFERROR(DATA!OIP2,\"\"))","v":""},{"$f":"IF(DATA!OIQ2=0,\"\",IFERROR(DATA!OIQ2,\"\"))","v":""},{"$f":"IF(DATA!OIR2=0,\"\",IFERROR(DATA!OIR2,\"\"))","v":""},{"$f":"IF(DATA!OIS2=0,\"\",IFERROR(DATA!OIS2,\"\"))","v":""},{"$f":"IF(DATA!OIT2=0,\"\",IFERROR(DATA!OIT2,\"\"))","v":""},{"$f":"IF(DATA!OIU2=0,\"\",IFERROR(DATA!OIU2,\"\"))","v":""},{"$f":"IF(DATA!OIV2=0,\"\",IFERROR(DATA!OIV2,\"\"))","v":""},{"$f":"IF(DATA!OIW2=0,\"\",IFERROR(DATA!OIW2,\"\"))","v":""},{"$f":"IF(DATA!OIX2=0,\"\",IFERROR(DATA!OIX2,\"\"))","v":""},{"$f":"IF(DATA!OIY2=0,\"\",IFERROR(DATA!OIY2,\"\"))","v":""},{"$f":"IF(DATA!OIZ2=0,\"\",IFERROR(DATA!OIZ2,\"\"))","v":""},{"$f":"IF(DATA!OJA2=0,\"\",IFERROR(DATA!OJA2,\"\"))","v":""},{"$f":"IF(DATA!OJB2=0,\"\",IFERROR(DATA!OJB2,\"\"))","v":""},{"$f":"IF(DATA!OJC2=0,\"\",IFERROR(DATA!OJC2,\"\"))","v":""},{"$f":"IF(DATA!OJD2=0,\"\",IFERROR(DATA!OJD2,\"\"))","v":""},{"$f":"IF(DATA!OJE2=0,\"\",IFERROR(DATA!OJE2,\"\"))","v":""},{"$f":"IF(DATA!OJF2=0,\"\",IFERROR(DATA!OJF2,\"\"))","v":""},{"$f":"IF(DATA!OJG2=0,\"\",IFERROR(DATA!OJG2,\"\"))","v":""},{"$f":"IF(DATA!OJH2=0,\"\",IFERROR(DATA!OJH2,\"\"))","v":""},{"$f":"IF(DATA!OJI2=0,\"\",IFERROR(DATA!OJI2,\"\"))","v":""},{"$f":"IF(DATA!OJJ2=0,\"\",IFERROR(DATA!OJJ2,\"\"))","v":""},{"$f":"IF(DATA!OJK2=0,\"\",IFERROR(DATA!OJK2,\"\"))","v":""},{"$f":"IF(DATA!OJL2=0,\"\",IFERROR(DATA!OJL2,\"\"))","v":""},{"$f":"IF(DATA!OJM2=0,\"\",IFERROR(DATA!OJM2,\"\"))","v":""},{"$f":"IF(DATA!OJN2=0,\"\",IFERROR(DATA!OJN2,\"\"))","v":""},{"$f":"IF(DATA!OJO2=0,\"\",IFERROR(DATA!OJO2,\"\"))","v":""},{"$f":"IF(DATA!OJP2=0,\"\",IFERROR(DATA!OJP2,\"\"))","v":""},{"$f":"IF(DATA!OJQ2=0,\"\",IFERROR(DATA!OJQ2,\"\"))","v":""},{"$f":"IF(DATA!OJR2=0,\"\",IFERROR(DATA!OJR2,\"\"))","v":""},{"$f":"IF(DATA!OJS2=0,\"\",IFERROR(DATA!OJS2,\"\"))","v":""},{"$f":"IF(DATA!OJT2=0,\"\",IFERROR(DATA!OJT2,\"\"))","v":""},{"$f":"IF(DATA!OJU2=0,\"\",IFERROR(DATA!OJU2,\"\"))","v":""},{"$f":"IF(DATA!OJV2=0,\"\",IFERROR(DATA!OJV2,\"\"))","v":""},{"$f":"IF(DATA!OJW2=0,\"\",IFERROR(DATA!OJW2,\"\"))","v":""},{"$f":"IF(DATA!OJX2=0,\"\",IFERROR(DATA!OJX2,\"\"))","v":""},{"$f":"IF(DATA!OJY2=0,\"\",IFERROR(DATA!OJY2,\"\"))","v":""},{"$f":"IF(DATA!OJZ2=0,\"\",IFERROR(DATA!OJZ2,\"\"))","v":""},{"$f":"IF(DATA!OKA2=0,\"\",IFERROR(DATA!OKA2,\"\"))","v":""},{"$f":"IF(DATA!OKB2=0,\"\",IFERROR(DATA!OKB2,\"\"))","v":""},{"$f":"IF(DATA!OKC2=0,\"\",IFERROR(DATA!OKC2,\"\"))","v":""},{"$f":"IF(DATA!OKD2=0,\"\",IFERROR(DATA!OKD2,\"\"))","v":""},{"$f":"IF(DATA!OKE2=0,\"\",IFERROR(DATA!OKE2,\"\"))","v":""},{"$f":"IF(DATA!OKF2=0,\"\",IFERROR(DATA!OKF2,\"\"))","v":""},{"$f":"IF(DATA!OKG2=0,\"\",IFERROR(DATA!OKG2,\"\"))","v":""},{"$f":"IF(DATA!OKH2=0,\"\",IFERROR(DATA!OKH2,\"\"))","v":""},{"$f":"IF(DATA!OKI2=0,\"\",IFERROR(DATA!OKI2,\"\"))","v":""},{"$f":"IF(DATA!OKJ2=0,\"\",IFERROR(DATA!OKJ2,\"\"))","v":""},{"$f":"IF(DATA!OKK2=0,\"\",IFERROR(DATA!OKK2,\"\"))","v":""},{"$f":"IF(DATA!OKL2=0,\"\",IFERROR(DATA!OKL2,\"\"))","v":""},{"$f":"IF(DATA!OKM2=0,\"\",IFERROR(DATA!OKM2,\"\"))","v":""},{"$f":"IF(DATA!OKN2=0,\"\",IFERROR(DATA!OKN2,\"\"))","v":""},{"$f":"IF(DATA!OKO2=0,\"\",IFERROR(DATA!OKO2,\"\"))","v":""},{"$f":"IF(DATA!OKP2=0,\"\",IFERROR(DATA!OKP2,\"\"))","v":""},{"$f":"IF(DATA!OKQ2=0,\"\",IFERROR(DATA!OKQ2,\"\"))","v":""},{"$f":"IF(DATA!OKR2=0,\"\",IFERROR(DATA!OKR2,\"\"))","v":""},{"$f":"IF(DATA!OKS2=0,\"\",IFERROR(DATA!OKS2,\"\"))","v":""},{"$f":"IF(DATA!OKT2=0,\"\",IFERROR(DATA!OKT2,\"\"))","v":""},{"$f":"IF(DATA!OKU2=0,\"\",IFERROR(DATA!OKU2,\"\"))","v":""},{"$f":"IF(DATA!OKV2=0,\"\",IFERROR(DATA!OKV2,\"\"))","v":""},{"$f":"IF(DATA!OKW2=0,\"\",IFERROR(DATA!OKW2,\"\"))","v":""},{"$f":"IF(DATA!OKX2=0,\"\",IFERROR(DATA!OKX2,\"\"))","v":""},{"$f":"IF(DATA!OKY2=0,\"\",IFERROR(DATA!OKY2,\"\"))","v":""},{"$f":"IF(DATA!OKZ2=0,\"\",IFERROR(DATA!OKZ2,\"\"))","v":""},{"$f":"IF(DATA!OLA2=0,\"\",IFERROR(DATA!OLA2,\"\"))","v":""},{"$f":"IF(DATA!OLB2=0,\"\",IFERROR(DATA!OLB2,\"\"))","v":""},{"$f":"IF(DATA!OLC2=0,\"\",IFERROR(DATA!OLC2,\"\"))","v":""},{"$f":"IF(DATA!OLD2=0,\"\",IFERROR(DATA!OLD2,\"\"))","v":""},{"$f":"IF(DATA!OLE2=0,\"\",IFERROR(DATA!OLE2,\"\"))","v":""},{"$f":"IF(DATA!OLF2=0,\"\",IFERROR(DATA!OLF2,\"\"))","v":""},{"$f":"IF(DATA!OLG2=0,\"\",IFERROR(DATA!OLG2,\"\"))","v":""},{"$f":"IF(DATA!OLH2=0,\"\",IFERROR(DATA!OLH2,\"\"))","v":""},{"$f":"IF(DATA!OLI2=0,\"\",IFERROR(DATA!OLI2,\"\"))","v":""},{"$f":"IF(DATA!OLJ2=0,\"\",IFERROR(DATA!OLJ2,\"\"))","v":""},{"$f":"IF(DATA!OLK2=0,\"\",IFERROR(DATA!OLK2,\"\"))","v":""},{"$f":"IF(DATA!OLL2=0,\"\",IFERROR(DATA!OLL2,\"\"))","v":""},{"$f":"IF(DATA!OLM2=0,\"\",IFERROR(DATA!OLM2,\"\"))","v":""},{"$f":"IF(DATA!OLN2=0,\"\",IFERROR(DATA!OLN2,\"\"))","v":""},{"$f":"IF(DATA!OLO2=0,\"\",IFERROR(DATA!OLO2,\"\"))","v":""},{"$f":"IF(DATA!OLP2=0,\"\",IFERROR(DATA!OLP2,\"\"))","v":""},{"$f":"IF(DATA!OLQ2=0,\"\",IFERROR(DATA!OLQ2,\"\"))","v":""},{"$f":"IF(DATA!OLR2=0,\"\",IFERROR(DATA!OLR2,\"\"))","v":""},{"$f":"IF(DATA!OLS2=0,\"\",IFERROR(DATA!OLS2,\"\"))","v":""},{"$f":"IF(DATA!OLT2=0,\"\",IFERROR(DATA!OLT2,\"\"))","v":""},{"$f":"IF(DATA!OLU2=0,\"\",IFERROR(DATA!OLU2,\"\"))","v":""},{"$f":"IF(DATA!OLV2=0,\"\",IFERROR(DATA!OLV2,\"\"))","v":""},{"$f":"IF(DATA!OLW2=0,\"\",IFERROR(DATA!OLW2,\"\"))","v":""},{"$f":"IF(DATA!OLX2=0,\"\",IFERROR(DATA!OLX2,\"\"))","v":""},{"$f":"IF(DATA!OLY2=0,\"\",IFERROR(DATA!OLY2,\"\"))","v":""},{"$f":"IF(DATA!OLZ2=0,\"\",IFERROR(DATA!OLZ2,\"\"))","v":""},{"$f":"IF(DATA!OMA2=0,\"\",IFERROR(DATA!OMA2,\"\"))","v":""},{"$f":"IF(DATA!OMB2=0,\"\",IFERROR(DATA!OMB2,\"\"))","v":""},{"$f":"IF(DATA!OMC2=0,\"\",IFERROR(DATA!OMC2,\"\"))","v":""},{"$f":"IF(DATA!OMD2=0,\"\",IFERROR(DATA!OMD2,\"\"))","v":""},{"$f":"IF(DATA!OME2=0,\"\",IFERROR(DATA!OME2,\"\"))","v":""},{"$f":"IF(DATA!OMF2=0,\"\",IFERROR(DATA!OMF2,\"\"))","v":""},{"$f":"IF(DATA!OMG2=0,\"\",IFERROR(DATA!OMG2,\"\"))","v":""},{"$f":"IF(DATA!OMH2=0,\"\",IFERROR(DATA!OMH2,\"\"))","v":""},{"$f":"IF(DATA!OMI2=0,\"\",IFERROR(DATA!OMI2,\"\"))","v":""},{"$f":"IF(DATA!OMJ2=0,\"\",IFERROR(DATA!OMJ2,\"\"))","v":""},{"$f":"IF(DATA!OMK2=0,\"\",IFERROR(DATA!OMK2,\"\"))","v":""},{"$f":"IF(DATA!OML2=0,\"\",IFERROR(DATA!OML2,\"\"))","v":""},{"$f":"IF(DATA!OMM2=0,\"\",IFERROR(DATA!OMM2,\"\"))","v":""},{"$f":"IF(DATA!OMN2=0,\"\",IFERROR(DATA!OMN2,\"\"))","v":""},{"$f":"IF(DATA!OMO2=0,\"\",IFERROR(DATA!OMO2,\"\"))","v":""},{"$f":"IF(DATA!OMP2=0,\"\",IFERROR(DATA!OMP2,\"\"))","v":""},{"$f":"IF(DATA!OMQ2=0,\"\",IFERROR(DATA!OMQ2,\"\"))","v":""},{"$f":"IF(DATA!OMR2=0,\"\",IFERROR(DATA!OMR2,\"\"))","v":""},{"$f":"IF(DATA!OMS2=0,\"\",IFERROR(DATA!OMS2,\"\"))","v":""},{"$f":"IF(DATA!OMT2=0,\"\",IFERROR(DATA!OMT2,\"\"))","v":""},{"$f":"IF(DATA!OMU2=0,\"\",IFERROR(DATA!OMU2,\"\"))","v":""},{"$f":"IF(DATA!OMV2=0,\"\",IFERROR(DATA!OMV2,\"\"))","v":""},{"$f":"IF(DATA!OMW2=0,\"\",IFERROR(DATA!OMW2,\"\"))","v":""},{"$f":"IF(DATA!OMX2=0,\"\",IFERROR(DATA!OMX2,\"\"))","v":""},{"$f":"IF(DATA!OMY2=0,\"\",IFERROR(DATA!OMY2,\"\"))","v":""},{"$f":"IF(DATA!OMZ2=0,\"\",IFERROR(DATA!OMZ2,\"\"))","v":""},{"$f":"IF(DATA!ONA2=0,\"\",IFERROR(DATA!ONA2,\"\"))","v":""},{"$f":"IF(DATA!ONB2=0,\"\",IFERROR(DATA!ONB2,\"\"))","v":""},{"$f":"IF(DATA!ONC2=0,\"\",IFERROR(DATA!ONC2,\"\"))","v":""},{"$f":"IF(DATA!OND2=0,\"\",IFERROR(DATA!OND2,\"\"))","v":""},{"$f":"IF(DATA!ONE2=0,\"\",IFERROR(DATA!ONE2,\"\"))","v":""},{"$f":"IF(DATA!ONF2=0,\"\",IFERROR(DATA!ONF2,\"\"))","v":""},{"$f":"IF(DATA!ONG2=0,\"\",IFERROR(DATA!ONG2,\"\"))","v":""},{"$f":"IF(DATA!ONH2=0,\"\",IFERROR(DATA!ONH2,\"\"))","v":""},{"$f":"IF(DATA!ONI2=0,\"\",IFERROR(DATA!ONI2,\"\"))","v":""},{"$f":"IF(DATA!ONJ2=0,\"\",IFERROR(DATA!ONJ2,\"\"))","v":""},{"$f":"IF(DATA!ONK2=0,\"\",IFERROR(DATA!ONK2,\"\"))","v":""},{"$f":"IF(DATA!ONL2=0,\"\",IFERROR(DATA!ONL2,\"\"))","v":""},{"$f":"IF(DATA!ONM2=0,\"\",IFERROR(DATA!ONM2,\"\"))","v":""},{"$f":"IF(DATA!ONN2=0,\"\",IFERROR(DATA!ONN2,\"\"))","v":""},{"$f":"IF(DATA!ONO2=0,\"\",IFERROR(DATA!ONO2,\"\"))","v":""},{"$f":"IF(DATA!ONP2=0,\"\",IFERROR(DATA!ONP2,\"\"))","v":""},{"$f":"IF(DATA!ONQ2=0,\"\",IFERROR(DATA!ONQ2,\"\"))","v":""},{"$f":"IF(DATA!ONR2=0,\"\",IFERROR(DATA!ONR2,\"\"))","v":""},{"$f":"IF(DATA!ONS2=0,\"\",IFERROR(DATA!ONS2,\"\"))","v":""},{"$f":"IF(DATA!ONT2=0,\"\",IFERROR(DATA!ONT2,\"\"))","v":""},{"$f":"IF(DATA!ONU2=0,\"\",IFERROR(DATA!ONU2,\"\"))","v":""},{"$f":"IF(DATA!ONV2=0,\"\",IFERROR(DATA!ONV2,\"\"))","v":""},{"$f":"IF(DATA!ONW2=0,\"\",IFERROR(DATA!ONW2,\"\"))","v":""},{"$f":"IF(DATA!ONX2=0,\"\",IFERROR(DATA!ONX2,\"\"))","v":""},{"$f":"IF(DATA!ONY2=0,\"\",IFERROR(DATA!ONY2,\"\"))","v":""},{"$f":"IF(DATA!ONZ2=0,\"\",IFERROR(DATA!ONZ2,\"\"))","v":""},{"$f":"IF(DATA!OOA2=0,\"\",IFERROR(DATA!OOA2,\"\"))","v":""},{"$f":"IF(DATA!OOB2=0,\"\",IFERROR(DATA!OOB2,\"\"))","v":""},{"$f":"IF(DATA!OOC2=0,\"\",IFERROR(DATA!OOC2,\"\"))","v":""},{"$f":"IF(DATA!OOD2=0,\"\",IFERROR(DATA!OOD2,\"\"))","v":""},{"$f":"IF(DATA!OOE2=0,\"\",IFERROR(DATA!OOE2,\"\"))","v":""},{"$f":"IF(DATA!OOF2=0,\"\",IFERROR(DATA!OOF2,\"\"))","v":""},{"$f":"IF(DATA!OOG2=0,\"\",IFERROR(DATA!OOG2,\"\"))","v":""},{"$f":"IF(DATA!OOH2=0,\"\",IFERROR(DATA!OOH2,\"\"))","v":""},{"$f":"IF(DATA!OOI2=0,\"\",IFERROR(DATA!OOI2,\"\"))","v":""},{"$f":"IF(DATA!OOJ2=0,\"\",IFERROR(DATA!OOJ2,\"\"))","v":""},{"$f":"IF(DATA!OOK2=0,\"\",IFERROR(DATA!OOK2,\"\"))","v":""},{"$f":"IF(DATA!OOL2=0,\"\",IFERROR(DATA!OOL2,\"\"))","v":""},{"$f":"IF(DATA!OOM2=0,\"\",IFERROR(DATA!OOM2,\"\"))","v":""},{"$f":"IF(DATA!OON2=0,\"\",IFERROR(DATA!OON2,\"\"))","v":""},{"$f":"IF(DATA!OOO2=0,\"\",IFERROR(DATA!OOO2,\"\"))","v":""},{"$f":"IF(DATA!OOP2=0,\"\",IFERROR(DATA!OOP2,\"\"))","v":""},{"$f":"IF(DATA!OOQ2=0,\"\",IFERROR(DATA!OOQ2,\"\"))","v":""},{"$f":"IF(DATA!OOR2=0,\"\",IFERROR(DATA!OOR2,\"\"))","v":""},{"$f":"IF(DATA!OOS2=0,\"\",IFERROR(DATA!OOS2,\"\"))","v":""},{"$f":"IF(DATA!OOT2=0,\"\",IFERROR(DATA!OOT2,\"\"))","v":""},{"$f":"IF(DATA!OOU2=0,\"\",IFERROR(DATA!OOU2,\"\"))","v":""},{"$f":"IF(DATA!OOV2=0,\"\",IFERROR(DATA!OOV2,\"\"))","v":""},{"$f":"IF(DATA!OOW2=0,\"\",IFERROR(DATA!OOW2,\"\"))","v":""},{"$f":"IF(DATA!OOX2=0,\"\",IFERROR(DATA!OOX2,\"\"))","v":""},{"$f":"IF(DATA!OOY2=0,\"\",IFERROR(DATA!OOY2,\"\"))","v":""},{"$f":"IF(DATA!OOZ2=0,\"\",IFERROR(DATA!OOZ2,\"\"))","v":""},{"$f":"IF(DATA!OPA2=0,\"\",IFERROR(DATA!OPA2,\"\"))","v":""},{"$f":"IF(DATA!OPB2=0,\"\",IFERROR(DATA!OPB2,\"\"))","v":""},{"$f":"IF(DATA!OPC2=0,\"\",IFERROR(DATA!OPC2,\"\"))","v":""},{"$f":"IF(DATA!OPD2=0,\"\",IFERROR(DATA!OPD2,\"\"))","v":""},{"$f":"IF(DATA!OPE2=0,\"\",IFERROR(DATA!OPE2,\"\"))","v":""},{"$f":"IF(DATA!OPF2=0,\"\",IFERROR(DATA!OPF2,\"\"))","v":""},{"$f":"IF(DATA!OPG2=0,\"\",IFERROR(DATA!OPG2,\"\"))","v":""},{"$f":"IF(DATA!OPH2=0,\"\",IFERROR(DATA!OPH2,\"\"))","v":""},{"$f":"IF(DATA!OPI2=0,\"\",IFERROR(DATA!OPI2,\"\"))","v":""},{"$f":"IF(DATA!OPJ2=0,\"\",IFERROR(DATA!OPJ2,\"\"))","v":""},{"$f":"IF(DATA!OPK2=0,\"\",IFERROR(DATA!OPK2,\"\"))","v":""},{"$f":"IF(DATA!OPL2=0,\"\",IFERROR(DATA!OPL2,\"\"))","v":""},{"$f":"IF(DATA!OPM2=0,\"\",IFERROR(DATA!OPM2,\"\"))","v":""},{"$f":"IF(DATA!OPN2=0,\"\",IFERROR(DATA!OPN2,\"\"))","v":""},{"$f":"IF(DATA!OPO2=0,\"\",IFERROR(DATA!OPO2,\"\"))","v":""},{"$f":"IF(DATA!OPP2=0,\"\",IFERROR(DATA!OPP2,\"\"))","v":""},{"$f":"IF(DATA!OPQ2=0,\"\",IFERROR(DATA!OPQ2,\"\"))","v":""},{"$f":"IF(DATA!OPR2=0,\"\",IFERROR(DATA!OPR2,\"\"))","v":""},{"$f":"IF(DATA!OPS2=0,\"\",IFERROR(DATA!OPS2,\"\"))","v":""},{"$f":"IF(DATA!OPT2=0,\"\",IFERROR(DATA!OPT2,\"\"))","v":""},{"$f":"IF(DATA!OPU2=0,\"\",IFERROR(DATA!OPU2,\"\"))","v":""},{"$f":"IF(DATA!OPV2=0,\"\",IFERROR(DATA!OPV2,\"\"))","v":""},{"$f":"IF(DATA!OPW2=0,\"\",IFERROR(DATA!OPW2,\"\"))","v":""},{"$f":"IF(DATA!OPX2=0,\"\",IFERROR(DATA!OPX2,\"\"))","v":""},{"$f":"IF(DATA!OPY2=0,\"\",IFERROR(DATA!OPY2,\"\"))","v":""},{"$f":"IF(DATA!OPZ2=0,\"\",IFERROR(DATA!OPZ2,\"\"))","v":""},{"$f":"IF(DATA!OQA2=0,\"\",IFERROR(DATA!OQA2,\"\"))","v":""},{"$f":"IF(DATA!OQB2=0,\"\",IFERROR(DATA!OQB2,\"\"))","v":""},{"$f":"IF(DATA!OQC2=0,\"\",IFERROR(DATA!OQC2,\"\"))","v":""},{"$f":"IF(DATA!OQD2=0,\"\",IFERROR(DATA!OQD2,\"\"))","v":""},{"$f":"IF(DATA!OQE2=0,\"\",IFERROR(DATA!OQE2,\"\"))","v":""},{"$f":"IF(DATA!OQF2=0,\"\",IFERROR(DATA!OQF2,\"\"))","v":""},{"$f":"IF(DATA!OQG2=0,\"\",IFERROR(DATA!OQG2,\"\"))","v":""},{"$f":"IF(DATA!OQH2=0,\"\",IFERROR(DATA!OQH2,\"\"))","v":""},{"$f":"IF(DATA!OQI2=0,\"\",IFERROR(DATA!OQI2,\"\"))","v":""},{"$f":"IF(DATA!OQJ2=0,\"\",IFERROR(DATA!OQJ2,\"\"))","v":""},{"$f":"IF(DATA!OQK2=0,\"\",IFERROR(DATA!OQK2,\"\"))","v":""},{"$f":"IF(DATA!OQL2=0,\"\",IFERROR(DATA!OQL2,\"\"))","v":""},{"$f":"IF(DATA!OQM2=0,\"\",IFERROR(DATA!OQM2,\"\"))","v":""},{"$f":"IF(DATA!OQN2=0,\"\",IFERROR(DATA!OQN2,\"\"))","v":""},{"$f":"IF(DATA!OQO2=0,\"\",IFERROR(DATA!OQO2,\"\"))","v":""},{"$f":"IF(DATA!OQP2=0,\"\",IFERROR(DATA!OQP2,\"\"))","v":""},{"$f":"IF(DATA!OQQ2=0,\"\",IFERROR(DATA!OQQ2,\"\"))","v":""},{"$f":"IF(DATA!OQR2=0,\"\",IFERROR(DATA!OQR2,\"\"))","v":""},{"$f":"IF(DATA!OQS2=0,\"\",IFERROR(DATA!OQS2,\"\"))","v":""},{"$f":"IF(DATA!OQT2=0,\"\",IFERROR(DATA!OQT2,\"\"))","v":""},{"$f":"IF(DATA!OQU2=0,\"\",IFERROR(DATA!OQU2,\"\"))","v":""},{"$f":"IF(DATA!OQV2=0,\"\",IFERROR(DATA!OQV2,\"\"))","v":""},{"$f":"IF(DATA!OQW2=0,\"\",IFERROR(DATA!OQW2,\"\"))","v":""},{"$f":"IF(DATA!OQX2=0,\"\",IFERROR(DATA!OQX2,\"\"))","v":""},{"$f":"IF(DATA!OQY2=0,\"\",IFERROR(DATA!OQY2,\"\"))","v":""},{"$f":"IF(DATA!OQZ2=0,\"\",IFERROR(DATA!OQZ2,\"\"))","v":""},{"$f":"IF(DATA!ORA2=0,\"\",IFERROR(DATA!ORA2,\"\"))","v":""},{"$f":"IF(DATA!ORB2=0,\"\",IFERROR(DATA!ORB2,\"\"))","v":""},{"$f":"IF(DATA!ORC2=0,\"\",IFERROR(DATA!ORC2,\"\"))","v":""},{"$f":"IF(DATA!ORD2=0,\"\",IFERROR(DATA!ORD2,\"\"))","v":""},{"$f":"IF(DATA!ORE2=0,\"\",IFERROR(DATA!ORE2,\"\"))","v":""},{"$f":"IF(DATA!ORF2=0,\"\",IFERROR(DATA!ORF2,\"\"))","v":""},{"$f":"IF(DATA!ORG2=0,\"\",IFERROR(DATA!ORG2,\"\"))","v":""},{"$f":"IF(DATA!ORH2=0,\"\",IFERROR(DATA!ORH2,\"\"))","v":""},{"$f":"IF(DATA!ORI2=0,\"\",IFERROR(DATA!ORI2,\"\"))","v":""},{"$f":"IF(DATA!ORJ2=0,\"\",IFERROR(DATA!ORJ2,\"\"))","v":""},{"$f":"IF(DATA!ORK2=0,\"\",IFERROR(DATA!ORK2,\"\"))","v":""},{"$f":"IF(DATA!ORL2=0,\"\",IFERROR(DATA!ORL2,\"\"))","v":""},{"$f":"IF(DATA!ORM2=0,\"\",IFERROR(DATA!ORM2,\"\"))","v":""},{"$f":"IF(DATA!ORN2=0,\"\",IFERROR(DATA!ORN2,\"\"))","v":""},{"$f":"IF(DATA!ORO2=0,\"\",IFERROR(DATA!ORO2,\"\"))","v":""},{"$f":"IF(DATA!ORP2=0,\"\",IFERROR(DATA!ORP2,\"\"))","v":""},{"$f":"IF(DATA!ORQ2=0,\"\",IFERROR(DATA!ORQ2,\"\"))","v":""},{"$f":"IF(DATA!ORR2=0,\"\",IFERROR(DATA!ORR2,\"\"))","v":""},{"$f":"IF(DATA!ORS2=0,\"\",IFERROR(DATA!ORS2,\"\"))","v":""},{"$f":"IF(DATA!ORT2=0,\"\",IFERROR(DATA!ORT2,\"\"))","v":""},{"$f":"IF(DATA!ORU2=0,\"\",IFERROR(DATA!ORU2,\"\"))","v":""},{"$f":"IF(DATA!ORV2=0,\"\",IFERROR(DATA!ORV2,\"\"))","v":""},{"$f":"IF(DATA!ORW2=0,\"\",IFERROR(DATA!ORW2,\"\"))","v":""},{"$f":"IF(DATA!ORX2=0,\"\",IFERROR(DATA!ORX2,\"\"))","v":""},{"$f":"IF(DATA!ORY2=0,\"\",IFERROR(DATA!ORY2,\"\"))","v":""},{"$f":"IF(DATA!ORZ2=0,\"\",IFERROR(DATA!ORZ2,\"\"))","v":""},{"$f":"IF(DATA!OSA2=0,\"\",IFERROR(DATA!OSA2,\"\"))","v":""},{"$f":"IF(DATA!OSB2=0,\"\",IFERROR(DATA!OSB2,\"\"))","v":""},{"$f":"IF(DATA!OSC2=0,\"\",IFERROR(DATA!OSC2,\"\"))","v":""},{"$f":"IF(DATA!OSD2=0,\"\",IFERROR(DATA!OSD2,\"\"))","v":""},{"$f":"IF(DATA!OSE2=0,\"\",IFERROR(DATA!OSE2,\"\"))","v":""},{"$f":"IF(DATA!OSF2=0,\"\",IFERROR(DATA!OSF2,\"\"))","v":""},{"$f":"IF(DATA!OSG2=0,\"\",IFERROR(DATA!OSG2,\"\"))","v":""},{"$f":"IF(DATA!OSH2=0,\"\",IFERROR(DATA!OSH2,\"\"))","v":""},{"$f":"IF(DATA!OSI2=0,\"\",IFERROR(DATA!OSI2,\"\"))","v":""},{"$f":"IF(DATA!OSJ2=0,\"\",IFERROR(DATA!OSJ2,\"\"))","v":""},{"$f":"IF(DATA!OSK2=0,\"\",IFERROR(DATA!OSK2,\"\"))","v":""},{"$f":"IF(DATA!OSL2=0,\"\",IFERROR(DATA!OSL2,\"\"))","v":""},{"$f":"IF(DATA!OSM2=0,\"\",IFERROR(DATA!OSM2,\"\"))","v":""},{"$f":"IF(DATA!OSN2=0,\"\",IFERROR(DATA!OSN2,\"\"))","v":""},{"$f":"IF(DATA!OSO2=0,\"\",IFERROR(DATA!OSO2,\"\"))","v":""},{"$f":"IF(DATA!OSP2=0,\"\",IFERROR(DATA!OSP2,\"\"))","v":""},{"$f":"IF(DATA!OSQ2=0,\"\",IFERROR(DATA!OSQ2,\"\"))","v":""},{"$f":"IF(DATA!OSR2=0,\"\",IFERROR(DATA!OSR2,\"\"))","v":""},{"$f":"IF(DATA!OSS2=0,\"\",IFERROR(DATA!OSS2,\"\"))","v":""},{"$f":"IF(DATA!OST2=0,\"\",IFERROR(DATA!OST2,\"\"))","v":""},{"$f":"IF(DATA!OSU2=0,\"\",IFERROR(DATA!OSU2,\"\"))","v":""},{"$f":"IF(DATA!OSV2=0,\"\",IFERROR(DATA!OSV2,\"\"))","v":""},{"$f":"IF(DATA!OSW2=0,\"\",IFERROR(DATA!OSW2,\"\"))","v":""},{"$f":"IF(DATA!OSX2=0,\"\",IFERROR(DATA!OSX2,\"\"))","v":""},{"$f":"IF(DATA!OSY2=0,\"\",IFERROR(DATA!OSY2,\"\"))","v":""},{"$f":"IF(DATA!OSZ2=0,\"\",IFERROR(DATA!OSZ2,\"\"))","v":""},{"$f":"IF(DATA!OTA2=0,\"\",IFERROR(DATA!OTA2,\"\"))","v":""},{"$f":"IF(DATA!OTB2=0,\"\",IFERROR(DATA!OTB2,\"\"))","v":""},{"$f":"IF(DATA!OTC2=0,\"\",IFERROR(DATA!OTC2,\"\"))","v":""},{"$f":"IF(DATA!OTD2=0,\"\",IFERROR(DATA!OTD2,\"\"))","v":""},{"$f":"IF(DATA!OTE2=0,\"\",IFERROR(DATA!OTE2,\"\"))","v":""},{"$f":"IF(DATA!OTF2=0,\"\",IFERROR(DATA!OTF2,\"\"))","v":""},{"$f":"IF(DATA!OTG2=0,\"\",IFERROR(DATA!OTG2,\"\"))","v":""},{"$f":"IF(DATA!OTH2=0,\"\",IFERROR(DATA!OTH2,\"\"))","v":""},{"$f":"IF(DATA!OTI2=0,\"\",IFERROR(DATA!OTI2,\"\"))","v":""},{"$f":"IF(DATA!OTJ2=0,\"\",IFERROR(DATA!OTJ2,\"\"))","v":""},{"$f":"IF(DATA!OTK2=0,\"\",IFERROR(DATA!OTK2,\"\"))","v":""},{"$f":"IF(DATA!OTL2=0,\"\",IFERROR(DATA!OTL2,\"\"))","v":""},{"$f":"IF(DATA!OTM2=0,\"\",IFERROR(DATA!OTM2,\"\"))","v":""},{"$f":"IF(DATA!OTN2=0,\"\",IFERROR(DATA!OTN2,\"\"))","v":""},{"$f":"IF(DATA!OTO2=0,\"\",IFERROR(DATA!OTO2,\"\"))","v":""},{"$f":"IF(DATA!OTP2=0,\"\",IFERROR(DATA!OTP2,\"\"))","v":""},{"$f":"IF(DATA!OTQ2=0,\"\",IFERROR(DATA!OTQ2,\"\"))","v":""},{"$f":"IF(DATA!OTR2=0,\"\",IFERROR(DATA!OTR2,\"\"))","v":""},{"$f":"IF(DATA!OTS2=0,\"\",IFERROR(DATA!OTS2,\"\"))","v":""},{"$f":"IF(DATA!OTT2=0,\"\",IFERROR(DATA!OTT2,\"\"))","v":""},{"$f":"IF(DATA!OTU2=0,\"\",IFERROR(DATA!OTU2,\"\"))","v":""},{"$f":"IF(DATA!OTV2=0,\"\",IFERROR(DATA!OTV2,\"\"))","v":""},{"$f":"IF(DATA!OTW2=0,\"\",IFERROR(DATA!OTW2,\"\"))","v":""},{"$f":"IF(DATA!OTX2=0,\"\",IFERROR(DATA!OTX2,\"\"))","v":""},{"$f":"IF(DATA!OTY2=0,\"\",IFERROR(DATA!OTY2,\"\"))","v":""},{"$f":"IF(DATA!OTZ2=0,\"\",IFERROR(DATA!OTZ2,\"\"))","v":""},{"$f":"IF(DATA!OUA2=0,\"\",IFERROR(DATA!OUA2,\"\"))","v":""},{"$f":"IF(DATA!OUB2=0,\"\",IFERROR(DATA!OUB2,\"\"))","v":""},{"$f":"IF(DATA!OUC2=0,\"\",IFERROR(DATA!OUC2,\"\"))","v":""},{"$f":"IF(DATA!OUD2=0,\"\",IFERROR(DATA!OUD2,\"\"))","v":""},{"$f":"IF(DATA!OUE2=0,\"\",IFERROR(DATA!OUE2,\"\"))","v":""},{"$f":"IF(DATA!OUF2=0,\"\",IFERROR(DATA!OUF2,\"\"))","v":""},{"$f":"IF(DATA!OUG2=0,\"\",IFERROR(DATA!OUG2,\"\"))","v":""},{"$f":"IF(DATA!OUH2=0,\"\",IFERROR(DATA!OUH2,\"\"))","v":""},{"$f":"IF(DATA!OUI2=0,\"\",IFERROR(DATA!OUI2,\"\"))","v":""},{"$f":"IF(DATA!OUJ2=0,\"\",IFERROR(DATA!OUJ2,\"\"))","v":""},{"$f":"IF(DATA!OUK2=0,\"\",IFERROR(DATA!OUK2,\"\"))","v":""},{"$f":"IF(DATA!OUL2=0,\"\",IFERROR(DATA!OUL2,\"\"))","v":""},{"$f":"IF(DATA!OUM2=0,\"\",IFERROR(DATA!OUM2,\"\"))","v":""},{"$f":"IF(DATA!OUN2=0,\"\",IFERROR(DATA!OUN2,\"\"))","v":""},{"$f":"IF(DATA!OUO2=0,\"\",IFERROR(DATA!OUO2,\"\"))","v":""},{"$f":"IF(DATA!OUP2=0,\"\",IFERROR(DATA!OUP2,\"\"))","v":""},{"$f":"IF(DATA!OUQ2=0,\"\",IFERROR(DATA!OUQ2,\"\"))","v":""},{"$f":"IF(DATA!OUR2=0,\"\",IFERROR(DATA!OUR2,\"\"))","v":""},{"$f":"IF(DATA!OUS2=0,\"\",IFERROR(DATA!OUS2,\"\"))","v":""},{"$f":"IF(DATA!OUT2=0,\"\",IFERROR(DATA!OUT2,\"\"))","v":""},{"$f":"IF(DATA!OUU2=0,\"\",IFERROR(DATA!OUU2,\"\"))","v":""},{"$f":"IF(DATA!OUV2=0,\"\",IFERROR(DATA!OUV2,\"\"))","v":""},{"$f":"IF(DATA!OUW2=0,\"\",IFERROR(DATA!OUW2,\"\"))","v":""},{"$f":"IF(DATA!OUX2=0,\"\",IFERROR(DATA!OUX2,\"\"))","v":""},{"$f":"IF(DATA!OUY2=0,\"\",IFERROR(DATA!OUY2,\"\"))","v":""},{"$f":"IF(DATA!OUZ2=0,\"\",IFERROR(DATA!OUZ2,\"\"))","v":""},{"$f":"IF(DATA!OVA2=0,\"\",IFERROR(DATA!OVA2,\"\"))","v":""},{"$f":"IF(DATA!OVB2=0,\"\",IFERROR(DATA!OVB2,\"\"))","v":""},{"$f":"IF(DATA!OVC2=0,\"\",IFERROR(DATA!OVC2,\"\"))","v":""},{"$f":"IF(DATA!OVD2=0,\"\",IFERROR(DATA!OVD2,\"\"))","v":""},{"$f":"IF(DATA!OVE2=0,\"\",IFERROR(DATA!OVE2,\"\"))","v":""},{"$f":"IF(DATA!OVF2=0,\"\",IFERROR(DATA!OVF2,\"\"))","v":""},{"$f":"IF(DATA!OVG2=0,\"\",IFERROR(DATA!OVG2,\"\"))","v":""},{"$f":"IF(DATA!OVH2=0,\"\",IFERROR(DATA!OVH2,\"\"))","v":""},{"$f":"IF(DATA!OVI2=0,\"\",IFERROR(DATA!OVI2,\"\"))","v":""},{"$f":"IF(DATA!OVJ2=0,\"\",IFERROR(DATA!OVJ2,\"\"))","v":""},{"$f":"IF(DATA!OVK2=0,\"\",IFERROR(DATA!OVK2,\"\"))","v":""},{"$f":"IF(DATA!OVL2=0,\"\",IFERROR(DATA!OVL2,\"\"))","v":""},{"$f":"IF(DATA!OVM2=0,\"\",IFERROR(DATA!OVM2,\"\"))","v":""},{"$f":"IF(DATA!OVN2=0,\"\",IFERROR(DATA!OVN2,\"\"))","v":""},{"$f":"IF(DATA!OVO2=0,\"\",IFERROR(DATA!OVO2,\"\"))","v":""},{"$f":"IF(DATA!OVP2=0,\"\",IFERROR(DATA!OVP2,\"\"))","v":""},{"$f":"IF(DATA!OVQ2=0,\"\",IFERROR(DATA!OVQ2,\"\"))","v":""},{"$f":"IF(DATA!OVR2=0,\"\",IFERROR(DATA!OVR2,\"\"))","v":""},{"$f":"IF(DATA!OVS2=0,\"\",IFERROR(DATA!OVS2,\"\"))","v":""},{"$f":"IF(DATA!OVT2=0,\"\",IFERROR(DATA!OVT2,\"\"))","v":""},{"$f":"IF(DATA!OVU2=0,\"\",IFERROR(DATA!OVU2,\"\"))","v":""},{"$f":"IF(DATA!OVV2=0,\"\",IFERROR(DATA!OVV2,\"\"))","v":""},{"$f":"IF(DATA!OVW2=0,\"\",IFERROR(DATA!OVW2,\"\"))","v":""},{"$f":"IF(DATA!OVX2=0,\"\",IFERROR(DATA!OVX2,\"\"))","v":""},{"$f":"IF(DATA!OVY2=0,\"\",IFERROR(DATA!OVY2,\"\"))","v":""},{"$f":"IF(DATA!OVZ2=0,\"\",IFERROR(DATA!OVZ2,\"\"))","v":""},{"$f":"IF(DATA!OWA2=0,\"\",IFERROR(DATA!OWA2,\"\"))","v":""},{"$f":"IF(DATA!OWB2=0,\"\",IFERROR(DATA!OWB2,\"\"))","v":""},{"$f":"IF(DATA!OWC2=0,\"\",IFERROR(DATA!OWC2,\"\"))","v":""},{"$f":"IF(DATA!OWD2=0,\"\",IFERROR(DATA!OWD2,\"\"))","v":""},{"$f":"IF(DATA!OWE2=0,\"\",IFERROR(DATA!OWE2,\"\"))","v":""},{"$f":"IF(DATA!OWF2=0,\"\",IFERROR(DATA!OWF2,\"\"))","v":""},{"$f":"IF(DATA!OWG2=0,\"\",IFERROR(DATA!OWG2,\"\"))","v":""},{"$f":"IF(DATA!OWH2=0,\"\",IFERROR(DATA!OWH2,\"\"))","v":""},{"$f":"IF(DATA!OWI2=0,\"\",IFERROR(DATA!OWI2,\"\"))","v":""},{"$f":"IF(DATA!OWJ2=0,\"\",IFERROR(DATA!OWJ2,\"\"))","v":""},{"$f":"IF(DATA!OWK2=0,\"\",IFERROR(DATA!OWK2,\"\"))","v":""},{"$f":"IF(DATA!OWL2=0,\"\",IFERROR(DATA!OWL2,\"\"))","v":""},{"$f":"IF(DATA!OWM2=0,\"\",IFERROR(DATA!OWM2,\"\"))","v":""},{"$f":"IF(DATA!OWN2=0,\"\",IFERROR(DATA!OWN2,\"\"))","v":""},{"$f":"IF(DATA!OWO2=0,\"\",IFERROR(DATA!OWO2,\"\"))","v":""},{"$f":"IF(DATA!OWP2=0,\"\",IFERROR(DATA!OWP2,\"\"))","v":""},{"$f":"IF(DATA!OWQ2=0,\"\",IFERROR(DATA!OWQ2,\"\"))","v":""},{"$f":"IF(DATA!OWR2=0,\"\",IFERROR(DATA!OWR2,\"\"))","v":""},{"$f":"IF(DATA!OWS2=0,\"\",IFERROR(DATA!OWS2,\"\"))","v":""},{"$f":"IF(DATA!OWT2=0,\"\",IFERROR(DATA!OWT2,\"\"))","v":""},{"$f":"IF(DATA!OWU2=0,\"\",IFERROR(DATA!OWU2,\"\"))","v":""},{"$f":"IF(DATA!OWV2=0,\"\",IFERROR(DATA!OWV2,\"\"))","v":""},{"$f":"IF(DATA!OWW2=0,\"\",IFERROR(DATA!OWW2,\"\"))","v":""},{"$f":"IF(DATA!OWX2=0,\"\",IFERROR(DATA!OWX2,\"\"))","v":""},{"$f":"IF(DATA!OWY2=0,\"\",IFERROR(DATA!OWY2,\"\"))","v":""},{"$f":"IF(DATA!OWZ2=0,\"\",IFERROR(DATA!OWZ2,\"\"))","v":""},{"$f":"IF(DATA!OXA2=0,\"\",IFERROR(DATA!OXA2,\"\"))","v":""},{"$f":"IF(DATA!OXB2=0,\"\",IFERROR(DATA!OXB2,\"\"))","v":""},{"$f":"IF(DATA!OXC2=0,\"\",IFERROR(DATA!OXC2,\"\"))","v":""},{"$f":"IF(DATA!OXD2=0,\"\",IFERROR(DATA!OXD2,\"\"))","v":""},{"$f":"IF(DATA!OXE2=0,\"\",IFERROR(DATA!OXE2,\"\"))","v":""},{"$f":"IF(DATA!OXF2=0,\"\",IFERROR(DATA!OXF2,\"\"))","v":""},{"$f":"IF(DATA!OXG2=0,\"\",IFERROR(DATA!OXG2,\"\"))","v":""},{"$f":"IF(DATA!OXH2=0,\"\",IFERROR(DATA!OXH2,\"\"))","v":""},{"$f":"IF(DATA!OXI2=0,\"\",IFERROR(DATA!OXI2,\"\"))","v":""},{"$f":"IF(DATA!OXJ2=0,\"\",IFERROR(DATA!OXJ2,\"\"))","v":""},{"$f":"IF(DATA!OXK2=0,\"\",IFERROR(DATA!OXK2,\"\"))","v":""},{"$f":"IF(DATA!OXL2=0,\"\",IFERROR(DATA!OXL2,\"\"))","v":""},{"$f":"IF(DATA!OXM2=0,\"\",IFERROR(DATA!OXM2,\"\"))","v":""},{"$f":"IF(DATA!OXN2=0,\"\",IFERROR(DATA!OXN2,\"\"))","v":""},{"$f":"IF(DATA!OXO2=0,\"\",IFERROR(DATA!OXO2,\"\"))","v":""},{"$f":"IF(DATA!OXP2=0,\"\",IFERROR(DATA!OXP2,\"\"))","v":""},{"$f":"IF(DATA!OXQ2=0,\"\",IFERROR(DATA!OXQ2,\"\"))","v":""},{"$f":"IF(DATA!OXR2=0,\"\",IFERROR(DATA!OXR2,\"\"))","v":""},{"$f":"IF(DATA!OXS2=0,\"\",IFERROR(DATA!OXS2,\"\"))","v":""},{"$f":"IF(DATA!OXT2=0,\"\",IFERROR(DATA!OXT2,\"\"))","v":""},{"$f":"IF(DATA!OXU2=0,\"\",IFERROR(DATA!OXU2,\"\"))","v":""},{"$f":"IF(DATA!OXV2=0,\"\",IFERROR(DATA!OXV2,\"\"))","v":""},{"$f":"IF(DATA!OXW2=0,\"\",IFERROR(DATA!OXW2,\"\"))","v":""},{"$f":"IF(DATA!OXX2=0,\"\",IFERROR(DATA!OXX2,\"\"))","v":""},{"$f":"IF(DATA!OXY2=0,\"\",IFERROR(DATA!OXY2,\"\"))","v":""},{"$f":"IF(DATA!OXZ2=0,\"\",IFERROR(DATA!OXZ2,\"\"))","v":""},{"$f":"IF(DATA!OYA2=0,\"\",IFERROR(DATA!OYA2,\"\"))","v":""},{"$f":"IF(DATA!OYB2=0,\"\",IFERROR(DATA!OYB2,\"\"))","v":""},{"$f":"IF(DATA!OYC2=0,\"\",IFERROR(DATA!OYC2,\"\"))","v":""},{"$f":"IF(DATA!OYD2=0,\"\",IFERROR(DATA!OYD2,\"\"))","v":""},{"$f":"IF(DATA!OYE2=0,\"\",IFERROR(DATA!OYE2,\"\"))","v":""},{"$f":"IF(DATA!OYF2=0,\"\",IFERROR(DATA!OYF2,\"\"))","v":""},{"$f":"IF(DATA!OYG2=0,\"\",IFERROR(DATA!OYG2,\"\"))","v":""},{"$f":"IF(DATA!OYH2=0,\"\",IFERROR(DATA!OYH2,\"\"))","v":""},{"$f":"IF(DATA!OYI2=0,\"\",IFERROR(DATA!OYI2,\"\"))","v":""},{"$f":"IF(DATA!OYJ2=0,\"\",IFERROR(DATA!OYJ2,\"\"))","v":""},{"$f":"IF(DATA!OYK2=0,\"\",IFERROR(DATA!OYK2,\"\"))","v":""},{"$f":"IF(DATA!OYL2=0,\"\",IFERROR(DATA!OYL2,\"\"))","v":""},{"$f":"IF(DATA!OYM2=0,\"\",IFERROR(DATA!OYM2,\"\"))","v":""},{"$f":"IF(DATA!OYN2=0,\"\",IFERROR(DATA!OYN2,\"\"))","v":""},{"$f":"IF(DATA!OYO2=0,\"\",IFERROR(DATA!OYO2,\"\"))","v":""},{"$f":"IF(DATA!OYP2=0,\"\",IFERROR(DATA!OYP2,\"\"))","v":""},{"$f":"IF(DATA!OYQ2=0,\"\",IFERROR(DATA!OYQ2,\"\"))","v":""},{"$f":"IF(DATA!OYR2=0,\"\",IFERROR(DATA!OYR2,\"\"))","v":""},{"$f":"IF(DATA!OYS2=0,\"\",IFERROR(DATA!OYS2,\"\"))","v":""},{"$f":"IF(DATA!OYT2=0,\"\",IFERROR(DATA!OYT2,\"\"))","v":""},{"$f":"IF(DATA!OYU2=0,\"\",IFERROR(DATA!OYU2,\"\"))","v":""},{"$f":"IF(DATA!OYV2=0,\"\",IFERROR(DATA!OYV2,\"\"))","v":""},{"$f":"IF(DATA!OYW2=0,\"\",IFERROR(DATA!OYW2,\"\"))","v":""},{"$f":"IF(DATA!OYX2=0,\"\",IFERROR(DATA!OYX2,\"\"))","v":""},{"$f":"IF(DATA!OYY2=0,\"\",IFERROR(DATA!OYY2,\"\"))","v":""},{"$f":"IF(DATA!OYZ2=0,\"\",IFERROR(DATA!OYZ2,\"\"))","v":""},{"$f":"IF(DATA!OZA2=0,\"\",IFERROR(DATA!OZA2,\"\"))","v":""},{"$f":"IF(DATA!OZB2=0,\"\",IFERROR(DATA!OZB2,\"\"))","v":""},{"$f":"IF(DATA!OZC2=0,\"\",IFERROR(DATA!OZC2,\"\"))","v":""},{"$f":"IF(DATA!OZD2=0,\"\",IFERROR(DATA!OZD2,\"\"))","v":""},{"$f":"IF(DATA!OZE2=0,\"\",IFERROR(DATA!OZE2,\"\"))","v":""},{"$f":"IF(DATA!OZF2=0,\"\",IFERROR(DATA!OZF2,\"\"))","v":""},{"$f":"IF(DATA!OZG2=0,\"\",IFERROR(DATA!OZG2,\"\"))","v":""},{"$f":"IF(DATA!OZH2=0,\"\",IFERROR(DATA!OZH2,\"\"))","v":""},{"$f":"IF(DATA!OZI2=0,\"\",IFERROR(DATA!OZI2,\"\"))","v":""},{"$f":"IF(DATA!OZJ2=0,\"\",IFERROR(DATA!OZJ2,\"\"))","v":""},{"$f":"IF(DATA!OZK2=0,\"\",IFERROR(DATA!OZK2,\"\"))","v":""},{"$f":"IF(DATA!OZL2=0,\"\",IFERROR(DATA!OZL2,\"\"))","v":""},{"$f":"IF(DATA!OZM2=0,\"\",IFERROR(DATA!OZM2,\"\"))","v":""},{"$f":"IF(DATA!OZN2=0,\"\",IFERROR(DATA!OZN2,\"\"))","v":""},{"$f":"IF(DATA!OZO2=0,\"\",IFERROR(DATA!OZO2,\"\"))","v":""},{"$f":"IF(DATA!OZP2=0,\"\",IFERROR(DATA!OZP2,\"\"))","v":""},{"$f":"IF(DATA!OZQ2=0,\"\",IFERROR(DATA!OZQ2,\"\"))","v":""},{"$f":"IF(DATA!OZR2=0,\"\",IFERROR(DATA!OZR2,\"\"))","v":""},{"$f":"IF(DATA!OZS2=0,\"\",IFERROR(DATA!OZS2,\"\"))","v":""},{"$f":"IF(DATA!OZT2=0,\"\",IFERROR(DATA!OZT2,\"\"))","v":""},{"$f":"IF(DATA!OZU2=0,\"\",IFERROR(DATA!OZU2,\"\"))","v":""},{"$f":"IF(DATA!OZV2=0,\"\",IFERROR(DATA!OZV2,\"\"))","v":""},{"$f":"IF(DATA!OZW2=0,\"\",IFERROR(DATA!OZW2,\"\"))","v":""},{"$f":"IF(DATA!OZX2=0,\"\",IFERROR(DATA!OZX2,\"\"))","v":""},{"$f":"IF(DATA!OZY2=0,\"\",IFERROR(DATA!OZY2,\"\"))","v":""},{"$f":"IF(DATA!OZZ2=0,\"\",IFERROR(DATA!OZZ2,\"\"))","v":""},{"$f":"IF(DATA!PAA2=0,\"\",IFERROR(DATA!PAA2,\"\"))","v":""},{"$f":"IF(DATA!PAB2=0,\"\",IFERROR(DATA!PAB2,\"\"))","v":""},{"$f":"IF(DATA!PAC2=0,\"\",IFERROR(DATA!PAC2,\"\"))","v":""},{"$f":"IF(DATA!PAD2=0,\"\",IFERROR(DATA!PAD2,\"\"))","v":""},{"$f":"IF(DATA!PAE2=0,\"\",IFERROR(DATA!PAE2,\"\"))","v":""},{"$f":"IF(DATA!PAF2=0,\"\",IFERROR(DATA!PAF2,\"\"))","v":""},{"$f":"IF(DATA!PAG2=0,\"\",IFERROR(DATA!PAG2,\"\"))","v":""},{"$f":"IF(DATA!PAH2=0,\"\",IFERROR(DATA!PAH2,\"\"))","v":""},{"$f":"IF(DATA!PAI2=0,\"\",IFERROR(DATA!PAI2,\"\"))","v":""},{"$f":"IF(DATA!PAJ2=0,\"\",IFERROR(DATA!PAJ2,\"\"))","v":""},{"$f":"IF(DATA!PAK2=0,\"\",IFERROR(DATA!PAK2,\"\"))","v":""},{"$f":"IF(DATA!PAL2=0,\"\",IFERROR(DATA!PAL2,\"\"))","v":""},{"$f":"IF(DATA!PAM2=0,\"\",IFERROR(DATA!PAM2,\"\"))","v":""},{"$f":"IF(DATA!PAN2=0,\"\",IFERROR(DATA!PAN2,\"\"))","v":""},{"$f":"IF(DATA!PAO2=0,\"\",IFERROR(DATA!PAO2,\"\"))","v":""},{"$f":"IF(DATA!PAP2=0,\"\",IFERROR(DATA!PAP2,\"\"))","v":""},{"$f":"IF(DATA!PAQ2=0,\"\",IFERROR(DATA!PAQ2,\"\"))","v":""},{"$f":"IF(DATA!PAR2=0,\"\",IFERROR(DATA!PAR2,\"\"))","v":""},{"$f":"IF(DATA!PAS2=0,\"\",IFERROR(DATA!PAS2,\"\"))","v":""},{"$f":"IF(DATA!PAT2=0,\"\",IFERROR(DATA!PAT2,\"\"))","v":""},{"$f":"IF(DATA!PAU2=0,\"\",IFERROR(DATA!PAU2,\"\"))","v":""},{"$f":"IF(DATA!PAV2=0,\"\",IFERROR(DATA!PAV2,\"\"))","v":""},{"$f":"IF(DATA!PAW2=0,\"\",IFERROR(DATA!PAW2,\"\"))","v":""},{"$f":"IF(DATA!PAX2=0,\"\",IFERROR(DATA!PAX2,\"\"))","v":""},{"$f":"IF(DATA!PAY2=0,\"\",IFERROR(DATA!PAY2,\"\"))","v":""},{"$f":"IF(DATA!PAZ2=0,\"\",IFERROR(DATA!PAZ2,\"\"))","v":""},{"$f":"IF(DATA!PBA2=0,\"\",IFERROR(DATA!PBA2,\"\"))","v":""},{"$f":"IF(DATA!PBB2=0,\"\",IFERROR(DATA!PBB2,\"\"))","v":""},{"$f":"IF(DATA!PBC2=0,\"\",IFERROR(DATA!PBC2,\"\"))","v":""},{"$f":"IF(DATA!PBD2=0,\"\",IFERROR(DATA!PBD2,\"\"))","v":""},{"$f":"IF(DATA!PBE2=0,\"\",IFERROR(DATA!PBE2,\"\"))","v":""},{"$f":"IF(DATA!PBF2=0,\"\",IFERROR(DATA!PBF2,\"\"))","v":""},{"$f":"IF(DATA!PBG2=0,\"\",IFERROR(DATA!PBG2,\"\"))","v":""},{"$f":"IF(DATA!PBH2=0,\"\",IFERROR(DATA!PBH2,\"\"))","v":""},{"$f":"IF(DATA!PBI2=0,\"\",IFERROR(DATA!PBI2,\"\"))","v":""},{"$f":"IF(DATA!PBJ2=0,\"\",IFERROR(DATA!PBJ2,\"\"))","v":""},{"$f":"IF(DATA!PBK2=0,\"\",IFERROR(DATA!PBK2,\"\"))","v":""},{"$f":"IF(DATA!PBL2=0,\"\",IFERROR(DATA!PBL2,\"\"))","v":""},{"$f":"IF(DATA!PBM2=0,\"\",IFERROR(DATA!PBM2,\"\"))","v":""},{"$f":"IF(DATA!PBN2=0,\"\",IFERROR(DATA!PBN2,\"\"))","v":""},{"$f":"IF(DATA!PBO2=0,\"\",IFERROR(DATA!PBO2,\"\"))","v":""},{"$f":"IF(DATA!PBP2=0,\"\",IFERROR(DATA!PBP2,\"\"))","v":""},{"$f":"IF(DATA!PBQ2=0,\"\",IFERROR(DATA!PBQ2,\"\"))","v":""},{"$f":"IF(DATA!PBR2=0,\"\",IFERROR(DATA!PBR2,\"\"))","v":""},{"$f":"IF(DATA!PBS2=0,\"\",IFERROR(DATA!PBS2,\"\"))","v":""},{"$f":"IF(DATA!PBT2=0,\"\",IFERROR(DATA!PBT2,\"\"))","v":""},{"$f":"IF(DATA!PBU2=0,\"\",IFERROR(DATA!PBU2,\"\"))","v":""},{"$f":"IF(DATA!PBV2=0,\"\",IFERROR(DATA!PBV2,\"\"))","v":""},{"$f":"IF(DATA!PBW2=0,\"\",IFERROR(DATA!PBW2,\"\"))","v":""},{"$f":"IF(DATA!PBX2=0,\"\",IFERROR(DATA!PBX2,\"\"))","v":""},{"$f":"IF(DATA!PBY2=0,\"\",IFERROR(DATA!PBY2,\"\"))","v":""},{"$f":"IF(DATA!PBZ2=0,\"\",IFERROR(DATA!PBZ2,\"\"))","v":""},{"$f":"IF(DATA!PCA2=0,\"\",IFERROR(DATA!PCA2,\"\"))","v":""},{"$f":"IF(DATA!PCB2=0,\"\",IFERROR(DATA!PCB2,\"\"))","v":""},{"$f":"IF(DATA!PCC2=0,\"\",IFERROR(DATA!PCC2,\"\"))","v":""},{"$f":"IF(DATA!PCD2=0,\"\",IFERROR(DATA!PCD2,\"\"))","v":""},{"$f":"IF(DATA!PCE2=0,\"\",IFERROR(DATA!PCE2,\"\"))","v":""},{"$f":"IF(DATA!PCF2=0,\"\",IFERROR(DATA!PCF2,\"\"))","v":""},{"$f":"IF(DATA!PCG2=0,\"\",IFERROR(DATA!PCG2,\"\"))","v":""},{"$f":"IF(DATA!PCH2=0,\"\",IFERROR(DATA!PCH2,\"\"))","v":""},{"$f":"IF(DATA!PCI2=0,\"\",IFERROR(DATA!PCI2,\"\"))","v":""},{"$f":"IF(DATA!PCJ2=0,\"\",IFERROR(DATA!PCJ2,\"\"))","v":""},{"$f":"IF(DATA!PCK2=0,\"\",IFERROR(DATA!PCK2,\"\"))","v":""},{"$f":"IF(DATA!PCL2=0,\"\",IFERROR(DATA!PCL2,\"\"))","v":""},{"$f":"IF(DATA!PCM2=0,\"\",IFERROR(DATA!PCM2,\"\"))","v":""},{"$f":"IF(DATA!PCN2=0,\"\",IFERROR(DATA!PCN2,\"\"))","v":""},{"$f":"IF(DATA!PCO2=0,\"\",IFERROR(DATA!PCO2,\"\"))","v":""},{"$f":"IF(DATA!PCP2=0,\"\",IFERROR(DATA!PCP2,\"\"))","v":""},{"$f":"IF(DATA!PCQ2=0,\"\",IFERROR(DATA!PCQ2,\"\"))","v":""},{"$f":"IF(DATA!PCR2=0,\"\",IFERROR(DATA!PCR2,\"\"))","v":""},{"$f":"IF(DATA!PCS2=0,\"\",IFERROR(DATA!PCS2,\"\"))","v":""},{"$f":"IF(DATA!PCT2=0,\"\",IFERROR(DATA!PCT2,\"\"))","v":""},{"$f":"IF(DATA!PCU2=0,\"\",IFERROR(DATA!PCU2,\"\"))","v":""},{"$f":"IF(DATA!PCV2=0,\"\",IFERROR(DATA!PCV2,\"\"))","v":""},{"$f":"IF(DATA!PCW2=0,\"\",IFERROR(DATA!PCW2,\"\"))","v":""},{"$f":"IF(DATA!PCX2=0,\"\",IFERROR(DATA!PCX2,\"\"))","v":""},{"$f":"IF(DATA!PCY2=0,\"\",IFERROR(DATA!PCY2,\"\"))","v":""},{"$f":"IF(DATA!PCZ2=0,\"\",IFERROR(DATA!PCZ2,\"\"))","v":""},{"$f":"IF(DATA!PDA2=0,\"\",IFERROR(DATA!PDA2,\"\"))","v":""},{"$f":"IF(DATA!PDB2=0,\"\",IFERROR(DATA!PDB2,\"\"))","v":""},{"$f":"IF(DATA!PDC2=0,\"\",IFERROR(DATA!PDC2,\"\"))","v":""},{"$f":"IF(DATA!PDD2=0,\"\",IFERROR(DATA!PDD2,\"\"))","v":""},{"$f":"IF(DATA!PDE2=0,\"\",IFERROR(DATA!PDE2,\"\"))","v":""},{"$f":"IF(DATA!PDF2=0,\"\",IFERROR(DATA!PDF2,\"\"))","v":""},{"$f":"IF(DATA!PDG2=0,\"\",IFERROR(DATA!PDG2,\"\"))","v":""},{"$f":"IF(DATA!PDH2=0,\"\",IFERROR(DATA!PDH2,\"\"))","v":""},{"$f":"IF(DATA!PDI2=0,\"\",IFERROR(DATA!PDI2,\"\"))","v":""},{"$f":"IF(DATA!PDJ2=0,\"\",IFERROR(DATA!PDJ2,\"\"))","v":""},{"$f":"IF(DATA!PDK2=0,\"\",IFERROR(DATA!PDK2,\"\"))","v":""},{"$f":"IF(DATA!PDL2=0,\"\",IFERROR(DATA!PDL2,\"\"))","v":""},{"$f":"IF(DATA!PDM2=0,\"\",IFERROR(DATA!PDM2,\"\"))","v":""},{"$f":"IF(DATA!PDN2=0,\"\",IFERROR(DATA!PDN2,\"\"))","v":""},{"$f":"IF(DATA!PDO2=0,\"\",IFERROR(DATA!PDO2,\"\"))","v":""},{"$f":"IF(DATA!PDP2=0,\"\",IFERROR(DATA!PDP2,\"\"))","v":""},{"$f":"IF(DATA!PDQ2=0,\"\",IFERROR(DATA!PDQ2,\"\"))","v":""},{"$f":"IF(DATA!PDR2=0,\"\",IFERROR(DATA!PDR2,\"\"))","v":""},{"$f":"IF(DATA!PDS2=0,\"\",IFERROR(DATA!PDS2,\"\"))","v":""},{"$f":"IF(DATA!PDT2=0,\"\",IFERROR(DATA!PDT2,\"\"))","v":""},{"$f":"IF(DATA!PDU2=0,\"\",IFERROR(DATA!PDU2,\"\"))","v":""},{"$f":"IF(DATA!PDV2=0,\"\",IFERROR(DATA!PDV2,\"\"))","v":""},{"$f":"IF(DATA!PDW2=0,\"\",IFERROR(DATA!PDW2,\"\"))","v":""},{"$f":"IF(DATA!PDX2=0,\"\",IFERROR(DATA!PDX2,\"\"))","v":""},{"$f":"IF(DATA!PDY2=0,\"\",IFERROR(DATA!PDY2,\"\"))","v":""},{"$f":"IF(DATA!PDZ2=0,\"\",IFERROR(DATA!PDZ2,\"\"))","v":""},{"$f":"IF(DATA!PEA2=0,\"\",IFERROR(DATA!PEA2,\"\"))","v":""},{"$f":"IF(DATA!PEB2=0,\"\",IFERROR(DATA!PEB2,\"\"))","v":""},{"$f":"IF(DATA!PEC2=0,\"\",IFERROR(DATA!PEC2,\"\"))","v":""},{"$f":"IF(DATA!PED2=0,\"\",IFERROR(DATA!PED2,\"\"))","v":""},{"$f":"IF(DATA!PEE2=0,\"\",IFERROR(DATA!PEE2,\"\"))","v":""},{"$f":"IF(DATA!PEF2=0,\"\",IFERROR(DATA!PEF2,\"\"))","v":""},{"$f":"IF(DATA!PEG2=0,\"\",IFERROR(DATA!PEG2,\"\"))","v":""},{"$f":"IF(DATA!PEH2=0,\"\",IFERROR(DATA!PEH2,\"\"))","v":""},{"$f":"IF(DATA!PEI2=0,\"\",IFERROR(DATA!PEI2,\"\"))","v":""},{"$f":"IF(DATA!PEJ2=0,\"\",IFERROR(DATA!PEJ2,\"\"))","v":""},{"$f":"IF(DATA!PEK2=0,\"\",IFERROR(DATA!PEK2,\"\"))","v":""},{"$f":"IF(DATA!PEL2=0,\"\",IFERROR(DATA!PEL2,\"\"))","v":""},{"$f":"IF(DATA!PEM2=0,\"\",IFERROR(DATA!PEM2,\"\"))","v":""},{"$f":"IF(DATA!PEN2=0,\"\",IFERROR(DATA!PEN2,\"\"))","v":""},{"$f":"IF(DATA!PEO2=0,\"\",IFERROR(DATA!PEO2,\"\"))","v":""},{"$f":"IF(DATA!PEP2=0,\"\",IFERROR(DATA!PEP2,\"\"))","v":""},{"$f":"IF(DATA!PEQ2=0,\"\",IFERROR(DATA!PEQ2,\"\"))","v":""},{"$f":"IF(DATA!PER2=0,\"\",IFERROR(DATA!PER2,\"\"))","v":""},{"$f":"IF(DATA!PES2=0,\"\",IFERROR(DATA!PES2,\"\"))","v":""},{"$f":"IF(DATA!PET2=0,\"\",IFERROR(DATA!PET2,\"\"))","v":""},{"$f":"IF(DATA!PEU2=0,\"\",IFERROR(DATA!PEU2,\"\"))","v":""},{"$f":"IF(DATA!PEV2=0,\"\",IFERROR(DATA!PEV2,\"\"))","v":""},{"$f":"IF(DATA!PEW2=0,\"\",IFERROR(DATA!PEW2,\"\"))","v":""},{"$f":"IF(DATA!PEX2=0,\"\",IFERROR(DATA!PEX2,\"\"))","v":""},{"$f":"IF(DATA!PEY2=0,\"\",IFERROR(DATA!PEY2,\"\"))","v":""},{"$f":"IF(DATA!PEZ2=0,\"\",IFERROR(DATA!PEZ2,\"\"))","v":""},{"$f":"IF(DATA!PFA2=0,\"\",IFERROR(DATA!PFA2,\"\"))","v":""},{"$f":"IF(DATA!PFB2=0,\"\",IFERROR(DATA!PFB2,\"\"))","v":""},{"$f":"IF(DATA!PFC2=0,\"\",IFERROR(DATA!PFC2,\"\"))","v":""},{"$f":"IF(DATA!PFD2=0,\"\",IFERROR(DATA!PFD2,\"\"))","v":""},{"$f":"IF(DATA!PFE2=0,\"\",IFERROR(DATA!PFE2,\"\"))","v":""},{"$f":"IF(DATA!PFF2=0,\"\",IFERROR(DATA!PFF2,\"\"))","v":""},{"$f":"IF(DATA!PFG2=0,\"\",IFERROR(DATA!PFG2,\"\"))","v":""},{"$f":"IF(DATA!PFH2=0,\"\",IFERROR(DATA!PFH2,\"\"))","v":""},{"$f":"IF(DATA!PFI2=0,\"\",IFERROR(DATA!PFI2,\"\"))","v":""},{"$f":"IF(DATA!PFJ2=0,\"\",IFERROR(DATA!PFJ2,\"\"))","v":""},{"$f":"IF(DATA!PFK2=0,\"\",IFERROR(DATA!PFK2,\"\"))","v":""},{"$f":"IF(DATA!PFL2=0,\"\",IFERROR(DATA!PFL2,\"\"))","v":""},{"$f":"IF(DATA!PFM2=0,\"\",IFERROR(DATA!PFM2,\"\"))","v":""},{"$f":"IF(DATA!PFN2=0,\"\",IFERROR(DATA!PFN2,\"\"))","v":""},{"$f":"IF(DATA!PFO2=0,\"\",IFERROR(DATA!PFO2,\"\"))","v":""},{"$f":"IF(DATA!PFP2=0,\"\",IFERROR(DATA!PFP2,\"\"))","v":""},{"$f":"IF(DATA!PFQ2=0,\"\",IFERROR(DATA!PFQ2,\"\"))","v":""},{"$f":"IF(DATA!PFR2=0,\"\",IFERROR(DATA!PFR2,\"\"))","v":""},{"$f":"IF(DATA!PFS2=0,\"\",IFERROR(DATA!PFS2,\"\"))","v":""},{"$f":"IF(DATA!PFT2=0,\"\",IFERROR(DATA!PFT2,\"\"))","v":""},{"$f":"IF(DATA!PFU2=0,\"\",IFERROR(DATA!PFU2,\"\"))","v":""},{"$f":"IF(DATA!PFV2=0,\"\",IFERROR(DATA!PFV2,\"\"))","v":""},{"$f":"IF(DATA!PFW2=0,\"\",IFERROR(DATA!PFW2,\"\"))","v":""},{"$f":"IF(DATA!PFX2=0,\"\",IFERROR(DATA!PFX2,\"\"))","v":""},{"$f":"IF(DATA!PFY2=0,\"\",IFERROR(DATA!PFY2,\"\"))","v":""},{"$f":"IF(DATA!PFZ2=0,\"\",IFERROR(DATA!PFZ2,\"\"))","v":""},{"$f":"IF(DATA!PGA2=0,\"\",IFERROR(DATA!PGA2,\"\"))","v":""},{"$f":"IF(DATA!PGB2=0,\"\",IFERROR(DATA!PGB2,\"\"))","v":""},{"$f":"IF(DATA!PGC2=0,\"\",IFERROR(DATA!PGC2,\"\"))","v":""},{"$f":"IF(DATA!PGD2=0,\"\",IFERROR(DATA!PGD2,\"\"))","v":""},{"$f":"IF(DATA!PGE2=0,\"\",IFERROR(DATA!PGE2,\"\"))","v":""},{"$f":"IF(DATA!PGF2=0,\"\",IFERROR(DATA!PGF2,\"\"))","v":""},{"$f":"IF(DATA!PGG2=0,\"\",IFERROR(DATA!PGG2,\"\"))","v":""},{"$f":"IF(DATA!PGH2=0,\"\",IFERROR(DATA!PGH2,\"\"))","v":""},{"$f":"IF(DATA!PGI2=0,\"\",IFERROR(DATA!PGI2,\"\"))","v":""},{"$f":"IF(DATA!PGJ2=0,\"\",IFERROR(DATA!PGJ2,\"\"))","v":""},{"$f":"IF(DATA!PGK2=0,\"\",IFERROR(DATA!PGK2,\"\"))","v":""},{"$f":"IF(DATA!PGL2=0,\"\",IFERROR(DATA!PGL2,\"\"))","v":""},{"$f":"IF(DATA!PGM2=0,\"\",IFERROR(DATA!PGM2,\"\"))","v":""},{"$f":"IF(DATA!PGN2=0,\"\",IFERROR(DATA!PGN2,\"\"))","v":""},{"$f":"IF(DATA!PGO2=0,\"\",IFERROR(DATA!PGO2,\"\"))","v":""},{"$f":"IF(DATA!PGP2=0,\"\",IFERROR(DATA!PGP2,\"\"))","v":""},{"$f":"IF(DATA!PGQ2=0,\"\",IFERROR(DATA!PGQ2,\"\"))","v":""},{"$f":"IF(DATA!PGR2=0,\"\",IFERROR(DATA!PGR2,\"\"))","v":""},{"$f":"IF(DATA!PGS2=0,\"\",IFERROR(DATA!PGS2,\"\"))","v":""},{"$f":"IF(DATA!PGT2=0,\"\",IFERROR(DATA!PGT2,\"\"))","v":""},{"$f":"IF(DATA!PGU2=0,\"\",IFERROR(DATA!PGU2,\"\"))","v":""},{"$f":"IF(DATA!PGV2=0,\"\",IFERROR(DATA!PGV2,\"\"))","v":""},{"$f":"IF(DATA!PGW2=0,\"\",IFERROR(DATA!PGW2,\"\"))","v":""},{"$f":"IF(DATA!PGX2=0,\"\",IFERROR(DATA!PGX2,\"\"))","v":""},{"$f":"IF(DATA!PGY2=0,\"\",IFERROR(DATA!PGY2,\"\"))","v":""},{"$f":"IF(DATA!PGZ2=0,\"\",IFERROR(DATA!PGZ2,\"\"))","v":""},{"$f":"IF(DATA!PHA2=0,\"\",IFERROR(DATA!PHA2,\"\"))","v":""},{"$f":"IF(DATA!PHB2=0,\"\",IFERROR(DATA!PHB2,\"\"))","v":""},{"$f":"IF(DATA!PHC2=0,\"\",IFERROR(DATA!PHC2,\"\"))","v":""},{"$f":"IF(DATA!PHD2=0,\"\",IFERROR(DATA!PHD2,\"\"))","v":""},{"$f":"IF(DATA!PHE2=0,\"\",IFERROR(DATA!PHE2,\"\"))","v":""},{"$f":"IF(DATA!PHF2=0,\"\",IFERROR(DATA!PHF2,\"\"))","v":""},{"$f":"IF(DATA!PHG2=0,\"\",IFERROR(DATA!PHG2,\"\"))","v":""},{"$f":"IF(DATA!PHH2=0,\"\",IFERROR(DATA!PHH2,\"\"))","v":""},{"$f":"IF(DATA!PHI2=0,\"\",IFERROR(DATA!PHI2,\"\"))","v":""},{"$f":"IF(DATA!PHJ2=0,\"\",IFERROR(DATA!PHJ2,\"\"))","v":""},{"$f":"IF(DATA!PHK2=0,\"\",IFERROR(DATA!PHK2,\"\"))","v":""},{"$f":"IF(DATA!PHL2=0,\"\",IFERROR(DATA!PHL2,\"\"))","v":""},{"$f":"IF(DATA!PHM2=0,\"\",IFERROR(DATA!PHM2,\"\"))","v":""},{"$f":"IF(DATA!PHN2=0,\"\",IFERROR(DATA!PHN2,\"\"))","v":""},{"$f":"IF(DATA!PHO2=0,\"\",IFERROR(DATA!PHO2,\"\"))","v":""},{"$f":"IF(DATA!PHP2=0,\"\",IFERROR(DATA!PHP2,\"\"))","v":""},{"$f":"IF(DATA!PHQ2=0,\"\",IFERROR(DATA!PHQ2,\"\"))","v":""},{"$f":"IF(DATA!PHR2=0,\"\",IFERROR(DATA!PHR2,\"\"))","v":""},{"$f":"IF(DATA!PHS2=0,\"\",IFERROR(DATA!PHS2,\"\"))","v":""},{"$f":"IF(DATA!PHT2=0,\"\",IFERROR(DATA!PHT2,\"\"))","v":""},{"$f":"IF(DATA!PHU2=0,\"\",IFERROR(DATA!PHU2,\"\"))","v":""},{"$f":"IF(DATA!PHV2=0,\"\",IFERROR(DATA!PHV2,\"\"))","v":""},{"$f":"IF(DATA!PHW2=0,\"\",IFERROR(DATA!PHW2,\"\"))","v":""},{"$f":"IF(DATA!PHX2=0,\"\",IFERROR(DATA!PHX2,\"\"))","v":""},{"$f":"IF(DATA!PHY2=0,\"\",IFERROR(DATA!PHY2,\"\"))","v":""},{"$f":"IF(DATA!PHZ2=0,\"\",IFERROR(DATA!PHZ2,\"\"))","v":""},{"$f":"IF(DATA!PIA2=0,\"\",IFERROR(DATA!PIA2,\"\"))","v":""},{"$f":"IF(DATA!PIB2=0,\"\",IFERROR(DATA!PIB2,\"\"))","v":""},{"$f":"IF(DATA!PIC2=0,\"\",IFERROR(DATA!PIC2,\"\"))","v":""},{"$f":"IF(DATA!PID2=0,\"\",IFERROR(DATA!PID2,\"\"))","v":""},{"$f":"IF(DATA!PIE2=0,\"\",IFERROR(DATA!PIE2,\"\"))","v":""},{"$f":"IF(DATA!PIF2=0,\"\",IFERROR(DATA!PIF2,\"\"))","v":""},{"$f":"IF(DATA!PIG2=0,\"\",IFERROR(DATA!PIG2,\"\"))","v":""},{"$f":"IF(DATA!PIH2=0,\"\",IFERROR(DATA!PIH2,\"\"))","v":""},{"$f":"IF(DATA!PII2=0,\"\",IFERROR(DATA!PII2,\"\"))","v":""},{"$f":"IF(DATA!PIJ2=0,\"\",IFERROR(DATA!PIJ2,\"\"))","v":""},{"$f":"IF(DATA!PIK2=0,\"\",IFERROR(DATA!PIK2,\"\"))","v":""},{"$f":"IF(DATA!PIL2=0,\"\",IFERROR(DATA!PIL2,\"\"))","v":""},{"$f":"IF(DATA!PIM2=0,\"\",IFERROR(DATA!PIM2,\"\"))","v":""},{"$f":"IF(DATA!PIN2=0,\"\",IFERROR(DATA!PIN2,\"\"))","v":""},{"$f":"IF(DATA!PIO2=0,\"\",IFERROR(DATA!PIO2,\"\"))","v":""},{"$f":"IF(DATA!PIP2=0,\"\",IFERROR(DATA!PIP2,\"\"))","v":""},{"$f":"IF(DATA!PIQ2=0,\"\",IFERROR(DATA!PIQ2,\"\"))","v":""},{"$f":"IF(DATA!PIR2=0,\"\",IFERROR(DATA!PIR2,\"\"))","v":""},{"$f":"IF(DATA!PIS2=0,\"\",IFERROR(DATA!PIS2,\"\"))","v":""},{"$f":"IF(DATA!PIT2=0,\"\",IFERROR(DATA!PIT2,\"\"))","v":""},{"$f":"IF(DATA!PIU2=0,\"\",IFERROR(DATA!PIU2,\"\"))","v":""},{"$f":"IF(DATA!PIV2=0,\"\",IFERROR(DATA!PIV2,\"\"))","v":""},{"$f":"IF(DATA!PIW2=0,\"\",IFERROR(DATA!PIW2,\"\"))","v":""},{"$f":"IF(DATA!PIX2=0,\"\",IFERROR(DATA!PIX2,\"\"))","v":""},{"$f":"IF(DATA!PIY2=0,\"\",IFERROR(DATA!PIY2,\"\"))","v":""},{"$f":"IF(DATA!PIZ2=0,\"\",IFERROR(DATA!PIZ2,\"\"))","v":""},{"$f":"IF(DATA!PJA2=0,\"\",IFERROR(DATA!PJA2,\"\"))","v":""},{"$f":"IF(DATA!PJB2=0,\"\",IFERROR(DATA!PJB2,\"\"))","v":""},{"$f":"IF(DATA!PJC2=0,\"\",IFERROR(DATA!PJC2,\"\"))","v":""},{"$f":"IF(DATA!PJD2=0,\"\",IFERROR(DATA!PJD2,\"\"))","v":""},{"$f":"IF(DATA!PJE2=0,\"\",IFERROR(DATA!PJE2,\"\"))","v":""},{"$f":"IF(DATA!PJF2=0,\"\",IFERROR(DATA!PJF2,\"\"))","v":""},{"$f":"IF(DATA!PJG2=0,\"\",IFERROR(DATA!PJG2,\"\"))","v":""},{"$f":"IF(DATA!PJH2=0,\"\",IFERROR(DATA!PJH2,\"\"))","v":""},{"$f":"IF(DATA!PJI2=0,\"\",IFERROR(DATA!PJI2,\"\"))","v":""},{"$f":"IF(DATA!PJJ2=0,\"\",IFERROR(DATA!PJJ2,\"\"))","v":""},{"$f":"IF(DATA!PJK2=0,\"\",IFERROR(DATA!PJK2,\"\"))","v":""},{"$f":"IF(DATA!PJL2=0,\"\",IFERROR(DATA!PJL2,\"\"))","v":""},{"$f":"IF(DATA!PJM2=0,\"\",IFERROR(DATA!PJM2,\"\"))","v":""},{"$f":"IF(DATA!PJN2=0,\"\",IFERROR(DATA!PJN2,\"\"))","v":""},{"$f":"IF(DATA!PJO2=0,\"\",IFERROR(DATA!PJO2,\"\"))","v":""},{"$f":"IF(DATA!PJP2=0,\"\",IFERROR(DATA!PJP2,\"\"))","v":""},{"$f":"IF(DATA!PJQ2=0,\"\",IFERROR(DATA!PJQ2,\"\"))","v":""},{"$f":"IF(DATA!PJR2=0,\"\",IFERROR(DATA!PJR2,\"\"))","v":""},{"$f":"IF(DATA!PJS2=0,\"\",IFERROR(DATA!PJS2,\"\"))","v":""},{"$f":"IF(DATA!PJT2=0,\"\",IFERROR(DATA!PJT2,\"\"))","v":""},{"$f":"IF(DATA!PJU2=0,\"\",IFERROR(DATA!PJU2,\"\"))","v":""},{"$f":"IF(DATA!PJV2=0,\"\",IFERROR(DATA!PJV2,\"\"))","v":""},{"$f":"IF(DATA!PJW2=0,\"\",IFERROR(DATA!PJW2,\"\"))","v":""},{"$f":"IF(DATA!PJX2=0,\"\",IFERROR(DATA!PJX2,\"\"))","v":""},{"$f":"IF(DATA!PJY2=0,\"\",IFERROR(DATA!PJY2,\"\"))","v":""},{"$f":"IF(DATA!PJZ2=0,\"\",IFERROR(DATA!PJZ2,\"\"))","v":""},{"$f":"IF(DATA!PKA2=0,\"\",IFERROR(DATA!PKA2,\"\"))","v":""},{"$f":"IF(DATA!PKB2=0,\"\",IFERROR(DATA!PKB2,\"\"))","v":""},{"$f":"IF(DATA!PKC2=0,\"\",IFERROR(DATA!PKC2,\"\"))","v":""},{"$f":"IF(DATA!PKD2=0,\"\",IFERROR(DATA!PKD2,\"\"))","v":""},{"$f":"IF(DATA!PKE2=0,\"\",IFERROR(DATA!PKE2,\"\"))","v":""},{"$f":"IF(DATA!PKF2=0,\"\",IFERROR(DATA!PKF2,\"\"))","v":""},{"$f":"IF(DATA!PKG2=0,\"\",IFERROR(DATA!PKG2,\"\"))","v":""},{"$f":"IF(DATA!PKH2=0,\"\",IFERROR(DATA!PKH2,\"\"))","v":""},{"$f":"IF(DATA!PKI2=0,\"\",IFERROR(DATA!PKI2,\"\"))","v":""},{"$f":"IF(DATA!PKJ2=0,\"\",IFERROR(DATA!PKJ2,\"\"))","v":""},{"$f":"IF(DATA!PKK2=0,\"\",IFERROR(DATA!PKK2,\"\"))","v":""},{"$f":"IF(DATA!PKL2=0,\"\",IFERROR(DATA!PKL2,\"\"))","v":""},{"$f":"IF(DATA!PKM2=0,\"\",IFERROR(DATA!PKM2,\"\"))","v":""},{"$f":"IF(DATA!PKN2=0,\"\",IFERROR(DATA!PKN2,\"\"))","v":""},{"$f":"IF(DATA!PKO2=0,\"\",IFERROR(DATA!PKO2,\"\"))","v":""},{"$f":"IF(DATA!PKP2=0,\"\",IFERROR(DATA!PKP2,\"\"))","v":""},{"$f":"IF(DATA!PKQ2=0,\"\",IFERROR(DATA!PKQ2,\"\"))","v":""},{"$f":"IF(DATA!PKR2=0,\"\",IFERROR(DATA!PKR2,\"\"))","v":""},{"$f":"IF(DATA!PKS2=0,\"\",IFERROR(DATA!PKS2,\"\"))","v":""},{"$f":"IF(DATA!PKT2=0,\"\",IFERROR(DATA!PKT2,\"\"))","v":""},{"$f":"IF(DATA!PKU2=0,\"\",IFERROR(DATA!PKU2,\"\"))","v":""},{"$f":"IF(DATA!PKV2=0,\"\",IFERROR(DATA!PKV2,\"\"))","v":""},{"$f":"IF(DATA!PKW2=0,\"\",IFERROR(DATA!PKW2,\"\"))","v":""},{"$f":"IF(DATA!PKX2=0,\"\",IFERROR(DATA!PKX2,\"\"))","v":""},{"$f":"IF(DATA!PKY2=0,\"\",IFERROR(DATA!PKY2,\"\"))","v":""},{"$f":"IF(DATA!PKZ2=0,\"\",IFERROR(DATA!PKZ2,\"\"))","v":""},{"$f":"IF(DATA!PLA2=0,\"\",IFERROR(DATA!PLA2,\"\"))","v":""},{"$f":"IF(DATA!PLB2=0,\"\",IFERROR(DATA!PLB2,\"\"))","v":""},{"$f":"IF(DATA!PLC2=0,\"\",IFERROR(DATA!PLC2,\"\"))","v":""},{"$f":"IF(DATA!PLD2=0,\"\",IFERROR(DATA!PLD2,\"\"))","v":""},{"$f":"IF(DATA!PLE2=0,\"\",IFERROR(DATA!PLE2,\"\"))","v":""},{"$f":"IF(DATA!PLF2=0,\"\",IFERROR(DATA!PLF2,\"\"))","v":""},{"$f":"IF(DATA!PLG2=0,\"\",IFERROR(DATA!PLG2,\"\"))","v":""},{"$f":"IF(DATA!PLH2=0,\"\",IFERROR(DATA!PLH2,\"\"))","v":""},{"$f":"IF(DATA!PLI2=0,\"\",IFERROR(DATA!PLI2,\"\"))","v":""},{"$f":"IF(DATA!PLJ2=0,\"\",IFERROR(DATA!PLJ2,\"\"))","v":""},{"$f":"IF(DATA!PLK2=0,\"\",IFERROR(DATA!PLK2,\"\"))","v":""},{"$f":"IF(DATA!PLL2=0,\"\",IFERROR(DATA!PLL2,\"\"))","v":""},{"$f":"IF(DATA!PLM2=0,\"\",IFERROR(DATA!PLM2,\"\"))","v":""},{"$f":"IF(DATA!PLN2=0,\"\",IFERROR(DATA!PLN2,\"\"))","v":""},{"$f":"IF(DATA!PLO2=0,\"\",IFERROR(DATA!PLO2,\"\"))","v":""},{"$f":"IF(DATA!PLP2=0,\"\",IFERROR(DATA!PLP2,\"\"))","v":""},{"$f":"IF(DATA!PLQ2=0,\"\",IFERROR(DATA!PLQ2,\"\"))","v":""},{"$f":"IF(DATA!PLR2=0,\"\",IFERROR(DATA!PLR2,\"\"))","v":""},{"$f":"IF(DATA!PLS2=0,\"\",IFERROR(DATA!PLS2,\"\"))","v":""},{"$f":"IF(DATA!PLT2=0,\"\",IFERROR(DATA!PLT2,\"\"))","v":""},{"$f":"IF(DATA!PLU2=0,\"\",IFERROR(DATA!PLU2,\"\"))","v":""},{"$f":"IF(DATA!PLV2=0,\"\",IFERROR(DATA!PLV2,\"\"))","v":""},{"$f":"IF(DATA!PLW2=0,\"\",IFERROR(DATA!PLW2,\"\"))","v":""},{"$f":"IF(DATA!PLX2=0,\"\",IFERROR(DATA!PLX2,\"\"))","v":""},{"$f":"IF(DATA!PLY2=0,\"\",IFERROR(DATA!PLY2,\"\"))","v":""},{"$f":"IF(DATA!PLZ2=0,\"\",IFERROR(DATA!PLZ2,\"\"))","v":""},{"$f":"IF(DATA!PMA2=0,\"\",IFERROR(DATA!PMA2,\"\"))","v":""},{"$f":"IF(DATA!PMB2=0,\"\",IFERROR(DATA!PMB2,\"\"))","v":""},{"$f":"IF(DATA!PMC2=0,\"\",IFERROR(DATA!PMC2,\"\"))","v":""},{"$f":"IF(DATA!PMD2=0,\"\",IFERROR(DATA!PMD2,\"\"))","v":""},{"$f":"IF(DATA!PME2=0,\"\",IFERROR(DATA!PME2,\"\"))","v":""},{"$f":"IF(DATA!PMF2=0,\"\",IFERROR(DATA!PMF2,\"\"))","v":""},{"$f":"IF(DATA!PMG2=0,\"\",IFERROR(DATA!PMG2,\"\"))","v":""},{"$f":"IF(DATA!PMH2=0,\"\",IFERROR(DATA!PMH2,\"\"))","v":""},{"$f":"IF(DATA!PMI2=0,\"\",IFERROR(DATA!PMI2,\"\"))","v":""},{"$f":"IF(DATA!PMJ2=0,\"\",IFERROR(DATA!PMJ2,\"\"))","v":""},{"$f":"IF(DATA!PMK2=0,\"\",IFERROR(DATA!PMK2,\"\"))","v":""},{"$f":"IF(DATA!PML2=0,\"\",IFERROR(DATA!PML2,\"\"))","v":""},{"$f":"IF(DATA!PMM2=0,\"\",IFERROR(DATA!PMM2,\"\"))","v":""},{"$f":"IF(DATA!PMN2=0,\"\",IFERROR(DATA!PMN2,\"\"))","v":""},{"$f":"IF(DATA!PMO2=0,\"\",IFERROR(DATA!PMO2,\"\"))","v":""},{"$f":"IF(DATA!PMP2=0,\"\",IFERROR(DATA!PMP2,\"\"))","v":""},{"$f":"IF(DATA!PMQ2=0,\"\",IFERROR(DATA!PMQ2,\"\"))","v":""},{"$f":"IF(DATA!PMR2=0,\"\",IFERROR(DATA!PMR2,\"\"))","v":""},{"$f":"IF(DATA!PMS2=0,\"\",IFERROR(DATA!PMS2,\"\"))","v":""},{"$f":"IF(DATA!PMT2=0,\"\",IFERROR(DATA!PMT2,\"\"))","v":""},{"$f":"IF(DATA!PMU2=0,\"\",IFERROR(DATA!PMU2,\"\"))","v":""},{"$f":"IF(DATA!PMV2=0,\"\",IFERROR(DATA!PMV2,\"\"))","v":""},{"$f":"IF(DATA!PMW2=0,\"\",IFERROR(DATA!PMW2,\"\"))","v":""},{"$f":"IF(DATA!PMX2=0,\"\",IFERROR(DATA!PMX2,\"\"))","v":""},{"$f":"IF(DATA!PMY2=0,\"\",IFERROR(DATA!PMY2,\"\"))","v":""},{"$f":"IF(DATA!PMZ2=0,\"\",IFERROR(DATA!PMZ2,\"\"))","v":""},{"$f":"IF(DATA!PNA2=0,\"\",IFERROR(DATA!PNA2,\"\"))","v":""},{"$f":"IF(DATA!PNB2=0,\"\",IFERROR(DATA!PNB2,\"\"))","v":""},{"$f":"IF(DATA!PNC2=0,\"\",IFERROR(DATA!PNC2,\"\"))","v":""},{"$f":"IF(DATA!PND2=0,\"\",IFERROR(DATA!PND2,\"\"))","v":""},{"$f":"IF(DATA!PNE2=0,\"\",IFERROR(DATA!PNE2,\"\"))","v":""},{"$f":"IF(DATA!PNF2=0,\"\",IFERROR(DATA!PNF2,\"\"))","v":""},{"$f":"IF(DATA!PNG2=0,\"\",IFERROR(DATA!PNG2,\"\"))","v":""},{"$f":"IF(DATA!PNH2=0,\"\",IFERROR(DATA!PNH2,\"\"))","v":""},{"$f":"IF(DATA!PNI2=0,\"\",IFERROR(DATA!PNI2,\"\"))","v":""},{"$f":"IF(DATA!PNJ2=0,\"\",IFERROR(DATA!PNJ2,\"\"))","v":""},{"$f":"IF(DATA!PNK2=0,\"\",IFERROR(DATA!PNK2,\"\"))","v":""},{"$f":"IF(DATA!PNL2=0,\"\",IFERROR(DATA!PNL2,\"\"))","v":""},{"$f":"IF(DATA!PNM2=0,\"\",IFERROR(DATA!PNM2,\"\"))","v":""},{"$f":"IF(DATA!PNN2=0,\"\",IFERROR(DATA!PNN2,\"\"))","v":""},{"$f":"IF(DATA!PNO2=0,\"\",IFERROR(DATA!PNO2,\"\"))","v":""},{"$f":"IF(DATA!PNP2=0,\"\",IFERROR(DATA!PNP2,\"\"))","v":""},{"$f":"IF(DATA!PNQ2=0,\"\",IFERROR(DATA!PNQ2,\"\"))","v":""},{"$f":"IF(DATA!PNR2=0,\"\",IFERROR(DATA!PNR2,\"\"))","v":""},{"$f":"IF(DATA!PNS2=0,\"\",IFERROR(DATA!PNS2,\"\"))","v":""},{"$f":"IF(DATA!PNT2=0,\"\",IFERROR(DATA!PNT2,\"\"))","v":""},{"$f":"IF(DATA!PNU2=0,\"\",IFERROR(DATA!PNU2,\"\"))","v":""},{"$f":"IF(DATA!PNV2=0,\"\",IFERROR(DATA!PNV2,\"\"))","v":""},{"$f":"IF(DATA!PNW2=0,\"\",IFERROR(DATA!PNW2,\"\"))","v":""},{"$f":"IF(DATA!PNX2=0,\"\",IFERROR(DATA!PNX2,\"\"))","v":""},{"$f":"IF(DATA!PNY2=0,\"\",IFERROR(DATA!PNY2,\"\"))","v":""},{"$f":"IF(DATA!PNZ2=0,\"\",IFERROR(DATA!PNZ2,\"\"))","v":""},{"$f":"IF(DATA!POA2=0,\"\",IFERROR(DATA!POA2,\"\"))","v":""},{"$f":"IF(DATA!POB2=0,\"\",IFERROR(DATA!POB2,\"\"))","v":""},{"$f":"IF(DATA!POC2=0,\"\",IFERROR(DATA!POC2,\"\"))","v":""},{"$f":"IF(DATA!POD2=0,\"\",IFERROR(DATA!POD2,\"\"))","v":""},{"$f":"IF(DATA!POE2=0,\"\",IFERROR(DATA!POE2,\"\"))","v":""},{"$f":"IF(DATA!POF2=0,\"\",IFERROR(DATA!POF2,\"\"))","v":""},{"$f":"IF(DATA!POG2=0,\"\",IFERROR(DATA!POG2,\"\"))","v":""},{"$f":"IF(DATA!POH2=0,\"\",IFERROR(DATA!POH2,\"\"))","v":""},{"$f":"IF(DATA!POI2=0,\"\",IFERROR(DATA!POI2,\"\"))","v":""},{"$f":"IF(DATA!POJ2=0,\"\",IFERROR(DATA!POJ2,\"\"))","v":""},{"$f":"IF(DATA!POK2=0,\"\",IFERROR(DATA!POK2,\"\"))","v":""},{"$f":"IF(DATA!POL2=0,\"\",IFERROR(DATA!POL2,\"\"))","v":""},{"$f":"IF(DATA!POM2=0,\"\",IFERROR(DATA!POM2,\"\"))","v":""},{"$f":"IF(DATA!PON2=0,\"\",IFERROR(DATA!PON2,\"\"))","v":""},{"$f":"IF(DATA!POO2=0,\"\",IFERROR(DATA!POO2,\"\"))","v":""},{"$f":"IF(DATA!POP2=0,\"\",IFERROR(DATA!POP2,\"\"))","v":""},{"$f":"IF(DATA!POQ2=0,\"\",IFERROR(DATA!POQ2,\"\"))","v":""},{"$f":"IF(DATA!POR2=0,\"\",IFERROR(DATA!POR2,\"\"))","v":""},{"$f":"IF(DATA!POS2=0,\"\",IFERROR(DATA!POS2,\"\"))","v":""},{"$f":"IF(DATA!POT2=0,\"\",IFERROR(DATA!POT2,\"\"))","v":""},{"$f":"IF(DATA!POU2=0,\"\",IFERROR(DATA!POU2,\"\"))","v":""},{"$f":"IF(DATA!POV2=0,\"\",IFERROR(DATA!POV2,\"\"))","v":""},{"$f":"IF(DATA!POW2=0,\"\",IFERROR(DATA!POW2,\"\"))","v":""},{"$f":"IF(DATA!POX2=0,\"\",IFERROR(DATA!POX2,\"\"))","v":""},{"$f":"IF(DATA!POY2=0,\"\",IFERROR(DATA!POY2,\"\"))","v":""},{"$f":"IF(DATA!POZ2=0,\"\",IFERROR(DATA!POZ2,\"\"))","v":""},{"$f":"IF(DATA!PPA2=0,\"\",IFERROR(DATA!PPA2,\"\"))","v":""},{"$f":"IF(DATA!PPB2=0,\"\",IFERROR(DATA!PPB2,\"\"))","v":""},{"$f":"IF(DATA!PPC2=0,\"\",IFERROR(DATA!PPC2,\"\"))","v":""},{"$f":"IF(DATA!PPD2=0,\"\",IFERROR(DATA!PPD2,\"\"))","v":""},{"$f":"IF(DATA!PPE2=0,\"\",IFERROR(DATA!PPE2,\"\"))","v":""},{"$f":"IF(DATA!PPF2=0,\"\",IFERROR(DATA!PPF2,\"\"))","v":""},{"$f":"IF(DATA!PPG2=0,\"\",IFERROR(DATA!PPG2,\"\"))","v":""},{"$f":"IF(DATA!PPH2=0,\"\",IFERROR(DATA!PPH2,\"\"))","v":""},{"$f":"IF(DATA!PPI2=0,\"\",IFERROR(DATA!PPI2,\"\"))","v":""},{"$f":"IF(DATA!PPJ2=0,\"\",IFERROR(DATA!PPJ2,\"\"))","v":""},{"$f":"IF(DATA!PPK2=0,\"\",IFERROR(DATA!PPK2,\"\"))","v":""},{"$f":"IF(DATA!PPL2=0,\"\",IFERROR(DATA!PPL2,\"\"))","v":""},{"$f":"IF(DATA!PPM2=0,\"\",IFERROR(DATA!PPM2,\"\"))","v":""},{"$f":"IF(DATA!PPN2=0,\"\",IFERROR(DATA!PPN2,\"\"))","v":""},{"$f":"IF(DATA!PPO2=0,\"\",IFERROR(DATA!PPO2,\"\"))","v":""},{"$f":"IF(DATA!PPP2=0,\"\",IFERROR(DATA!PPP2,\"\"))","v":""},{"$f":"IF(DATA!PPQ2=0,\"\",IFERROR(DATA!PPQ2,\"\"))","v":""},{"$f":"IF(DATA!PPR2=0,\"\",IFERROR(DATA!PPR2,\"\"))","v":""},{"$f":"IF(DATA!PPS2=0,\"\",IFERROR(DATA!PPS2,\"\"))","v":""},{"$f":"IF(DATA!PPT2=0,\"\",IFERROR(DATA!PPT2,\"\"))","v":""},{"$f":"IF(DATA!PPU2=0,\"\",IFERROR(DATA!PPU2,\"\"))","v":""},{"$f":"IF(DATA!PPV2=0,\"\",IFERROR(DATA!PPV2,\"\"))","v":""},{"$f":"IF(DATA!PPW2=0,\"\",IFERROR(DATA!PPW2,\"\"))","v":""},{"$f":"IF(DATA!PPX2=0,\"\",IFERROR(DATA!PPX2,\"\"))","v":""},{"$f":"IF(DATA!PPY2=0,\"\",IFERROR(DATA!PPY2,\"\"))","v":""},{"$f":"IF(DATA!PPZ2=0,\"\",IFERROR(DATA!PPZ2,\"\"))","v":""},{"$f":"IF(DATA!PQA2=0,\"\",IFERROR(DATA!PQA2,\"\"))","v":""},{"$f":"IF(DATA!PQB2=0,\"\",IFERROR(DATA!PQB2,\"\"))","v":""},{"$f":"IF(DATA!PQC2=0,\"\",IFERROR(DATA!PQC2,\"\"))","v":""},{"$f":"IF(DATA!PQD2=0,\"\",IFERROR(DATA!PQD2,\"\"))","v":""},{"$f":"IF(DATA!PQE2=0,\"\",IFERROR(DATA!PQE2,\"\"))","v":""},{"$f":"IF(DATA!PQF2=0,\"\",IFERROR(DATA!PQF2,\"\"))","v":""},{"$f":"IF(DATA!PQG2=0,\"\",IFERROR(DATA!PQG2,\"\"))","v":""},{"$f":"IF(DATA!PQH2=0,\"\",IFERROR(DATA!PQH2,\"\"))","v":""},{"$f":"IF(DATA!PQI2=0,\"\",IFERROR(DATA!PQI2,\"\"))","v":""},{"$f":"IF(DATA!PQJ2=0,\"\",IFERROR(DATA!PQJ2,\"\"))","v":""},{"$f":"IF(DATA!PQK2=0,\"\",IFERROR(DATA!PQK2,\"\"))","v":""},{"$f":"IF(DATA!PQL2=0,\"\",IFERROR(DATA!PQL2,\"\"))","v":""},{"$f":"IF(DATA!PQM2=0,\"\",IFERROR(DATA!PQM2,\"\"))","v":""},{"$f":"IF(DATA!PQN2=0,\"\",IFERROR(DATA!PQN2,\"\"))","v":""},{"$f":"IF(DATA!PQO2=0,\"\",IFERROR(DATA!PQO2,\"\"))","v":""},{"$f":"IF(DATA!PQP2=0,\"\",IFERROR(DATA!PQP2,\"\"))","v":""},{"$f":"IF(DATA!PQQ2=0,\"\",IFERROR(DATA!PQQ2,\"\"))","v":""},{"$f":"IF(DATA!PQR2=0,\"\",IFERROR(DATA!PQR2,\"\"))","v":""},{"$f":"IF(DATA!PQS2=0,\"\",IFERROR(DATA!PQS2,\"\"))","v":""},{"$f":"IF(DATA!PQT2=0,\"\",IFERROR(DATA!PQT2,\"\"))","v":""},{"$f":"IF(DATA!PQU2=0,\"\",IFERROR(DATA!PQU2,\"\"))","v":""},{"$f":"IF(DATA!PQV2=0,\"\",IFERROR(DATA!PQV2,\"\"))","v":""},{"$f":"IF(DATA!PQW2=0,\"\",IFERROR(DATA!PQW2,\"\"))","v":""},{"$f":"IF(DATA!PQX2=0,\"\",IFERROR(DATA!PQX2,\"\"))","v":""},{"$f":"IF(DATA!PQY2=0,\"\",IFERROR(DATA!PQY2,\"\"))","v":""},{"$f":"IF(DATA!PQZ2=0,\"\",IFERROR(DATA!PQZ2,\"\"))","v":""},{"$f":"IF(DATA!PRA2=0,\"\",IFERROR(DATA!PRA2,\"\"))","v":""},{"$f":"IF(DATA!PRB2=0,\"\",IFERROR(DATA!PRB2,\"\"))","v":""},{"$f":"IF(DATA!PRC2=0,\"\",IFERROR(DATA!PRC2,\"\"))","v":""},{"$f":"IF(DATA!PRD2=0,\"\",IFERROR(DATA!PRD2,\"\"))","v":""},{"$f":"IF(DATA!PRE2=0,\"\",IFERROR(DATA!PRE2,\"\"))","v":""},{"$f":"IF(DATA!PRF2=0,\"\",IFERROR(DATA!PRF2,\"\"))","v":""},{"$f":"IF(DATA!PRG2=0,\"\",IFERROR(DATA!PRG2,\"\"))","v":""},{"$f":"IF(DATA!PRH2=0,\"\",IFERROR(DATA!PRH2,\"\"))","v":""},{"$f":"IF(DATA!PRI2=0,\"\",IFERROR(DATA!PRI2,\"\"))","v":""},{"$f":"IF(DATA!PRJ2=0,\"\",IFERROR(DATA!PRJ2,\"\"))","v":""},{"$f":"IF(DATA!PRK2=0,\"\",IFERROR(DATA!PRK2,\"\"))","v":""},{"$f":"IF(DATA!PRL2=0,\"\",IFERROR(DATA!PRL2,\"\"))","v":""},{"$f":"IF(DATA!PRM2=0,\"\",IFERROR(DATA!PRM2,\"\"))","v":""},{"$f":"IF(DATA!PRN2=0,\"\",IFERROR(DATA!PRN2,\"\"))","v":""},{"$f":"IF(DATA!PRO2=0,\"\",IFERROR(DATA!PRO2,\"\"))","v":""},{"$f":"IF(DATA!PRP2=0,\"\",IFERROR(DATA!PRP2,\"\"))","v":""},{"$f":"IF(DATA!PRQ2=0,\"\",IFERROR(DATA!PRQ2,\"\"))","v":""},{"$f":"IF(DATA!PRR2=0,\"\",IFERROR(DATA!PRR2,\"\"))","v":""},{"$f":"IF(DATA!PRS2=0,\"\",IFERROR(DATA!PRS2,\"\"))","v":""},{"$f":"IF(DATA!PRT2=0,\"\",IFERROR(DATA!PRT2,\"\"))","v":""},{"$f":"IF(DATA!PRU2=0,\"\",IFERROR(DATA!PRU2,\"\"))","v":""},{"$f":"IF(DATA!PRV2=0,\"\",IFERROR(DATA!PRV2,\"\"))","v":""},{"$f":"IF(DATA!PRW2=0,\"\",IFERROR(DATA!PRW2,\"\"))","v":""},{"$f":"IF(DATA!PRX2=0,\"\",IFERROR(DATA!PRX2,\"\"))","v":""},{"$f":"IF(DATA!PRY2=0,\"\",IFERROR(DATA!PRY2,\"\"))","v":""},{"$f":"IF(DATA!PRZ2=0,\"\",IFERROR(DATA!PRZ2,\"\"))","v":""},{"$f":"IF(DATA!PSA2=0,\"\",IFERROR(DATA!PSA2,\"\"))","v":""},{"$f":"IF(DATA!PSB2=0,\"\",IFERROR(DATA!PSB2,\"\"))","v":""},{"$f":"IF(DATA!PSC2=0,\"\",IFERROR(DATA!PSC2,\"\"))","v":""},{"$f":"IF(DATA!PSD2=0,\"\",IFERROR(DATA!PSD2,\"\"))","v":""},{"$f":"IF(DATA!PSE2=0,\"\",IFERROR(DATA!PSE2,\"\"))","v":""},{"$f":"IF(DATA!PSF2=0,\"\",IFERROR(DATA!PSF2,\"\"))","v":""},{"$f":"IF(DATA!PSG2=0,\"\",IFERROR(DATA!PSG2,\"\"))","v":""},{"$f":"IF(DATA!PSH2=0,\"\",IFERROR(DATA!PSH2,\"\"))","v":""},{"$f":"IF(DATA!PSI2=0,\"\",IFERROR(DATA!PSI2,\"\"))","v":""},{"$f":"IF(DATA!PSJ2=0,\"\",IFERROR(DATA!PSJ2,\"\"))","v":""},{"$f":"IF(DATA!PSK2=0,\"\",IFERROR(DATA!PSK2,\"\"))","v":""},{"$f":"IF(DATA!PSL2=0,\"\",IFERROR(DATA!PSL2,\"\"))","v":""},{"$f":"IF(DATA!PSM2=0,\"\",IFERROR(DATA!PSM2,\"\"))","v":""},{"$f":"IF(DATA!PSN2=0,\"\",IFERROR(DATA!PSN2,\"\"))","v":""},{"$f":"IF(DATA!PSO2=0,\"\",IFERROR(DATA!PSO2,\"\"))","v":""},{"$f":"IF(DATA!PSP2=0,\"\",IFERROR(DATA!PSP2,\"\"))","v":""},{"$f":"IF(DATA!PSQ2=0,\"\",IFERROR(DATA!PSQ2,\"\"))","v":""},{"$f":"IF(DATA!PSR2=0,\"\",IFERROR(DATA!PSR2,\"\"))","v":""},{"$f":"IF(DATA!PSS2=0,\"\",IFERROR(DATA!PSS2,\"\"))","v":""},{"$f":"IF(DATA!PST2=0,\"\",IFERROR(DATA!PST2,\"\"))","v":""},{"$f":"IF(DATA!PSU2=0,\"\",IFERROR(DATA!PSU2,\"\"))","v":""},{"$f":"IF(DATA!PSV2=0,\"\",IFERROR(DATA!PSV2,\"\"))","v":""},{"$f":"IF(DATA!PSW2=0,\"\",IFERROR(DATA!PSW2,\"\"))","v":""},{"$f":"IF(DATA!PSX2=0,\"\",IFERROR(DATA!PSX2,\"\"))","v":""},{"$f":"IF(DATA!PSY2=0,\"\",IFERROR(DATA!PSY2,\"\"))","v":""},{"$f":"IF(DATA!PSZ2=0,\"\",IFERROR(DATA!PSZ2,\"\"))","v":""},{"$f":"IF(DATA!PTA2=0,\"\",IFERROR(DATA!PTA2,\"\"))","v":""},{"$f":"IF(DATA!PTB2=0,\"\",IFERROR(DATA!PTB2,\"\"))","v":""},{"$f":"IF(DATA!PTC2=0,\"\",IFERROR(DATA!PTC2,\"\"))","v":""},{"$f":"IF(DATA!PTD2=0,\"\",IFERROR(DATA!PTD2,\"\"))","v":""},{"$f":"IF(DATA!PTE2=0,\"\",IFERROR(DATA!PTE2,\"\"))","v":""},{"$f":"IF(DATA!PTF2=0,\"\",IFERROR(DATA!PTF2,\"\"))","v":""},{"$f":"IF(DATA!PTG2=0,\"\",IFERROR(DATA!PTG2,\"\"))","v":""},{"$f":"IF(DATA!PTH2=0,\"\",IFERROR(DATA!PTH2,\"\"))","v":""},{"$f":"IF(DATA!PTI2=0,\"\",IFERROR(DATA!PTI2,\"\"))","v":""},{"$f":"IF(DATA!PTJ2=0,\"\",IFERROR(DATA!PTJ2,\"\"))","v":""},{"$f":"IF(DATA!PTK2=0,\"\",IFERROR(DATA!PTK2,\"\"))","v":""},{"$f":"IF(DATA!PTL2=0,\"\",IFERROR(DATA!PTL2,\"\"))","v":""},{"$f":"IF(DATA!PTM2=0,\"\",IFERROR(DATA!PTM2,\"\"))","v":""},{"$f":"IF(DATA!PTN2=0,\"\",IFERROR(DATA!PTN2,\"\"))","v":""},{"$f":"IF(DATA!PTO2=0,\"\",IFERROR(DATA!PTO2,\"\"))","v":""},{"$f":"IF(DATA!PTP2=0,\"\",IFERROR(DATA!PTP2,\"\"))","v":""},{"$f":"IF(DATA!PTQ2=0,\"\",IFERROR(DATA!PTQ2,\"\"))","v":""},{"$f":"IF(DATA!PTR2=0,\"\",IFERROR(DATA!PTR2,\"\"))","v":""},{"$f":"IF(DATA!PTS2=0,\"\",IFERROR(DATA!PTS2,\"\"))","v":""},{"$f":"IF(DATA!PTT2=0,\"\",IFERROR(DATA!PTT2,\"\"))","v":""},{"$f":"IF(DATA!PTU2=0,\"\",IFERROR(DATA!PTU2,\"\"))","v":""},{"$f":"IF(DATA!PTV2=0,\"\",IFERROR(DATA!PTV2,\"\"))","v":""},{"$f":"IF(DATA!PTW2=0,\"\",IFERROR(DATA!PTW2,\"\"))","v":""},{"$f":"IF(DATA!PTX2=0,\"\",IFERROR(DATA!PTX2,\"\"))","v":""},{"$f":"IF(DATA!PTY2=0,\"\",IFERROR(DATA!PTY2,\"\"))","v":""},{"$f":"IF(DATA!PTZ2=0,\"\",IFERROR(DATA!PTZ2,\"\"))","v":""},{"$f":"IF(DATA!PUA2=0,\"\",IFERROR(DATA!PUA2,\"\"))","v":""},{"$f":"IF(DATA!PUB2=0,\"\",IFERROR(DATA!PUB2,\"\"))","v":""},{"$f":"IF(DATA!PUC2=0,\"\",IFERROR(DATA!PUC2,\"\"))","v":""},{"$f":"IF(DATA!PUD2=0,\"\",IFERROR(DATA!PUD2,\"\"))","v":""},{"$f":"IF(DATA!PUE2=0,\"\",IFERROR(DATA!PUE2,\"\"))","v":""},{"$f":"IF(DATA!PUF2=0,\"\",IFERROR(DATA!PUF2,\"\"))","v":""},{"$f":"IF(DATA!PUG2=0,\"\",IFERROR(DATA!PUG2,\"\"))","v":""},{"$f":"IF(DATA!PUH2=0,\"\",IFERROR(DATA!PUH2,\"\"))","v":""},{"$f":"IF(DATA!PUI2=0,\"\",IFERROR(DATA!PUI2,\"\"))","v":""},{"$f":"IF(DATA!PUJ2=0,\"\",IFERROR(DATA!PUJ2,\"\"))","v":""},{"$f":"IF(DATA!PUK2=0,\"\",IFERROR(DATA!PUK2,\"\"))","v":""},{"$f":"IF(DATA!PUL2=0,\"\",IFERROR(DATA!PUL2,\"\"))","v":""},{"$f":"IF(DATA!PUM2=0,\"\",IFERROR(DATA!PUM2,\"\"))","v":""},{"$f":"IF(DATA!PUN2=0,\"\",IFERROR(DATA!PUN2,\"\"))","v":""},{"$f":"IF(DATA!PUO2=0,\"\",IFERROR(DATA!PUO2,\"\"))","v":""},{"$f":"IF(DATA!PUP2=0,\"\",IFERROR(DATA!PUP2,\"\"))","v":""},{"$f":"IF(DATA!PUQ2=0,\"\",IFERROR(DATA!PUQ2,\"\"))","v":""},{"$f":"IF(DATA!PUR2=0,\"\",IFERROR(DATA!PUR2,\"\"))","v":""},{"$f":"IF(DATA!PUS2=0,\"\",IFERROR(DATA!PUS2,\"\"))","v":""},{"$f":"IF(DATA!PUT2=0,\"\",IFERROR(DATA!PUT2,\"\"))","v":""},{"$f":"IF(DATA!PUU2=0,\"\",IFERROR(DATA!PUU2,\"\"))","v":""},{"$f":"IF(DATA!PUV2=0,\"\",IFERROR(DATA!PUV2,\"\"))","v":""},{"$f":"IF(DATA!PUW2=0,\"\",IFERROR(DATA!PUW2,\"\"))","v":""},{"$f":"IF(DATA!PUX2=0,\"\",IFERROR(DATA!PUX2,\"\"))","v":""},{"$f":"IF(DATA!PUY2=0,\"\",IFERROR(DATA!PUY2,\"\"))","v":""},{"$f":"IF(DATA!PUZ2=0,\"\",IFERROR(DATA!PUZ2,\"\"))","v":""},{"$f":"IF(DATA!PVA2=0,\"\",IFERROR(DATA!PVA2,\"\"))","v":""},{"$f":"IF(DATA!PVB2=0,\"\",IFERROR(DATA!PVB2,\"\"))","v":""},{"$f":"IF(DATA!PVC2=0,\"\",IFERROR(DATA!PVC2,\"\"))","v":""},{"$f":"IF(DATA!PVD2=0,\"\",IFERROR(DATA!PVD2,\"\"))","v":""},{"$f":"IF(DATA!PVE2=0,\"\",IFERROR(DATA!PVE2,\"\"))","v":""},{"$f":"IF(DATA!PVF2=0,\"\",IFERROR(DATA!PVF2,\"\"))","v":""},{"$f":"IF(DATA!PVG2=0,\"\",IFERROR(DATA!PVG2,\"\"))","v":""},{"$f":"IF(DATA!PVH2=0,\"\",IFERROR(DATA!PVH2,\"\"))","v":""},{"$f":"IF(DATA!PVI2=0,\"\",IFERROR(DATA!PVI2,\"\"))","v":""},{"$f":"IF(DATA!PVJ2=0,\"\",IFERROR(DATA!PVJ2,\"\"))","v":""},{"$f":"IF(DATA!PVK2=0,\"\",IFERROR(DATA!PVK2,\"\"))","v":""},{"$f":"IF(DATA!PVL2=0,\"\",IFERROR(DATA!PVL2,\"\"))","v":""},{"$f":"IF(DATA!PVM2=0,\"\",IFERROR(DATA!PVM2,\"\"))","v":""},{"$f":"IF(DATA!PVN2=0,\"\",IFERROR(DATA!PVN2,\"\"))","v":""},{"$f":"IF(DATA!PVO2=0,\"\",IFERROR(DATA!PVO2,\"\"))","v":""},{"$f":"IF(DATA!PVP2=0,\"\",IFERROR(DATA!PVP2,\"\"))","v":""},{"$f":"IF(DATA!PVQ2=0,\"\",IFERROR(DATA!PVQ2,\"\"))","v":""},{"$f":"IF(DATA!PVR2=0,\"\",IFERROR(DATA!PVR2,\"\"))","v":""},{"$f":"IF(DATA!PVS2=0,\"\",IFERROR(DATA!PVS2,\"\"))","v":""},{"$f":"IF(DATA!PVT2=0,\"\",IFERROR(DATA!PVT2,\"\"))","v":""},{"$f":"IF(DATA!PVU2=0,\"\",IFERROR(DATA!PVU2,\"\"))","v":""},{"$f":"IF(DATA!PVV2=0,\"\",IFERROR(DATA!PVV2,\"\"))","v":""},{"$f":"IF(DATA!PVW2=0,\"\",IFERROR(DATA!PVW2,\"\"))","v":""},{"$f":"IF(DATA!PVX2=0,\"\",IFERROR(DATA!PVX2,\"\"))","v":""},{"$f":"IF(DATA!PVY2=0,\"\",IFERROR(DATA!PVY2,\"\"))","v":""},{"$f":"IF(DATA!PVZ2=0,\"\",IFERROR(DATA!PVZ2,\"\"))","v":""},{"$f":"IF(DATA!PWA2=0,\"\",IFERROR(DATA!PWA2,\"\"))","v":""},{"$f":"IF(DATA!PWB2=0,\"\",IFERROR(DATA!PWB2,\"\"))","v":""},{"$f":"IF(DATA!PWC2=0,\"\",IFERROR(DATA!PWC2,\"\"))","v":""},{"$f":"IF(DATA!PWD2=0,\"\",IFERROR(DATA!PWD2,\"\"))","v":""},{"$f":"IF(DATA!PWE2=0,\"\",IFERROR(DATA!PWE2,\"\"))","v":""},{"$f":"IF(DATA!PWF2=0,\"\",IFERROR(DATA!PWF2,\"\"))","v":""},{"$f":"IF(DATA!PWG2=0,\"\",IFERROR(DATA!PWG2,\"\"))","v":""},{"$f":"IF(DATA!PWH2=0,\"\",IFERROR(DATA!PWH2,\"\"))","v":""},{"$f":"IF(DATA!PWI2=0,\"\",IFERROR(DATA!PWI2,\"\"))","v":""},{"$f":"IF(DATA!PWJ2=0,\"\",IFERROR(DATA!PWJ2,\"\"))","v":""},{"$f":"IF(DATA!PWK2=0,\"\",IFERROR(DATA!PWK2,\"\"))","v":""},{"$f":"IF(DATA!PWL2=0,\"\",IFERROR(DATA!PWL2,\"\"))","v":""},{"$f":"IF(DATA!PWM2=0,\"\",IFERROR(DATA!PWM2,\"\"))","v":""},{"$f":"IF(DATA!PWN2=0,\"\",IFERROR(DATA!PWN2,\"\"))","v":""},{"$f":"IF(DATA!PWO2=0,\"\",IFERROR(DATA!PWO2,\"\"))","v":""},{"$f":"IF(DATA!PWP2=0,\"\",IFERROR(DATA!PWP2,\"\"))","v":""},{"$f":"IF(DATA!PWQ2=0,\"\",IFERROR(DATA!PWQ2,\"\"))","v":""},{"$f":"IF(DATA!PWR2=0,\"\",IFERROR(DATA!PWR2,\"\"))","v":""},{"$f":"IF(DATA!PWS2=0,\"\",IFERROR(DATA!PWS2,\"\"))","v":""},{"$f":"IF(DATA!PWT2=0,\"\",IFERROR(DATA!PWT2,\"\"))","v":""},{"$f":"IF(DATA!PWU2=0,\"\",IFERROR(DATA!PWU2,\"\"))","v":""},{"$f":"IF(DATA!PWV2=0,\"\",IFERROR(DATA!PWV2,\"\"))","v":""},{"$f":"IF(DATA!PWW2=0,\"\",IFERROR(DATA!PWW2,\"\"))","v":""},{"$f":"IF(DATA!PWX2=0,\"\",IFERROR(DATA!PWX2,\"\"))","v":""},{"$f":"IF(DATA!PWY2=0,\"\",IFERROR(DATA!PWY2,\"\"))","v":""},{"$f":"IF(DATA!PWZ2=0,\"\",IFERROR(DATA!PWZ2,\"\"))","v":""},{"$f":"IF(DATA!PXA2=0,\"\",IFERROR(DATA!PXA2,\"\"))","v":""},{"$f":"IF(DATA!PXB2=0,\"\",IFERROR(DATA!PXB2,\"\"))","v":""},{"$f":"IF(DATA!PXC2=0,\"\",IFERROR(DATA!PXC2,\"\"))","v":""},{"$f":"IF(DATA!PXD2=0,\"\",IFERROR(DATA!PXD2,\"\"))","v":""},{"$f":"IF(DATA!PXE2=0,\"\",IFERROR(DATA!PXE2,\"\"))","v":""},{"$f":"IF(DATA!PXF2=0,\"\",IFERROR(DATA!PXF2,\"\"))","v":""},{"$f":"IF(DATA!PXG2=0,\"\",IFERROR(DATA!PXG2,\"\"))","v":""},{"$f":"IF(DATA!PXH2=0,\"\",IFERROR(DATA!PXH2,\"\"))","v":""},{"$f":"IF(DATA!PXI2=0,\"\",IFERROR(DATA!PXI2,\"\"))","v":""},{"$f":"IF(DATA!PXJ2=0,\"\",IFERROR(DATA!PXJ2,\"\"))","v":""},{"$f":"IF(DATA!PXK2=0,\"\",IFERROR(DATA!PXK2,\"\"))","v":""},{"$f":"IF(DATA!PXL2=0,\"\",IFERROR(DATA!PXL2,\"\"))","v":""},{"$f":"IF(DATA!PXM2=0,\"\",IFERROR(DATA!PXM2,\"\"))","v":""},{"$f":"IF(DATA!PXN2=0,\"\",IFERROR(DATA!PXN2,\"\"))","v":""},{"$f":"IF(DATA!PXO2=0,\"\",IFERROR(DATA!PXO2,\"\"))","v":""},{"$f":"IF(DATA!PXP2=0,\"\",IFERROR(DATA!PXP2,\"\"))","v":""},{"$f":"IF(DATA!PXQ2=0,\"\",IFERROR(DATA!PXQ2,\"\"))","v":""},{"$f":"IF(DATA!PXR2=0,\"\",IFERROR(DATA!PXR2,\"\"))","v":""},{"$f":"IF(DATA!PXS2=0,\"\",IFERROR(DATA!PXS2,\"\"))","v":""},{"$f":"IF(DATA!PXT2=0,\"\",IFERROR(DATA!PXT2,\"\"))","v":""},{"$f":"IF(DATA!PXU2=0,\"\",IFERROR(DATA!PXU2,\"\"))","v":""},{"$f":"IF(DATA!PXV2=0,\"\",IFERROR(DATA!PXV2,\"\"))","v":""},{"$f":"IF(DATA!PXW2=0,\"\",IFERROR(DATA!PXW2,\"\"))","v":""},{"$f":"IF(DATA!PXX2=0,\"\",IFERROR(DATA!PXX2,\"\"))","v":""},{"$f":"IF(DATA!PXY2=0,\"\",IFERROR(DATA!PXY2,\"\"))","v":""},{"$f":"IF(DATA!PXZ2=0,\"\",IFERROR(DATA!PXZ2,\"\"))","v":""},{"$f":"IF(DATA!PYA2=0,\"\",IFERROR(DATA!PYA2,\"\"))","v":""},{"$f":"IF(DATA!PYB2=0,\"\",IFERROR(DATA!PYB2,\"\"))","v":""},{"$f":"IF(DATA!PYC2=0,\"\",IFERROR(DATA!PYC2,\"\"))","v":""},{"$f":"IF(DATA!PYD2=0,\"\",IFERROR(DATA!PYD2,\"\"))","v":""},{"$f":"IF(DATA!PYE2=0,\"\",IFERROR(DATA!PYE2,\"\"))","v":""},{"$f":"IF(DATA!PYF2=0,\"\",IFERROR(DATA!PYF2,\"\"))","v":""},{"$f":"IF(DATA!PYG2=0,\"\",IFERROR(DATA!PYG2,\"\"))","v":""},{"$f":"IF(DATA!PYH2=0,\"\",IFERROR(DATA!PYH2,\"\"))","v":""},{"$f":"IF(DATA!PYI2=0,\"\",IFERROR(DATA!PYI2,\"\"))","v":""},{"$f":"IF(DATA!PYJ2=0,\"\",IFERROR(DATA!PYJ2,\"\"))","v":""},{"$f":"IF(DATA!PYK2=0,\"\",IFERROR(DATA!PYK2,\"\"))","v":""},{"$f":"IF(DATA!PYL2=0,\"\",IFERROR(DATA!PYL2,\"\"))","v":""},{"$f":"IF(DATA!PYM2=0,\"\",IFERROR(DATA!PYM2,\"\"))","v":""},{"$f":"IF(DATA!PYN2=0,\"\",IFERROR(DATA!PYN2,\"\"))","v":""},{"$f":"IF(DATA!PYO2=0,\"\",IFERROR(DATA!PYO2,\"\"))","v":""},{"$f":"IF(DATA!PYP2=0,\"\",IFERROR(DATA!PYP2,\"\"))","v":""},{"$f":"IF(DATA!PYQ2=0,\"\",IFERROR(DATA!PYQ2,\"\"))","v":""},{"$f":"IF(DATA!PYR2=0,\"\",IFERROR(DATA!PYR2,\"\"))","v":""},{"$f":"IF(DATA!PYS2=0,\"\",IFERROR(DATA!PYS2,\"\"))","v":""},{"$f":"IF(DATA!PYT2=0,\"\",IFERROR(DATA!PYT2,\"\"))","v":""},{"$f":"IF(DATA!PYU2=0,\"\",IFERROR(DATA!PYU2,\"\"))","v":""},{"$f":"IF(DATA!PYV2=0,\"\",IFERROR(DATA!PYV2,\"\"))","v":""},{"$f":"IF(DATA!PYW2=0,\"\",IFERROR(DATA!PYW2,\"\"))","v":""},{"$f":"IF(DATA!PYX2=0,\"\",IFERROR(DATA!PYX2,\"\"))","v":""},{"$f":"IF(DATA!PYY2=0,\"\",IFERROR(DATA!PYY2,\"\"))","v":""},{"$f":"IF(DATA!PYZ2=0,\"\",IFERROR(DATA!PYZ2,\"\"))","v":""},{"$f":"IF(DATA!PZA2=0,\"\",IFERROR(DATA!PZA2,\"\"))","v":""},{"$f":"IF(DATA!PZB2=0,\"\",IFERROR(DATA!PZB2,\"\"))","v":""},{"$f":"IF(DATA!PZC2=0,\"\",IFERROR(DATA!PZC2,\"\"))","v":""},{"$f":"IF(DATA!PZD2=0,\"\",IFERROR(DATA!PZD2,\"\"))","v":""},{"$f":"IF(DATA!PZE2=0,\"\",IFERROR(DATA!PZE2,\"\"))","v":""},{"$f":"IF(DATA!PZF2=0,\"\",IFERROR(DATA!PZF2,\"\"))","v":""},{"$f":"IF(DATA!PZG2=0,\"\",IFERROR(DATA!PZG2,\"\"))","v":""},{"$f":"IF(DATA!PZH2=0,\"\",IFERROR(DATA!PZH2,\"\"))","v":""},{"$f":"IF(DATA!PZI2=0,\"\",IFERROR(DATA!PZI2,\"\"))","v":""},{"$f":"IF(DATA!PZJ2=0,\"\",IFERROR(DATA!PZJ2,\"\"))","v":""},{"$f":"IF(DATA!PZK2=0,\"\",IFERROR(DATA!PZK2,\"\"))","v":""},{"$f":"IF(DATA!PZL2=0,\"\",IFERROR(DATA!PZL2,\"\"))","v":""},{"$f":"IF(DATA!PZM2=0,\"\",IFERROR(DATA!PZM2,\"\"))","v":""},{"$f":"IF(DATA!PZN2=0,\"\",IFERROR(DATA!PZN2,\"\"))","v":""},{"$f":"IF(DATA!PZO2=0,\"\",IFERROR(DATA!PZO2,\"\"))","v":""},{"$f":"IF(DATA!PZP2=0,\"\",IFERROR(DATA!PZP2,\"\"))","v":""},{"$f":"IF(DATA!PZQ2=0,\"\",IFERROR(DATA!PZQ2,\"\"))","v":""},{"$f":"IF(DATA!PZR2=0,\"\",IFERROR(DATA!PZR2,\"\"))","v":""},{"$f":"IF(DATA!PZS2=0,\"\",IFERROR(DATA!PZS2,\"\"))","v":""},{"$f":"IF(DATA!PZT2=0,\"\",IFERROR(DATA!PZT2,\"\"))","v":""},{"$f":"IF(DATA!PZU2=0,\"\",IFERROR(DATA!PZU2,\"\"))","v":""},{"$f":"IF(DATA!PZV2=0,\"\",IFERROR(DATA!PZV2,\"\"))","v":""},{"$f":"IF(DATA!PZW2=0,\"\",IFERROR(DATA!PZW2,\"\"))","v":""},{"$f":"IF(DATA!PZX2=0,\"\",IFERROR(DATA!PZX2,\"\"))","v":""},{"$f":"IF(DATA!PZY2=0,\"\",IFERROR(DATA!PZY2,\"\"))","v":""},{"$f":"IF(DATA!PZZ2=0,\"\",IFERROR(DATA!PZZ2,\"\"))","v":""},{"$f":"IF(DATA!QAA2=0,\"\",IFERROR(DATA!QAA2,\"\"))","v":""},{"$f":"IF(DATA!QAB2=0,\"\",IFERROR(DATA!QAB2,\"\"))","v":""},{"$f":"IF(DATA!QAC2=0,\"\",IFERROR(DATA!QAC2,\"\"))","v":""},{"$f":"IF(DATA!QAD2=0,\"\",IFERROR(DATA!QAD2,\"\"))","v":""},{"$f":"IF(DATA!QAE2=0,\"\",IFERROR(DATA!QAE2,\"\"))","v":""},{"$f":"IF(DATA!QAF2=0,\"\",IFERROR(DATA!QAF2,\"\"))","v":""},{"$f":"IF(DATA!QAG2=0,\"\",IFERROR(DATA!QAG2,\"\"))","v":""},{"$f":"IF(DATA!QAH2=0,\"\",IFERROR(DATA!QAH2,\"\"))","v":""},{"$f":"IF(DATA!QAI2=0,\"\",IFERROR(DATA!QAI2,\"\"))","v":""},{"$f":"IF(DATA!QAJ2=0,\"\",IFERROR(DATA!QAJ2,\"\"))","v":""},{"$f":"IF(DATA!QAK2=0,\"\",IFERROR(DATA!QAK2,\"\"))","v":""},{"$f":"IF(DATA!QAL2=0,\"\",IFERROR(DATA!QAL2,\"\"))","v":""},{"$f":"IF(DATA!QAM2=0,\"\",IFERROR(DATA!QAM2,\"\"))","v":""},{"$f":"IF(DATA!QAN2=0,\"\",IFERROR(DATA!QAN2,\"\"))","v":""},{"$f":"IF(DATA!QAO2=0,\"\",IFERROR(DATA!QAO2,\"\"))","v":""},{"$f":"IF(DATA!QAP2=0,\"\",IFERROR(DATA!QAP2,\"\"))","v":""},{"$f":"IF(DATA!QAQ2=0,\"\",IFERROR(DATA!QAQ2,\"\"))","v":""},{"$f":"IF(DATA!QAR2=0,\"\",IFERROR(DATA!QAR2,\"\"))","v":""},{"$f":"IF(DATA!QAS2=0,\"\",IFERROR(DATA!QAS2,\"\"))","v":""},{"$f":"IF(DATA!QAT2=0,\"\",IFERROR(DATA!QAT2,\"\"))","v":""},{"$f":"IF(DATA!QAU2=0,\"\",IFERROR(DATA!QAU2,\"\"))","v":""},{"$f":"IF(DATA!QAV2=0,\"\",IFERROR(DATA!QAV2,\"\"))","v":""},{"$f":"IF(DATA!QAW2=0,\"\",IFERROR(DATA!QAW2,\"\"))","v":""},{"$f":"IF(DATA!QAX2=0,\"\",IFERROR(DATA!QAX2,\"\"))","v":""},{"$f":"IF(DATA!QAY2=0,\"\",IFERROR(DATA!QAY2,\"\"))","v":""},{"$f":"IF(DATA!QAZ2=0,\"\",IFERROR(DATA!QAZ2,\"\"))","v":""},{"$f":"IF(DATA!QBA2=0,\"\",IFERROR(DATA!QBA2,\"\"))","v":""},{"$f":"IF(DATA!QBB2=0,\"\",IFERROR(DATA!QBB2,\"\"))","v":""},{"$f":"IF(DATA!QBC2=0,\"\",IFERROR(DATA!QBC2,\"\"))","v":""},{"$f":"IF(DATA!QBD2=0,\"\",IFERROR(DATA!QBD2,\"\"))","v":""},{"$f":"IF(DATA!QBE2=0,\"\",IFERROR(DATA!QBE2,\"\"))","v":""},{"$f":"IF(DATA!QBF2=0,\"\",IFERROR(DATA!QBF2,\"\"))","v":""},{"$f":"IF(DATA!QBG2=0,\"\",IFERROR(DATA!QBG2,\"\"))","v":""},{"$f":"IF(DATA!QBH2=0,\"\",IFERROR(DATA!QBH2,\"\"))","v":""},{"$f":"IF(DATA!QBI2=0,\"\",IFERROR(DATA!QBI2,\"\"))","v":""},{"$f":"IF(DATA!QBJ2=0,\"\",IFERROR(DATA!QBJ2,\"\"))","v":""},{"$f":"IF(DATA!QBK2=0,\"\",IFERROR(DATA!QBK2,\"\"))","v":""},{"$f":"IF(DATA!QBL2=0,\"\",IFERROR(DATA!QBL2,\"\"))","v":""},{"$f":"IF(DATA!QBM2=0,\"\",IFERROR(DATA!QBM2,\"\"))","v":""},{"$f":"IF(DATA!QBN2=0,\"\",IFERROR(DATA!QBN2,\"\"))","v":""},{"$f":"IF(DATA!QBO2=0,\"\",IFERROR(DATA!QBO2,\"\"))","v":""},{"$f":"IF(DATA!QBP2=0,\"\",IFERROR(DATA!QBP2,\"\"))","v":""},{"$f":"IF(DATA!QBQ2=0,\"\",IFERROR(DATA!QBQ2,\"\"))","v":""},{"$f":"IF(DATA!QBR2=0,\"\",IFERROR(DATA!QBR2,\"\"))","v":""},{"$f":"IF(DATA!QBS2=0,\"\",IFERROR(DATA!QBS2,\"\"))","v":""},{"$f":"IF(DATA!QBT2=0,\"\",IFERROR(DATA!QBT2,\"\"))","v":""},{"$f":"IF(DATA!QBU2=0,\"\",IFERROR(DATA!QBU2,\"\"))","v":""},{"$f":"IF(DATA!QBV2=0,\"\",IFERROR(DATA!QBV2,\"\"))","v":""},{"$f":"IF(DATA!QBW2=0,\"\",IFERROR(DATA!QBW2,\"\"))","v":""},{"$f":"IF(DATA!QBX2=0,\"\",IFERROR(DATA!QBX2,\"\"))","v":""},{"$f":"IF(DATA!QBY2=0,\"\",IFERROR(DATA!QBY2,\"\"))","v":""},{"$f":"IF(DATA!QBZ2=0,\"\",IFERROR(DATA!QBZ2,\"\"))","v":""},{"$f":"IF(DATA!QCA2=0,\"\",IFERROR(DATA!QCA2,\"\"))","v":""},{"$f":"IF(DATA!QCB2=0,\"\",IFERROR(DATA!QCB2,\"\"))","v":""},{"$f":"IF(DATA!QCC2=0,\"\",IFERROR(DATA!QCC2,\"\"))","v":""},{"$f":"IF(DATA!QCD2=0,\"\",IFERROR(DATA!QCD2,\"\"))","v":""},{"$f":"IF(DATA!QCE2=0,\"\",IFERROR(DATA!QCE2,\"\"))","v":""},{"$f":"IF(DATA!QCF2=0,\"\",IFERROR(DATA!QCF2,\"\"))","v":""},{"$f":"IF(DATA!QCG2=0,\"\",IFERROR(DATA!QCG2,\"\"))","v":""},{"$f":"IF(DATA!QCH2=0,\"\",IFERROR(DATA!QCH2,\"\"))","v":""},{"$f":"IF(DATA!QCI2=0,\"\",IFERROR(DATA!QCI2,\"\"))","v":""},{"$f":"IF(DATA!QCJ2=0,\"\",IFERROR(DATA!QCJ2,\"\"))","v":""},{"$f":"IF(DATA!QCK2=0,\"\",IFERROR(DATA!QCK2,\"\"))","v":""},{"$f":"IF(DATA!QCL2=0,\"\",IFERROR(DATA!QCL2,\"\"))","v":""},{"$f":"IF(DATA!QCM2=0,\"\",IFERROR(DATA!QCM2,\"\"))","v":""},{"$f":"IF(DATA!QCN2=0,\"\",IFERROR(DATA!QCN2,\"\"))","v":""},{"$f":"IF(DATA!QCO2=0,\"\",IFERROR(DATA!QCO2,\"\"))","v":""},{"$f":"IF(DATA!QCP2=0,\"\",IFERROR(DATA!QCP2,\"\"))","v":""},{"$f":"IF(DATA!QCQ2=0,\"\",IFERROR(DATA!QCQ2,\"\"))","v":""},{"$f":"IF(DATA!QCR2=0,\"\",IFERROR(DATA!QCR2,\"\"))","v":""},{"$f":"IF(DATA!QCS2=0,\"\",IFERROR(DATA!QCS2,\"\"))","v":""},{"$f":"IF(DATA!QCT2=0,\"\",IFERROR(DATA!QCT2,\"\"))","v":""},{"$f":"IF(DATA!QCU2=0,\"\",IFERROR(DATA!QCU2,\"\"))","v":""},{"$f":"IF(DATA!QCV2=0,\"\",IFERROR(DATA!QCV2,\"\"))","v":""},{"$f":"IF(DATA!QCW2=0,\"\",IFERROR(DATA!QCW2,\"\"))","v":""},{"$f":"IF(DATA!QCX2=0,\"\",IFERROR(DATA!QCX2,\"\"))","v":""},{"$f":"IF(DATA!QCY2=0,\"\",IFERROR(DATA!QCY2,\"\"))","v":""},{"$f":"IF(DATA!QCZ2=0,\"\",IFERROR(DATA!QCZ2,\"\"))","v":""},{"$f":"IF(DATA!QDA2=0,\"\",IFERROR(DATA!QDA2,\"\"))","v":""},{"$f":"IF(DATA!QDB2=0,\"\",IFERROR(DATA!QDB2,\"\"))","v":""},{"$f":"IF(DATA!QDC2=0,\"\",IFERROR(DATA!QDC2,\"\"))","v":""},{"$f":"IF(DATA!QDD2=0,\"\",IFERROR(DATA!QDD2,\"\"))","v":""},{"$f":"IF(DATA!QDE2=0,\"\",IFERROR(DATA!QDE2,\"\"))","v":""},{"$f":"IF(DATA!QDF2=0,\"\",IFERROR(DATA!QDF2,\"\"))","v":""},{"$f":"IF(DATA!QDG2=0,\"\",IFERROR(DATA!QDG2,\"\"))","v":""},{"$f":"IF(DATA!QDH2=0,\"\",IFERROR(DATA!QDH2,\"\"))","v":""},{"$f":"IF(DATA!QDI2=0,\"\",IFERROR(DATA!QDI2,\"\"))","v":""},{"$f":"IF(DATA!QDJ2=0,\"\",IFERROR(DATA!QDJ2,\"\"))","v":""},{"$f":"IF(DATA!QDK2=0,\"\",IFERROR(DATA!QDK2,\"\"))","v":""},{"$f":"IF(DATA!QDL2=0,\"\",IFERROR(DATA!QDL2,\"\"))","v":""},{"$f":"IF(DATA!QDM2=0,\"\",IFERROR(DATA!QDM2,\"\"))","v":""},{"$f":"IF(DATA!QDN2=0,\"\",IFERROR(DATA!QDN2,\"\"))","v":""},{"$f":"IF(DATA!QDO2=0,\"\",IFERROR(DATA!QDO2,\"\"))","v":""},{"$f":"IF(DATA!QDP2=0,\"\",IFERROR(DATA!QDP2,\"\"))","v":""},{"$f":"IF(DATA!QDQ2=0,\"\",IFERROR(DATA!QDQ2,\"\"))","v":""},{"$f":"IF(DATA!QDR2=0,\"\",IFERROR(DATA!QDR2,\"\"))","v":""},{"$f":"IF(DATA!QDS2=0,\"\",IFERROR(DATA!QDS2,\"\"))","v":""},{"$f":"IF(DATA!QDT2=0,\"\",IFERROR(DATA!QDT2,\"\"))","v":""},{"$f":"IF(DATA!QDU2=0,\"\",IFERROR(DATA!QDU2,\"\"))","v":""},{"$f":"IF(DATA!QDV2=0,\"\",IFERROR(DATA!QDV2,\"\"))","v":""},{"$f":"IF(DATA!QDW2=0,\"\",IFERROR(DATA!QDW2,\"\"))","v":""},{"$f":"IF(DATA!QDX2=0,\"\",IFERROR(DATA!QDX2,\"\"))","v":""},{"$f":"IF(DATA!QDY2=0,\"\",IFERROR(DATA!QDY2,\"\"))","v":""},{"$f":"IF(DATA!QDZ2=0,\"\",IFERROR(DATA!QDZ2,\"\"))","v":""},{"$f":"IF(DATA!QEA2=0,\"\",IFERROR(DATA!QEA2,\"\"))","v":""},{"$f":"IF(DATA!QEB2=0,\"\",IFERROR(DATA!QEB2,\"\"))","v":""},{"$f":"IF(DATA!QEC2=0,\"\",IFERROR(DATA!QEC2,\"\"))","v":""},{"$f":"IF(DATA!QED2=0,\"\",IFERROR(DATA!QED2,\"\"))","v":""},{"$f":"IF(DATA!QEE2=0,\"\",IFERROR(DATA!QEE2,\"\"))","v":""},{"$f":"IF(DATA!QEF2=0,\"\",IFERROR(DATA!QEF2,\"\"))","v":""},{"$f":"IF(DATA!QEG2=0,\"\",IFERROR(DATA!QEG2,\"\"))","v":""},{"$f":"IF(DATA!QEH2=0,\"\",IFERROR(DATA!QEH2,\"\"))","v":""},{"$f":"IF(DATA!QEI2=0,\"\",IFERROR(DATA!QEI2,\"\"))","v":""},{"$f":"IF(DATA!QEJ2=0,\"\",IFERROR(DATA!QEJ2,\"\"))","v":""},{"$f":"IF(DATA!QEK2=0,\"\",IFERROR(DATA!QEK2,\"\"))","v":""},{"$f":"IF(DATA!QEL2=0,\"\",IFERROR(DATA!QEL2,\"\"))","v":""},{"$f":"IF(DATA!QEM2=0,\"\",IFERROR(DATA!QEM2,\"\"))","v":""},{"$f":"IF(DATA!QEN2=0,\"\",IFERROR(DATA!QEN2,\"\"))","v":""},{"$f":"IF(DATA!QEO2=0,\"\",IFERROR(DATA!QEO2,\"\"))","v":""},{"$f":"IF(DATA!QEP2=0,\"\",IFERROR(DATA!QEP2,\"\"))","v":""},{"$f":"IF(DATA!QEQ2=0,\"\",IFERROR(DATA!QEQ2,\"\"))","v":""},{"$f":"IF(DATA!QER2=0,\"\",IFERROR(DATA!QER2,\"\"))","v":""},{"$f":"IF(DATA!QES2=0,\"\",IFERROR(DATA!QES2,\"\"))","v":""},{"$f":"IF(DATA!QET2=0,\"\",IFERROR(DATA!QET2,\"\"))","v":""},{"$f":"IF(DATA!QEU2=0,\"\",IFERROR(DATA!QEU2,\"\"))","v":""},{"$f":"IF(DATA!QEV2=0,\"\",IFERROR(DATA!QEV2,\"\"))","v":""},{"$f":"IF(DATA!QEW2=0,\"\",IFERROR(DATA!QEW2,\"\"))","v":""},{"$f":"IF(DATA!QEX2=0,\"\",IFERROR(DATA!QEX2,\"\"))","v":""},{"$f":"IF(DATA!QEY2=0,\"\",IFERROR(DATA!QEY2,\"\"))","v":""},{"$f":"IF(DATA!QEZ2=0,\"\",IFERROR(DATA!QEZ2,\"\"))","v":""},{"$f":"IF(DATA!QFA2=0,\"\",IFERROR(DATA!QFA2,\"\"))","v":""},{"$f":"IF(DATA!QFB2=0,\"\",IFERROR(DATA!QFB2,\"\"))","v":""},{"$f":"IF(DATA!QFC2=0,\"\",IFERROR(DATA!QFC2,\"\"))","v":""},{"$f":"IF(DATA!QFD2=0,\"\",IFERROR(DATA!QFD2,\"\"))","v":""},{"$f":"IF(DATA!QFE2=0,\"\",IFERROR(DATA!QFE2,\"\"))","v":""},{"$f":"IF(DATA!QFF2=0,\"\",IFERROR(DATA!QFF2,\"\"))","v":""},{"$f":"IF(DATA!QFG2=0,\"\",IFERROR(DATA!QFG2,\"\"))","v":""},{"$f":"IF(DATA!QFH2=0,\"\",IFERROR(DATA!QFH2,\"\"))","v":""},{"$f":"IF(DATA!QFI2=0,\"\",IFERROR(DATA!QFI2,\"\"))","v":""},{"$f":"IF(DATA!QFJ2=0,\"\",IFERROR(DATA!QFJ2,\"\"))","v":""},{"$f":"IF(DATA!QFK2=0,\"\",IFERROR(DATA!QFK2,\"\"))","v":""},{"$f":"IF(DATA!QFL2=0,\"\",IFERROR(DATA!QFL2,\"\"))","v":""},{"$f":"IF(DATA!QFM2=0,\"\",IFERROR(DATA!QFM2,\"\"))","v":""},{"$f":"IF(DATA!QFN2=0,\"\",IFERROR(DATA!QFN2,\"\"))","v":""},{"$f":"IF(DATA!QFO2=0,\"\",IFERROR(DATA!QFO2,\"\"))","v":""},{"$f":"IF(DATA!QFP2=0,\"\",IFERROR(DATA!QFP2,\"\"))","v":""},{"$f":"IF(DATA!QFQ2=0,\"\",IFERROR(DATA!QFQ2,\"\"))","v":""},{"$f":"IF(DATA!QFR2=0,\"\",IFERROR(DATA!QFR2,\"\"))","v":""},{"$f":"IF(DATA!QFS2=0,\"\",IFERROR(DATA!QFS2,\"\"))","v":""},{"$f":"IF(DATA!QFT2=0,\"\",IFERROR(DATA!QFT2,\"\"))","v":""},{"$f":"IF(DATA!QFU2=0,\"\",IFERROR(DATA!QFU2,\"\"))","v":""},{"$f":"IF(DATA!QFV2=0,\"\",IFERROR(DATA!QFV2,\"\"))","v":""},{"$f":"IF(DATA!QFW2=0,\"\",IFERROR(DATA!QFW2,\"\"))","v":""},{"$f":"IF(DATA!QFX2=0,\"\",IFERROR(DATA!QFX2,\"\"))","v":""},{"$f":"IF(DATA!QFY2=0,\"\",IFERROR(DATA!QFY2,\"\"))","v":""},{"$f":"IF(DATA!QFZ2=0,\"\",IFERROR(DATA!QFZ2,\"\"))","v":""},{"$f":"IF(DATA!QGA2=0,\"\",IFERROR(DATA!QGA2,\"\"))","v":""},{"$f":"IF(DATA!QGB2=0,\"\",IFERROR(DATA!QGB2,\"\"))","v":""},{"$f":"IF(DATA!QGC2=0,\"\",IFERROR(DATA!QGC2,\"\"))","v":""},{"$f":"IF(DATA!QGD2=0,\"\",IFERROR(DATA!QGD2,\"\"))","v":""},{"$f":"IF(DATA!QGE2=0,\"\",IFERROR(DATA!QGE2,\"\"))","v":""},{"$f":"IF(DATA!QGF2=0,\"\",IFERROR(DATA!QGF2,\"\"))","v":""},{"$f":"IF(DATA!QGG2=0,\"\",IFERROR(DATA!QGG2,\"\"))","v":""},{"$f":"IF(DATA!QGH2=0,\"\",IFERROR(DATA!QGH2,\"\"))","v":""},{"$f":"IF(DATA!QGI2=0,\"\",IFERROR(DATA!QGI2,\"\"))","v":""},{"$f":"IF(DATA!QGJ2=0,\"\",IFERROR(DATA!QGJ2,\"\"))","v":""},{"$f":"IF(DATA!QGK2=0,\"\",IFERROR(DATA!QGK2,\"\"))","v":""},{"$f":"IF(DATA!QGL2=0,\"\",IFERROR(DATA!QGL2,\"\"))","v":""},{"$f":"IF(DATA!QGM2=0,\"\",IFERROR(DATA!QGM2,\"\"))","v":""},{"$f":"IF(DATA!QGN2=0,\"\",IFERROR(DATA!QGN2,\"\"))","v":""},{"$f":"IF(DATA!QGO2=0,\"\",IFERROR(DATA!QGO2,\"\"))","v":""},{"$f":"IF(DATA!QGP2=0,\"\",IFERROR(DATA!QGP2,\"\"))","v":""},{"$f":"IF(DATA!QGQ2=0,\"\",IFERROR(DATA!QGQ2,\"\"))","v":""},{"$f":"IF(DATA!QGR2=0,\"\",IFERROR(DATA!QGR2,\"\"))","v":""},{"$f":"IF(DATA!QGS2=0,\"\",IFERROR(DATA!QGS2,\"\"))","v":""},{"$f":"IF(DATA!QGT2=0,\"\",IFERROR(DATA!QGT2,\"\"))","v":""},{"$f":"IF(DATA!QGU2=0,\"\",IFERROR(DATA!QGU2,\"\"))","v":""},{"$f":"IF(DATA!QGV2=0,\"\",IFERROR(DATA!QGV2,\"\"))","v":""},{"$f":"IF(DATA!QGW2=0,\"\",IFERROR(DATA!QGW2,\"\"))","v":""},{"$f":"IF(DATA!QGX2=0,\"\",IFERROR(DATA!QGX2,\"\"))","v":""},{"$f":"IF(DATA!QGY2=0,\"\",IFERROR(DATA!QGY2,\"\"))","v":""},{"$f":"IF(DATA!QGZ2=0,\"\",IFERROR(DATA!QGZ2,\"\"))","v":""},{"$f":"IF(DATA!QHA2=0,\"\",IFERROR(DATA!QHA2,\"\"))","v":""},{"$f":"IF(DATA!QHB2=0,\"\",IFERROR(DATA!QHB2,\"\"))","v":""},{"$f":"IF(DATA!QHC2=0,\"\",IFERROR(DATA!QHC2,\"\"))","v":""},{"$f":"IF(DATA!QHD2=0,\"\",IFERROR(DATA!QHD2,\"\"))","v":""},{"$f":"IF(DATA!QHE2=0,\"\",IFERROR(DATA!QHE2,\"\"))","v":""},{"$f":"IF(DATA!QHF2=0,\"\",IFERROR(DATA!QHF2,\"\"))","v":""},{"$f":"IF(DATA!QHG2=0,\"\",IFERROR(DATA!QHG2,\"\"))","v":""},{"$f":"IF(DATA!QHH2=0,\"\",IFERROR(DATA!QHH2,\"\"))","v":""},{"$f":"IF(DATA!QHI2=0,\"\",IFERROR(DATA!QHI2,\"\"))","v":""},{"$f":"IF(DATA!QHJ2=0,\"\",IFERROR(DATA!QHJ2,\"\"))","v":""},{"$f":"IF(DATA!QHK2=0,\"\",IFERROR(DATA!QHK2,\"\"))","v":""},{"$f":"IF(DATA!QHL2=0,\"\",IFERROR(DATA!QHL2,\"\"))","v":""},{"$f":"IF(DATA!QHM2=0,\"\",IFERROR(DATA!QHM2,\"\"))","v":""},{"$f":"IF(DATA!QHN2=0,\"\",IFERROR(DATA!QHN2,\"\"))","v":""},{"$f":"IF(DATA!QHO2=0,\"\",IFERROR(DATA!QHO2,\"\"))","v":""},{"$f":"IF(DATA!QHP2=0,\"\",IFERROR(DATA!QHP2,\"\"))","v":""},{"$f":"IF(DATA!QHQ2=0,\"\",IFERROR(DATA!QHQ2,\"\"))","v":""},{"$f":"IF(DATA!QHR2=0,\"\",IFERROR(DATA!QHR2,\"\"))","v":""},{"$f":"IF(DATA!QHS2=0,\"\",IFERROR(DATA!QHS2,\"\"))","v":""},{"$f":"IF(DATA!QHT2=0,\"\",IFERROR(DATA!QHT2,\"\"))","v":""},{"$f":"IF(DATA!QHU2=0,\"\",IFERROR(DATA!QHU2,\"\"))","v":""},{"$f":"IF(DATA!QHV2=0,\"\",IFERROR(DATA!QHV2,\"\"))","v":""},{"$f":"IF(DATA!QHW2=0,\"\",IFERROR(DATA!QHW2,\"\"))","v":""},{"$f":"IF(DATA!QHX2=0,\"\",IFERROR(DATA!QHX2,\"\"))","v":""},{"$f":"IF(DATA!QHY2=0,\"\",IFERROR(DATA!QHY2,\"\"))","v":""},{"$f":"IF(DATA!QHZ2=0,\"\",IFERROR(DATA!QHZ2,\"\"))","v":""},{"$f":"IF(DATA!QIA2=0,\"\",IFERROR(DATA!QIA2,\"\"))","v":""},{"$f":"IF(DATA!QIB2=0,\"\",IFERROR(DATA!QIB2,\"\"))","v":""},{"$f":"IF(DATA!QIC2=0,\"\",IFERROR(DATA!QIC2,\"\"))","v":""},{"$f":"IF(DATA!QID2=0,\"\",IFERROR(DATA!QID2,\"\"))","v":""},{"$f":"IF(DATA!QIE2=0,\"\",IFERROR(DATA!QIE2,\"\"))","v":""},{"$f":"IF(DATA!QIF2=0,\"\",IFERROR(DATA!QIF2,\"\"))","v":""},{"$f":"IF(DATA!QIG2=0,\"\",IFERROR(DATA!QIG2,\"\"))","v":""},{"$f":"IF(DATA!QIH2=0,\"\",IFERROR(DATA!QIH2,\"\"))","v":""},{"$f":"IF(DATA!QII2=0,\"\",IFERROR(DATA!QII2,\"\"))","v":""},{"$f":"IF(DATA!QIJ2=0,\"\",IFERROR(DATA!QIJ2,\"\"))","v":""},{"$f":"IF(DATA!QIK2=0,\"\",IFERROR(DATA!QIK2,\"\"))","v":""},{"$f":"IF(DATA!QIL2=0,\"\",IFERROR(DATA!QIL2,\"\"))","v":""},{"$f":"IF(DATA!QIM2=0,\"\",IFERROR(DATA!QIM2,\"\"))","v":""},{"$f":"IF(DATA!QIN2=0,\"\",IFERROR(DATA!QIN2,\"\"))","v":""},{"$f":"IF(DATA!QIO2=0,\"\",IFERROR(DATA!QIO2,\"\"))","v":""},{"$f":"IF(DATA!QIP2=0,\"\",IFERROR(DATA!QIP2,\"\"))","v":""},{"$f":"IF(DATA!QIQ2=0,\"\",IFERROR(DATA!QIQ2,\"\"))","v":""},{"$f":"IF(DATA!QIR2=0,\"\",IFERROR(DATA!QIR2,\"\"))","v":""},{"$f":"IF(DATA!QIS2=0,\"\",IFERROR(DATA!QIS2,\"\"))","v":""},{"$f":"IF(DATA!QIT2=0,\"\",IFERROR(DATA!QIT2,\"\"))","v":""},{"$f":"IF(DATA!QIU2=0,\"\",IFERROR(DATA!QIU2,\"\"))","v":""},{"$f":"IF(DATA!QIV2=0,\"\",IFERROR(DATA!QIV2,\"\"))","v":""},{"$f":"IF(DATA!QIW2=0,\"\",IFERROR(DATA!QIW2,\"\"))","v":""},{"$f":"IF(DATA!QIX2=0,\"\",IFERROR(DATA!QIX2,\"\"))","v":""},{"$f":"IF(DATA!QIY2=0,\"\",IFERROR(DATA!QIY2,\"\"))","v":""},{"$f":"IF(DATA!QIZ2=0,\"\",IFERROR(DATA!QIZ2,\"\"))","v":""},{"$f":"IF(DATA!QJA2=0,\"\",IFERROR(DATA!QJA2,\"\"))","v":""},{"$f":"IF(DATA!QJB2=0,\"\",IFERROR(DATA!QJB2,\"\"))","v":""},{"$f":"IF(DATA!QJC2=0,\"\",IFERROR(DATA!QJC2,\"\"))","v":""},{"$f":"IF(DATA!QJD2=0,\"\",IFERROR(DATA!QJD2,\"\"))","v":""},{"$f":"IF(DATA!QJE2=0,\"\",IFERROR(DATA!QJE2,\"\"))","v":""},{"$f":"IF(DATA!QJF2=0,\"\",IFERROR(DATA!QJF2,\"\"))","v":""},{"$f":"IF(DATA!QJG2=0,\"\",IFERROR(DATA!QJG2,\"\"))","v":""},{"$f":"IF(DATA!QJH2=0,\"\",IFERROR(DATA!QJH2,\"\"))","v":""},{"$f":"IF(DATA!QJI2=0,\"\",IFERROR(DATA!QJI2,\"\"))","v":""},{"$f":"IF(DATA!QJJ2=0,\"\",IFERROR(DATA!QJJ2,\"\"))","v":""},{"$f":"IF(DATA!QJK2=0,\"\",IFERROR(DATA!QJK2,\"\"))","v":""},{"$f":"IF(DATA!QJL2=0,\"\",IFERROR(DATA!QJL2,\"\"))","v":""},{"$f":"IF(DATA!QJM2=0,\"\",IFERROR(DATA!QJM2,\"\"))","v":""},{"$f":"IF(DATA!QJN2=0,\"\",IFERROR(DATA!QJN2,\"\"))","v":""},{"$f":"IF(DATA!QJO2=0,\"\",IFERROR(DATA!QJO2,\"\"))","v":""},{"$f":"IF(DATA!QJP2=0,\"\",IFERROR(DATA!QJP2,\"\"))","v":""},{"$f":"IF(DATA!QJQ2=0,\"\",IFERROR(DATA!QJQ2,\"\"))","v":""},{"$f":"IF(DATA!QJR2=0,\"\",IFERROR(DATA!QJR2,\"\"))","v":""},{"$f":"IF(DATA!QJS2=0,\"\",IFERROR(DATA!QJS2,\"\"))","v":""},{"$f":"IF(DATA!QJT2=0,\"\",IFERROR(DATA!QJT2,\"\"))","v":""},{"$f":"IF(DATA!QJU2=0,\"\",IFERROR(DATA!QJU2,\"\"))","v":""},{"$f":"IF(DATA!QJV2=0,\"\",IFERROR(DATA!QJV2,\"\"))","v":""},{"$f":"IF(DATA!QJW2=0,\"\",IFERROR(DATA!QJW2,\"\"))","v":""},{"$f":"IF(DATA!QJX2=0,\"\",IFERROR(DATA!QJX2,\"\"))","v":""},{"$f":"IF(DATA!QJY2=0,\"\",IFERROR(DATA!QJY2,\"\"))","v":""},{"$f":"IF(DATA!QJZ2=0,\"\",IFERROR(DATA!QJZ2,\"\"))","v":""},{"$f":"IF(DATA!QKA2=0,\"\",IFERROR(DATA!QKA2,\"\"))","v":""},{"$f":"IF(DATA!QKB2=0,\"\",IFERROR(DATA!QKB2,\"\"))","v":""},{"$f":"IF(DATA!QKC2=0,\"\",IFERROR(DATA!QKC2,\"\"))","v":""},{"$f":"IF(DATA!QKD2=0,\"\",IFERROR(DATA!QKD2,\"\"))","v":""},{"$f":"IF(DATA!QKE2=0,\"\",IFERROR(DATA!QKE2,\"\"))","v":""},{"$f":"IF(DATA!QKF2=0,\"\",IFERROR(DATA!QKF2,\"\"))","v":""},{"$f":"IF(DATA!QKG2=0,\"\",IFERROR(DATA!QKG2,\"\"))","v":""},{"$f":"IF(DATA!QKH2=0,\"\",IFERROR(DATA!QKH2,\"\"))","v":""},{"$f":"IF(DATA!QKI2=0,\"\",IFERROR(DATA!QKI2,\"\"))","v":""},{"$f":"IF(DATA!QKJ2=0,\"\",IFERROR(DATA!QKJ2,\"\"))","v":""},{"$f":"IF(DATA!QKK2=0,\"\",IFERROR(DATA!QKK2,\"\"))","v":""},{"$f":"IF(DATA!QKL2=0,\"\",IFERROR(DATA!QKL2,\"\"))","v":""},{"$f":"IF(DATA!QKM2=0,\"\",IFERROR(DATA!QKM2,\"\"))","v":""},{"$f":"IF(DATA!QKN2=0,\"\",IFERROR(DATA!QKN2,\"\"))","v":""},{"$f":"IF(DATA!QKO2=0,\"\",IFERROR(DATA!QKO2,\"\"))","v":""},{"$f":"IF(DATA!QKP2=0,\"\",IFERROR(DATA!QKP2,\"\"))","v":""},{"$f":"IF(DATA!QKQ2=0,\"\",IFERROR(DATA!QKQ2,\"\"))","v":""},{"$f":"IF(DATA!QKR2=0,\"\",IFERROR(DATA!QKR2,\"\"))","v":""},{"$f":"IF(DATA!QKS2=0,\"\",IFERROR(DATA!QKS2,\"\"))","v":""},{"$f":"IF(DATA!QKT2=0,\"\",IFERROR(DATA!QKT2,\"\"))","v":""},{"$f":"IF(DATA!QKU2=0,\"\",IFERROR(DATA!QKU2,\"\"))","v":""},{"$f":"IF(DATA!QKV2=0,\"\",IFERROR(DATA!QKV2,\"\"))","v":""},{"$f":"IF(DATA!QKW2=0,\"\",IFERROR(DATA!QKW2,\"\"))","v":""},{"$f":"IF(DATA!QKX2=0,\"\",IFERROR(DATA!QKX2,\"\"))","v":""},{"$f":"IF(DATA!QKY2=0,\"\",IFERROR(DATA!QKY2,\"\"))","v":""},{"$f":"IF(DATA!QKZ2=0,\"\",IFERROR(DATA!QKZ2,\"\"))","v":""},{"$f":"IF(DATA!QLA2=0,\"\",IFERROR(DATA!QLA2,\"\"))","v":""},{"$f":"IF(DATA!QLB2=0,\"\",IFERROR(DATA!QLB2,\"\"))","v":""},{"$f":"IF(DATA!QLC2=0,\"\",IFERROR(DATA!QLC2,\"\"))","v":""},{"$f":"IF(DATA!QLD2=0,\"\",IFERROR(DATA!QLD2,\"\"))","v":""},{"$f":"IF(DATA!QLE2=0,\"\",IFERROR(DATA!QLE2,\"\"))","v":""},{"$f":"IF(DATA!QLF2=0,\"\",IFERROR(DATA!QLF2,\"\"))","v":""},{"$f":"IF(DATA!QLG2=0,\"\",IFERROR(DATA!QLG2,\"\"))","v":""},{"$f":"IF(DATA!QLH2=0,\"\",IFERROR(DATA!QLH2,\"\"))","v":""},{"$f":"IF(DATA!QLI2=0,\"\",IFERROR(DATA!QLI2,\"\"))","v":""},{"$f":"IF(DATA!QLJ2=0,\"\",IFERROR(DATA!QLJ2,\"\"))","v":""},{"$f":"IF(DATA!QLK2=0,\"\",IFERROR(DATA!QLK2,\"\"))","v":""},{"$f":"IF(DATA!QLL2=0,\"\",IFERROR(DATA!QLL2,\"\"))","v":""},{"$f":"IF(DATA!QLM2=0,\"\",IFERROR(DATA!QLM2,\"\"))","v":""},{"$f":"IF(DATA!QLN2=0,\"\",IFERROR(DATA!QLN2,\"\"))","v":""},{"$f":"IF(DATA!QLO2=0,\"\",IFERROR(DATA!QLO2,\"\"))","v":""},{"$f":"IF(DATA!QLP2=0,\"\",IFERROR(DATA!QLP2,\"\"))","v":""},{"$f":"IF(DATA!QLQ2=0,\"\",IFERROR(DATA!QLQ2,\"\"))","v":""},{"$f":"IF(DATA!QLR2=0,\"\",IFERROR(DATA!QLR2,\"\"))","v":""},{"$f":"IF(DATA!QLS2=0,\"\",IFERROR(DATA!QLS2,\"\"))","v":""},{"$f":"IF(DATA!QLT2=0,\"\",IFERROR(DATA!QLT2,\"\"))","v":""},{"$f":"IF(DATA!QLU2=0,\"\",IFERROR(DATA!QLU2,\"\"))","v":""},{"$f":"IF(DATA!QLV2=0,\"\",IFERROR(DATA!QLV2,\"\"))","v":""},{"$f":"IF(DATA!QLW2=0,\"\",IFERROR(DATA!QLW2,\"\"))","v":""},{"$f":"IF(DATA!QLX2=0,\"\",IFERROR(DATA!QLX2,\"\"))","v":""},{"$f":"IF(DATA!QLY2=0,\"\",IFERROR(DATA!QLY2,\"\"))","v":""},{"$f":"IF(DATA!QLZ2=0,\"\",IFERROR(DATA!QLZ2,\"\"))","v":""},{"$f":"IF(DATA!QMA2=0,\"\",IFERROR(DATA!QMA2,\"\"))","v":""},{"$f":"IF(DATA!QMB2=0,\"\",IFERROR(DATA!QMB2,\"\"))","v":""},{"$f":"IF(DATA!QMC2=0,\"\",IFERROR(DATA!QMC2,\"\"))","v":""},{"$f":"IF(DATA!QMD2=0,\"\",IFERROR(DATA!QMD2,\"\"))","v":""},{"$f":"IF(DATA!QME2=0,\"\",IFERROR(DATA!QME2,\"\"))","v":""},{"$f":"IF(DATA!QMF2=0,\"\",IFERROR(DATA!QMF2,\"\"))","v":""},{"$f":"IF(DATA!QMG2=0,\"\",IFERROR(DATA!QMG2,\"\"))","v":""},{"$f":"IF(DATA!QMH2=0,\"\",IFERROR(DATA!QMH2,\"\"))","v":""},{"$f":"IF(DATA!QMI2=0,\"\",IFERROR(DATA!QMI2,\"\"))","v":""},{"$f":"IF(DATA!QMJ2=0,\"\",IFERROR(DATA!QMJ2,\"\"))","v":""},{"$f":"IF(DATA!QMK2=0,\"\",IFERROR(DATA!QMK2,\"\"))","v":""},{"$f":"IF(DATA!QML2=0,\"\",IFERROR(DATA!QML2,\"\"))","v":""},{"$f":"IF(DATA!QMM2=0,\"\",IFERROR(DATA!QMM2,\"\"))","v":""},{"$f":"IF(DATA!QMN2=0,\"\",IFERROR(DATA!QMN2,\"\"))","v":""},{"$f":"IF(DATA!QMO2=0,\"\",IFERROR(DATA!QMO2,\"\"))","v":""},{"$f":"IF(DATA!QMP2=0,\"\",IFERROR(DATA!QMP2,\"\"))","v":""},{"$f":"IF(DATA!QMQ2=0,\"\",IFERROR(DATA!QMQ2,\"\"))","v":""},{"$f":"IF(DATA!QMR2=0,\"\",IFERROR(DATA!QMR2,\"\"))","v":""},{"$f":"IF(DATA!QMS2=0,\"\",IFERROR(DATA!QMS2,\"\"))","v":""},{"$f":"IF(DATA!QMT2=0,\"\",IFERROR(DATA!QMT2,\"\"))","v":""},{"$f":"IF(DATA!QMU2=0,\"\",IFERROR(DATA!QMU2,\"\"))","v":""},{"$f":"IF(DATA!QMV2=0,\"\",IFERROR(DATA!QMV2,\"\"))","v":""},{"$f":"IF(DATA!QMW2=0,\"\",IFERROR(DATA!QMW2,\"\"))","v":""},{"$f":"IF(DATA!QMX2=0,\"\",IFERROR(DATA!QMX2,\"\"))","v":""},{"$f":"IF(DATA!QMY2=0,\"\",IFERROR(DATA!QMY2,\"\"))","v":""},{"$f":"IF(DATA!QMZ2=0,\"\",IFERROR(DATA!QMZ2,\"\"))","v":""},{"$f":"IF(DATA!QNA2=0,\"\",IFERROR(DATA!QNA2,\"\"))","v":""},{"$f":"IF(DATA!QNB2=0,\"\",IFERROR(DATA!QNB2,\"\"))","v":""},{"$f":"IF(DATA!QNC2=0,\"\",IFERROR(DATA!QNC2,\"\"))","v":""},{"$f":"IF(DATA!QND2=0,\"\",IFERROR(DATA!QND2,\"\"))","v":""},{"$f":"IF(DATA!QNE2=0,\"\",IFERROR(DATA!QNE2,\"\"))","v":""},{"$f":"IF(DATA!QNF2=0,\"\",IFERROR(DATA!QNF2,\"\"))","v":""},{"$f":"IF(DATA!QNG2=0,\"\",IFERROR(DATA!QNG2,\"\"))","v":""},{"$f":"IF(DATA!QNH2=0,\"\",IFERROR(DATA!QNH2,\"\"))","v":""},{"$f":"IF(DATA!QNI2=0,\"\",IFERROR(DATA!QNI2,\"\"))","v":""},{"$f":"IF(DATA!QNJ2=0,\"\",IFERROR(DATA!QNJ2,\"\"))","v":""},{"$f":"IF(DATA!QNK2=0,\"\",IFERROR(DATA!QNK2,\"\"))","v":""},{"$f":"IF(DATA!QNL2=0,\"\",IFERROR(DATA!QNL2,\"\"))","v":""},{"$f":"IF(DATA!QNM2=0,\"\",IFERROR(DATA!QNM2,\"\"))","v":""},{"$f":"IF(DATA!QNN2=0,\"\",IFERROR(DATA!QNN2,\"\"))","v":""},{"$f":"IF(DATA!QNO2=0,\"\",IFERROR(DATA!QNO2,\"\"))","v":""},{"$f":"IF(DATA!QNP2=0,\"\",IFERROR(DATA!QNP2,\"\"))","v":""},{"$f":"IF(DATA!QNQ2=0,\"\",IFERROR(DATA!QNQ2,\"\"))","v":""},{"$f":"IF(DATA!QNR2=0,\"\",IFERROR(DATA!QNR2,\"\"))","v":""},{"$f":"IF(DATA!QNS2=0,\"\",IFERROR(DATA!QNS2,\"\"))","v":""},{"$f":"IF(DATA!QNT2=0,\"\",IFERROR(DATA!QNT2,\"\"))","v":""},{"$f":"IF(DATA!QNU2=0,\"\",IFERROR(DATA!QNU2,\"\"))","v":""},{"$f":"IF(DATA!QNV2=0,\"\",IFERROR(DATA!QNV2,\"\"))","v":""},{"$f":"IF(DATA!QNW2=0,\"\",IFERROR(DATA!QNW2,\"\"))","v":""},{"$f":"IF(DATA!QNX2=0,\"\",IFERROR(DATA!QNX2,\"\"))","v":""},{"$f":"IF(DATA!QNY2=0,\"\",IFERROR(DATA!QNY2,\"\"))","v":""},{"$f":"IF(DATA!QNZ2=0,\"\",IFERROR(DATA!QNZ2,\"\"))","v":""},{"$f":"IF(DATA!QOA2=0,\"\",IFERROR(DATA!QOA2,\"\"))","v":""},{"$f":"IF(DATA!QOB2=0,\"\",IFERROR(DATA!QOB2,\"\"))","v":""},{"$f":"IF(DATA!QOC2=0,\"\",IFERROR(DATA!QOC2,\"\"))","v":""},{"$f":"IF(DATA!QOD2=0,\"\",IFERROR(DATA!QOD2,\"\"))","v":""},{"$f":"IF(DATA!QOE2=0,\"\",IFERROR(DATA!QOE2,\"\"))","v":""},{"$f":"IF(DATA!QOF2=0,\"\",IFERROR(DATA!QOF2,\"\"))","v":""},{"$f":"IF(DATA!QOG2=0,\"\",IFERROR(DATA!QOG2,\"\"))","v":""},{"$f":"IF(DATA!QOH2=0,\"\",IFERROR(DATA!QOH2,\"\"))","v":""},{"$f":"IF(DATA!QOI2=0,\"\",IFERROR(DATA!QOI2,\"\"))","v":""},{"$f":"IF(DATA!QOJ2=0,\"\",IFERROR(DATA!QOJ2,\"\"))","v":""},{"$f":"IF(DATA!QOK2=0,\"\",IFERROR(DATA!QOK2,\"\"))","v":""},{"$f":"IF(DATA!QOL2=0,\"\",IFERROR(DATA!QOL2,\"\"))","v":""},{"$f":"IF(DATA!QOM2=0,\"\",IFERROR(DATA!QOM2,\"\"))","v":""},{"$f":"IF(DATA!QON2=0,\"\",IFERROR(DATA!QON2,\"\"))","v":""},{"$f":"IF(DATA!QOO2=0,\"\",IFERROR(DATA!QOO2,\"\"))","v":""},{"$f":"IF(DATA!QOP2=0,\"\",IFERROR(DATA!QOP2,\"\"))","v":""},{"$f":"IF(DATA!QOQ2=0,\"\",IFERROR(DATA!QOQ2,\"\"))","v":""},{"$f":"IF(DATA!QOR2=0,\"\",IFERROR(DATA!QOR2,\"\"))","v":""},{"$f":"IF(DATA!QOS2=0,\"\",IFERROR(DATA!QOS2,\"\"))","v":""},{"$f":"IF(DATA!QOT2=0,\"\",IFERROR(DATA!QOT2,\"\"))","v":""},{"$f":"IF(DATA!QOU2=0,\"\",IFERROR(DATA!QOU2,\"\"))","v":""},{"$f":"IF(DATA!QOV2=0,\"\",IFERROR(DATA!QOV2,\"\"))","v":""},{"$f":"IF(DATA!QOW2=0,\"\",IFERROR(DATA!QOW2,\"\"))","v":""},{"$f":"IF(DATA!QOX2=0,\"\",IFERROR(DATA!QOX2,\"\"))","v":""},{"$f":"IF(DATA!QOY2=0,\"\",IFERROR(DATA!QOY2,\"\"))","v":""},{"$f":"IF(DATA!QOZ2=0,\"\",IFERROR(DATA!QOZ2,\"\"))","v":""},{"$f":"IF(DATA!QPA2=0,\"\",IFERROR(DATA!QPA2,\"\"))","v":""},{"$f":"IF(DATA!QPB2=0,\"\",IFERROR(DATA!QPB2,\"\"))","v":""},{"$f":"IF(DATA!QPC2=0,\"\",IFERROR(DATA!QPC2,\"\"))","v":""},{"$f":"IF(DATA!QPD2=0,\"\",IFERROR(DATA!QPD2,\"\"))","v":""},{"$f":"IF(DATA!QPE2=0,\"\",IFERROR(DATA!QPE2,\"\"))","v":""},{"$f":"IF(DATA!QPF2=0,\"\",IFERROR(DATA!QPF2,\"\"))","v":""},{"$f":"IF(DATA!QPG2=0,\"\",IFERROR(DATA!QPG2,\"\"))","v":""},{"$f":"IF(DATA!QPH2=0,\"\",IFERROR(DATA!QPH2,\"\"))","v":""},{"$f":"IF(DATA!QPI2=0,\"\",IFERROR(DATA!QPI2,\"\"))","v":""},{"$f":"IF(DATA!QPJ2=0,\"\",IFERROR(DATA!QPJ2,\"\"))","v":""},{"$f":"IF(DATA!QPK2=0,\"\",IFERROR(DATA!QPK2,\"\"))","v":""},{"$f":"IF(DATA!QPL2=0,\"\",IFERROR(DATA!QPL2,\"\"))","v":""},{"$f":"IF(DATA!QPM2=0,\"\",IFERROR(DATA!QPM2,\"\"))","v":""},{"$f":"IF(DATA!QPN2=0,\"\",IFERROR(DATA!QPN2,\"\"))","v":""},{"$f":"IF(DATA!QPO2=0,\"\",IFERROR(DATA!QPO2,\"\"))","v":""},{"$f":"IF(DATA!QPP2=0,\"\",IFERROR(DATA!QPP2,\"\"))","v":""},{"$f":"IF(DATA!QPQ2=0,\"\",IFERROR(DATA!QPQ2,\"\"))","v":""},{"$f":"IF(DATA!QPR2=0,\"\",IFERROR(DATA!QPR2,\"\"))","v":""},{"$f":"IF(DATA!QPS2=0,\"\",IFERROR(DATA!QPS2,\"\"))","v":""},{"$f":"IF(DATA!QPT2=0,\"\",IFERROR(DATA!QPT2,\"\"))","v":""},{"$f":"IF(DATA!QPU2=0,\"\",IFERROR(DATA!QPU2,\"\"))","v":""},{"$f":"IF(DATA!QPV2=0,\"\",IFERROR(DATA!QPV2,\"\"))","v":""},{"$f":"IF(DATA!QPW2=0,\"\",IFERROR(DATA!QPW2,\"\"))","v":""},{"$f":"IF(DATA!QPX2=0,\"\",IFERROR(DATA!QPX2,\"\"))","v":""},{"$f":"IF(DATA!QPY2=0,\"\",IFERROR(DATA!QPY2,\"\"))","v":""},{"$f":"IF(DATA!QPZ2=0,\"\",IFERROR(DATA!QPZ2,\"\"))","v":""},{"$f":"IF(DATA!QQA2=0,\"\",IFERROR(DATA!QQA2,\"\"))","v":""},{"$f":"IF(DATA!QQB2=0,\"\",IFERROR(DATA!QQB2,\"\"))","v":""},{"$f":"IF(DATA!QQC2=0,\"\",IFERROR(DATA!QQC2,\"\"))","v":""},{"$f":"IF(DATA!QQD2=0,\"\",IFERROR(DATA!QQD2,\"\"))","v":""},{"$f":"IF(DATA!QQE2=0,\"\",IFERROR(DATA!QQE2,\"\"))","v":""},{"$f":"IF(DATA!QQF2=0,\"\",IFERROR(DATA!QQF2,\"\"))","v":""},{"$f":"IF(DATA!QQG2=0,\"\",IFERROR(DATA!QQG2,\"\"))","v":""},{"$f":"IF(DATA!QQH2=0,\"\",IFERROR(DATA!QQH2,\"\"))","v":""},{"$f":"IF(DATA!QQI2=0,\"\",IFERROR(DATA!QQI2,\"\"))","v":""},{"$f":"IF(DATA!QQJ2=0,\"\",IFERROR(DATA!QQJ2,\"\"))","v":""},{"$f":"IF(DATA!QQK2=0,\"\",IFERROR(DATA!QQK2,\"\"))","v":""},{"$f":"IF(DATA!QQL2=0,\"\",IFERROR(DATA!QQL2,\"\"))","v":""},{"$f":"IF(DATA!QQM2=0,\"\",IFERROR(DATA!QQM2,\"\"))","v":""},{"$f":"IF(DATA!QQN2=0,\"\",IFERROR(DATA!QQN2,\"\"))","v":""},{"$f":"IF(DATA!QQO2=0,\"\",IFERROR(DATA!QQO2,\"\"))","v":""},{"$f":"IF(DATA!QQP2=0,\"\",IFERROR(DATA!QQP2,\"\"))","v":""},{"$f":"IF(DATA!QQQ2=0,\"\",IFERROR(DATA!QQQ2,\"\"))","v":""},{"$f":"IF(DATA!QQR2=0,\"\",IFERROR(DATA!QQR2,\"\"))","v":""},{"$f":"IF(DATA!QQS2=0,\"\",IFERROR(DATA!QQS2,\"\"))","v":""},{"$f":"IF(DATA!QQT2=0,\"\",IFERROR(DATA!QQT2,\"\"))","v":""},{"$f":"IF(DATA!QQU2=0,\"\",IFERROR(DATA!QQU2,\"\"))","v":""},{"$f":"IF(DATA!QQV2=0,\"\",IFERROR(DATA!QQV2,\"\"))","v":""},{"$f":"IF(DATA!QQW2=0,\"\",IFERROR(DATA!QQW2,\"\"))","v":""},{"$f":"IF(DATA!QQX2=0,\"\",IFERROR(DATA!QQX2,\"\"))","v":""},{"$f":"IF(DATA!QQY2=0,\"\",IFERROR(DATA!QQY2,\"\"))","v":""},{"$f":"IF(DATA!QQZ2=0,\"\",IFERROR(DATA!QQZ2,\"\"))","v":""},{"$f":"IF(DATA!QRA2=0,\"\",IFERROR(DATA!QRA2,\"\"))","v":""},{"$f":"IF(DATA!QRB2=0,\"\",IFERROR(DATA!QRB2,\"\"))","v":""},{"$f":"IF(DATA!QRC2=0,\"\",IFERROR(DATA!QRC2,\"\"))","v":""},{"$f":"IF(DATA!QRD2=0,\"\",IFERROR(DATA!QRD2,\"\"))","v":""},{"$f":"IF(DATA!QRE2=0,\"\",IFERROR(DATA!QRE2,\"\"))","v":""},{"$f":"IF(DATA!QRF2=0,\"\",IFERROR(DATA!QRF2,\"\"))","v":""},{"$f":"IF(DATA!QRG2=0,\"\",IFERROR(DATA!QRG2,\"\"))","v":""},{"$f":"IF(DATA!QRH2=0,\"\",IFERROR(DATA!QRH2,\"\"))","v":""},{"$f":"IF(DATA!QRI2=0,\"\",IFERROR(DATA!QRI2,\"\"))","v":""},{"$f":"IF(DATA!QRJ2=0,\"\",IFERROR(DATA!QRJ2,\"\"))","v":""},{"$f":"IF(DATA!QRK2=0,\"\",IFERROR(DATA!QRK2,\"\"))","v":""},{"$f":"IF(DATA!QRL2=0,\"\",IFERROR(DATA!QRL2,\"\"))","v":""},{"$f":"IF(DATA!QRM2=0,\"\",IFERROR(DATA!QRM2,\"\"))","v":""},{"$f":"IF(DATA!QRN2=0,\"\",IFERROR(DATA!QRN2,\"\"))","v":""},{"$f":"IF(DATA!QRO2=0,\"\",IFERROR(DATA!QRO2,\"\"))","v":""},{"$f":"IF(DATA!QRP2=0,\"\",IFERROR(DATA!QRP2,\"\"))","v":""},{"$f":"IF(DATA!QRQ2=0,\"\",IFERROR(DATA!QRQ2,\"\"))","v":""},{"$f":"IF(DATA!QRR2=0,\"\",IFERROR(DATA!QRR2,\"\"))","v":""},{"$f":"IF(DATA!QRS2=0,\"\",IFERROR(DATA!QRS2,\"\"))","v":""},{"$f":"IF(DATA!QRT2=0,\"\",IFERROR(DATA!QRT2,\"\"))","v":""},{"$f":"IF(DATA!QRU2=0,\"\",IFERROR(DATA!QRU2,\"\"))","v":""},{"$f":"IF(DATA!QRV2=0,\"\",IFERROR(DATA!QRV2,\"\"))","v":""},{"$f":"IF(DATA!QRW2=0,\"\",IFERROR(DATA!QRW2,\"\"))","v":""},{"$f":"IF(DATA!QRX2=0,\"\",IFERROR(DATA!QRX2,\"\"))","v":""},{"$f":"IF(DATA!QRY2=0,\"\",IFERROR(DATA!QRY2,\"\"))","v":""},{"$f":"IF(DATA!QRZ2=0,\"\",IFERROR(DATA!QRZ2,\"\"))","v":""},{"$f":"IF(DATA!QSA2=0,\"\",IFERROR(DATA!QSA2,\"\"))","v":""},{"$f":"IF(DATA!QSB2=0,\"\",IFERROR(DATA!QSB2,\"\"))","v":""},{"$f":"IF(DATA!QSC2=0,\"\",IFERROR(DATA!QSC2,\"\"))","v":""},{"$f":"IF(DATA!QSD2=0,\"\",IFERROR(DATA!QSD2,\"\"))","v":""},{"$f":"IF(DATA!QSE2=0,\"\",IFERROR(DATA!QSE2,\"\"))","v":""},{"$f":"IF(DATA!QSF2=0,\"\",IFERROR(DATA!QSF2,\"\"))","v":""},{"$f":"IF(DATA!QSG2=0,\"\",IFERROR(DATA!QSG2,\"\"))","v":""},{"$f":"IF(DATA!QSH2=0,\"\",IFERROR(DATA!QSH2,\"\"))","v":""},{"$f":"IF(DATA!QSI2=0,\"\",IFERROR(DATA!QSI2,\"\"))","v":""},{"$f":"IF(DATA!QSJ2=0,\"\",IFERROR(DATA!QSJ2,\"\"))","v":""},{"$f":"IF(DATA!QSK2=0,\"\",IFERROR(DATA!QSK2,\"\"))","v":""},{"$f":"IF(DATA!QSL2=0,\"\",IFERROR(DATA!QSL2,\"\"))","v":""},{"$f":"IF(DATA!QSM2=0,\"\",IFERROR(DATA!QSM2,\"\"))","v":""},{"$f":"IF(DATA!QSN2=0,\"\",IFERROR(DATA!QSN2,\"\"))","v":""},{"$f":"IF(DATA!QSO2=0,\"\",IFERROR(DATA!QSO2,\"\"))","v":""},{"$f":"IF(DATA!QSP2=0,\"\",IFERROR(DATA!QSP2,\"\"))","v":""},{"$f":"IF(DATA!QSQ2=0,\"\",IFERROR(DATA!QSQ2,\"\"))","v":""},{"$f":"IF(DATA!QSR2=0,\"\",IFERROR(DATA!QSR2,\"\"))","v":""},{"$f":"IF(DATA!QSS2=0,\"\",IFERROR(DATA!QSS2,\"\"))","v":""},{"$f":"IF(DATA!QST2=0,\"\",IFERROR(DATA!QST2,\"\"))","v":""},{"$f":"IF(DATA!QSU2=0,\"\",IFERROR(DATA!QSU2,\"\"))","v":""},{"$f":"IF(DATA!QSV2=0,\"\",IFERROR(DATA!QSV2,\"\"))","v":""},{"$f":"IF(DATA!QSW2=0,\"\",IFERROR(DATA!QSW2,\"\"))","v":""},{"$f":"IF(DATA!QSX2=0,\"\",IFERROR(DATA!QSX2,\"\"))","v":""},{"$f":"IF(DATA!QSY2=0,\"\",IFERROR(DATA!QSY2,\"\"))","v":""},{"$f":"IF(DATA!QSZ2=0,\"\",IFERROR(DATA!QSZ2,\"\"))","v":""},{"$f":"IF(DATA!QTA2=0,\"\",IFERROR(DATA!QTA2,\"\"))","v":""},{"$f":"IF(DATA!QTB2=0,\"\",IFERROR(DATA!QTB2,\"\"))","v":""},{"$f":"IF(DATA!QTC2=0,\"\",IFERROR(DATA!QTC2,\"\"))","v":""},{"$f":"IF(DATA!QTD2=0,\"\",IFERROR(DATA!QTD2,\"\"))","v":""},{"$f":"IF(DATA!QTE2=0,\"\",IFERROR(DATA!QTE2,\"\"))","v":""},{"$f":"IF(DATA!QTF2=0,\"\",IFERROR(DATA!QTF2,\"\"))","v":""},{"$f":"IF(DATA!QTG2=0,\"\",IFERROR(DATA!QTG2,\"\"))","v":""},{"$f":"IF(DATA!QTH2=0,\"\",IFERROR(DATA!QTH2,\"\"))","v":""},{"$f":"IF(DATA!QTI2=0,\"\",IFERROR(DATA!QTI2,\"\"))","v":""},{"$f":"IF(DATA!QTJ2=0,\"\",IFERROR(DATA!QTJ2,\"\"))","v":""},{"$f":"IF(DATA!QTK2=0,\"\",IFERROR(DATA!QTK2,\"\"))","v":""},{"$f":"IF(DATA!QTL2=0,\"\",IFERROR(DATA!QTL2,\"\"))","v":""},{"$f":"IF(DATA!QTM2=0,\"\",IFERROR(DATA!QTM2,\"\"))","v":""},{"$f":"IF(DATA!QTN2=0,\"\",IFERROR(DATA!QTN2,\"\"))","v":""},{"$f":"IF(DATA!QTO2=0,\"\",IFERROR(DATA!QTO2,\"\"))","v":""},{"$f":"IF(DATA!QTP2=0,\"\",IFERROR(DATA!QTP2,\"\"))","v":""},{"$f":"IF(DATA!QTQ2=0,\"\",IFERROR(DATA!QTQ2,\"\"))","v":""},{"$f":"IF(DATA!QTR2=0,\"\",IFERROR(DATA!QTR2,\"\"))","v":""},{"$f":"IF(DATA!QTS2=0,\"\",IFERROR(DATA!QTS2,\"\"))","v":""},{"$f":"IF(DATA!QTT2=0,\"\",IFERROR(DATA!QTT2,\"\"))","v":""},{"$f":"IF(DATA!QTU2=0,\"\",IFERROR(DATA!QTU2,\"\"))","v":""},{"$f":"IF(DATA!QTV2=0,\"\",IFERROR(DATA!QTV2,\"\"))","v":""},{"$f":"IF(DATA!QTW2=0,\"\",IFERROR(DATA!QTW2,\"\"))","v":""},{"$f":"IF(DATA!QTX2=0,\"\",IFERROR(DATA!QTX2,\"\"))","v":""},{"$f":"IF(DATA!QTY2=0,\"\",IFERROR(DATA!QTY2,\"\"))","v":""},{"$f":"IF(DATA!QTZ2=0,\"\",IFERROR(DATA!QTZ2,\"\"))","v":""},{"$f":"IF(DATA!QUA2=0,\"\",IFERROR(DATA!QUA2,\"\"))","v":""},{"$f":"IF(DATA!QUB2=0,\"\",IFERROR(DATA!QUB2,\"\"))","v":""},{"$f":"IF(DATA!QUC2=0,\"\",IFERROR(DATA!QUC2,\"\"))","v":""},{"$f":"IF(DATA!QUD2=0,\"\",IFERROR(DATA!QUD2,\"\"))","v":""},{"$f":"IF(DATA!QUE2=0,\"\",IFERROR(DATA!QUE2,\"\"))","v":""},{"$f":"IF(DATA!QUF2=0,\"\",IFERROR(DATA!QUF2,\"\"))","v":""},{"$f":"IF(DATA!QUG2=0,\"\",IFERROR(DATA!QUG2,\"\"))","v":""},{"$f":"IF(DATA!QUH2=0,\"\",IFERROR(DATA!QUH2,\"\"))","v":""},{"$f":"IF(DATA!QUI2=0,\"\",IFERROR(DATA!QUI2,\"\"))","v":""},{"$f":"IF(DATA!QUJ2=0,\"\",IFERROR(DATA!QUJ2,\"\"))","v":""},{"$f":"IF(DATA!QUK2=0,\"\",IFERROR(DATA!QUK2,\"\"))","v":""},{"$f":"IF(DATA!QUL2=0,\"\",IFERROR(DATA!QUL2,\"\"))","v":""},{"$f":"IF(DATA!QUM2=0,\"\",IFERROR(DATA!QUM2,\"\"))","v":""},{"$f":"IF(DATA!QUN2=0,\"\",IFERROR(DATA!QUN2,\"\"))","v":""},{"$f":"IF(DATA!QUO2=0,\"\",IFERROR(DATA!QUO2,\"\"))","v":""},{"$f":"IF(DATA!QUP2=0,\"\",IFERROR(DATA!QUP2,\"\"))","v":""},{"$f":"IF(DATA!QUQ2=0,\"\",IFERROR(DATA!QUQ2,\"\"))","v":""},{"$f":"IF(DATA!QUR2=0,\"\",IFERROR(DATA!QUR2,\"\"))","v":""},{"$f":"IF(DATA!QUS2=0,\"\",IFERROR(DATA!QUS2,\"\"))","v":""},{"$f":"IF(DATA!QUT2=0,\"\",IFERROR(DATA!QUT2,\"\"))","v":""},{"$f":"IF(DATA!QUU2=0,\"\",IFERROR(DATA!QUU2,\"\"))","v":""},{"$f":"IF(DATA!QUV2=0,\"\",IFERROR(DATA!QUV2,\"\"))","v":""},{"$f":"IF(DATA!QUW2=0,\"\",IFERROR(DATA!QUW2,\"\"))","v":""},{"$f":"IF(DATA!QUX2=0,\"\",IFERROR(DATA!QUX2,\"\"))","v":""},{"$f":"IF(DATA!QUY2=0,\"\",IFERROR(DATA!QUY2,\"\"))","v":""},{"$f":"IF(DATA!QUZ2=0,\"\",IFERROR(DATA!QUZ2,\"\"))","v":""},{"$f":"IF(DATA!QVA2=0,\"\",IFERROR(DATA!QVA2,\"\"))","v":""},{"$f":"IF(DATA!QVB2=0,\"\",IFERROR(DATA!QVB2,\"\"))","v":""},{"$f":"IF(DATA!QVC2=0,\"\",IFERROR(DATA!QVC2,\"\"))","v":""},{"$f":"IF(DATA!QVD2=0,\"\",IFERROR(DATA!QVD2,\"\"))","v":""},{"$f":"IF(DATA!QVE2=0,\"\",IFERROR(DATA!QVE2,\"\"))","v":""},{"$f":"IF(DATA!QVF2=0,\"\",IFERROR(DATA!QVF2,\"\"))","v":""},{"$f":"IF(DATA!QVG2=0,\"\",IFERROR(DATA!QVG2,\"\"))","v":""},{"$f":"IF(DATA!QVH2=0,\"\",IFERROR(DATA!QVH2,\"\"))","v":""},{"$f":"IF(DATA!QVI2=0,\"\",IFERROR(DATA!QVI2,\"\"))","v":""},{"$f":"IF(DATA!QVJ2=0,\"\",IFERROR(DATA!QVJ2,\"\"))","v":""},{"$f":"IF(DATA!QVK2=0,\"\",IFERROR(DATA!QVK2,\"\"))","v":""},{"$f":"IF(DATA!QVL2=0,\"\",IFERROR(DATA!QVL2,\"\"))","v":""},{"$f":"IF(DATA!QVM2=0,\"\",IFERROR(DATA!QVM2,\"\"))","v":""},{"$f":"IF(DATA!QVN2=0,\"\",IFERROR(DATA!QVN2,\"\"))","v":""},{"$f":"IF(DATA!QVO2=0,\"\",IFERROR(DATA!QVO2,\"\"))","v":""},{"$f":"IF(DATA!QVP2=0,\"\",IFERROR(DATA!QVP2,\"\"))","v":""},{"$f":"IF(DATA!QVQ2=0,\"\",IFERROR(DATA!QVQ2,\"\"))","v":""},{"$f":"IF(DATA!QVR2=0,\"\",IFERROR(DATA!QVR2,\"\"))","v":""},{"$f":"IF(DATA!QVS2=0,\"\",IFERROR(DATA!QVS2,\"\"))","v":""},{"$f":"IF(DATA!QVT2=0,\"\",IFERROR(DATA!QVT2,\"\"))","v":""},{"$f":"IF(DATA!QVU2=0,\"\",IFERROR(DATA!QVU2,\"\"))","v":""},{"$f":"IF(DATA!QVV2=0,\"\",IFERROR(DATA!QVV2,\"\"))","v":""},{"$f":"IF(DATA!QVW2=0,\"\",IFERROR(DATA!QVW2,\"\"))","v":""},{"$f":"IF(DATA!QVX2=0,\"\",IFERROR(DATA!QVX2,\"\"))","v":""},{"$f":"IF(DATA!QVY2=0,\"\",IFERROR(DATA!QVY2,\"\"))","v":""},{"$f":"IF(DATA!QVZ2=0,\"\",IFERROR(DATA!QVZ2,\"\"))","v":""},{"$f":"IF(DATA!QWA2=0,\"\",IFERROR(DATA!QWA2,\"\"))","v":""},{"$f":"IF(DATA!QWB2=0,\"\",IFERROR(DATA!QWB2,\"\"))","v":""},{"$f":"IF(DATA!QWC2=0,\"\",IFERROR(DATA!QWC2,\"\"))","v":""},{"$f":"IF(DATA!QWD2=0,\"\",IFERROR(DATA!QWD2,\"\"))","v":""},{"$f":"IF(DATA!QWE2=0,\"\",IFERROR(DATA!QWE2,\"\"))","v":""},{"$f":"IF(DATA!QWF2=0,\"\",IFERROR(DATA!QWF2,\"\"))","v":""},{"$f":"IF(DATA!QWG2=0,\"\",IFERROR(DATA!QWG2,\"\"))","v":""},{"$f":"IF(DATA!QWH2=0,\"\",IFERROR(DATA!QWH2,\"\"))","v":""},{"$f":"IF(DATA!QWI2=0,\"\",IFERROR(DATA!QWI2,\"\"))","v":""},{"$f":"IF(DATA!QWJ2=0,\"\",IFERROR(DATA!QWJ2,\"\"))","v":""},{"$f":"IF(DATA!QWK2=0,\"\",IFERROR(DATA!QWK2,\"\"))","v":""},{"$f":"IF(DATA!QWL2=0,\"\",IFERROR(DATA!QWL2,\"\"))","v":""},{"$f":"IF(DATA!QWM2=0,\"\",IFERROR(DATA!QWM2,\"\"))","v":""},{"$f":"IF(DATA!QWN2=0,\"\",IFERROR(DATA!QWN2,\"\"))","v":""},{"$f":"IF(DATA!QWO2=0,\"\",IFERROR(DATA!QWO2,\"\"))","v":""},{"$f":"IF(DATA!QWP2=0,\"\",IFERROR(DATA!QWP2,\"\"))","v":""},{"$f":"IF(DATA!QWQ2=0,\"\",IFERROR(DATA!QWQ2,\"\"))","v":""},{"$f":"IF(DATA!QWR2=0,\"\",IFERROR(DATA!QWR2,\"\"))","v":""},{"$f":"IF(DATA!QWS2=0,\"\",IFERROR(DATA!QWS2,\"\"))","v":""},{"$f":"IF(DATA!QWT2=0,\"\",IFERROR(DATA!QWT2,\"\"))","v":""},{"$f":"IF(DATA!QWU2=0,\"\",IFERROR(DATA!QWU2,\"\"))","v":""},{"$f":"IF(DATA!QWV2=0,\"\",IFERROR(DATA!QWV2,\"\"))","v":""},{"$f":"IF(DATA!QWW2=0,\"\",IFERROR(DATA!QWW2,\"\"))","v":""},{"$f":"IF(DATA!QWX2=0,\"\",IFERROR(DATA!QWX2,\"\"))","v":""},{"$f":"IF(DATA!QWY2=0,\"\",IFERROR(DATA!QWY2,\"\"))","v":""},{"$f":"IF(DATA!QWZ2=0,\"\",IFERROR(DATA!QWZ2,\"\"))","v":""},{"$f":"IF(DATA!QXA2=0,\"\",IFERROR(DATA!QXA2,\"\"))","v":""},{"$f":"IF(DATA!QXB2=0,\"\",IFERROR(DATA!QXB2,\"\"))","v":""},{"$f":"IF(DATA!QXC2=0,\"\",IFERROR(DATA!QXC2,\"\"))","v":""},{"$f":"IF(DATA!QXD2=0,\"\",IFERROR(DATA!QXD2,\"\"))","v":""},{"$f":"IF(DATA!QXE2=0,\"\",IFERROR(DATA!QXE2,\"\"))","v":""},{"$f":"IF(DATA!QXF2=0,\"\",IFERROR(DATA!QXF2,\"\"))","v":""},{"$f":"IF(DATA!QXG2=0,\"\",IFERROR(DATA!QXG2,\"\"))","v":""},{"$f":"IF(DATA!QXH2=0,\"\",IFERROR(DATA!QXH2,\"\"))","v":""},{"$f":"IF(DATA!QXI2=0,\"\",IFERROR(DATA!QXI2,\"\"))","v":""},{"$f":"IF(DATA!QXJ2=0,\"\",IFERROR(DATA!QXJ2,\"\"))","v":""},{"$f":"IF(DATA!QXK2=0,\"\",IFERROR(DATA!QXK2,\"\"))","v":""},{"$f":"IF(DATA!QXL2=0,\"\",IFERROR(DATA!QXL2,\"\"))","v":""},{"$f":"IF(DATA!QXM2=0,\"\",IFERROR(DATA!QXM2,\"\"))","v":""},{"$f":"IF(DATA!QXN2=0,\"\",IFERROR(DATA!QXN2,\"\"))","v":""},{"$f":"IF(DATA!QXO2=0,\"\",IFERROR(DATA!QXO2,\"\"))","v":""},{"$f":"IF(DATA!QXP2=0,\"\",IFERROR(DATA!QXP2,\"\"))","v":""},{"$f":"IF(DATA!QXQ2=0,\"\",IFERROR(DATA!QXQ2,\"\"))","v":""},{"$f":"IF(DATA!QXR2=0,\"\",IFERROR(DATA!QXR2,\"\"))","v":""},{"$f":"IF(DATA!QXS2=0,\"\",IFERROR(DATA!QXS2,\"\"))","v":""},{"$f":"IF(DATA!QXT2=0,\"\",IFERROR(DATA!QXT2,\"\"))","v":""},{"$f":"IF(DATA!QXU2=0,\"\",IFERROR(DATA!QXU2,\"\"))","v":""},{"$f":"IF(DATA!QXV2=0,\"\",IFERROR(DATA!QXV2,\"\"))","v":""},{"$f":"IF(DATA!QXW2=0,\"\",IFERROR(DATA!QXW2,\"\"))","v":""},{"$f":"IF(DATA!QXX2=0,\"\",IFERROR(DATA!QXX2,\"\"))","v":""},{"$f":"IF(DATA!QXY2=0,\"\",IFERROR(DATA!QXY2,\"\"))","v":""},{"$f":"IF(DATA!QXZ2=0,\"\",IFERROR(DATA!QXZ2,\"\"))","v":""},{"$f":"IF(DATA!QYA2=0,\"\",IFERROR(DATA!QYA2,\"\"))","v":""},{"$f":"IF(DATA!QYB2=0,\"\",IFERROR(DATA!QYB2,\"\"))","v":""},{"$f":"IF(DATA!QYC2=0,\"\",IFERROR(DATA!QYC2,\"\"))","v":""},{"$f":"IF(DATA!QYD2=0,\"\",IFERROR(DATA!QYD2,\"\"))","v":""},{"$f":"IF(DATA!QYE2=0,\"\",IFERROR(DATA!QYE2,\"\"))","v":""},{"$f":"IF(DATA!QYF2=0,\"\",IFERROR(DATA!QYF2,\"\"))","v":""},{"$f":"IF(DATA!QYG2=0,\"\",IFERROR(DATA!QYG2,\"\"))","v":""},{"$f":"IF(DATA!QYH2=0,\"\",IFERROR(DATA!QYH2,\"\"))","v":""},{"$f":"IF(DATA!QYI2=0,\"\",IFERROR(DATA!QYI2,\"\"))","v":""},{"$f":"IF(DATA!QYJ2=0,\"\",IFERROR(DATA!QYJ2,\"\"))","v":""},{"$f":"IF(DATA!QYK2=0,\"\",IFERROR(DATA!QYK2,\"\"))","v":""},{"$f":"IF(DATA!QYL2=0,\"\",IFERROR(DATA!QYL2,\"\"))","v":""},{"$f":"IF(DATA!QYM2=0,\"\",IFERROR(DATA!QYM2,\"\"))","v":""},{"$f":"IF(DATA!QYN2=0,\"\",IFERROR(DATA!QYN2,\"\"))","v":""},{"$f":"IF(DATA!QYO2=0,\"\",IFERROR(DATA!QYO2,\"\"))","v":""},{"$f":"IF(DATA!QYP2=0,\"\",IFERROR(DATA!QYP2,\"\"))","v":""},{"$f":"IF(DATA!QYQ2=0,\"\",IFERROR(DATA!QYQ2,\"\"))","v":""},{"$f":"IF(DATA!QYR2=0,\"\",IFERROR(DATA!QYR2,\"\"))","v":""},{"$f":"IF(DATA!QYS2=0,\"\",IFERROR(DATA!QYS2,\"\"))","v":""},{"$f":"IF(DATA!QYT2=0,\"\",IFERROR(DATA!QYT2,\"\"))","v":""},{"$f":"IF(DATA!QYU2=0,\"\",IFERROR(DATA!QYU2,\"\"))","v":""},{"$f":"IF(DATA!QYV2=0,\"\",IFERROR(DATA!QYV2,\"\"))","v":""},{"$f":"IF(DATA!QYW2=0,\"\",IFERROR(DATA!QYW2,\"\"))","v":""},{"$f":"IF(DATA!QYX2=0,\"\",IFERROR(DATA!QYX2,\"\"))","v":""},{"$f":"IF(DATA!QYY2=0,\"\",IFERROR(DATA!QYY2,\"\"))","v":""},{"$f":"IF(DATA!QYZ2=0,\"\",IFERROR(DATA!QYZ2,\"\"))","v":""},{"$f":"IF(DATA!QZA2=0,\"\",IFERROR(DATA!QZA2,\"\"))","v":""},{"$f":"IF(DATA!QZB2=0,\"\",IFERROR(DATA!QZB2,\"\"))","v":""},{"$f":"IF(DATA!QZC2=0,\"\",IFERROR(DATA!QZC2,\"\"))","v":""},{"$f":"IF(DATA!QZD2=0,\"\",IFERROR(DATA!QZD2,\"\"))","v":""},{"$f":"IF(DATA!QZE2=0,\"\",IFERROR(DATA!QZE2,\"\"))","v":""},{"$f":"IF(DATA!QZF2=0,\"\",IFERROR(DATA!QZF2,\"\"))","v":""},{"$f":"IF(DATA!QZG2=0,\"\",IFERROR(DATA!QZG2,\"\"))","v":""},{"$f":"IF(DATA!QZH2=0,\"\",IFERROR(DATA!QZH2,\"\"))","v":""},{"$f":"IF(DATA!QZI2=0,\"\",IFERROR(DATA!QZI2,\"\"))","v":""},{"$f":"IF(DATA!QZJ2=0,\"\",IFERROR(DATA!QZJ2,\"\"))","v":""},{"$f":"IF(DATA!QZK2=0,\"\",IFERROR(DATA!QZK2,\"\"))","v":""},{"$f":"IF(DATA!QZL2=0,\"\",IFERROR(DATA!QZL2,\"\"))","v":""},{"$f":"IF(DATA!QZM2=0,\"\",IFERROR(DATA!QZM2,\"\"))","v":""},{"$f":"IF(DATA!QZN2=0,\"\",IFERROR(DATA!QZN2,\"\"))","v":""},{"$f":"IF(DATA!QZO2=0,\"\",IFERROR(DATA!QZO2,\"\"))","v":""},{"$f":"IF(DATA!QZP2=0,\"\",IFERROR(DATA!QZP2,\"\"))","v":""},{"$f":"IF(DATA!QZQ2=0,\"\",IFERROR(DATA!QZQ2,\"\"))","v":""},{"$f":"IF(DATA!QZR2=0,\"\",IFERROR(DATA!QZR2,\"\"))","v":""},{"$f":"IF(DATA!QZS2=0,\"\",IFERROR(DATA!QZS2,\"\"))","v":""},{"$f":"IF(DATA!QZT2=0,\"\",IFERROR(DATA!QZT2,\"\"))","v":""},{"$f":"IF(DATA!QZU2=0,\"\",IFERROR(DATA!QZU2,\"\"))","v":""},{"$f":"IF(DATA!QZV2=0,\"\",IFERROR(DATA!QZV2,\"\"))","v":""},{"$f":"IF(DATA!QZW2=0,\"\",IFERROR(DATA!QZW2,\"\"))","v":""},{"$f":"IF(DATA!QZX2=0,\"\",IFERROR(DATA!QZX2,\"\"))","v":""},{"$f":"IF(DATA!QZY2=0,\"\",IFERROR(DATA!QZY2,\"\"))","v":""},{"$f":"IF(DATA!QZZ2=0,\"\",IFERROR(DATA!QZZ2,\"\"))","v":""},{"$f":"IF(DATA!RAA2=0,\"\",IFERROR(DATA!RAA2,\"\"))","v":""},{"$f":"IF(DATA!RAB2=0,\"\",IFERROR(DATA!RAB2,\"\"))","v":""},{"$f":"IF(DATA!RAC2=0,\"\",IFERROR(DATA!RAC2,\"\"))","v":""},{"$f":"IF(DATA!RAD2=0,\"\",IFERROR(DATA!RAD2,\"\"))","v":""},{"$f":"IF(DATA!RAE2=0,\"\",IFERROR(DATA!RAE2,\"\"))","v":""},{"$f":"IF(DATA!RAF2=0,\"\",IFERROR(DATA!RAF2,\"\"))","v":""},{"$f":"IF(DATA!RAG2=0,\"\",IFERROR(DATA!RAG2,\"\"))","v":""},{"$f":"IF(DATA!RAH2=0,\"\",IFERROR(DATA!RAH2,\"\"))","v":""},{"$f":"IF(DATA!RAI2=0,\"\",IFERROR(DATA!RAI2,\"\"))","v":""},{"$f":"IF(DATA!RAJ2=0,\"\",IFERROR(DATA!RAJ2,\"\"))","v":""},{"$f":"IF(DATA!RAK2=0,\"\",IFERROR(DATA!RAK2,\"\"))","v":""},{"$f":"IF(DATA!RAL2=0,\"\",IFERROR(DATA!RAL2,\"\"))","v":""},{"$f":"IF(DATA!RAM2=0,\"\",IFERROR(DATA!RAM2,\"\"))","v":""},{"$f":"IF(DATA!RAN2=0,\"\",IFERROR(DATA!RAN2,\"\"))","v":""},{"$f":"IF(DATA!RAO2=0,\"\",IFERROR(DATA!RAO2,\"\"))","v":""},{"$f":"IF(DATA!RAP2=0,\"\",IFERROR(DATA!RAP2,\"\"))","v":""},{"$f":"IF(DATA!RAQ2=0,\"\",IFERROR(DATA!RAQ2,\"\"))","v":""},{"$f":"IF(DATA!RAR2=0,\"\",IFERROR(DATA!RAR2,\"\"))","v":""},{"$f":"IF(DATA!RAS2=0,\"\",IFERROR(DATA!RAS2,\"\"))","v":""},{"$f":"IF(DATA!RAT2=0,\"\",IFERROR(DATA!RAT2,\"\"))","v":""},{"$f":"IF(DATA!RAU2=0,\"\",IFERROR(DATA!RAU2,\"\"))","v":""},{"$f":"IF(DATA!RAV2=0,\"\",IFERROR(DATA!RAV2,\"\"))","v":""},{"$f":"IF(DATA!RAW2=0,\"\",IFERROR(DATA!RAW2,\"\"))","v":""},{"$f":"IF(DATA!RAX2=0,\"\",IFERROR(DATA!RAX2,\"\"))","v":""},{"$f":"IF(DATA!RAY2=0,\"\",IFERROR(DATA!RAY2,\"\"))","v":""},{"$f":"IF(DATA!RAZ2=0,\"\",IFERROR(DATA!RAZ2,\"\"))","v":""},{"$f":"IF(DATA!RBA2=0,\"\",IFERROR(DATA!RBA2,\"\"))","v":""},{"$f":"IF(DATA!RBB2=0,\"\",IFERROR(DATA!RBB2,\"\"))","v":""},{"$f":"IF(DATA!RBC2=0,\"\",IFERROR(DATA!RBC2,\"\"))","v":""},{"$f":"IF(DATA!RBD2=0,\"\",IFERROR(DATA!RBD2,\"\"))","v":""},{"$f":"IF(DATA!RBE2=0,\"\",IFERROR(DATA!RBE2,\"\"))","v":""},{"$f":"IF(DATA!RBF2=0,\"\",IFERROR(DATA!RBF2,\"\"))","v":""},{"$f":"IF(DATA!RBG2=0,\"\",IFERROR(DATA!RBG2,\"\"))","v":""},{"$f":"IF(DATA!RBH2=0,\"\",IFERROR(DATA!RBH2,\"\"))","v":""},{"$f":"IF(DATA!RBI2=0,\"\",IFERROR(DATA!RBI2,\"\"))","v":""},{"$f":"IF(DATA!RBJ2=0,\"\",IFERROR(DATA!RBJ2,\"\"))","v":""},{"$f":"IF(DATA!RBK2=0,\"\",IFERROR(DATA!RBK2,\"\"))","v":""},{"$f":"IF(DATA!RBL2=0,\"\",IFERROR(DATA!RBL2,\"\"))","v":""},{"$f":"IF(DATA!RBM2=0,\"\",IFERROR(DATA!RBM2,\"\"))","v":""},{"$f":"IF(DATA!RBN2=0,\"\",IFERROR(DATA!RBN2,\"\"))","v":""},{"$f":"IF(DATA!RBO2=0,\"\",IFERROR(DATA!RBO2,\"\"))","v":""},{"$f":"IF(DATA!RBP2=0,\"\",IFERROR(DATA!RBP2,\"\"))","v":""},{"$f":"IF(DATA!RBQ2=0,\"\",IFERROR(DATA!RBQ2,\"\"))","v":""},{"$f":"IF(DATA!RBR2=0,\"\",IFERROR(DATA!RBR2,\"\"))","v":""},{"$f":"IF(DATA!RBS2=0,\"\",IFERROR(DATA!RBS2,\"\"))","v":""},{"$f":"IF(DATA!RBT2=0,\"\",IFERROR(DATA!RBT2,\"\"))","v":""},{"$f":"IF(DATA!RBU2=0,\"\",IFERROR(DATA!RBU2,\"\"))","v":""},{"$f":"IF(DATA!RBV2=0,\"\",IFERROR(DATA!RBV2,\"\"))","v":""},{"$f":"IF(DATA!RBW2=0,\"\",IFERROR(DATA!RBW2,\"\"))","v":""},{"$f":"IF(DATA!RBX2=0,\"\",IFERROR(DATA!RBX2,\"\"))","v":""},{"$f":"IF(DATA!RBY2=0,\"\",IFERROR(DATA!RBY2,\"\"))","v":""},{"$f":"IF(DATA!RBZ2=0,\"\",IFERROR(DATA!RBZ2,\"\"))","v":""},{"$f":"IF(DATA!RCA2=0,\"\",IFERROR(DATA!RCA2,\"\"))","v":""},{"$f":"IF(DATA!RCB2=0,\"\",IFERROR(DATA!RCB2,\"\"))","v":""},{"$f":"IF(DATA!RCC2=0,\"\",IFERROR(DATA!RCC2,\"\"))","v":""},{"$f":"IF(DATA!RCD2=0,\"\",IFERROR(DATA!RCD2,\"\"))","v":""},{"$f":"IF(DATA!RCE2=0,\"\",IFERROR(DATA!RCE2,\"\"))","v":""},{"$f":"IF(DATA!RCF2=0,\"\",IFERROR(DATA!RCF2,\"\"))","v":""},{"$f":"IF(DATA!RCG2=0,\"\",IFERROR(DATA!RCG2,\"\"))","v":""},{"$f":"IF(DATA!RCH2=0,\"\",IFERROR(DATA!RCH2,\"\"))","v":""},{"$f":"IF(DATA!RCI2=0,\"\",IFERROR(DATA!RCI2,\"\"))","v":""},{"$f":"IF(DATA!RCJ2=0,\"\",IFERROR(DATA!RCJ2,\"\"))","v":""},{"$f":"IF(DATA!RCK2=0,\"\",IFERROR(DATA!RCK2,\"\"))","v":""},{"$f":"IF(DATA!RCL2=0,\"\",IFERROR(DATA!RCL2,\"\"))","v":""},{"$f":"IF(DATA!RCM2=0,\"\",IFERROR(DATA!RCM2,\"\"))","v":""},{"$f":"IF(DATA!RCN2=0,\"\",IFERROR(DATA!RCN2,\"\"))","v":""},{"$f":"IF(DATA!RCO2=0,\"\",IFERROR(DATA!RCO2,\"\"))","v":""},{"$f":"IF(DATA!RCP2=0,\"\",IFERROR(DATA!RCP2,\"\"))","v":""},{"$f":"IF(DATA!RCQ2=0,\"\",IFERROR(DATA!RCQ2,\"\"))","v":""},{"$f":"IF(DATA!RCR2=0,\"\",IFERROR(DATA!RCR2,\"\"))","v":""},{"$f":"IF(DATA!RCS2=0,\"\",IFERROR(DATA!RCS2,\"\"))","v":""},{"$f":"IF(DATA!RCT2=0,\"\",IFERROR(DATA!RCT2,\"\"))","v":""},{"$f":"IF(DATA!RCU2=0,\"\",IFERROR(DATA!RCU2,\"\"))","v":""},{"$f":"IF(DATA!RCV2=0,\"\",IFERROR(DATA!RCV2,\"\"))","v":""},{"$f":"IF(DATA!RCW2=0,\"\",IFERROR(DATA!RCW2,\"\"))","v":""},{"$f":"IF(DATA!RCX2=0,\"\",IFERROR(DATA!RCX2,\"\"))","v":""},{"$f":"IF(DATA!RCY2=0,\"\",IFERROR(DATA!RCY2,\"\"))","v":""},{"$f":"IF(DATA!RCZ2=0,\"\",IFERROR(DATA!RCZ2,\"\"))","v":""},{"$f":"IF(DATA!RDA2=0,\"\",IFERROR(DATA!RDA2,\"\"))","v":""},{"$f":"IF(DATA!RDB2=0,\"\",IFERROR(DATA!RDB2,\"\"))","v":""},{"$f":"IF(DATA!RDC2=0,\"\",IFERROR(DATA!RDC2,\"\"))","v":""},{"$f":"IF(DATA!RDD2=0,\"\",IFERROR(DATA!RDD2,\"\"))","v":""},{"$f":"IF(DATA!RDE2=0,\"\",IFERROR(DATA!RDE2,\"\"))","v":""},{"$f":"IF(DATA!RDF2=0,\"\",IFERROR(DATA!RDF2,\"\"))","v":""},{"$f":"IF(DATA!RDG2=0,\"\",IFERROR(DATA!RDG2,\"\"))","v":""},{"$f":"IF(DATA!RDH2=0,\"\",IFERROR(DATA!RDH2,\"\"))","v":""},{"$f":"IF(DATA!RDI2=0,\"\",IFERROR(DATA!RDI2,\"\"))","v":""},{"$f":"IF(DATA!RDJ2=0,\"\",IFERROR(DATA!RDJ2,\"\"))","v":""},{"$f":"IF(DATA!RDK2=0,\"\",IFERROR(DATA!RDK2,\"\"))","v":""},{"$f":"IF(DATA!RDL2=0,\"\",IFERROR(DATA!RDL2,\"\"))","v":""},{"$f":"IF(DATA!RDM2=0,\"\",IFERROR(DATA!RDM2,\"\"))","v":""},{"$f":"IF(DATA!RDN2=0,\"\",IFERROR(DATA!RDN2,\"\"))","v":""},{"$f":"IF(DATA!RDO2=0,\"\",IFERROR(DATA!RDO2,\"\"))","v":""},{"$f":"IF(DATA!RDP2=0,\"\",IFERROR(DATA!RDP2,\"\"))","v":""},{"$f":"IF(DATA!RDQ2=0,\"\",IFERROR(DATA!RDQ2,\"\"))","v":""},{"$f":"IF(DATA!RDR2=0,\"\",IFERROR(DATA!RDR2,\"\"))","v":""},{"$f":"IF(DATA!RDS2=0,\"\",IFERROR(DATA!RDS2,\"\"))","v":""},{"$f":"IF(DATA!RDT2=0,\"\",IFERROR(DATA!RDT2,\"\"))","v":""},{"$f":"IF(DATA!RDU2=0,\"\",IFERROR(DATA!RDU2,\"\"))","v":""},{"$f":"IF(DATA!RDV2=0,\"\",IFERROR(DATA!RDV2,\"\"))","v":""},{"$f":"IF(DATA!RDW2=0,\"\",IFERROR(DATA!RDW2,\"\"))","v":""},{"$f":"IF(DATA!RDX2=0,\"\",IFERROR(DATA!RDX2,\"\"))","v":""},{"$f":"IF(DATA!RDY2=0,\"\",IFERROR(DATA!RDY2,\"\"))","v":""},{"$f":"IF(DATA!RDZ2=0,\"\",IFERROR(DATA!RDZ2,\"\"))","v":""},{"$f":"IF(DATA!REA2=0,\"\",IFERROR(DATA!REA2,\"\"))","v":""},{"$f":"IF(DATA!REB2=0,\"\",IFERROR(DATA!REB2,\"\"))","v":""},{"$f":"IF(DATA!REC2=0,\"\",IFERROR(DATA!REC2,\"\"))","v":""},{"$f":"IF(DATA!RED2=0,\"\",IFERROR(DATA!RED2,\"\"))","v":""},{"$f":"IF(DATA!REE2=0,\"\",IFERROR(DATA!REE2,\"\"))","v":""},{"$f":"IF(DATA!REF2=0,\"\",IFERROR(DATA!REF2,\"\"))","v":""},{"$f":"IF(DATA!REG2=0,\"\",IFERROR(DATA!REG2,\"\"))","v":""},{"$f":"IF(DATA!REH2=0,\"\",IFERROR(DATA!REH2,\"\"))","v":""},{"$f":"IF(DATA!REI2=0,\"\",IFERROR(DATA!REI2,\"\"))","v":""},{"$f":"IF(DATA!REJ2=0,\"\",IFERROR(DATA!REJ2,\"\"))","v":""},{"$f":"IF(DATA!REK2=0,\"\",IFERROR(DATA!REK2,\"\"))","v":""},{"$f":"IF(DATA!REL2=0,\"\",IFERROR(DATA!REL2,\"\"))","v":""},{"$f":"IF(DATA!REM2=0,\"\",IFERROR(DATA!REM2,\"\"))","v":""},{"$f":"IF(DATA!REN2=0,\"\",IFERROR(DATA!REN2,\"\"))","v":""},{"$f":"IF(DATA!REO2=0,\"\",IFERROR(DATA!REO2,\"\"))","v":""},{"$f":"IF(DATA!REP2=0,\"\",IFERROR(DATA!REP2,\"\"))","v":""},{"$f":"IF(DATA!REQ2=0,\"\",IFERROR(DATA!REQ2,\"\"))","v":""},{"$f":"IF(DATA!RER2=0,\"\",IFERROR(DATA!RER2,\"\"))","v":""},{"$f":"IF(DATA!RES2=0,\"\",IFERROR(DATA!RES2,\"\"))","v":""},{"$f":"IF(DATA!RET2=0,\"\",IFERROR(DATA!RET2,\"\"))","v":""},{"$f":"IF(DATA!REU2=0,\"\",IFERROR(DATA!REU2,\"\"))","v":""},{"$f":"IF(DATA!REV2=0,\"\",IFERROR(DATA!REV2,\"\"))","v":""},{"$f":"IF(DATA!REW2=0,\"\",IFERROR(DATA!REW2,\"\"))","v":""},{"$f":"IF(DATA!REX2=0,\"\",IFERROR(DATA!REX2,\"\"))","v":""},{"$f":"IF(DATA!REY2=0,\"\",IFERROR(DATA!REY2,\"\"))","v":""},{"$f":"IF(DATA!REZ2=0,\"\",IFERROR(DATA!REZ2,\"\"))","v":""},{"$f":"IF(DATA!RFA2=0,\"\",IFERROR(DATA!RFA2,\"\"))","v":""},{"$f":"IF(DATA!RFB2=0,\"\",IFERROR(DATA!RFB2,\"\"))","v":""},{"$f":"IF(DATA!RFC2=0,\"\",IFERROR(DATA!RFC2,\"\"))","v":""},{"$f":"IF(DATA!RFD2=0,\"\",IFERROR(DATA!RFD2,\"\"))","v":""},{"$f":"IF(DATA!RFE2=0,\"\",IFERROR(DATA!RFE2,\"\"))","v":""},{"$f":"IF(DATA!RFF2=0,\"\",IFERROR(DATA!RFF2,\"\"))","v":""},{"$f":"IF(DATA!RFG2=0,\"\",IFERROR(DATA!RFG2,\"\"))","v":""},{"$f":"IF(DATA!RFH2=0,\"\",IFERROR(DATA!RFH2,\"\"))","v":""},{"$f":"IF(DATA!RFI2=0,\"\",IFERROR(DATA!RFI2,\"\"))","v":""},{"$f":"IF(DATA!RFJ2=0,\"\",IFERROR(DATA!RFJ2,\"\"))","v":""},{"$f":"IF(DATA!RFK2=0,\"\",IFERROR(DATA!RFK2,\"\"))","v":""},{"$f":"IF(DATA!RFL2=0,\"\",IFERROR(DATA!RFL2,\"\"))","v":""},{"$f":"IF(DATA!RFM2=0,\"\",IFERROR(DATA!RFM2,\"\"))","v":""},{"$f":"IF(DATA!RFN2=0,\"\",IFERROR(DATA!RFN2,\"\"))","v":""},{"$f":"IF(DATA!RFO2=0,\"\",IFERROR(DATA!RFO2,\"\"))","v":""},{"$f":"IF(DATA!RFP2=0,\"\",IFERROR(DATA!RFP2,\"\"))","v":""},{"$f":"IF(DATA!RFQ2=0,\"\",IFERROR(DATA!RFQ2,\"\"))","v":""},{"$f":"IF(DATA!RFR2=0,\"\",IFERROR(DATA!RFR2,\"\"))","v":""},{"$f":"IF(DATA!RFS2=0,\"\",IFERROR(DATA!RFS2,\"\"))","v":""},{"$f":"IF(DATA!RFT2=0,\"\",IFERROR(DATA!RFT2,\"\"))","v":""},{"$f":"IF(DATA!RFU2=0,\"\",IFERROR(DATA!RFU2,\"\"))","v":""},{"$f":"IF(DATA!RFV2=0,\"\",IFERROR(DATA!RFV2,\"\"))","v":""},{"$f":"IF(DATA!RFW2=0,\"\",IFERROR(DATA!RFW2,\"\"))","v":""},{"$f":"IF(DATA!RFX2=0,\"\",IFERROR(DATA!RFX2,\"\"))","v":""},{"$f":"IF(DATA!RFY2=0,\"\",IFERROR(DATA!RFY2,\"\"))","v":""},{"$f":"IF(DATA!RFZ2=0,\"\",IFERROR(DATA!RFZ2,\"\"))","v":""},{"$f":"IF(DATA!RGA2=0,\"\",IFERROR(DATA!RGA2,\"\"))","v":""},{"$f":"IF(DATA!RGB2=0,\"\",IFERROR(DATA!RGB2,\"\"))","v":""},{"$f":"IF(DATA!RGC2=0,\"\",IFERROR(DATA!RGC2,\"\"))","v":""},{"$f":"IF(DATA!RGD2=0,\"\",IFERROR(DATA!RGD2,\"\"))","v":""},{"$f":"IF(DATA!RGE2=0,\"\",IFERROR(DATA!RGE2,\"\"))","v":""},{"$f":"IF(DATA!RGF2=0,\"\",IFERROR(DATA!RGF2,\"\"))","v":""},{"$f":"IF(DATA!RGG2=0,\"\",IFERROR(DATA!RGG2,\"\"))","v":""},{"$f":"IF(DATA!RGH2=0,\"\",IFERROR(DATA!RGH2,\"\"))","v":""},{"$f":"IF(DATA!RGI2=0,\"\",IFERROR(DATA!RGI2,\"\"))","v":""},{"$f":"IF(DATA!RGJ2=0,\"\",IFERROR(DATA!RGJ2,\"\"))","v":""},{"$f":"IF(DATA!RGK2=0,\"\",IFERROR(DATA!RGK2,\"\"))","v":""},{"$f":"IF(DATA!RGL2=0,\"\",IFERROR(DATA!RGL2,\"\"))","v":""},{"$f":"IF(DATA!RGM2=0,\"\",IFERROR(DATA!RGM2,\"\"))","v":""},{"$f":"IF(DATA!RGN2=0,\"\",IFERROR(DATA!RGN2,\"\"))","v":""},{"$f":"IF(DATA!RGO2=0,\"\",IFERROR(DATA!RGO2,\"\"))","v":""},{"$f":"IF(DATA!RGP2=0,\"\",IFERROR(DATA!RGP2,\"\"))","v":""},{"$f":"IF(DATA!RGQ2=0,\"\",IFERROR(DATA!RGQ2,\"\"))","v":""},{"$f":"IF(DATA!RGR2=0,\"\",IFERROR(DATA!RGR2,\"\"))","v":""},{"$f":"IF(DATA!RGS2=0,\"\",IFERROR(DATA!RGS2,\"\"))","v":""},{"$f":"IF(DATA!RGT2=0,\"\",IFERROR(DATA!RGT2,\"\"))","v":""},{"$f":"IF(DATA!RGU2=0,\"\",IFERROR(DATA!RGU2,\"\"))","v":""},{"$f":"IF(DATA!RGV2=0,\"\",IFERROR(DATA!RGV2,\"\"))","v":""},{"$f":"IF(DATA!RGW2=0,\"\",IFERROR(DATA!RGW2,\"\"))","v":""},{"$f":"IF(DATA!RGX2=0,\"\",IFERROR(DATA!RGX2,\"\"))","v":""},{"$f":"IF(DATA!RGY2=0,\"\",IFERROR(DATA!RGY2,\"\"))","v":""},{"$f":"IF(DATA!RGZ2=0,\"\",IFERROR(DATA!RGZ2,\"\"))","v":""},{"$f":"IF(DATA!RHA2=0,\"\",IFERROR(DATA!RHA2,\"\"))","v":""},{"$f":"IF(DATA!RHB2=0,\"\",IFERROR(DATA!RHB2,\"\"))","v":""},{"$f":"IF(DATA!RHC2=0,\"\",IFERROR(DATA!RHC2,\"\"))","v":""},{"$f":"IF(DATA!RHD2=0,\"\",IFERROR(DATA!RHD2,\"\"))","v":""},{"$f":"IF(DATA!RHE2=0,\"\",IFERROR(DATA!RHE2,\"\"))","v":""},{"$f":"IF(DATA!RHF2=0,\"\",IFERROR(DATA!RHF2,\"\"))","v":""},{"$f":"IF(DATA!RHG2=0,\"\",IFERROR(DATA!RHG2,\"\"))","v":""},{"$f":"IF(DATA!RHH2=0,\"\",IFERROR(DATA!RHH2,\"\"))","v":""},{"$f":"IF(DATA!RHI2=0,\"\",IFERROR(DATA!RHI2,\"\"))","v":""},{"$f":"IF(DATA!RHJ2=0,\"\",IFERROR(DATA!RHJ2,\"\"))","v":""},{"$f":"IF(DATA!RHK2=0,\"\",IFERROR(DATA!RHK2,\"\"))","v":""},{"$f":"IF(DATA!RHL2=0,\"\",IFERROR(DATA!RHL2,\"\"))","v":""},{"$f":"IF(DATA!RHM2=0,\"\",IFERROR(DATA!RHM2,\"\"))","v":""},{"$f":"IF(DATA!RHN2=0,\"\",IFERROR(DATA!RHN2,\"\"))","v":""},{"$f":"IF(DATA!RHO2=0,\"\",IFERROR(DATA!RHO2,\"\"))","v":""},{"$f":"IF(DATA!RHP2=0,\"\",IFERROR(DATA!RHP2,\"\"))","v":""},{"$f":"IF(DATA!RHQ2=0,\"\",IFERROR(DATA!RHQ2,\"\"))","v":""},{"$f":"IF(DATA!RHR2=0,\"\",IFERROR(DATA!RHR2,\"\"))","v":""},{"$f":"IF(DATA!RHS2=0,\"\",IFERROR(DATA!RHS2,\"\"))","v":""},{"$f":"IF(DATA!RHT2=0,\"\",IFERROR(DATA!RHT2,\"\"))","v":""},{"$f":"IF(DATA!RHU2=0,\"\",IFERROR(DATA!RHU2,\"\"))","v":""},{"$f":"IF(DATA!RHV2=0,\"\",IFERROR(DATA!RHV2,\"\"))","v":""},{"$f":"IF(DATA!RHW2=0,\"\",IFERROR(DATA!RHW2,\"\"))","v":""},{"$f":"IF(DATA!RHX2=0,\"\",IFERROR(DATA!RHX2,\"\"))","v":""},{"$f":"IF(DATA!RHY2=0,\"\",IFERROR(DATA!RHY2,\"\"))","v":""},{"$f":"IF(DATA!RHZ2=0,\"\",IFERROR(DATA!RHZ2,\"\"))","v":""},{"$f":"IF(DATA!RIA2=0,\"\",IFERROR(DATA!RIA2,\"\"))","v":""},{"$f":"IF(DATA!RIB2=0,\"\",IFERROR(DATA!RIB2,\"\"))","v":""},{"$f":"IF(DATA!RIC2=0,\"\",IFERROR(DATA!RIC2,\"\"))","v":""},{"$f":"IF(DATA!RID2=0,\"\",IFERROR(DATA!RID2,\"\"))","v":""},{"$f":"IF(DATA!RIE2=0,\"\",IFERROR(DATA!RIE2,\"\"))","v":""},{"$f":"IF(DATA!RIF2=0,\"\",IFERROR(DATA!RIF2,\"\"))","v":""},{"$f":"IF(DATA!RIG2=0,\"\",IFERROR(DATA!RIG2,\"\"))","v":""},{"$f":"IF(DATA!RIH2=0,\"\",IFERROR(DATA!RIH2,\"\"))","v":""},{"$f":"IF(DATA!RII2=0,\"\",IFERROR(DATA!RII2,\"\"))","v":""},{"$f":"IF(DATA!RIJ2=0,\"\",IFERROR(DATA!RIJ2,\"\"))","v":""},{"$f":"IF(DATA!RIK2=0,\"\",IFERROR(DATA!RIK2,\"\"))","v":""},{"$f":"IF(DATA!RIL2=0,\"\",IFERROR(DATA!RIL2,\"\"))","v":""},{"$f":"IF(DATA!RIM2=0,\"\",IFERROR(DATA!RIM2,\"\"))","v":""},{"$f":"IF(DATA!RIN2=0,\"\",IFERROR(DATA!RIN2,\"\"))","v":""},{"$f":"IF(DATA!RIO2=0,\"\",IFERROR(DATA!RIO2,\"\"))","v":""},{"$f":"IF(DATA!RIP2=0,\"\",IFERROR(DATA!RIP2,\"\"))","v":""},{"$f":"IF(DATA!RIQ2=0,\"\",IFERROR(DATA!RIQ2,\"\"))","v":""},{"$f":"IF(DATA!RIR2=0,\"\",IFERROR(DATA!RIR2,\"\"))","v":""},{"$f":"IF(DATA!RIS2=0,\"\",IFERROR(DATA!RIS2,\"\"))","v":""},{"$f":"IF(DATA!RIT2=0,\"\",IFERROR(DATA!RIT2,\"\"))","v":""},{"$f":"IF(DATA!RIU2=0,\"\",IFERROR(DATA!RIU2,\"\"))","v":""},{"$f":"IF(DATA!RIV2=0,\"\",IFERROR(DATA!RIV2,\"\"))","v":""},{"$f":"IF(DATA!RIW2=0,\"\",IFERROR(DATA!RIW2,\"\"))","v":""},{"$f":"IF(DATA!RIX2=0,\"\",IFERROR(DATA!RIX2,\"\"))","v":""},{"$f":"IF(DATA!RIY2=0,\"\",IFERROR(DATA!RIY2,\"\"))","v":""},{"$f":"IF(DATA!RIZ2=0,\"\",IFERROR(DATA!RIZ2,\"\"))","v":""},{"$f":"IF(DATA!RJA2=0,\"\",IFERROR(DATA!RJA2,\"\"))","v":""},{"$f":"IF(DATA!RJB2=0,\"\",IFERROR(DATA!RJB2,\"\"))","v":""},{"$f":"IF(DATA!RJC2=0,\"\",IFERROR(DATA!RJC2,\"\"))","v":""},{"$f":"IF(DATA!RJD2=0,\"\",IFERROR(DATA!RJD2,\"\"))","v":""},{"$f":"IF(DATA!RJE2=0,\"\",IFERROR(DATA!RJE2,\"\"))","v":""},{"$f":"IF(DATA!RJF2=0,\"\",IFERROR(DATA!RJF2,\"\"))","v":""},{"$f":"IF(DATA!RJG2=0,\"\",IFERROR(DATA!RJG2,\"\"))","v":""},{"$f":"IF(DATA!RJH2=0,\"\",IFERROR(DATA!RJH2,\"\"))","v":""},{"$f":"IF(DATA!RJI2=0,\"\",IFERROR(DATA!RJI2,\"\"))","v":""},{"$f":"IF(DATA!RJJ2=0,\"\",IFERROR(DATA!RJJ2,\"\"))","v":""},{"$f":"IF(DATA!RJK2=0,\"\",IFERROR(DATA!RJK2,\"\"))","v":""},{"$f":"IF(DATA!RJL2=0,\"\",IFERROR(DATA!RJL2,\"\"))","v":""},{"$f":"IF(DATA!RJM2=0,\"\",IFERROR(DATA!RJM2,\"\"))","v":""},{"$f":"IF(DATA!RJN2=0,\"\",IFERROR(DATA!RJN2,\"\"))","v":""},{"$f":"IF(DATA!RJO2=0,\"\",IFERROR(DATA!RJO2,\"\"))","v":""},{"$f":"IF(DATA!RJP2=0,\"\",IFERROR(DATA!RJP2,\"\"))","v":""},{"$f":"IF(DATA!RJQ2=0,\"\",IFERROR(DATA!RJQ2,\"\"))","v":""},{"$f":"IF(DATA!RJR2=0,\"\",IFERROR(DATA!RJR2,\"\"))","v":""},{"$f":"IF(DATA!RJS2=0,\"\",IFERROR(DATA!RJS2,\"\"))","v":""},{"$f":"IF(DATA!RJT2=0,\"\",IFERROR(DATA!RJT2,\"\"))","v":""},{"$f":"IF(DATA!RJU2=0,\"\",IFERROR(DATA!RJU2,\"\"))","v":""},{"$f":"IF(DATA!RJV2=0,\"\",IFERROR(DATA!RJV2,\"\"))","v":""},{"$f":"IF(DATA!RJW2=0,\"\",IFERROR(DATA!RJW2,\"\"))","v":""},{"$f":"IF(DATA!RJX2=0,\"\",IFERROR(DATA!RJX2,\"\"))","v":""},{"$f":"IF(DATA!RJY2=0,\"\",IFERROR(DATA!RJY2,\"\"))","v":""},{"$f":"IF(DATA!RJZ2=0,\"\",IFERROR(DATA!RJZ2,\"\"))","v":""},{"$f":"IF(DATA!RKA2=0,\"\",IFERROR(DATA!RKA2,\"\"))","v":""},{"$f":"IF(DATA!RKB2=0,\"\",IFERROR(DATA!RKB2,\"\"))","v":""},{"$f":"IF(DATA!RKC2=0,\"\",IFERROR(DATA!RKC2,\"\"))","v":""},{"$f":"IF(DATA!RKD2=0,\"\",IFERROR(DATA!RKD2,\"\"))","v":""},{"$f":"IF(DATA!RKE2=0,\"\",IFERROR(DATA!RKE2,\"\"))","v":""},{"$f":"IF(DATA!RKF2=0,\"\",IFERROR(DATA!RKF2,\"\"))","v":""},{"$f":"IF(DATA!RKG2=0,\"\",IFERROR(DATA!RKG2,\"\"))","v":""},{"$f":"IF(DATA!RKH2=0,\"\",IFERROR(DATA!RKH2,\"\"))","v":""},{"$f":"IF(DATA!RKI2=0,\"\",IFERROR(DATA!RKI2,\"\"))","v":""},{"$f":"IF(DATA!RKJ2=0,\"\",IFERROR(DATA!RKJ2,\"\"))","v":""},{"$f":"IF(DATA!RKK2=0,\"\",IFERROR(DATA!RKK2,\"\"))","v":""},{"$f":"IF(DATA!RKL2=0,\"\",IFERROR(DATA!RKL2,\"\"))","v":""},{"$f":"IF(DATA!RKM2=0,\"\",IFERROR(DATA!RKM2,\"\"))","v":""},{"$f":"IF(DATA!RKN2=0,\"\",IFERROR(DATA!RKN2,\"\"))","v":""},{"$f":"IF(DATA!RKO2=0,\"\",IFERROR(DATA!RKO2,\"\"))","v":""},{"$f":"IF(DATA!RKP2=0,\"\",IFERROR(DATA!RKP2,\"\"))","v":""},{"$f":"IF(DATA!RKQ2=0,\"\",IFERROR(DATA!RKQ2,\"\"))","v":""},{"$f":"IF(DATA!RKR2=0,\"\",IFERROR(DATA!RKR2,\"\"))","v":""},{"$f":"IF(DATA!RKS2=0,\"\",IFERROR(DATA!RKS2,\"\"))","v":""},{"$f":"IF(DATA!RKT2=0,\"\",IFERROR(DATA!RKT2,\"\"))","v":""},{"$f":"IF(DATA!RKU2=0,\"\",IFERROR(DATA!RKU2,\"\"))","v":""},{"$f":"IF(DATA!RKV2=0,\"\",IFERROR(DATA!RKV2,\"\"))","v":""},{"$f":"IF(DATA!RKW2=0,\"\",IFERROR(DATA!RKW2,\"\"))","v":""},{"$f":"IF(DATA!RKX2=0,\"\",IFERROR(DATA!RKX2,\"\"))","v":""},{"$f":"IF(DATA!RKY2=0,\"\",IFERROR(DATA!RKY2,\"\"))","v":""},{"$f":"IF(DATA!RKZ2=0,\"\",IFERROR(DATA!RKZ2,\"\"))","v":""},{"$f":"IF(DATA!RLA2=0,\"\",IFERROR(DATA!RLA2,\"\"))","v":""},{"$f":"IF(DATA!RLB2=0,\"\",IFERROR(DATA!RLB2,\"\"))","v":""},{"$f":"IF(DATA!RLC2=0,\"\",IFERROR(DATA!RLC2,\"\"))","v":""},{"$f":"IF(DATA!RLD2=0,\"\",IFERROR(DATA!RLD2,\"\"))","v":""},{"$f":"IF(DATA!RLE2=0,\"\",IFERROR(DATA!RLE2,\"\"))","v":""},{"$f":"IF(DATA!RLF2=0,\"\",IFERROR(DATA!RLF2,\"\"))","v":""},{"$f":"IF(DATA!RLG2=0,\"\",IFERROR(DATA!RLG2,\"\"))","v":""},{"$f":"IF(DATA!RLH2=0,\"\",IFERROR(DATA!RLH2,\"\"))","v":""},{"$f":"IF(DATA!RLI2=0,\"\",IFERROR(DATA!RLI2,\"\"))","v":""},{"$f":"IF(DATA!RLJ2=0,\"\",IFERROR(DATA!RLJ2,\"\"))","v":""},{"$f":"IF(DATA!RLK2=0,\"\",IFERROR(DATA!RLK2,\"\"))","v":""},{"$f":"IF(DATA!RLL2=0,\"\",IFERROR(DATA!RLL2,\"\"))","v":""},{"$f":"IF(DATA!RLM2=0,\"\",IFERROR(DATA!RLM2,\"\"))","v":""},{"$f":"IF(DATA!RLN2=0,\"\",IFERROR(DATA!RLN2,\"\"))","v":""},{"$f":"IF(DATA!RLO2=0,\"\",IFERROR(DATA!RLO2,\"\"))","v":""},{"$f":"IF(DATA!RLP2=0,\"\",IFERROR(DATA!RLP2,\"\"))","v":""},{"$f":"IF(DATA!RLQ2=0,\"\",IFERROR(DATA!RLQ2,\"\"))","v":""},{"$f":"IF(DATA!RLR2=0,\"\",IFERROR(DATA!RLR2,\"\"))","v":""},{"$f":"IF(DATA!RLS2=0,\"\",IFERROR(DATA!RLS2,\"\"))","v":""},{"$f":"IF(DATA!RLT2=0,\"\",IFERROR(DATA!RLT2,\"\"))","v":""},{"$f":"IF(DATA!RLU2=0,\"\",IFERROR(DATA!RLU2,\"\"))","v":""},{"$f":"IF(DATA!RLV2=0,\"\",IFERROR(DATA!RLV2,\"\"))","v":""},{"$f":"IF(DATA!RLW2=0,\"\",IFERROR(DATA!RLW2,\"\"))","v":""},{"$f":"IF(DATA!RLX2=0,\"\",IFERROR(DATA!RLX2,\"\"))","v":""},{"$f":"IF(DATA!RLY2=0,\"\",IFERROR(DATA!RLY2,\"\"))","v":""},{"$f":"IF(DATA!RLZ2=0,\"\",IFERROR(DATA!RLZ2,\"\"))","v":""},{"$f":"IF(DATA!RMA2=0,\"\",IFERROR(DATA!RMA2,\"\"))","v":""},{"$f":"IF(DATA!RMB2=0,\"\",IFERROR(DATA!RMB2,\"\"))","v":""},{"$f":"IF(DATA!RMC2=0,\"\",IFERROR(DATA!RMC2,\"\"))","v":""},{"$f":"IF(DATA!RMD2=0,\"\",IFERROR(DATA!RMD2,\"\"))","v":""},{"$f":"IF(DATA!RME2=0,\"\",IFERROR(DATA!RME2,\"\"))","v":""},{"$f":"IF(DATA!RMF2=0,\"\",IFERROR(DATA!RMF2,\"\"))","v":""},{"$f":"IF(DATA!RMG2=0,\"\",IFERROR(DATA!RMG2,\"\"))","v":""},{"$f":"IF(DATA!RMH2=0,\"\",IFERROR(DATA!RMH2,\"\"))","v":""},{"$f":"IF(DATA!RMI2=0,\"\",IFERROR(DATA!RMI2,\"\"))","v":""},{"$f":"IF(DATA!RMJ2=0,\"\",IFERROR(DATA!RMJ2,\"\"))","v":""},{"$f":"IF(DATA!RMK2=0,\"\",IFERROR(DATA!RMK2,\"\"))","v":""},{"$f":"IF(DATA!RML2=0,\"\",IFERROR(DATA!RML2,\"\"))","v":""},{"$f":"IF(DATA!RMM2=0,\"\",IFERROR(DATA!RMM2,\"\"))","v":""},{"$f":"IF(DATA!RMN2=0,\"\",IFERROR(DATA!RMN2,\"\"))","v":""},{"$f":"IF(DATA!RMO2=0,\"\",IFERROR(DATA!RMO2,\"\"))","v":""},{"$f":"IF(DATA!RMP2=0,\"\",IFERROR(DATA!RMP2,\"\"))","v":""},{"$f":"IF(DATA!RMQ2=0,\"\",IFERROR(DATA!RMQ2,\"\"))","v":""},{"$f":"IF(DATA!RMR2=0,\"\",IFERROR(DATA!RMR2,\"\"))","v":""},{"$f":"IF(DATA!RMS2=0,\"\",IFERROR(DATA!RMS2,\"\"))","v":""},{"$f":"IF(DATA!RMT2=0,\"\",IFERROR(DATA!RMT2,\"\"))","v":""},{"$f":"IF(DATA!RMU2=0,\"\",IFERROR(DATA!RMU2,\"\"))","v":""},{"$f":"IF(DATA!RMV2=0,\"\",IFERROR(DATA!RMV2,\"\"))","v":""},{"$f":"IF(DATA!RMW2=0,\"\",IFERROR(DATA!RMW2,\"\"))","v":""},{"$f":"IF(DATA!RMX2=0,\"\",IFERROR(DATA!RMX2,\"\"))","v":""},{"$f":"IF(DATA!RMY2=0,\"\",IFERROR(DATA!RMY2,\"\"))","v":""},{"$f":"IF(DATA!RMZ2=0,\"\",IFERROR(DATA!RMZ2,\"\"))","v":""},{"$f":"IF(DATA!RNA2=0,\"\",IFERROR(DATA!RNA2,\"\"))","v":""},{"$f":"IF(DATA!RNB2=0,\"\",IFERROR(DATA!RNB2,\"\"))","v":""},{"$f":"IF(DATA!RNC2=0,\"\",IFERROR(DATA!RNC2,\"\"))","v":""},{"$f":"IF(DATA!RND2=0,\"\",IFERROR(DATA!RND2,\"\"))","v":""},{"$f":"IF(DATA!RNE2=0,\"\",IFERROR(DATA!RNE2,\"\"))","v":""},{"$f":"IF(DATA!RNF2=0,\"\",IFERROR(DATA!RNF2,\"\"))","v":""},{"$f":"IF(DATA!RNG2=0,\"\",IFERROR(DATA!RNG2,\"\"))","v":""},{"$f":"IF(DATA!RNH2=0,\"\",IFERROR(DATA!RNH2,\"\"))","v":""},{"$f":"IF(DATA!RNI2=0,\"\",IFERROR(DATA!RNI2,\"\"))","v":""},{"$f":"IF(DATA!RNJ2=0,\"\",IFERROR(DATA!RNJ2,\"\"))","v":""},{"$f":"IF(DATA!RNK2=0,\"\",IFERROR(DATA!RNK2,\"\"))","v":""},{"$f":"IF(DATA!RNL2=0,\"\",IFERROR(DATA!RNL2,\"\"))","v":""},{"$f":"IF(DATA!RNM2=0,\"\",IFERROR(DATA!RNM2,\"\"))","v":""},{"$f":"IF(DATA!RNN2=0,\"\",IFERROR(DATA!RNN2,\"\"))","v":""},{"$f":"IF(DATA!RNO2=0,\"\",IFERROR(DATA!RNO2,\"\"))","v":""},{"$f":"IF(DATA!RNP2=0,\"\",IFERROR(DATA!RNP2,\"\"))","v":""},{"$f":"IF(DATA!RNQ2=0,\"\",IFERROR(DATA!RNQ2,\"\"))","v":""},{"$f":"IF(DATA!RNR2=0,\"\",IFERROR(DATA!RNR2,\"\"))","v":""},{"$f":"IF(DATA!RNS2=0,\"\",IFERROR(DATA!RNS2,\"\"))","v":""},{"$f":"IF(DATA!RNT2=0,\"\",IFERROR(DATA!RNT2,\"\"))","v":""},{"$f":"IF(DATA!RNU2=0,\"\",IFERROR(DATA!RNU2,\"\"))","v":""},{"$f":"IF(DATA!RNV2=0,\"\",IFERROR(DATA!RNV2,\"\"))","v":""},{"$f":"IF(DATA!RNW2=0,\"\",IFERROR(DATA!RNW2,\"\"))","v":""},{"$f":"IF(DATA!RNX2=0,\"\",IFERROR(DATA!RNX2,\"\"))","v":""},{"$f":"IF(DATA!RNY2=0,\"\",IFERROR(DATA!RNY2,\"\"))","v":""},{"$f":"IF(DATA!RNZ2=0,\"\",IFERROR(DATA!RNZ2,\"\"))","v":""},{"$f":"IF(DATA!ROA2=0,\"\",IFERROR(DATA!ROA2,\"\"))","v":""},{"$f":"IF(DATA!ROB2=0,\"\",IFERROR(DATA!ROB2,\"\"))","v":""},{"$f":"IF(DATA!ROC2=0,\"\",IFERROR(DATA!ROC2,\"\"))","v":""},{"$f":"IF(DATA!ROD2=0,\"\",IFERROR(DATA!ROD2,\"\"))","v":""},{"$f":"IF(DATA!ROE2=0,\"\",IFERROR(DATA!ROE2,\"\"))","v":""},{"$f":"IF(DATA!ROF2=0,\"\",IFERROR(DATA!ROF2,\"\"))","v":""},{"$f":"IF(DATA!ROG2=0,\"\",IFERROR(DATA!ROG2,\"\"))","v":""},{"$f":"IF(DATA!ROH2=0,\"\",IFERROR(DATA!ROH2,\"\"))","v":""},{"$f":"IF(DATA!ROI2=0,\"\",IFERROR(DATA!ROI2,\"\"))","v":""},{"$f":"IF(DATA!ROJ2=0,\"\",IFERROR(DATA!ROJ2,\"\"))","v":""},{"$f":"IF(DATA!ROK2=0,\"\",IFERROR(DATA!ROK2,\"\"))","v":""},{"$f":"IF(DATA!ROL2=0,\"\",IFERROR(DATA!ROL2,\"\"))","v":""},{"$f":"IF(DATA!ROM2=0,\"\",IFERROR(DATA!ROM2,\"\"))","v":""},{"$f":"IF(DATA!RON2=0,\"\",IFERROR(DATA!RON2,\"\"))","v":""},{"$f":"IF(DATA!ROO2=0,\"\",IFERROR(DATA!ROO2,\"\"))","v":""},{"$f":"IF(DATA!ROP2=0,\"\",IFERROR(DATA!ROP2,\"\"))","v":""},{"$f":"IF(DATA!ROQ2=0,\"\",IFERROR(DATA!ROQ2,\"\"))","v":""},{"$f":"IF(DATA!ROR2=0,\"\",IFERROR(DATA!ROR2,\"\"))","v":""},{"$f":"IF(DATA!ROS2=0,\"\",IFERROR(DATA!ROS2,\"\"))","v":""},{"$f":"IF(DATA!ROT2=0,\"\",IFERROR(DATA!ROT2,\"\"))","v":""},{"$f":"IF(DATA!ROU2=0,\"\",IFERROR(DATA!ROU2,\"\"))","v":""},{"$f":"IF(DATA!ROV2=0,\"\",IFERROR(DATA!ROV2,\"\"))","v":""},{"$f":"IF(DATA!ROW2=0,\"\",IFERROR(DATA!ROW2,\"\"))","v":""},{"$f":"IF(DATA!ROX2=0,\"\",IFERROR(DATA!ROX2,\"\"))","v":""},{"$f":"IF(DATA!ROY2=0,\"\",IFERROR(DATA!ROY2,\"\"))","v":""},{"$f":"IF(DATA!ROZ2=0,\"\",IFERROR(DATA!ROZ2,\"\"))","v":""},{"$f":"IF(DATA!RPA2=0,\"\",IFERROR(DATA!RPA2,\"\"))","v":""},{"$f":"IF(DATA!RPB2=0,\"\",IFERROR(DATA!RPB2,\"\"))","v":""},{"$f":"IF(DATA!RPC2=0,\"\",IFERROR(DATA!RPC2,\"\"))","v":""},{"$f":"IF(DATA!RPD2=0,\"\",IFERROR(DATA!RPD2,\"\"))","v":""},{"$f":"IF(DATA!RPE2=0,\"\",IFERROR(DATA!RPE2,\"\"))","v":""},{"$f":"IF(DATA!RPF2=0,\"\",IFERROR(DATA!RPF2,\"\"))","v":""},{"$f":"IF(DATA!RPG2=0,\"\",IFERROR(DATA!RPG2,\"\"))","v":""},{"$f":"IF(DATA!RPH2=0,\"\",IFERROR(DATA!RPH2,\"\"))","v":""},{"$f":"IF(DATA!RPI2=0,\"\",IFERROR(DATA!RPI2,\"\"))","v":""},{"$f":"IF(DATA!RPJ2=0,\"\",IFERROR(DATA!RPJ2,\"\"))","v":""},{"$f":"IF(DATA!RPK2=0,\"\",IFERROR(DATA!RPK2,\"\"))","v":""},{"$f":"IF(DATA!RPL2=0,\"\",IFERROR(DATA!RPL2,\"\"))","v":""},{"$f":"IF(DATA!RPM2=0,\"\",IFERROR(DATA!RPM2,\"\"))","v":""},{"$f":"IF(DATA!RPN2=0,\"\",IFERROR(DATA!RPN2,\"\"))","v":""},{"$f":"IF(DATA!RPO2=0,\"\",IFERROR(DATA!RPO2,\"\"))","v":""},{"$f":"IF(DATA!RPP2=0,\"\",IFERROR(DATA!RPP2,\"\"))","v":""},{"$f":"IF(DATA!RPQ2=0,\"\",IFERROR(DATA!RPQ2,\"\"))","v":""},{"$f":"IF(DATA!RPR2=0,\"\",IFERROR(DATA!RPR2,\"\"))","v":""},{"$f":"IF(DATA!RPS2=0,\"\",IFERROR(DATA!RPS2,\"\"))","v":""},{"$f":"IF(DATA!RPT2=0,\"\",IFERROR(DATA!RPT2,\"\"))","v":""},{"$f":"IF(DATA!RPU2=0,\"\",IFERROR(DATA!RPU2,\"\"))","v":""},{"$f":"IF(DATA!RPV2=0,\"\",IFERROR(DATA!RPV2,\"\"))","v":""},{"$f":"IF(DATA!RPW2=0,\"\",IFERROR(DATA!RPW2,\"\"))","v":""},{"$f":"IF(DATA!RPX2=0,\"\",IFERROR(DATA!RPX2,\"\"))","v":""},{"$f":"IF(DATA!RPY2=0,\"\",IFERROR(DATA!RPY2,\"\"))","v":""},{"$f":"IF(DATA!RPZ2=0,\"\",IFERROR(DATA!RPZ2,\"\"))","v":""},{"$f":"IF(DATA!RQA2=0,\"\",IFERROR(DATA!RQA2,\"\"))","v":""},{"$f":"IF(DATA!RQB2=0,\"\",IFERROR(DATA!RQB2,\"\"))","v":""},{"$f":"IF(DATA!RQC2=0,\"\",IFERROR(DATA!RQC2,\"\"))","v":""},{"$f":"IF(DATA!RQD2=0,\"\",IFERROR(DATA!RQD2,\"\"))","v":""},{"$f":"IF(DATA!RQE2=0,\"\",IFERROR(DATA!RQE2,\"\"))","v":""},{"$f":"IF(DATA!RQF2=0,\"\",IFERROR(DATA!RQF2,\"\"))","v":""},{"$f":"IF(DATA!RQG2=0,\"\",IFERROR(DATA!RQG2,\"\"))","v":""},{"$f":"IF(DATA!RQH2=0,\"\",IFERROR(DATA!RQH2,\"\"))","v":""},{"$f":"IF(DATA!RQI2=0,\"\",IFERROR(DATA!RQI2,\"\"))","v":""},{"$f":"IF(DATA!RQJ2=0,\"\",IFERROR(DATA!RQJ2,\"\"))","v":""},{"$f":"IF(DATA!RQK2=0,\"\",IFERROR(DATA!RQK2,\"\"))","v":""},{"$f":"IF(DATA!RQL2=0,\"\",IFERROR(DATA!RQL2,\"\"))","v":""},{"$f":"IF(DATA!RQM2=0,\"\",IFERROR(DATA!RQM2,\"\"))","v":""},{"$f":"IF(DATA!RQN2=0,\"\",IFERROR(DATA!RQN2,\"\"))","v":""},{"$f":"IF(DATA!RQO2=0,\"\",IFERROR(DATA!RQO2,\"\"))","v":""},{"$f":"IF(DATA!RQP2=0,\"\",IFERROR(DATA!RQP2,\"\"))","v":""},{"$f":"IF(DATA!RQQ2=0,\"\",IFERROR(DATA!RQQ2,\"\"))","v":""},{"$f":"IF(DATA!RQR2=0,\"\",IFERROR(DATA!RQR2,\"\"))","v":""},{"$f":"IF(DATA!RQS2=0,\"\",IFERROR(DATA!RQS2,\"\"))","v":""},{"$f":"IF(DATA!RQT2=0,\"\",IFERROR(DATA!RQT2,\"\"))","v":""},{"$f":"IF(DATA!RQU2=0,\"\",IFERROR(DATA!RQU2,\"\"))","v":""},{"$f":"IF(DATA!RQV2=0,\"\",IFERROR(DATA!RQV2,\"\"))","v":""},{"$f":"IF(DATA!RQW2=0,\"\",IFERROR(DATA!RQW2,\"\"))","v":""},{"$f":"IF(DATA!RQX2=0,\"\",IFERROR(DATA!RQX2,\"\"))","v":""},{"$f":"IF(DATA!RQY2=0,\"\",IFERROR(DATA!RQY2,\"\"))","v":""},{"$f":"IF(DATA!RQZ2=0,\"\",IFERROR(DATA!RQZ2,\"\"))","v":""},{"$f":"IF(DATA!RRA2=0,\"\",IFERROR(DATA!RRA2,\"\"))","v":""},{"$f":"IF(DATA!RRB2=0,\"\",IFERROR(DATA!RRB2,\"\"))","v":""},{"$f":"IF(DATA!RRC2=0,\"\",IFERROR(DATA!RRC2,\"\"))","v":""},{"$f":"IF(DATA!RRD2=0,\"\",IFERROR(DATA!RRD2,\"\"))","v":""},{"$f":"IF(DATA!RRE2=0,\"\",IFERROR(DATA!RRE2,\"\"))","v":""},{"$f":"IF(DATA!RRF2=0,\"\",IFERROR(DATA!RRF2,\"\"))","v":""},{"$f":"IF(DATA!RRG2=0,\"\",IFERROR(DATA!RRG2,\"\"))","v":""},{"$f":"IF(DATA!RRH2=0,\"\",IFERROR(DATA!RRH2,\"\"))","v":""},{"$f":"IF(DATA!RRI2=0,\"\",IFERROR(DATA!RRI2,\"\"))","v":""},{"$f":"IF(DATA!RRJ2=0,\"\",IFERROR(DATA!RRJ2,\"\"))","v":""},{"$f":"IF(DATA!RRK2=0,\"\",IFERROR(DATA!RRK2,\"\"))","v":""},{"$f":"IF(DATA!RRL2=0,\"\",IFERROR(DATA!RRL2,\"\"))","v":""},{"$f":"IF(DATA!RRM2=0,\"\",IFERROR(DATA!RRM2,\"\"))","v":""},{"$f":"IF(DATA!RRN2=0,\"\",IFERROR(DATA!RRN2,\"\"))","v":""},{"$f":"IF(DATA!RRO2=0,\"\",IFERROR(DATA!RRO2,\"\"))","v":""},{"$f":"IF(DATA!RRP2=0,\"\",IFERROR(DATA!RRP2,\"\"))","v":""},{"$f":"IF(DATA!RRQ2=0,\"\",IFERROR(DATA!RRQ2,\"\"))","v":""},{"$f":"IF(DATA!RRR2=0,\"\",IFERROR(DATA!RRR2,\"\"))","v":""},{"$f":"IF(DATA!RRS2=0,\"\",IFERROR(DATA!RRS2,\"\"))","v":""},{"$f":"IF(DATA!RRT2=0,\"\",IFERROR(DATA!RRT2,\"\"))","v":""},{"$f":"IF(DATA!RRU2=0,\"\",IFERROR(DATA!RRU2,\"\"))","v":""},{"$f":"IF(DATA!RRV2=0,\"\",IFERROR(DATA!RRV2,\"\"))","v":""},{"$f":"IF(DATA!RRW2=0,\"\",IFERROR(DATA!RRW2,\"\"))","v":""},{"$f":"IF(DATA!RRX2=0,\"\",IFERROR(DATA!RRX2,\"\"))","v":""},{"$f":"IF(DATA!RRY2=0,\"\",IFERROR(DATA!RRY2,\"\"))","v":""},{"$f":"IF(DATA!RRZ2=0,\"\",IFERROR(DATA!RRZ2,\"\"))","v":""},{"$f":"IF(DATA!RSA2=0,\"\",IFERROR(DATA!RSA2,\"\"))","v":""},{"$f":"IF(DATA!RSB2=0,\"\",IFERROR(DATA!RSB2,\"\"))","v":""},{"$f":"IF(DATA!RSC2=0,\"\",IFERROR(DATA!RSC2,\"\"))","v":""},{"$f":"IF(DATA!RSD2=0,\"\",IFERROR(DATA!RSD2,\"\"))","v":""},{"$f":"IF(DATA!RSE2=0,\"\",IFERROR(DATA!RSE2,\"\"))","v":""},{"$f":"IF(DATA!RSF2=0,\"\",IFERROR(DATA!RSF2,\"\"))","v":""},{"$f":"IF(DATA!RSG2=0,\"\",IFERROR(DATA!RSG2,\"\"))","v":""},{"$f":"IF(DATA!RSH2=0,\"\",IFERROR(DATA!RSH2,\"\"))","v":""},{"$f":"IF(DATA!RSI2=0,\"\",IFERROR(DATA!RSI2,\"\"))","v":""},{"$f":"IF(DATA!RSJ2=0,\"\",IFERROR(DATA!RSJ2,\"\"))","v":""},{"$f":"IF(DATA!RSK2=0,\"\",IFERROR(DATA!RSK2,\"\"))","v":""},{"$f":"IF(DATA!RSL2=0,\"\",IFERROR(DATA!RSL2,\"\"))","v":""},{"$f":"IF(DATA!RSM2=0,\"\",IFERROR(DATA!RSM2,\"\"))","v":""},{"$f":"IF(DATA!RSN2=0,\"\",IFERROR(DATA!RSN2,\"\"))","v":""},{"$f":"IF(DATA!RSO2=0,\"\",IFERROR(DATA!RSO2,\"\"))","v":""},{"$f":"IF(DATA!RSP2=0,\"\",IFERROR(DATA!RSP2,\"\"))","v":""},{"$f":"IF(DATA!RSQ2=0,\"\",IFERROR(DATA!RSQ2,\"\"))","v":""},{"$f":"IF(DATA!RSR2=0,\"\",IFERROR(DATA!RSR2,\"\"))","v":""},{"$f":"IF(DATA!RSS2=0,\"\",IFERROR(DATA!RSS2,\"\"))","v":""},{"$f":"IF(DATA!RST2=0,\"\",IFERROR(DATA!RST2,\"\"))","v":""},{"$f":"IF(DATA!RSU2=0,\"\",IFERROR(DATA!RSU2,\"\"))","v":""},{"$f":"IF(DATA!RSV2=0,\"\",IFERROR(DATA!RSV2,\"\"))","v":""},{"$f":"IF(DATA!RSW2=0,\"\",IFERROR(DATA!RSW2,\"\"))","v":""},{"$f":"IF(DATA!RSX2=0,\"\",IFERROR(DATA!RSX2,\"\"))","v":""},{"$f":"IF(DATA!RSY2=0,\"\",IFERROR(DATA!RSY2,\"\"))","v":""},{"$f":"IF(DATA!RSZ2=0,\"\",IFERROR(DATA!RSZ2,\"\"))","v":""},{"$f":"IF(DATA!RTA2=0,\"\",IFERROR(DATA!RTA2,\"\"))","v":""},{"$f":"IF(DATA!RTB2=0,\"\",IFERROR(DATA!RTB2,\"\"))","v":""},{"$f":"IF(DATA!RTC2=0,\"\",IFERROR(DATA!RTC2,\"\"))","v":""},{"$f":"IF(DATA!RTD2=0,\"\",IFERROR(DATA!RTD2,\"\"))","v":""},{"$f":"IF(DATA!RTE2=0,\"\",IFERROR(DATA!RTE2,\"\"))","v":""},{"$f":"IF(DATA!RTF2=0,\"\",IFERROR(DATA!RTF2,\"\"))","v":""},{"$f":"IF(DATA!RTG2=0,\"\",IFERROR(DATA!RTG2,\"\"))","v":""},{"$f":"IF(DATA!RTH2=0,\"\",IFERROR(DATA!RTH2,\"\"))","v":""},{"$f":"IF(DATA!RTI2=0,\"\",IFERROR(DATA!RTI2,\"\"))","v":""},{"$f":"IF(DATA!RTJ2=0,\"\",IFERROR(DATA!RTJ2,\"\"))","v":""},{"$f":"IF(DATA!RTK2=0,\"\",IFERROR(DATA!RTK2,\"\"))","v":""},{"$f":"IF(DATA!RTL2=0,\"\",IFERROR(DATA!RTL2,\"\"))","v":""},{"$f":"IF(DATA!RTM2=0,\"\",IFERROR(DATA!RTM2,\"\"))","v":""},{"$f":"IF(DATA!RTN2=0,\"\",IFERROR(DATA!RTN2,\"\"))","v":""},{"$f":"IF(DATA!RTO2=0,\"\",IFERROR(DATA!RTO2,\"\"))","v":""},{"$f":"IF(DATA!RTP2=0,\"\",IFERROR(DATA!RTP2,\"\"))","v":""},{"$f":"IF(DATA!RTQ2=0,\"\",IFERROR(DATA!RTQ2,\"\"))","v":""},{"$f":"IF(DATA!RTR2=0,\"\",IFERROR(DATA!RTR2,\"\"))","v":""},{"$f":"IF(DATA!RTS2=0,\"\",IFERROR(DATA!RTS2,\"\"))","v":""},{"$f":"IF(DATA!RTT2=0,\"\",IFERROR(DATA!RTT2,\"\"))","v":""},{"$f":"IF(DATA!RTU2=0,\"\",IFERROR(DATA!RTU2,\"\"))","v":""},{"$f":"IF(DATA!RTV2=0,\"\",IFERROR(DATA!RTV2,\"\"))","v":""},{"$f":"IF(DATA!RTW2=0,\"\",IFERROR(DATA!RTW2,\"\"))","v":""},{"$f":"IF(DATA!RTX2=0,\"\",IFERROR(DATA!RTX2,\"\"))","v":""},{"$f":"IF(DATA!RTY2=0,\"\",IFERROR(DATA!RTY2,\"\"))","v":""},{"$f":"IF(DATA!RTZ2=0,\"\",IFERROR(DATA!RTZ2,\"\"))","v":""},{"$f":"IF(DATA!RUA2=0,\"\",IFERROR(DATA!RUA2,\"\"))","v":""},{"$f":"IF(DATA!RUB2=0,\"\",IFERROR(DATA!RUB2,\"\"))","v":""},{"$f":"IF(DATA!RUC2=0,\"\",IFERROR(DATA!RUC2,\"\"))","v":""},{"$f":"IF(DATA!RUD2=0,\"\",IFERROR(DATA!RUD2,\"\"))","v":""},{"$f":"IF(DATA!RUE2=0,\"\",IFERROR(DATA!RUE2,\"\"))","v":""},{"$f":"IF(DATA!RUF2=0,\"\",IFERROR(DATA!RUF2,\"\"))","v":""},{"$f":"IF(DATA!RUG2=0,\"\",IFERROR(DATA!RUG2,\"\"))","v":""},{"$f":"IF(DATA!RUH2=0,\"\",IFERROR(DATA!RUH2,\"\"))","v":""},{"$f":"IF(DATA!RUI2=0,\"\",IFERROR(DATA!RUI2,\"\"))","v":""},{"$f":"IF(DATA!RUJ2=0,\"\",IFERROR(DATA!RUJ2,\"\"))","v":""},{"$f":"IF(DATA!RUK2=0,\"\",IFERROR(DATA!RUK2,\"\"))","v":""},{"$f":"IF(DATA!RUL2=0,\"\",IFERROR(DATA!RUL2,\"\"))","v":""},{"$f":"IF(DATA!RUM2=0,\"\",IFERROR(DATA!RUM2,\"\"))","v":""},{"$f":"IF(DATA!RUN2=0,\"\",IFERROR(DATA!RUN2,\"\"))","v":""},{"$f":"IF(DATA!RUO2=0,\"\",IFERROR(DATA!RUO2,\"\"))","v":""},{"$f":"IF(DATA!RUP2=0,\"\",IFERROR(DATA!RUP2,\"\"))","v":""},{"$f":"IF(DATA!RUQ2=0,\"\",IFERROR(DATA!RUQ2,\"\"))","v":""},{"$f":"IF(DATA!RUR2=0,\"\",IFERROR(DATA!RUR2,\"\"))","v":""},{"$f":"IF(DATA!RUS2=0,\"\",IFERROR(DATA!RUS2,\"\"))","v":""},{"$f":"IF(DATA!RUT2=0,\"\",IFERROR(DATA!RUT2,\"\"))","v":""},{"$f":"IF(DATA!RUU2=0,\"\",IFERROR(DATA!RUU2,\"\"))","v":""},{"$f":"IF(DATA!RUV2=0,\"\",IFERROR(DATA!RUV2,\"\"))","v":""},{"$f":"IF(DATA!RUW2=0,\"\",IFERROR(DATA!RUW2,\"\"))","v":""},{"$f":"IF(DATA!RUX2=0,\"\",IFERROR(DATA!RUX2,\"\"))","v":""},{"$f":"IF(DATA!RUY2=0,\"\",IFERROR(DATA!RUY2,\"\"))","v":""},{"$f":"IF(DATA!RUZ2=0,\"\",IFERROR(DATA!RUZ2,\"\"))","v":""},{"$f":"IF(DATA!RVA2=0,\"\",IFERROR(DATA!RVA2,\"\"))","v":""},{"$f":"IF(DATA!RVB2=0,\"\",IFERROR(DATA!RVB2,\"\"))","v":""},{"$f":"IF(DATA!RVC2=0,\"\",IFERROR(DATA!RVC2,\"\"))","v":""},{"$f":"IF(DATA!RVD2=0,\"\",IFERROR(DATA!RVD2,\"\"))","v":""},{"$f":"IF(DATA!RVE2=0,\"\",IFERROR(DATA!RVE2,\"\"))","v":""},{"$f":"IF(DATA!RVF2=0,\"\",IFERROR(DATA!RVF2,\"\"))","v":""},{"$f":"IF(DATA!RVG2=0,\"\",IFERROR(DATA!RVG2,\"\"))","v":""},{"$f":"IF(DATA!RVH2=0,\"\",IFERROR(DATA!RVH2,\"\"))","v":""},{"$f":"IF(DATA!RVI2=0,\"\",IFERROR(DATA!RVI2,\"\"))","v":""},{"$f":"IF(DATA!RVJ2=0,\"\",IFERROR(DATA!RVJ2,\"\"))","v":""},{"$f":"IF(DATA!RVK2=0,\"\",IFERROR(DATA!RVK2,\"\"))","v":""},{"$f":"IF(DATA!RVL2=0,\"\",IFERROR(DATA!RVL2,\"\"))","v":""},{"$f":"IF(DATA!RVM2=0,\"\",IFERROR(DATA!RVM2,\"\"))","v":""},{"$f":"IF(DATA!RVN2=0,\"\",IFERROR(DATA!RVN2,\"\"))","v":""},{"$f":"IF(DATA!RVO2=0,\"\",IFERROR(DATA!RVO2,\"\"))","v":""},{"$f":"IF(DATA!RVP2=0,\"\",IFERROR(DATA!RVP2,\"\"))","v":""},{"$f":"IF(DATA!RVQ2=0,\"\",IFERROR(DATA!RVQ2,\"\"))","v":""},{"$f":"IF(DATA!RVR2=0,\"\",IFERROR(DATA!RVR2,\"\"))","v":""},{"$f":"IF(DATA!RVS2=0,\"\",IFERROR(DATA!RVS2,\"\"))","v":""},{"$f":"IF(DATA!RVT2=0,\"\",IFERROR(DATA!RVT2,\"\"))","v":""},{"$f":"IF(DATA!RVU2=0,\"\",IFERROR(DATA!RVU2,\"\"))","v":""},{"$f":"IF(DATA!RVV2=0,\"\",IFERROR(DATA!RVV2,\"\"))","v":""},{"$f":"IF(DATA!RVW2=0,\"\",IFERROR(DATA!RVW2,\"\"))","v":""},{"$f":"IF(DATA!RVX2=0,\"\",IFERROR(DATA!RVX2,\"\"))","v":""},{"$f":"IF(DATA!RVY2=0,\"\",IFERROR(DATA!RVY2,\"\"))","v":""},{"$f":"IF(DATA!RVZ2=0,\"\",IFERROR(DATA!RVZ2,\"\"))","v":""},{"$f":"IF(DATA!RWA2=0,\"\",IFERROR(DATA!RWA2,\"\"))","v":""},{"$f":"IF(DATA!RWB2=0,\"\",IFERROR(DATA!RWB2,\"\"))","v":""},{"$f":"IF(DATA!RWC2=0,\"\",IFERROR(DATA!RWC2,\"\"))","v":""},{"$f":"IF(DATA!RWD2=0,\"\",IFERROR(DATA!RWD2,\"\"))","v":""},{"$f":"IF(DATA!RWE2=0,\"\",IFERROR(DATA!RWE2,\"\"))","v":""},{"$f":"IF(DATA!RWF2=0,\"\",IFERROR(DATA!RWF2,\"\"))","v":""},{"$f":"IF(DATA!RWG2=0,\"\",IFERROR(DATA!RWG2,\"\"))","v":""},{"$f":"IF(DATA!RWH2=0,\"\",IFERROR(DATA!RWH2,\"\"))","v":""},{"$f":"IF(DATA!RWI2=0,\"\",IFERROR(DATA!RWI2,\"\"))","v":""},{"$f":"IF(DATA!RWJ2=0,\"\",IFERROR(DATA!RWJ2,\"\"))","v":""},{"$f":"IF(DATA!RWK2=0,\"\",IFERROR(DATA!RWK2,\"\"))","v":""},{"$f":"IF(DATA!RWL2=0,\"\",IFERROR(DATA!RWL2,\"\"))","v":""},{"$f":"IF(DATA!RWM2=0,\"\",IFERROR(DATA!RWM2,\"\"))","v":""},{"$f":"IF(DATA!RWN2=0,\"\",IFERROR(DATA!RWN2,\"\"))","v":""},{"$f":"IF(DATA!RWO2=0,\"\",IFERROR(DATA!RWO2,\"\"))","v":""},{"$f":"IF(DATA!RWP2=0,\"\",IFERROR(DATA!RWP2,\"\"))","v":""},{"$f":"IF(DATA!RWQ2=0,\"\",IFERROR(DATA!RWQ2,\"\"))","v":""},{"$f":"IF(DATA!RWR2=0,\"\",IFERROR(DATA!RWR2,\"\"))","v":""},{"$f":"IF(DATA!RWS2=0,\"\",IFERROR(DATA!RWS2,\"\"))","v":""},{"$f":"IF(DATA!RWT2=0,\"\",IFERROR(DATA!RWT2,\"\"))","v":""},{"$f":"IF(DATA!RWU2=0,\"\",IFERROR(DATA!RWU2,\"\"))","v":""},{"$f":"IF(DATA!RWV2=0,\"\",IFERROR(DATA!RWV2,\"\"))","v":""},{"$f":"IF(DATA!RWW2=0,\"\",IFERROR(DATA!RWW2,\"\"))","v":""},{"$f":"IF(DATA!RWX2=0,\"\",IFERROR(DATA!RWX2,\"\"))","v":""},{"$f":"IF(DATA!RWY2=0,\"\",IFERROR(DATA!RWY2,\"\"))","v":""},{"$f":"IF(DATA!RWZ2=0,\"\",IFERROR(DATA!RWZ2,\"\"))","v":""},{"$f":"IF(DATA!RXA2=0,\"\",IFERROR(DATA!RXA2,\"\"))","v":""},{"$f":"IF(DATA!RXB2=0,\"\",IFERROR(DATA!RXB2,\"\"))","v":""},{"$f":"IF(DATA!RXC2=0,\"\",IFERROR(DATA!RXC2,\"\"))","v":""},{"$f":"IF(DATA!RXD2=0,\"\",IFERROR(DATA!RXD2,\"\"))","v":""},{"$f":"IF(DATA!RXE2=0,\"\",IFERROR(DATA!RXE2,\"\"))","v":""},{"$f":"IF(DATA!RXF2=0,\"\",IFERROR(DATA!RXF2,\"\"))","v":""},{"$f":"IF(DATA!RXG2=0,\"\",IFERROR(DATA!RXG2,\"\"))","v":""},{"$f":"IF(DATA!RXH2=0,\"\",IFERROR(DATA!RXH2,\"\"))","v":""},{"$f":"IF(DATA!RXI2=0,\"\",IFERROR(DATA!RXI2,\"\"))","v":""},{"$f":"IF(DATA!RXJ2=0,\"\",IFERROR(DATA!RXJ2,\"\"))","v":""},{"$f":"IF(DATA!RXK2=0,\"\",IFERROR(DATA!RXK2,\"\"))","v":""},{"$f":"IF(DATA!RXL2=0,\"\",IFERROR(DATA!RXL2,\"\"))","v":""},{"$f":"IF(DATA!RXM2=0,\"\",IFERROR(DATA!RXM2,\"\"))","v":""},{"$f":"IF(DATA!RXN2=0,\"\",IFERROR(DATA!RXN2,\"\"))","v":""},{"$f":"IF(DATA!RXO2=0,\"\",IFERROR(DATA!RXO2,\"\"))","v":""},{"$f":"IF(DATA!RXP2=0,\"\",IFERROR(DATA!RXP2,\"\"))","v":""},{"$f":"IF(DATA!RXQ2=0,\"\",IFERROR(DATA!RXQ2,\"\"))","v":""},{"$f":"IF(DATA!RXR2=0,\"\",IFERROR(DATA!RXR2,\"\"))","v":""},{"$f":"IF(DATA!RXS2=0,\"\",IFERROR(DATA!RXS2,\"\"))","v":""},{"$f":"IF(DATA!RXT2=0,\"\",IFERROR(DATA!RXT2,\"\"))","v":""},{"$f":"IF(DATA!RXU2=0,\"\",IFERROR(DATA!RXU2,\"\"))","v":""},{"$f":"IF(DATA!RXV2=0,\"\",IFERROR(DATA!RXV2,\"\"))","v":""},{"$f":"IF(DATA!RXW2=0,\"\",IFERROR(DATA!RXW2,\"\"))","v":""},{"$f":"IF(DATA!RXX2=0,\"\",IFERROR(DATA!RXX2,\"\"))","v":""},{"$f":"IF(DATA!RXY2=0,\"\",IFERROR(DATA!RXY2,\"\"))","v":""},{"$f":"IF(DATA!RXZ2=0,\"\",IFERROR(DATA!RXZ2,\"\"))","v":""},{"$f":"IF(DATA!RYA2=0,\"\",IFERROR(DATA!RYA2,\"\"))","v":""},{"$f":"IF(DATA!RYB2=0,\"\",IFERROR(DATA!RYB2,\"\"))","v":""},{"$f":"IF(DATA!RYC2=0,\"\",IFERROR(DATA!RYC2,\"\"))","v":""},{"$f":"IF(DATA!RYD2=0,\"\",IFERROR(DATA!RYD2,\"\"))","v":""},{"$f":"IF(DATA!RYE2=0,\"\",IFERROR(DATA!RYE2,\"\"))","v":""},{"$f":"IF(DATA!RYF2=0,\"\",IFERROR(DATA!RYF2,\"\"))","v":""},{"$f":"IF(DATA!RYG2=0,\"\",IFERROR(DATA!RYG2,\"\"))","v":""},{"$f":"IF(DATA!RYH2=0,\"\",IFERROR(DATA!RYH2,\"\"))","v":""},{"$f":"IF(DATA!RYI2=0,\"\",IFERROR(DATA!RYI2,\"\"))","v":""},{"$f":"IF(DATA!RYJ2=0,\"\",IFERROR(DATA!RYJ2,\"\"))","v":""},{"$f":"IF(DATA!RYK2=0,\"\",IFERROR(DATA!RYK2,\"\"))","v":""},{"$f":"IF(DATA!RYL2=0,\"\",IFERROR(DATA!RYL2,\"\"))","v":""},{"$f":"IF(DATA!RYM2=0,\"\",IFERROR(DATA!RYM2,\"\"))","v":""},{"$f":"IF(DATA!RYN2=0,\"\",IFERROR(DATA!RYN2,\"\"))","v":""},{"$f":"IF(DATA!RYO2=0,\"\",IFERROR(DATA!RYO2,\"\"))","v":""},{"$f":"IF(DATA!RYP2=0,\"\",IFERROR(DATA!RYP2,\"\"))","v":""},{"$f":"IF(DATA!RYQ2=0,\"\",IFERROR(DATA!RYQ2,\"\"))","v":""},{"$f":"IF(DATA!RYR2=0,\"\",IFERROR(DATA!RYR2,\"\"))","v":""},{"$f":"IF(DATA!RYS2=0,\"\",IFERROR(DATA!RYS2,\"\"))","v":""},{"$f":"IF(DATA!RYT2=0,\"\",IFERROR(DATA!RYT2,\"\"))","v":""},{"$f":"IF(DATA!RYU2=0,\"\",IFERROR(DATA!RYU2,\"\"))","v":""},{"$f":"IF(DATA!RYV2=0,\"\",IFERROR(DATA!RYV2,\"\"))","v":""},{"$f":"IF(DATA!RYW2=0,\"\",IFERROR(DATA!RYW2,\"\"))","v":""},{"$f":"IF(DATA!RYX2=0,\"\",IFERROR(DATA!RYX2,\"\"))","v":""},{"$f":"IF(DATA!RYY2=0,\"\",IFERROR(DATA!RYY2,\"\"))","v":""},{"$f":"IF(DATA!RYZ2=0,\"\",IFERROR(DATA!RYZ2,\"\"))","v":""},{"$f":"IF(DATA!RZA2=0,\"\",IFERROR(DATA!RZA2,\"\"))","v":""},{"$f":"IF(DATA!RZB2=0,\"\",IFERROR(DATA!RZB2,\"\"))","v":""},{"$f":"IF(DATA!RZC2=0,\"\",IFERROR(DATA!RZC2,\"\"))","v":""},{"$f":"IF(DATA!RZD2=0,\"\",IFERROR(DATA!RZD2,\"\"))","v":""},{"$f":"IF(DATA!RZE2=0,\"\",IFERROR(DATA!RZE2,\"\"))","v":""},{"$f":"IF(DATA!RZF2=0,\"\",IFERROR(DATA!RZF2,\"\"))","v":""},{"$f":"IF(DATA!RZG2=0,\"\",IFERROR(DATA!RZG2,\"\"))","v":""},{"$f":"IF(DATA!RZH2=0,\"\",IFERROR(DATA!RZH2,\"\"))","v":""},{"$f":"IF(DATA!RZI2=0,\"\",IFERROR(DATA!RZI2,\"\"))","v":""},{"$f":"IF(DATA!RZJ2=0,\"\",IFERROR(DATA!RZJ2,\"\"))","v":""},{"$f":"IF(DATA!RZK2=0,\"\",IFERROR(DATA!RZK2,\"\"))","v":""},{"$f":"IF(DATA!RZL2=0,\"\",IFERROR(DATA!RZL2,\"\"))","v":""},{"$f":"IF(DATA!RZM2=0,\"\",IFERROR(DATA!RZM2,\"\"))","v":""},{"$f":"IF(DATA!RZN2=0,\"\",IFERROR(DATA!RZN2,\"\"))","v":""},{"$f":"IF(DATA!RZO2=0,\"\",IFERROR(DATA!RZO2,\"\"))","v":""},{"$f":"IF(DATA!RZP2=0,\"\",IFERROR(DATA!RZP2,\"\"))","v":""},{"$f":"IF(DATA!RZQ2=0,\"\",IFERROR(DATA!RZQ2,\"\"))","v":""},{"$f":"IF(DATA!RZR2=0,\"\",IFERROR(DATA!RZR2,\"\"))","v":""},{"$f":"IF(DATA!RZS2=0,\"\",IFERROR(DATA!RZS2,\"\"))","v":""},{"$f":"IF(DATA!RZT2=0,\"\",IFERROR(DATA!RZT2,\"\"))","v":""},{"$f":"IF(DATA!RZU2=0,\"\",IFERROR(DATA!RZU2,\"\"))","v":""},{"$f":"IF(DATA!RZV2=0,\"\",IFERROR(DATA!RZV2,\"\"))","v":""},{"$f":"IF(DATA!RZW2=0,\"\",IFERROR(DATA!RZW2,\"\"))","v":""},{"$f":"IF(DATA!RZX2=0,\"\",IFERROR(DATA!RZX2,\"\"))","v":""},{"$f":"IF(DATA!RZY2=0,\"\",IFERROR(DATA!RZY2,\"\"))","v":""},{"$f":"IF(DATA!RZZ2=0,\"\",IFERROR(DATA!RZZ2,\"\"))","v":""},{"$f":"IF(DATA!SAA2=0,\"\",IFERROR(DATA!SAA2,\"\"))","v":""},{"$f":"IF(DATA!SAB2=0,\"\",IFERROR(DATA!SAB2,\"\"))","v":""},{"$f":"IF(DATA!SAC2=0,\"\",IFERROR(DATA!SAC2,\"\"))","v":""},{"$f":"IF(DATA!SAD2=0,\"\",IFERROR(DATA!SAD2,\"\"))","v":""},{"$f":"IF(DATA!SAE2=0,\"\",IFERROR(DATA!SAE2,\"\"))","v":""},{"$f":"IF(DATA!SAF2=0,\"\",IFERROR(DATA!SAF2,\"\"))","v":""},{"$f":"IF(DATA!SAG2=0,\"\",IFERROR(DATA!SAG2,\"\"))","v":""},{"$f":"IF(DATA!SAH2=0,\"\",IFERROR(DATA!SAH2,\"\"))","v":""},{"$f":"IF(DATA!SAI2=0,\"\",IFERROR(DATA!SAI2,\"\"))","v":""},{"$f":"IF(DATA!SAJ2=0,\"\",IFERROR(DATA!SAJ2,\"\"))","v":""},{"$f":"IF(DATA!SAK2=0,\"\",IFERROR(DATA!SAK2,\"\"))","v":""},{"$f":"IF(DATA!SAL2=0,\"\",IFERROR(DATA!SAL2,\"\"))","v":""},{"$f":"IF(DATA!SAM2=0,\"\",IFERROR(DATA!SAM2,\"\"))","v":""},{"$f":"IF(DATA!SAN2=0,\"\",IFERROR(DATA!SAN2,\"\"))","v":""},{"$f":"IF(DATA!SAO2=0,\"\",IFERROR(DATA!SAO2,\"\"))","v":""},{"$f":"IF(DATA!SAP2=0,\"\",IFERROR(DATA!SAP2,\"\"))","v":""},{"$f":"IF(DATA!SAQ2=0,\"\",IFERROR(DATA!SAQ2,\"\"))","v":""},{"$f":"IF(DATA!SAR2=0,\"\",IFERROR(DATA!SAR2,\"\"))","v":""},{"$f":"IF(DATA!SAS2=0,\"\",IFERROR(DATA!SAS2,\"\"))","v":""},{"$f":"IF(DATA!SAT2=0,\"\",IFERROR(DATA!SAT2,\"\"))","v":""},{"$f":"IF(DATA!SAU2=0,\"\",IFERROR(DATA!SAU2,\"\"))","v":""},{"$f":"IF(DATA!SAV2=0,\"\",IFERROR(DATA!SAV2,\"\"))","v":""},{"$f":"IF(DATA!SAW2=0,\"\",IFERROR(DATA!SAW2,\"\"))","v":""},{"$f":"IF(DATA!SAX2=0,\"\",IFERROR(DATA!SAX2,\"\"))","v":""},{"$f":"IF(DATA!SAY2=0,\"\",IFERROR(DATA!SAY2,\"\"))","v":""},{"$f":"IF(DATA!SAZ2=0,\"\",IFERROR(DATA!SAZ2,\"\"))","v":""},{"$f":"IF(DATA!SBA2=0,\"\",IFERROR(DATA!SBA2,\"\"))","v":""},{"$f":"IF(DATA!SBB2=0,\"\",IFERROR(DATA!SBB2,\"\"))","v":""},{"$f":"IF(DATA!SBC2=0,\"\",IFERROR(DATA!SBC2,\"\"))","v":""},{"$f":"IF(DATA!SBD2=0,\"\",IFERROR(DATA!SBD2,\"\"))","v":""},{"$f":"IF(DATA!SBE2=0,\"\",IFERROR(DATA!SBE2,\"\"))","v":""},{"$f":"IF(DATA!SBF2=0,\"\",IFERROR(DATA!SBF2,\"\"))","v":""},{"$f":"IF(DATA!SBG2=0,\"\",IFERROR(DATA!SBG2,\"\"))","v":""},{"$f":"IF(DATA!SBH2=0,\"\",IFERROR(DATA!SBH2,\"\"))","v":""},{"$f":"IF(DATA!SBI2=0,\"\",IFERROR(DATA!SBI2,\"\"))","v":""},{"$f":"IF(DATA!SBJ2=0,\"\",IFERROR(DATA!SBJ2,\"\"))","v":""},{"$f":"IF(DATA!SBK2=0,\"\",IFERROR(DATA!SBK2,\"\"))","v":""},{"$f":"IF(DATA!SBL2=0,\"\",IFERROR(DATA!SBL2,\"\"))","v":""},{"$f":"IF(DATA!SBM2=0,\"\",IFERROR(DATA!SBM2,\"\"))","v":""},{"$f":"IF(DATA!SBN2=0,\"\",IFERROR(DATA!SBN2,\"\"))","v":""},{"$f":"IF(DATA!SBO2=0,\"\",IFERROR(DATA!SBO2,\"\"))","v":""},{"$f":"IF(DATA!SBP2=0,\"\",IFERROR(DATA!SBP2,\"\"))","v":""},{"$f":"IF(DATA!SBQ2=0,\"\",IFERROR(DATA!SBQ2,\"\"))","v":""},{"$f":"IF(DATA!SBR2=0,\"\",IFERROR(DATA!SBR2,\"\"))","v":""},{"$f":"IF(DATA!SBS2=0,\"\",IFERROR(DATA!SBS2,\"\"))","v":""},{"$f":"IF(DATA!SBT2=0,\"\",IFERROR(DATA!SBT2,\"\"))","v":""},{"$f":"IF(DATA!SBU2=0,\"\",IFERROR(DATA!SBU2,\"\"))","v":""},{"$f":"IF(DATA!SBV2=0,\"\",IFERROR(DATA!SBV2,\"\"))","v":""},{"$f":"IF(DATA!SBW2=0,\"\",IFERROR(DATA!SBW2,\"\"))","v":""},{"$f":"IF(DATA!SBX2=0,\"\",IFERROR(DATA!SBX2,\"\"))","v":""},{"$f":"IF(DATA!SBY2=0,\"\",IFERROR(DATA!SBY2,\"\"))","v":""},{"$f":"IF(DATA!SBZ2=0,\"\",IFERROR(DATA!SBZ2,\"\"))","v":""},{"$f":"IF(DATA!SCA2=0,\"\",IFERROR(DATA!SCA2,\"\"))","v":""},{"$f":"IF(DATA!SCB2=0,\"\",IFERROR(DATA!SCB2,\"\"))","v":""},{"$f":"IF(DATA!SCC2=0,\"\",IFERROR(DATA!SCC2,\"\"))","v":""},{"$f":"IF(DATA!SCD2=0,\"\",IFERROR(DATA!SCD2,\"\"))","v":""},{"$f":"IF(DATA!SCE2=0,\"\",IFERROR(DATA!SCE2,\"\"))","v":""},{"$f":"IF(DATA!SCF2=0,\"\",IFERROR(DATA!SCF2,\"\"))","v":""},{"$f":"IF(DATA!SCG2=0,\"\",IFERROR(DATA!SCG2,\"\"))","v":""},{"$f":"IF(DATA!SCH2=0,\"\",IFERROR(DATA!SCH2,\"\"))","v":""},{"$f":"IF(DATA!SCI2=0,\"\",IFERROR(DATA!SCI2,\"\"))","v":""},{"$f":"IF(DATA!SCJ2=0,\"\",IFERROR(DATA!SCJ2,\"\"))","v":""},{"$f":"IF(DATA!SCK2=0,\"\",IFERROR(DATA!SCK2,\"\"))","v":""},{"$f":"IF(DATA!SCL2=0,\"\",IFERROR(DATA!SCL2,\"\"))","v":""},{"$f":"IF(DATA!SCM2=0,\"\",IFERROR(DATA!SCM2,\"\"))","v":""},{"$f":"IF(DATA!SCN2=0,\"\",IFERROR(DATA!SCN2,\"\"))","v":""},{"$f":"IF(DATA!SCO2=0,\"\",IFERROR(DATA!SCO2,\"\"))","v":""},{"$f":"IF(DATA!SCP2=0,\"\",IFERROR(DATA!SCP2,\"\"))","v":""},{"$f":"IF(DATA!SCQ2=0,\"\",IFERROR(DATA!SCQ2,\"\"))","v":""},{"$f":"IF(DATA!SCR2=0,\"\",IFERROR(DATA!SCR2,\"\"))","v":""},{"$f":"IF(DATA!SCS2=0,\"\",IFERROR(DATA!SCS2,\"\"))","v":""},{"$f":"IF(DATA!SCT2=0,\"\",IFERROR(DATA!SCT2,\"\"))","v":""},{"$f":"IF(DATA!SCU2=0,\"\",IFERROR(DATA!SCU2,\"\"))","v":""},{"$f":"IF(DATA!SCV2=0,\"\",IFERROR(DATA!SCV2,\"\"))","v":""},{"$f":"IF(DATA!SCW2=0,\"\",IFERROR(DATA!SCW2,\"\"))","v":""},{"$f":"IF(DATA!SCX2=0,\"\",IFERROR(DATA!SCX2,\"\"))","v":""},{"$f":"IF(DATA!SCY2=0,\"\",IFERROR(DATA!SCY2,\"\"))","v":""},{"$f":"IF(DATA!SCZ2=0,\"\",IFERROR(DATA!SCZ2,\"\"))","v":""},{"$f":"IF(DATA!SDA2=0,\"\",IFERROR(DATA!SDA2,\"\"))","v":""},{"$f":"IF(DATA!SDB2=0,\"\",IFERROR(DATA!SDB2,\"\"))","v":""},{"$f":"IF(DATA!SDC2=0,\"\",IFERROR(DATA!SDC2,\"\"))","v":""},{"$f":"IF(DATA!SDD2=0,\"\",IFERROR(DATA!SDD2,\"\"))","v":""},{"$f":"IF(DATA!SDE2=0,\"\",IFERROR(DATA!SDE2,\"\"))","v":""},{"$f":"IF(DATA!SDF2=0,\"\",IFERROR(DATA!SDF2,\"\"))","v":""},{"$f":"IF(DATA!SDG2=0,\"\",IFERROR(DATA!SDG2,\"\"))","v":""},{"$f":"IF(DATA!SDH2=0,\"\",IFERROR(DATA!SDH2,\"\"))","v":""},{"$f":"IF(DATA!SDI2=0,\"\",IFERROR(DATA!SDI2,\"\"))","v":""},{"$f":"IF(DATA!SDJ2=0,\"\",IFERROR(DATA!SDJ2,\"\"))","v":""},{"$f":"IF(DATA!SDK2=0,\"\",IFERROR(DATA!SDK2,\"\"))","v":""},{"$f":"IF(DATA!SDL2=0,\"\",IFERROR(DATA!SDL2,\"\"))","v":""},{"$f":"IF(DATA!SDM2=0,\"\",IFERROR(DATA!SDM2,\"\"))","v":""},{"$f":"IF(DATA!SDN2=0,\"\",IFERROR(DATA!SDN2,\"\"))","v":""},{"$f":"IF(DATA!SDO2=0,\"\",IFERROR(DATA!SDO2,\"\"))","v":""},{"$f":"IF(DATA!SDP2=0,\"\",IFERROR(DATA!SDP2,\"\"))","v":""},{"$f":"IF(DATA!SDQ2=0,\"\",IFERROR(DATA!SDQ2,\"\"))","v":""},{"$f":"IF(DATA!SDR2=0,\"\",IFERROR(DATA!SDR2,\"\"))","v":""},{"$f":"IF(DATA!SDS2=0,\"\",IFERROR(DATA!SDS2,\"\"))","v":""},{"$f":"IF(DATA!SDT2=0,\"\",IFERROR(DATA!SDT2,\"\"))","v":""},{"$f":"IF(DATA!SDU2=0,\"\",IFERROR(DATA!SDU2,\"\"))","v":""},{"$f":"IF(DATA!SDV2=0,\"\",IFERROR(DATA!SDV2,\"\"))","v":""},{"$f":"IF(DATA!SDW2=0,\"\",IFERROR(DATA!SDW2,\"\"))","v":""},{"$f":"IF(DATA!SDX2=0,\"\",IFERROR(DATA!SDX2,\"\"))","v":""},{"$f":"IF(DATA!SDY2=0,\"\",IFERROR(DATA!SDY2,\"\"))","v":""},{"$f":"IF(DATA!SDZ2=0,\"\",IFERROR(DATA!SDZ2,\"\"))","v":""},{"$f":"IF(DATA!SEA2=0,\"\",IFERROR(DATA!SEA2,\"\"))","v":""},{"$f":"IF(DATA!SEB2=0,\"\",IFERROR(DATA!SEB2,\"\"))","v":""},{"$f":"IF(DATA!SEC2=0,\"\",IFERROR(DATA!SEC2,\"\"))","v":""},{"$f":"IF(DATA!SED2=0,\"\",IFERROR(DATA!SED2,\"\"))","v":""},{"$f":"IF(DATA!SEE2=0,\"\",IFERROR(DATA!SEE2,\"\"))","v":""},{"$f":"IF(DATA!SEF2=0,\"\",IFERROR(DATA!SEF2,\"\"))","v":""},{"$f":"IF(DATA!SEG2=0,\"\",IFERROR(DATA!SEG2,\"\"))","v":""},{"$f":"IF(DATA!SEH2=0,\"\",IFERROR(DATA!SEH2,\"\"))","v":""},{"$f":"IF(DATA!SEI2=0,\"\",IFERROR(DATA!SEI2,\"\"))","v":""},{"$f":"IF(DATA!SEJ2=0,\"\",IFERROR(DATA!SEJ2,\"\"))","v":""},{"$f":"IF(DATA!SEK2=0,\"\",IFERROR(DATA!SEK2,\"\"))","v":""},{"$f":"IF(DATA!SEL2=0,\"\",IFERROR(DATA!SEL2,\"\"))","v":""},{"$f":"IF(DATA!SEM2=0,\"\",IFERROR(DATA!SEM2,\"\"))","v":""},{"$f":"IF(DATA!SEN2=0,\"\",IFERROR(DATA!SEN2,\"\"))","v":""},{"$f":"IF(DATA!SEO2=0,\"\",IFERROR(DATA!SEO2,\"\"))","v":""},{"$f":"IF(DATA!SEP2=0,\"\",IFERROR(DATA!SEP2,\"\"))","v":""},{"$f":"IF(DATA!SEQ2=0,\"\",IFERROR(DATA!SEQ2,\"\"))","v":""},{"$f":"IF(DATA!SER2=0,\"\",IFERROR(DATA!SER2,\"\"))","v":""},{"$f":"IF(DATA!SES2=0,\"\",IFERROR(DATA!SES2,\"\"))","v":""},{"$f":"IF(DATA!SET2=0,\"\",IFERROR(DATA!SET2,\"\"))","v":""},{"$f":"IF(DATA!SEU2=0,\"\",IFERROR(DATA!SEU2,\"\"))","v":""},{"$f":"IF(DATA!SEV2=0,\"\",IFERROR(DATA!SEV2,\"\"))","v":""},{"$f":"IF(DATA!SEW2=0,\"\",IFERROR(DATA!SEW2,\"\"))","v":""},{"$f":"IF(DATA!SEX2=0,\"\",IFERROR(DATA!SEX2,\"\"))","v":""},{"$f":"IF(DATA!SEY2=0,\"\",IFERROR(DATA!SEY2,\"\"))","v":""},{"$f":"IF(DATA!SEZ2=0,\"\",IFERROR(DATA!SEZ2,\"\"))","v":""},{"$f":"IF(DATA!SFA2=0,\"\",IFERROR(DATA!SFA2,\"\"))","v":""},{"$f":"IF(DATA!SFB2=0,\"\",IFERROR(DATA!SFB2,\"\"))","v":""},{"$f":"IF(DATA!SFC2=0,\"\",IFERROR(DATA!SFC2,\"\"))","v":""},{"$f":"IF(DATA!SFD2=0,\"\",IFERROR(DATA!SFD2,\"\"))","v":""},{"$f":"IF(DATA!SFE2=0,\"\",IFERROR(DATA!SFE2,\"\"))","v":""},{"$f":"IF(DATA!SFF2=0,\"\",IFERROR(DATA!SFF2,\"\"))","v":""},{"$f":"IF(DATA!SFG2=0,\"\",IFERROR(DATA!SFG2,\"\"))","v":""},{"$f":"IF(DATA!SFH2=0,\"\",IFERROR(DATA!SFH2,\"\"))","v":""},{"$f":"IF(DATA!SFI2=0,\"\",IFERROR(DATA!SFI2,\"\"))","v":""},{"$f":"IF(DATA!SFJ2=0,\"\",IFERROR(DATA!SFJ2,\"\"))","v":""},{"$f":"IF(DATA!SFK2=0,\"\",IFERROR(DATA!SFK2,\"\"))","v":""},{"$f":"IF(DATA!SFL2=0,\"\",IFERROR(DATA!SFL2,\"\"))","v":""},{"$f":"IF(DATA!SFM2=0,\"\",IFERROR(DATA!SFM2,\"\"))","v":""},{"$f":"IF(DATA!SFN2=0,\"\",IFERROR(DATA!SFN2,\"\"))","v":""},{"$f":"IF(DATA!SFO2=0,\"\",IFERROR(DATA!SFO2,\"\"))","v":""},{"$f":"IF(DATA!SFP2=0,\"\",IFERROR(DATA!SFP2,\"\"))","v":""},{"$f":"IF(DATA!SFQ2=0,\"\",IFERROR(DATA!SFQ2,\"\"))","v":""},{"$f":"IF(DATA!SFR2=0,\"\",IFERROR(DATA!SFR2,\"\"))","v":""},{"$f":"IF(DATA!SFS2=0,\"\",IFERROR(DATA!SFS2,\"\"))","v":""},{"$f":"IF(DATA!SFT2=0,\"\",IFERROR(DATA!SFT2,\"\"))","v":""},{"$f":"IF(DATA!SFU2=0,\"\",IFERROR(DATA!SFU2,\"\"))","v":""},{"$f":"IF(DATA!SFV2=0,\"\",IFERROR(DATA!SFV2,\"\"))","v":""},{"$f":"IF(DATA!SFW2=0,\"\",IFERROR(DATA!SFW2,\"\"))","v":""},{"$f":"IF(DATA!SFX2=0,\"\",IFERROR(DATA!SFX2,\"\"))","v":""},{"$f":"IF(DATA!SFY2=0,\"\",IFERROR(DATA!SFY2,\"\"))","v":""},{"$f":"IF(DATA!SFZ2=0,\"\",IFERROR(DATA!SFZ2,\"\"))","v":""},{"$f":"IF(DATA!SGA2=0,\"\",IFERROR(DATA!SGA2,\"\"))","v":""},{"$f":"IF(DATA!SGB2=0,\"\",IFERROR(DATA!SGB2,\"\"))","v":""},{"$f":"IF(DATA!SGC2=0,\"\",IFERROR(DATA!SGC2,\"\"))","v":""},{"$f":"IF(DATA!SGD2=0,\"\",IFERROR(DATA!SGD2,\"\"))","v":""},{"$f":"IF(DATA!SGE2=0,\"\",IFERROR(DATA!SGE2,\"\"))","v":""},{"$f":"IF(DATA!SGF2=0,\"\",IFERROR(DATA!SGF2,\"\"))","v":""},{"$f":"IF(DATA!SGG2=0,\"\",IFERROR(DATA!SGG2,\"\"))","v":""},{"$f":"IF(DATA!SGH2=0,\"\",IFERROR(DATA!SGH2,\"\"))","v":""},{"$f":"IF(DATA!SGI2=0,\"\",IFERROR(DATA!SGI2,\"\"))","v":""},{"$f":"IF(DATA!SGJ2=0,\"\",IFERROR(DATA!SGJ2,\"\"))","v":""},{"$f":"IF(DATA!SGK2=0,\"\",IFERROR(DATA!SGK2,\"\"))","v":""},{"$f":"IF(DATA!SGL2=0,\"\",IFERROR(DATA!SGL2,\"\"))","v":""},{"$f":"IF(DATA!SGM2=0,\"\",IFERROR(DATA!SGM2,\"\"))","v":""},{"$f":"IF(DATA!SGN2=0,\"\",IFERROR(DATA!SGN2,\"\"))","v":""},{"$f":"IF(DATA!SGO2=0,\"\",IFERROR(DATA!SGO2,\"\"))","v":""},{"$f":"IF(DATA!SGP2=0,\"\",IFERROR(DATA!SGP2,\"\"))","v":""},{"$f":"IF(DATA!SGQ2=0,\"\",IFERROR(DATA!SGQ2,\"\"))","v":""},{"$f":"IF(DATA!SGR2=0,\"\",IFERROR(DATA!SGR2,\"\"))","v":""},{"$f":"IF(DATA!SGS2=0,\"\",IFERROR(DATA!SGS2,\"\"))","v":""},{"$f":"IF(DATA!SGT2=0,\"\",IFERROR(DATA!SGT2,\"\"))","v":""},{"$f":"IF(DATA!SGU2=0,\"\",IFERROR(DATA!SGU2,\"\"))","v":""},{"$f":"IF(DATA!SGV2=0,\"\",IFERROR(DATA!SGV2,\"\"))","v":""},{"$f":"IF(DATA!SGW2=0,\"\",IFERROR(DATA!SGW2,\"\"))","v":""},{"$f":"IF(DATA!SGX2=0,\"\",IFERROR(DATA!SGX2,\"\"))","v":""},{"$f":"IF(DATA!SGY2=0,\"\",IFERROR(DATA!SGY2,\"\"))","v":""},{"$f":"IF(DATA!SGZ2=0,\"\",IFERROR(DATA!SGZ2,\"\"))","v":""},{"$f":"IF(DATA!SHA2=0,\"\",IFERROR(DATA!SHA2,\"\"))","v":""},{"$f":"IF(DATA!SHB2=0,\"\",IFERROR(DATA!SHB2,\"\"))","v":""},{"$f":"IF(DATA!SHC2=0,\"\",IFERROR(DATA!SHC2,\"\"))","v":""},{"$f":"IF(DATA!SHD2=0,\"\",IFERROR(DATA!SHD2,\"\"))","v":""},{"$f":"IF(DATA!SHE2=0,\"\",IFERROR(DATA!SHE2,\"\"))","v":""},{"$f":"IF(DATA!SHF2=0,\"\",IFERROR(DATA!SHF2,\"\"))","v":""},{"$f":"IF(DATA!SHG2=0,\"\",IFERROR(DATA!SHG2,\"\"))","v":""},{"$f":"IF(DATA!SHH2=0,\"\",IFERROR(DATA!SHH2,\"\"))","v":""},{"$f":"IF(DATA!SHI2=0,\"\",IFERROR(DATA!SHI2,\"\"))","v":""},{"$f":"IF(DATA!SHJ2=0,\"\",IFERROR(DATA!SHJ2,\"\"))","v":""},{"$f":"IF(DATA!SHK2=0,\"\",IFERROR(DATA!SHK2,\"\"))","v":""},{"$f":"IF(DATA!SHL2=0,\"\",IFERROR(DATA!SHL2,\"\"))","v":""},{"$f":"IF(DATA!SHM2=0,\"\",IFERROR(DATA!SHM2,\"\"))","v":""},{"$f":"IF(DATA!SHN2=0,\"\",IFERROR(DATA!SHN2,\"\"))","v":""},{"$f":"IF(DATA!SHO2=0,\"\",IFERROR(DATA!SHO2,\"\"))","v":""},{"$f":"IF(DATA!SHP2=0,\"\",IFERROR(DATA!SHP2,\"\"))","v":""},{"$f":"IF(DATA!SHQ2=0,\"\",IFERROR(DATA!SHQ2,\"\"))","v":""},{"$f":"IF(DATA!SHR2=0,\"\",IFERROR(DATA!SHR2,\"\"))","v":""},{"$f":"IF(DATA!SHS2=0,\"\",IFERROR(DATA!SHS2,\"\"))","v":""},{"$f":"IF(DATA!SHT2=0,\"\",IFERROR(DATA!SHT2,\"\"))","v":""},{"$f":"IF(DATA!SHU2=0,\"\",IFERROR(DATA!SHU2,\"\"))","v":""},{"$f":"IF(DATA!SHV2=0,\"\",IFERROR(DATA!SHV2,\"\"))","v":""},{"$f":"IF(DATA!SHW2=0,\"\",IFERROR(DATA!SHW2,\"\"))","v":""},{"$f":"IF(DATA!SHX2=0,\"\",IFERROR(DATA!SHX2,\"\"))","v":""},{"$f":"IF(DATA!SHY2=0,\"\",IFERROR(DATA!SHY2,\"\"))","v":""},{"$f":"IF(DATA!SHZ2=0,\"\",IFERROR(DATA!SHZ2,\"\"))","v":""},{"$f":"IF(DATA!SIA2=0,\"\",IFERROR(DATA!SIA2,\"\"))","v":""},{"$f":"IF(DATA!SIB2=0,\"\",IFERROR(DATA!SIB2,\"\"))","v":""},{"$f":"IF(DATA!SIC2=0,\"\",IFERROR(DATA!SIC2,\"\"))","v":""},{"$f":"IF(DATA!SID2=0,\"\",IFERROR(DATA!SID2,\"\"))","v":""},{"$f":"IF(DATA!SIE2=0,\"\",IFERROR(DATA!SIE2,\"\"))","v":""},{"$f":"IF(DATA!SIF2=0,\"\",IFERROR(DATA!SIF2,\"\"))","v":""},{"$f":"IF(DATA!SIG2=0,\"\",IFERROR(DATA!SIG2,\"\"))","v":""},{"$f":"IF(DATA!SIH2=0,\"\",IFERROR(DATA!SIH2,\"\"))","v":""},{"$f":"IF(DATA!SII2=0,\"\",IFERROR(DATA!SII2,\"\"))","v":""},{"$f":"IF(DATA!SIJ2=0,\"\",IFERROR(DATA!SIJ2,\"\"))","v":""},{"$f":"IF(DATA!SIK2=0,\"\",IFERROR(DATA!SIK2,\"\"))","v":""},{"$f":"IF(DATA!SIL2=0,\"\",IFERROR(DATA!SIL2,\"\"))","v":""},{"$f":"IF(DATA!SIM2=0,\"\",IFERROR(DATA!SIM2,\"\"))","v":""},{"$f":"IF(DATA!SIN2=0,\"\",IFERROR(DATA!SIN2,\"\"))","v":""},{"$f":"IF(DATA!SIO2=0,\"\",IFERROR(DATA!SIO2,\"\"))","v":""},{"$f":"IF(DATA!SIP2=0,\"\",IFERROR(DATA!SIP2,\"\"))","v":""},{"$f":"IF(DATA!SIQ2=0,\"\",IFERROR(DATA!SIQ2,\"\"))","v":""},{"$f":"IF(DATA!SIR2=0,\"\",IFERROR(DATA!SIR2,\"\"))","v":""},{"$f":"IF(DATA!SIS2=0,\"\",IFERROR(DATA!SIS2,\"\"))","v":""},{"$f":"IF(DATA!SIT2=0,\"\",IFERROR(DATA!SIT2,\"\"))","v":""},{"$f":"IF(DATA!SIU2=0,\"\",IFERROR(DATA!SIU2,\"\"))","v":""},{"$f":"IF(DATA!SIV2=0,\"\",IFERROR(DATA!SIV2,\"\"))","v":""},{"$f":"IF(DATA!SIW2=0,\"\",IFERROR(DATA!SIW2,\"\"))","v":""},{"$f":"IF(DATA!SIX2=0,\"\",IFERROR(DATA!SIX2,\"\"))","v":""},{"$f":"IF(DATA!SIY2=0,\"\",IFERROR(DATA!SIY2,\"\"))","v":""},{"$f":"IF(DATA!SIZ2=0,\"\",IFERROR(DATA!SIZ2,\"\"))","v":""},{"$f":"IF(DATA!SJA2=0,\"\",IFERROR(DATA!SJA2,\"\"))","v":""},{"$f":"IF(DATA!SJB2=0,\"\",IFERROR(DATA!SJB2,\"\"))","v":""},{"$f":"IF(DATA!SJC2=0,\"\",IFERROR(DATA!SJC2,\"\"))","v":""},{"$f":"IF(DATA!SJD2=0,\"\",IFERROR(DATA!SJD2,\"\"))","v":""},{"$f":"IF(DATA!SJE2=0,\"\",IFERROR(DATA!SJE2,\"\"))","v":""},{"$f":"IF(DATA!SJF2=0,\"\",IFERROR(DATA!SJF2,\"\"))","v":""},{"$f":"IF(DATA!SJG2=0,\"\",IFERROR(DATA!SJG2,\"\"))","v":""},{"$f":"IF(DATA!SJH2=0,\"\",IFERROR(DATA!SJH2,\"\"))","v":""},{"$f":"IF(DATA!SJI2=0,\"\",IFERROR(DATA!SJI2,\"\"))","v":""},{"$f":"IF(DATA!SJJ2=0,\"\",IFERROR(DATA!SJJ2,\"\"))","v":""},{"$f":"IF(DATA!SJK2=0,\"\",IFERROR(DATA!SJK2,\"\"))","v":""},{"$f":"IF(DATA!SJL2=0,\"\",IFERROR(DATA!SJL2,\"\"))","v":""},{"$f":"IF(DATA!SJM2=0,\"\",IFERROR(DATA!SJM2,\"\"))","v":""},{"$f":"IF(DATA!SJN2=0,\"\",IFERROR(DATA!SJN2,\"\"))","v":""},{"$f":"IF(DATA!SJO2=0,\"\",IFERROR(DATA!SJO2,\"\"))","v":""},{"$f":"IF(DATA!SJP2=0,\"\",IFERROR(DATA!SJP2,\"\"))","v":""},{"$f":"IF(DATA!SJQ2=0,\"\",IFERROR(DATA!SJQ2,\"\"))","v":""},{"$f":"IF(DATA!SJR2=0,\"\",IFERROR(DATA!SJR2,\"\"))","v":""},{"$f":"IF(DATA!SJS2=0,\"\",IFERROR(DATA!SJS2,\"\"))","v":""},{"$f":"IF(DATA!SJT2=0,\"\",IFERROR(DATA!SJT2,\"\"))","v":""},{"$f":"IF(DATA!SJU2=0,\"\",IFERROR(DATA!SJU2,\"\"))","v":""},{"$f":"IF(DATA!SJV2=0,\"\",IFERROR(DATA!SJV2,\"\"))","v":""},{"$f":"IF(DATA!SJW2=0,\"\",IFERROR(DATA!SJW2,\"\"))","v":""},{"$f":"IF(DATA!SJX2=0,\"\",IFERROR(DATA!SJX2,\"\"))","v":""},{"$f":"IF(DATA!SJY2=0,\"\",IFERROR(DATA!SJY2,\"\"))","v":""},{"$f":"IF(DATA!SJZ2=0,\"\",IFERROR(DATA!SJZ2,\"\"))","v":""},{"$f":"IF(DATA!SKA2=0,\"\",IFERROR(DATA!SKA2,\"\"))","v":""},{"$f":"IF(DATA!SKB2=0,\"\",IFERROR(DATA!SKB2,\"\"))","v":""},{"$f":"IF(DATA!SKC2=0,\"\",IFERROR(DATA!SKC2,\"\"))","v":""},{"$f":"IF(DATA!SKD2=0,\"\",IFERROR(DATA!SKD2,\"\"))","v":""},{"$f":"IF(DATA!SKE2=0,\"\",IFERROR(DATA!SKE2,\"\"))","v":""},{"$f":"IF(DATA!SKF2=0,\"\",IFERROR(DATA!SKF2,\"\"))","v":""},{"$f":"IF(DATA!SKG2=0,\"\",IFERROR(DATA!SKG2,\"\"))","v":""},{"$f":"IF(DATA!SKH2=0,\"\",IFERROR(DATA!SKH2,\"\"))","v":""},{"$f":"IF(DATA!SKI2=0,\"\",IFERROR(DATA!SKI2,\"\"))","v":""},{"$f":"IF(DATA!SKJ2=0,\"\",IFERROR(DATA!SKJ2,\"\"))","v":""},{"$f":"IF(DATA!SKK2=0,\"\",IFERROR(DATA!SKK2,\"\"))","v":""},{"$f":"IF(DATA!SKL2=0,\"\",IFERROR(DATA!SKL2,\"\"))","v":""},{"$f":"IF(DATA!SKM2=0,\"\",IFERROR(DATA!SKM2,\"\"))","v":""},{"$f":"IF(DATA!SKN2=0,\"\",IFERROR(DATA!SKN2,\"\"))","v":""},{"$f":"IF(DATA!SKO2=0,\"\",IFERROR(DATA!SKO2,\"\"))","v":""},{"$f":"IF(DATA!SKP2=0,\"\",IFERROR(DATA!SKP2,\"\"))","v":""},{"$f":"IF(DATA!SKQ2=0,\"\",IFERROR(DATA!SKQ2,\"\"))","v":""},{"$f":"IF(DATA!SKR2=0,\"\",IFERROR(DATA!SKR2,\"\"))","v":""},{"$f":"IF(DATA!SKS2=0,\"\",IFERROR(DATA!SKS2,\"\"))","v":""},{"$f":"IF(DATA!SKT2=0,\"\",IFERROR(DATA!SKT2,\"\"))","v":""},{"$f":"IF(DATA!SKU2=0,\"\",IFERROR(DATA!SKU2,\"\"))","v":""},{"$f":"IF(DATA!SKV2=0,\"\",IFERROR(DATA!SKV2,\"\"))","v":""},{"$f":"IF(DATA!SKW2=0,\"\",IFERROR(DATA!SKW2,\"\"))","v":""},{"$f":"IF(DATA!SKX2=0,\"\",IFERROR(DATA!SKX2,\"\"))","v":""},{"$f":"IF(DATA!SKY2=0,\"\",IFERROR(DATA!SKY2,\"\"))","v":""},{"$f":"IF(DATA!SKZ2=0,\"\",IFERROR(DATA!SKZ2,\"\"))","v":""},{"$f":"IF(DATA!SLA2=0,\"\",IFERROR(DATA!SLA2,\"\"))","v":""},{"$f":"IF(DATA!SLB2=0,\"\",IFERROR(DATA!SLB2,\"\"))","v":""},{"$f":"IF(DATA!SLC2=0,\"\",IFERROR(DATA!SLC2,\"\"))","v":""},{"$f":"IF(DATA!SLD2=0,\"\",IFERROR(DATA!SLD2,\"\"))","v":""},{"$f":"IF(DATA!SLE2=0,\"\",IFERROR(DATA!SLE2,\"\"))","v":""},{"$f":"IF(DATA!SLF2=0,\"\",IFERROR(DATA!SLF2,\"\"))","v":""},{"$f":"IF(DATA!SLG2=0,\"\",IFERROR(DATA!SLG2,\"\"))","v":""},{"$f":"IF(DATA!SLH2=0,\"\",IFERROR(DATA!SLH2,\"\"))","v":""},{"$f":"IF(DATA!SLI2=0,\"\",IFERROR(DATA!SLI2,\"\"))","v":""},{"$f":"IF(DATA!SLJ2=0,\"\",IFERROR(DATA!SLJ2,\"\"))","v":""},{"$f":"IF(DATA!SLK2=0,\"\",IFERROR(DATA!SLK2,\"\"))","v":""},{"$f":"IF(DATA!SLL2=0,\"\",IFERROR(DATA!SLL2,\"\"))","v":""},{"$f":"IF(DATA!SLM2=0,\"\",IFERROR(DATA!SLM2,\"\"))","v":""},{"$f":"IF(DATA!SLN2=0,\"\",IFERROR(DATA!SLN2,\"\"))","v":""},{"$f":"IF(DATA!SLO2=0,\"\",IFERROR(DATA!SLO2,\"\"))","v":""},{"$f":"IF(DATA!SLP2=0,\"\",IFERROR(DATA!SLP2,\"\"))","v":""},{"$f":"IF(DATA!SLQ2=0,\"\",IFERROR(DATA!SLQ2,\"\"))","v":""},{"$f":"IF(DATA!SLR2=0,\"\",IFERROR(DATA!SLR2,\"\"))","v":""},{"$f":"IF(DATA!SLS2=0,\"\",IFERROR(DATA!SLS2,\"\"))","v":""},{"$f":"IF(DATA!SLT2=0,\"\",IFERROR(DATA!SLT2,\"\"))","v":""},{"$f":"IF(DATA!SLU2=0,\"\",IFERROR(DATA!SLU2,\"\"))","v":""},{"$f":"IF(DATA!SLV2=0,\"\",IFERROR(DATA!SLV2,\"\"))","v":""},{"$f":"IF(DATA!SLW2=0,\"\",IFERROR(DATA!SLW2,\"\"))","v":""},{"$f":"IF(DATA!SLX2=0,\"\",IFERROR(DATA!SLX2,\"\"))","v":""},{"$f":"IF(DATA!SLY2=0,\"\",IFERROR(DATA!SLY2,\"\"))","v":""},{"$f":"IF(DATA!SLZ2=0,\"\",IFERROR(DATA!SLZ2,\"\"))","v":""},{"$f":"IF(DATA!SMA2=0,\"\",IFERROR(DATA!SMA2,\"\"))","v":""},{"$f":"IF(DATA!SMB2=0,\"\",IFERROR(DATA!SMB2,\"\"))","v":""},{"$f":"IF(DATA!SMC2=0,\"\",IFERROR(DATA!SMC2,\"\"))","v":""},{"$f":"IF(DATA!SMD2=0,\"\",IFERROR(DATA!SMD2,\"\"))","v":""},{"$f":"IF(DATA!SME2=0,\"\",IFERROR(DATA!SME2,\"\"))","v":""},{"$f":"IF(DATA!SMF2=0,\"\",IFERROR(DATA!SMF2,\"\"))","v":""},{"$f":"IF(DATA!SMG2=0,\"\",IFERROR(DATA!SMG2,\"\"))","v":""},{"$f":"IF(DATA!SMH2=0,\"\",IFERROR(DATA!SMH2,\"\"))","v":""},{"$f":"IF(DATA!SMI2=0,\"\",IFERROR(DATA!SMI2,\"\"))","v":""},{"$f":"IF(DATA!SMJ2=0,\"\",IFERROR(DATA!SMJ2,\"\"))","v":""},{"$f":"IF(DATA!SMK2=0,\"\",IFERROR(DATA!SMK2,\"\"))","v":""},{"$f":"IF(DATA!SML2=0,\"\",IFERROR(DATA!SML2,\"\"))","v":""},{"$f":"IF(DATA!SMM2=0,\"\",IFERROR(DATA!SMM2,\"\"))","v":""},{"$f":"IF(DATA!SMN2=0,\"\",IFERROR(DATA!SMN2,\"\"))","v":""},{"$f":"IF(DATA!SMO2=0,\"\",IFERROR(DATA!SMO2,\"\"))","v":""},{"$f":"IF(DATA!SMP2=0,\"\",IFERROR(DATA!SMP2,\"\"))","v":""},{"$f":"IF(DATA!SMQ2=0,\"\",IFERROR(DATA!SMQ2,\"\"))","v":""},{"$f":"IF(DATA!SMR2=0,\"\",IFERROR(DATA!SMR2,\"\"))","v":""},{"$f":"IF(DATA!SMS2=0,\"\",IFERROR(DATA!SMS2,\"\"))","v":""},{"$f":"IF(DATA!SMT2=0,\"\",IFERROR(DATA!SMT2,\"\"))","v":""},{"$f":"IF(DATA!SMU2=0,\"\",IFERROR(DATA!SMU2,\"\"))","v":""},{"$f":"IF(DATA!SMV2=0,\"\",IFERROR(DATA!SMV2,\"\"))","v":""},{"$f":"IF(DATA!SMW2=0,\"\",IFERROR(DATA!SMW2,\"\"))","v":""},{"$f":"IF(DATA!SMX2=0,\"\",IFERROR(DATA!SMX2,\"\"))","v":""},{"$f":"IF(DATA!SMY2=0,\"\",IFERROR(DATA!SMY2,\"\"))","v":""},{"$f":"IF(DATA!SMZ2=0,\"\",IFERROR(DATA!SMZ2,\"\"))","v":""},{"$f":"IF(DATA!SNA2=0,\"\",IFERROR(DATA!SNA2,\"\"))","v":""},{"$f":"IF(DATA!SNB2=0,\"\",IFERROR(DATA!SNB2,\"\"))","v":""},{"$f":"IF(DATA!SNC2=0,\"\",IFERROR(DATA!SNC2,\"\"))","v":""},{"$f":"IF(DATA!SND2=0,\"\",IFERROR(DATA!SND2,\"\"))","v":""},{"$f":"IF(DATA!SNE2=0,\"\",IFERROR(DATA!SNE2,\"\"))","v":""},{"$f":"IF(DATA!SNF2=0,\"\",IFERROR(DATA!SNF2,\"\"))","v":""},{"$f":"IF(DATA!SNG2=0,\"\",IFERROR(DATA!SNG2,\"\"))","v":""},{"$f":"IF(DATA!SNH2=0,\"\",IFERROR(DATA!SNH2,\"\"))","v":""},{"$f":"IF(DATA!SNI2=0,\"\",IFERROR(DATA!SNI2,\"\"))","v":""},{"$f":"IF(DATA!SNJ2=0,\"\",IFERROR(DATA!SNJ2,\"\"))","v":""},{"$f":"IF(DATA!SNK2=0,\"\",IFERROR(DATA!SNK2,\"\"))","v":""},{"$f":"IF(DATA!SNL2=0,\"\",IFERROR(DATA!SNL2,\"\"))","v":""},{"$f":"IF(DATA!SNM2=0,\"\",IFERROR(DATA!SNM2,\"\"))","v":""},{"$f":"IF(DATA!SNN2=0,\"\",IFERROR(DATA!SNN2,\"\"))","v":""},{"$f":"IF(DATA!SNO2=0,\"\",IFERROR(DATA!SNO2,\"\"))","v":""},{"$f":"IF(DATA!SNP2=0,\"\",IFERROR(DATA!SNP2,\"\"))","v":""},{"$f":"IF(DATA!SNQ2=0,\"\",IFERROR(DATA!SNQ2,\"\"))","v":""},{"$f":"IF(DATA!SNR2=0,\"\",IFERROR(DATA!SNR2,\"\"))","v":""},{"$f":"IF(DATA!SNS2=0,\"\",IFERROR(DATA!SNS2,\"\"))","v":""},{"$f":"IF(DATA!SNT2=0,\"\",IFERROR(DATA!SNT2,\"\"))","v":""},{"$f":"IF(DATA!SNU2=0,\"\",IFERROR(DATA!SNU2,\"\"))","v":""},{"$f":"IF(DATA!SNV2=0,\"\",IFERROR(DATA!SNV2,\"\"))","v":""},{"$f":"IF(DATA!SNW2=0,\"\",IFERROR(DATA!SNW2,\"\"))","v":""},{"$f":"IF(DATA!SNX2=0,\"\",IFERROR(DATA!SNX2,\"\"))","v":""},{"$f":"IF(DATA!SNY2=0,\"\",IFERROR(DATA!SNY2,\"\"))","v":""},{"$f":"IF(DATA!SNZ2=0,\"\",IFERROR(DATA!SNZ2,\"\"))","v":""},{"$f":"IF(DATA!SOA2=0,\"\",IFERROR(DATA!SOA2,\"\"))","v":""},{"$f":"IF(DATA!SOB2=0,\"\",IFERROR(DATA!SOB2,\"\"))","v":""},{"$f":"IF(DATA!SOC2=0,\"\",IFERROR(DATA!SOC2,\"\"))","v":""},{"$f":"IF(DATA!SOD2=0,\"\",IFERROR(DATA!SOD2,\"\"))","v":""},{"$f":"IF(DATA!SOE2=0,\"\",IFERROR(DATA!SOE2,\"\"))","v":""},{"$f":"IF(DATA!SOF2=0,\"\",IFERROR(DATA!SOF2,\"\"))","v":""},{"$f":"IF(DATA!SOG2=0,\"\",IFERROR(DATA!SOG2,\"\"))","v":""},{"$f":"IF(DATA!SOH2=0,\"\",IFERROR(DATA!SOH2,\"\"))","v":""},{"$f":"IF(DATA!SOI2=0,\"\",IFERROR(DATA!SOI2,\"\"))","v":""},{"$f":"IF(DATA!SOJ2=0,\"\",IFERROR(DATA!SOJ2,\"\"))","v":""},{"$f":"IF(DATA!SOK2=0,\"\",IFERROR(DATA!SOK2,\"\"))","v":""},{"$f":"IF(DATA!SOL2=0,\"\",IFERROR(DATA!SOL2,\"\"))","v":""},{"$f":"IF(DATA!SOM2=0,\"\",IFERROR(DATA!SOM2,\"\"))","v":""},{"$f":"IF(DATA!SON2=0,\"\",IFERROR(DATA!SON2,\"\"))","v":""},{"$f":"IF(DATA!SOO2=0,\"\",IFERROR(DATA!SOO2,\"\"))","v":""},{"$f":"IF(DATA!SOP2=0,\"\",IFERROR(DATA!SOP2,\"\"))","v":""},{"$f":"IF(DATA!SOQ2=0,\"\",IFERROR(DATA!SOQ2,\"\"))","v":""},{"$f":"IF(DATA!SOR2=0,\"\",IFERROR(DATA!SOR2,\"\"))","v":""},{"$f":"IF(DATA!SOS2=0,\"\",IFERROR(DATA!SOS2,\"\"))","v":""},{"$f":"IF(DATA!SOT2=0,\"\",IFERROR(DATA!SOT2,\"\"))","v":""},{"$f":"IF(DATA!SOU2=0,\"\",IFERROR(DATA!SOU2,\"\"))","v":""},{"$f":"IF(DATA!SOV2=0,\"\",IFERROR(DATA!SOV2,\"\"))","v":""},{"$f":"IF(DATA!SOW2=0,\"\",IFERROR(DATA!SOW2,\"\"))","v":""},{"$f":"IF(DATA!SOX2=0,\"\",IFERROR(DATA!SOX2,\"\"))","v":""},{"$f":"IF(DATA!SOY2=0,\"\",IFERROR(DATA!SOY2,\"\"))","v":""},{"$f":"IF(DATA!SOZ2=0,\"\",IFERROR(DATA!SOZ2,\"\"))","v":""},{"$f":"IF(DATA!SPA2=0,\"\",IFERROR(DATA!SPA2,\"\"))","v":""},{"$f":"IF(DATA!SPB2=0,\"\",IFERROR(DATA!SPB2,\"\"))","v":""},{"$f":"IF(DATA!SPC2=0,\"\",IFERROR(DATA!SPC2,\"\"))","v":""},{"$f":"IF(DATA!SPD2=0,\"\",IFERROR(DATA!SPD2,\"\"))","v":""},{"$f":"IF(DATA!SPE2=0,\"\",IFERROR(DATA!SPE2,\"\"))","v":""},{"$f":"IF(DATA!SPF2=0,\"\",IFERROR(DATA!SPF2,\"\"))","v":""},{"$f":"IF(DATA!SPG2=0,\"\",IFERROR(DATA!SPG2,\"\"))","v":""},{"$f":"IF(DATA!SPH2=0,\"\",IFERROR(DATA!SPH2,\"\"))","v":""},{"$f":"IF(DATA!SPI2=0,\"\",IFERROR(DATA!SPI2,\"\"))","v":""},{"$f":"IF(DATA!SPJ2=0,\"\",IFERROR(DATA!SPJ2,\"\"))","v":""},{"$f":"IF(DATA!SPK2=0,\"\",IFERROR(DATA!SPK2,\"\"))","v":""},{"$f":"IF(DATA!SPL2=0,\"\",IFERROR(DATA!SPL2,\"\"))","v":""},{"$f":"IF(DATA!SPM2=0,\"\",IFERROR(DATA!SPM2,\"\"))","v":""},{"$f":"IF(DATA!SPN2=0,\"\",IFERROR(DATA!SPN2,\"\"))","v":""},{"$f":"IF(DATA!SPO2=0,\"\",IFERROR(DATA!SPO2,\"\"))","v":""},{"$f":"IF(DATA!SPP2=0,\"\",IFERROR(DATA!SPP2,\"\"))","v":""},{"$f":"IF(DATA!SPQ2=0,\"\",IFERROR(DATA!SPQ2,\"\"))","v":""},{"$f":"IF(DATA!SPR2=0,\"\",IFERROR(DATA!SPR2,\"\"))","v":""},{"$f":"IF(DATA!SPS2=0,\"\",IFERROR(DATA!SPS2,\"\"))","v":""},{"$f":"IF(DATA!SPT2=0,\"\",IFERROR(DATA!SPT2,\"\"))","v":""},{"$f":"IF(DATA!SPU2=0,\"\",IFERROR(DATA!SPU2,\"\"))","v":""},{"$f":"IF(DATA!SPV2=0,\"\",IFERROR(DATA!SPV2,\"\"))","v":""},{"$f":"IF(DATA!SPW2=0,\"\",IFERROR(DATA!SPW2,\"\"))","v":""},{"$f":"IF(DATA!SPX2=0,\"\",IFERROR(DATA!SPX2,\"\"))","v":""},{"$f":"IF(DATA!SPY2=0,\"\",IFERROR(DATA!SPY2,\"\"))","v":""},{"$f":"IF(DATA!SPZ2=0,\"\",IFERROR(DATA!SPZ2,\"\"))","v":""},{"$f":"IF(DATA!SQA2=0,\"\",IFERROR(DATA!SQA2,\"\"))","v":""},{"$f":"IF(DATA!SQB2=0,\"\",IFERROR(DATA!SQB2,\"\"))","v":""},{"$f":"IF(DATA!SQC2=0,\"\",IFERROR(DATA!SQC2,\"\"))","v":""},{"$f":"IF(DATA!SQD2=0,\"\",IFERROR(DATA!SQD2,\"\"))","v":""},{"$f":"IF(DATA!SQE2=0,\"\",IFERROR(DATA!SQE2,\"\"))","v":""},{"$f":"IF(DATA!SQF2=0,\"\",IFERROR(DATA!SQF2,\"\"))","v":""},{"$f":"IF(DATA!SQG2=0,\"\",IFERROR(DATA!SQG2,\"\"))","v":""},{"$f":"IF(DATA!SQH2=0,\"\",IFERROR(DATA!SQH2,\"\"))","v":""},{"$f":"IF(DATA!SQI2=0,\"\",IFERROR(DATA!SQI2,\"\"))","v":""},{"$f":"IF(DATA!SQJ2=0,\"\",IFERROR(DATA!SQJ2,\"\"))","v":""},{"$f":"IF(DATA!SQK2=0,\"\",IFERROR(DATA!SQK2,\"\"))","v":""},{"$f":"IF(DATA!SQL2=0,\"\",IFERROR(DATA!SQL2,\"\"))","v":""},{"$f":"IF(DATA!SQM2=0,\"\",IFERROR(DATA!SQM2,\"\"))","v":""},{"$f":"IF(DATA!SQN2=0,\"\",IFERROR(DATA!SQN2,\"\"))","v":""},{"$f":"IF(DATA!SQO2=0,\"\",IFERROR(DATA!SQO2,\"\"))","v":""},{"$f":"IF(DATA!SQP2=0,\"\",IFERROR(DATA!SQP2,\"\"))","v":""},{"$f":"IF(DATA!SQQ2=0,\"\",IFERROR(DATA!SQQ2,\"\"))","v":""},{"$f":"IF(DATA!SQR2=0,\"\",IFERROR(DATA!SQR2,\"\"))","v":""},{"$f":"IF(DATA!SQS2=0,\"\",IFERROR(DATA!SQS2,\"\"))","v":""},{"$f":"IF(DATA!SQT2=0,\"\",IFERROR(DATA!SQT2,\"\"))","v":""},{"$f":"IF(DATA!SQU2=0,\"\",IFERROR(DATA!SQU2,\"\"))","v":""},{"$f":"IF(DATA!SQV2=0,\"\",IFERROR(DATA!SQV2,\"\"))","v":""},{"$f":"IF(DATA!SQW2=0,\"\",IFERROR(DATA!SQW2,\"\"))","v":""},{"$f":"IF(DATA!SQX2=0,\"\",IFERROR(DATA!SQX2,\"\"))","v":""},{"$f":"IF(DATA!SQY2=0,\"\",IFERROR(DATA!SQY2,\"\"))","v":""},{"$f":"IF(DATA!SQZ2=0,\"\",IFERROR(DATA!SQZ2,\"\"))","v":""},{"$f":"IF(DATA!SRA2=0,\"\",IFERROR(DATA!SRA2,\"\"))","v":""},{"$f":"IF(DATA!SRB2=0,\"\",IFERROR(DATA!SRB2,\"\"))","v":""},{"$f":"IF(DATA!SRC2=0,\"\",IFERROR(DATA!SRC2,\"\"))","v":""},{"$f":"IF(DATA!SRD2=0,\"\",IFERROR(DATA!SRD2,\"\"))","v":""},{"$f":"IF(DATA!SRE2=0,\"\",IFERROR(DATA!SRE2,\"\"))","v":""},{"$f":"IF(DATA!SRF2=0,\"\",IFERROR(DATA!SRF2,\"\"))","v":""},{"$f":"IF(DATA!SRG2=0,\"\",IFERROR(DATA!SRG2,\"\"))","v":""},{"$f":"IF(DATA!SRH2=0,\"\",IFERROR(DATA!SRH2,\"\"))","v":""},{"$f":"IF(DATA!SRI2=0,\"\",IFERROR(DATA!SRI2,\"\"))","v":""},{"$f":"IF(DATA!SRJ2=0,\"\",IFERROR(DATA!SRJ2,\"\"))","v":""},{"$f":"IF(DATA!SRK2=0,\"\",IFERROR(DATA!SRK2,\"\"))","v":""},{"$f":"IF(DATA!SRL2=0,\"\",IFERROR(DATA!SRL2,\"\"))","v":""},{"$f":"IF(DATA!SRM2=0,\"\",IFERROR(DATA!SRM2,\"\"))","v":""},{"$f":"IF(DATA!SRN2=0,\"\",IFERROR(DATA!SRN2,\"\"))","v":""},{"$f":"IF(DATA!SRO2=0,\"\",IFERROR(DATA!SRO2,\"\"))","v":""},{"$f":"IF(DATA!SRP2=0,\"\",IFERROR(DATA!SRP2,\"\"))","v":""},{"$f":"IF(DATA!SRQ2=0,\"\",IFERROR(DATA!SRQ2,\"\"))","v":""},{"$f":"IF(DATA!SRR2=0,\"\",IFERROR(DATA!SRR2,\"\"))","v":""},{"$f":"IF(DATA!SRS2=0,\"\",IFERROR(DATA!SRS2,\"\"))","v":""},{"$f":"IF(DATA!SRT2=0,\"\",IFERROR(DATA!SRT2,\"\"))","v":""},{"$f":"IF(DATA!SRU2=0,\"\",IFERROR(DATA!SRU2,\"\"))","v":""},{"$f":"IF(DATA!SRV2=0,\"\",IFERROR(DATA!SRV2,\"\"))","v":""},{"$f":"IF(DATA!SRW2=0,\"\",IFERROR(DATA!SRW2,\"\"))","v":""},{"$f":"IF(DATA!SRX2=0,\"\",IFERROR(DATA!SRX2,\"\"))","v":""},{"$f":"IF(DATA!SRY2=0,\"\",IFERROR(DATA!SRY2,\"\"))","v":""},{"$f":"IF(DATA!SRZ2=0,\"\",IFERROR(DATA!SRZ2,\"\"))","v":""},{"$f":"IF(DATA!SSA2=0,\"\",IFERROR(DATA!SSA2,\"\"))","v":""},{"$f":"IF(DATA!SSB2=0,\"\",IFERROR(DATA!SSB2,\"\"))","v":""},{"$f":"IF(DATA!SSC2=0,\"\",IFERROR(DATA!SSC2,\"\"))","v":""},{"$f":"IF(DATA!SSD2=0,\"\",IFERROR(DATA!SSD2,\"\"))","v":""},{"$f":"IF(DATA!SSE2=0,\"\",IFERROR(DATA!SSE2,\"\"))","v":""},{"$f":"IF(DATA!SSF2=0,\"\",IFERROR(DATA!SSF2,\"\"))","v":""},{"$f":"IF(DATA!SSG2=0,\"\",IFERROR(DATA!SSG2,\"\"))","v":""},{"$f":"IF(DATA!SSH2=0,\"\",IFERROR(DATA!SSH2,\"\"))","v":""},{"$f":"IF(DATA!SSI2=0,\"\",IFERROR(DATA!SSI2,\"\"))","v":""},{"$f":"IF(DATA!SSJ2=0,\"\",IFERROR(DATA!SSJ2,\"\"))","v":""},{"$f":"IF(DATA!SSK2=0,\"\",IFERROR(DATA!SSK2,\"\"))","v":""},{"$f":"IF(DATA!SSL2=0,\"\",IFERROR(DATA!SSL2,\"\"))","v":""},{"$f":"IF(DATA!SSM2=0,\"\",IFERROR(DATA!SSM2,\"\"))","v":""},{"$f":"IF(DATA!SSN2=0,\"\",IFERROR(DATA!SSN2,\"\"))","v":""},{"$f":"IF(DATA!SSO2=0,\"\",IFERROR(DATA!SSO2,\"\"))","v":""},{"$f":"IF(DATA!SSP2=0,\"\",IFERROR(DATA!SSP2,\"\"))","v":""},{"$f":"IF(DATA!SSQ2=0,\"\",IFERROR(DATA!SSQ2,\"\"))","v":""},{"$f":"IF(DATA!SSR2=0,\"\",IFERROR(DATA!SSR2,\"\"))","v":""},{"$f":"IF(DATA!SSS2=0,\"\",IFERROR(DATA!SSS2,\"\"))","v":""},{"$f":"IF(DATA!SST2=0,\"\",IFERROR(DATA!SST2,\"\"))","v":""},{"$f":"IF(DATA!SSU2=0,\"\",IFERROR(DATA!SSU2,\"\"))","v":""},{"$f":"IF(DATA!SSV2=0,\"\",IFERROR(DATA!SSV2,\"\"))","v":""},{"$f":"IF(DATA!SSW2=0,\"\",IFERROR(DATA!SSW2,\"\"))","v":""},{"$f":"IF(DATA!SSX2=0,\"\",IFERROR(DATA!SSX2,\"\"))","v":""},{"$f":"IF(DATA!SSY2=0,\"\",IFERROR(DATA!SSY2,\"\"))","v":""},{"$f":"IF(DATA!SSZ2=0,\"\",IFERROR(DATA!SSZ2,\"\"))","v":""},{"$f":"IF(DATA!STA2=0,\"\",IFERROR(DATA!STA2,\"\"))","v":""},{"$f":"IF(DATA!STB2=0,\"\",IFERROR(DATA!STB2,\"\"))","v":""},{"$f":"IF(DATA!STC2=0,\"\",IFERROR(DATA!STC2,\"\"))","v":""},{"$f":"IF(DATA!STD2=0,\"\",IFERROR(DATA!STD2,\"\"))","v":""},{"$f":"IF(DATA!STE2=0,\"\",IFERROR(DATA!STE2,\"\"))","v":""},{"$f":"IF(DATA!STF2=0,\"\",IFERROR(DATA!STF2,\"\"))","v":""},{"$f":"IF(DATA!STG2=0,\"\",IFERROR(DATA!STG2,\"\"))","v":""},{"$f":"IF(DATA!STH2=0,\"\",IFERROR(DATA!STH2,\"\"))","v":""},{"$f":"IF(DATA!STI2=0,\"\",IFERROR(DATA!STI2,\"\"))","v":""},{"$f":"IF(DATA!STJ2=0,\"\",IFERROR(DATA!STJ2,\"\"))","v":""},{"$f":"IF(DATA!STK2=0,\"\",IFERROR(DATA!STK2,\"\"))","v":""},{"$f":"IF(DATA!STL2=0,\"\",IFERROR(DATA!STL2,\"\"))","v":""},{"$f":"IF(DATA!STM2=0,\"\",IFERROR(DATA!STM2,\"\"))","v":""},{"$f":"IF(DATA!STN2=0,\"\",IFERROR(DATA!STN2,\"\"))","v":""},{"$f":"IF(DATA!STO2=0,\"\",IFERROR(DATA!STO2,\"\"))","v":""},{"$f":"IF(DATA!STP2=0,\"\",IFERROR(DATA!STP2,\"\"))","v":""},{"$f":"IF(DATA!STQ2=0,\"\",IFERROR(DATA!STQ2,\"\"))","v":""},{"$f":"IF(DATA!STR2=0,\"\",IFERROR(DATA!STR2,\"\"))","v":""},{"$f":"IF(DATA!STS2=0,\"\",IFERROR(DATA!STS2,\"\"))","v":""},{"$f":"IF(DATA!STT2=0,\"\",IFERROR(DATA!STT2,\"\"))","v":""},{"$f":"IF(DATA!STU2=0,\"\",IFERROR(DATA!STU2,\"\"))","v":""},{"$f":"IF(DATA!STV2=0,\"\",IFERROR(DATA!STV2,\"\"))","v":""},{"$f":"IF(DATA!STW2=0,\"\",IFERROR(DATA!STW2,\"\"))","v":""},{"$f":"IF(DATA!STX2=0,\"\",IFERROR(DATA!STX2,\"\"))","v":""},{"$f":"IF(DATA!STY2=0,\"\",IFERROR(DATA!STY2,\"\"))","v":""},{"$f":"IF(DATA!STZ2=0,\"\",IFERROR(DATA!STZ2,\"\"))","v":""},{"$f":"IF(DATA!SUA2=0,\"\",IFERROR(DATA!SUA2,\"\"))","v":""},{"$f":"IF(DATA!SUB2=0,\"\",IFERROR(DATA!SUB2,\"\"))","v":""},{"$f":"IF(DATA!SUC2=0,\"\",IFERROR(DATA!SUC2,\"\"))","v":""},{"$f":"IF(DATA!SUD2=0,\"\",IFERROR(DATA!SUD2,\"\"))","v":""},{"$f":"IF(DATA!SUE2=0,\"\",IFERROR(DATA!SUE2,\"\"))","v":""},{"$f":"IF(DATA!SUF2=0,\"\",IFERROR(DATA!SUF2,\"\"))","v":""},{"$f":"IF(DATA!SUG2=0,\"\",IFERROR(DATA!SUG2,\"\"))","v":""},{"$f":"IF(DATA!SUH2=0,\"\",IFERROR(DATA!SUH2,\"\"))","v":""},{"$f":"IF(DATA!SUI2=0,\"\",IFERROR(DATA!SUI2,\"\"))","v":""},{"$f":"IF(DATA!SUJ2=0,\"\",IFERROR(DATA!SUJ2,\"\"))","v":""},{"$f":"IF(DATA!SUK2=0,\"\",IFERROR(DATA!SUK2,\"\"))","v":""},{"$f":"IF(DATA!SUL2=0,\"\",IFERROR(DATA!SUL2,\"\"))","v":""},{"$f":"IF(DATA!SUM2=0,\"\",IFERROR(DATA!SUM2,\"\"))","v":""},{"$f":"IF(DATA!SUN2=0,\"\",IFERROR(DATA!SUN2,\"\"))","v":""},{"$f":"IF(DATA!SUO2=0,\"\",IFERROR(DATA!SUO2,\"\"))","v":""},{"$f":"IF(DATA!SUP2=0,\"\",IFERROR(DATA!SUP2,\"\"))","v":""},{"$f":"IF(DATA!SUQ2=0,\"\",IFERROR(DATA!SUQ2,\"\"))","v":""},{"$f":"IF(DATA!SUR2=0,\"\",IFERROR(DATA!SUR2,\"\"))","v":""},{"$f":"IF(DATA!SUS2=0,\"\",IFERROR(DATA!SUS2,\"\"))","v":""},{"$f":"IF(DATA!SUT2=0,\"\",IFERROR(DATA!SUT2,\"\"))","v":""},{"$f":"IF(DATA!SUU2=0,\"\",IFERROR(DATA!SUU2,\"\"))","v":""},{"$f":"IF(DATA!SUV2=0,\"\",IFERROR(DATA!SUV2,\"\"))","v":""},{"$f":"IF(DATA!SUW2=0,\"\",IFERROR(DATA!SUW2,\"\"))","v":""},{"$f":"IF(DATA!SUX2=0,\"\",IFERROR(DATA!SUX2,\"\"))","v":""},{"$f":"IF(DATA!SUY2=0,\"\",IFERROR(DATA!SUY2,\"\"))","v":""},{"$f":"IF(DATA!SUZ2=0,\"\",IFERROR(DATA!SUZ2,\"\"))","v":""},{"$f":"IF(DATA!SVA2=0,\"\",IFERROR(DATA!SVA2,\"\"))","v":""},{"$f":"IF(DATA!SVB2=0,\"\",IFERROR(DATA!SVB2,\"\"))","v":""},{"$f":"IF(DATA!SVC2=0,\"\",IFERROR(DATA!SVC2,\"\"))","v":""},{"$f":"IF(DATA!SVD2=0,\"\",IFERROR(DATA!SVD2,\"\"))","v":""},{"$f":"IF(DATA!SVE2=0,\"\",IFERROR(DATA!SVE2,\"\"))","v":""},{"$f":"IF(DATA!SVF2=0,\"\",IFERROR(DATA!SVF2,\"\"))","v":""},{"$f":"IF(DATA!SVG2=0,\"\",IFERROR(DATA!SVG2,\"\"))","v":""},{"$f":"IF(DATA!SVH2=0,\"\",IFERROR(DATA!SVH2,\"\"))","v":""},{"$f":"IF(DATA!SVI2=0,\"\",IFERROR(DATA!SVI2,\"\"))","v":""},{"$f":"IF(DATA!SVJ2=0,\"\",IFERROR(DATA!SVJ2,\"\"))","v":""},{"$f":"IF(DATA!SVK2=0,\"\",IFERROR(DATA!SVK2,\"\"))","v":""},{"$f":"IF(DATA!SVL2=0,\"\",IFERROR(DATA!SVL2,\"\"))","v":""},{"$f":"IF(DATA!SVM2=0,\"\",IFERROR(DATA!SVM2,\"\"))","v":""},{"$f":"IF(DATA!SVN2=0,\"\",IFERROR(DATA!SVN2,\"\"))","v":""},{"$f":"IF(DATA!SVO2=0,\"\",IFERROR(DATA!SVO2,\"\"))","v":""},{"$f":"IF(DATA!SVP2=0,\"\",IFERROR(DATA!SVP2,\"\"))","v":""},{"$f":"IF(DATA!SVQ2=0,\"\",IFERROR(DATA!SVQ2,\"\"))","v":""},{"$f":"IF(DATA!SVR2=0,\"\",IFERROR(DATA!SVR2,\"\"))","v":""},{"$f":"IF(DATA!SVS2=0,\"\",IFERROR(DATA!SVS2,\"\"))","v":""},{"$f":"IF(DATA!SVT2=0,\"\",IFERROR(DATA!SVT2,\"\"))","v":""},{"$f":"IF(DATA!SVU2=0,\"\",IFERROR(DATA!SVU2,\"\"))","v":""},{"$f":"IF(DATA!SVV2=0,\"\",IFERROR(DATA!SVV2,\"\"))","v":""},{"$f":"IF(DATA!SVW2=0,\"\",IFERROR(DATA!SVW2,\"\"))","v":""},{"$f":"IF(DATA!SVX2=0,\"\",IFERROR(DATA!SVX2,\"\"))","v":""},{"$f":"IF(DATA!SVY2=0,\"\",IFERROR(DATA!SVY2,\"\"))","v":""},{"$f":"IF(DATA!SVZ2=0,\"\",IFERROR(DATA!SVZ2,\"\"))","v":""},{"$f":"IF(DATA!SWA2=0,\"\",IFERROR(DATA!SWA2,\"\"))","v":""},{"$f":"IF(DATA!SWB2=0,\"\",IFERROR(DATA!SWB2,\"\"))","v":""},{"$f":"IF(DATA!SWC2=0,\"\",IFERROR(DATA!SWC2,\"\"))","v":""},{"$f":"IF(DATA!SWD2=0,\"\",IFERROR(DATA!SWD2,\"\"))","v":""},{"$f":"IF(DATA!SWE2=0,\"\",IFERROR(DATA!SWE2,\"\"))","v":""},{"$f":"IF(DATA!SWF2=0,\"\",IFERROR(DATA!SWF2,\"\"))","v":""},{"$f":"IF(DATA!SWG2=0,\"\",IFERROR(DATA!SWG2,\"\"))","v":""},{"$f":"IF(DATA!SWH2=0,\"\",IFERROR(DATA!SWH2,\"\"))","v":""},{"$f":"IF(DATA!SWI2=0,\"\",IFERROR(DATA!SWI2,\"\"))","v":""},{"$f":"IF(DATA!SWJ2=0,\"\",IFERROR(DATA!SWJ2,\"\"))","v":""},{"$f":"IF(DATA!SWK2=0,\"\",IFERROR(DATA!SWK2,\"\"))","v":""},{"$f":"IF(DATA!SWL2=0,\"\",IFERROR(DATA!SWL2,\"\"))","v":""},{"$f":"IF(DATA!SWM2=0,\"\",IFERROR(DATA!SWM2,\"\"))","v":""},{"$f":"IF(DATA!SWN2=0,\"\",IFERROR(DATA!SWN2,\"\"))","v":""},{"$f":"IF(DATA!SWO2=0,\"\",IFERROR(DATA!SWO2,\"\"))","v":""},{"$f":"IF(DATA!SWP2=0,\"\",IFERROR(DATA!SWP2,\"\"))","v":""},{"$f":"IF(DATA!SWQ2=0,\"\",IFERROR(DATA!SWQ2,\"\"))","v":""},{"$f":"IF(DATA!SWR2=0,\"\",IFERROR(DATA!SWR2,\"\"))","v":""},{"$f":"IF(DATA!SWS2=0,\"\",IFERROR(DATA!SWS2,\"\"))","v":""},{"$f":"IF(DATA!SWT2=0,\"\",IFERROR(DATA!SWT2,\"\"))","v":""},{"$f":"IF(DATA!SWU2=0,\"\",IFERROR(DATA!SWU2,\"\"))","v":""},{"$f":"IF(DATA!SWV2=0,\"\",IFERROR(DATA!SWV2,\"\"))","v":""},{"$f":"IF(DATA!SWW2=0,\"\",IFERROR(DATA!SWW2,\"\"))","v":""},{"$f":"IF(DATA!SWX2=0,\"\",IFERROR(DATA!SWX2,\"\"))","v":""},{"$f":"IF(DATA!SWY2=0,\"\",IFERROR(DATA!SWY2,\"\"))","v":""},{"$f":"IF(DATA!SWZ2=0,\"\",IFERROR(DATA!SWZ2,\"\"))","v":""},{"$f":"IF(DATA!SXA2=0,\"\",IFERROR(DATA!SXA2,\"\"))","v":""},{"$f":"IF(DATA!SXB2=0,\"\",IFERROR(DATA!SXB2,\"\"))","v":""},{"$f":"IF(DATA!SXC2=0,\"\",IFERROR(DATA!SXC2,\"\"))","v":""},{"$f":"IF(DATA!SXD2=0,\"\",IFERROR(DATA!SXD2,\"\"))","v":""},{"$f":"IF(DATA!SXE2=0,\"\",IFERROR(DATA!SXE2,\"\"))","v":""},{"$f":"IF(DATA!SXF2=0,\"\",IFERROR(DATA!SXF2,\"\"))","v":""},{"$f":"IF(DATA!SXG2=0,\"\",IFERROR(DATA!SXG2,\"\"))","v":""},{"$f":"IF(DATA!SXH2=0,\"\",IFERROR(DATA!SXH2,\"\"))","v":""},{"$f":"IF(DATA!SXI2=0,\"\",IFERROR(DATA!SXI2,\"\"))","v":""},{"$f":"IF(DATA!SXJ2=0,\"\",IFERROR(DATA!SXJ2,\"\"))","v":""},{"$f":"IF(DATA!SXK2=0,\"\",IFERROR(DATA!SXK2,\"\"))","v":""},{"$f":"IF(DATA!SXL2=0,\"\",IFERROR(DATA!SXL2,\"\"))","v":""},{"$f":"IF(DATA!SXM2=0,\"\",IFERROR(DATA!SXM2,\"\"))","v":""},{"$f":"IF(DATA!SXN2=0,\"\",IFERROR(DATA!SXN2,\"\"))","v":""},{"$f":"IF(DATA!SXO2=0,\"\",IFERROR(DATA!SXO2,\"\"))","v":""},{"$f":"IF(DATA!SXP2=0,\"\",IFERROR(DATA!SXP2,\"\"))","v":""},{"$f":"IF(DATA!SXQ2=0,\"\",IFERROR(DATA!SXQ2,\"\"))","v":""},{"$f":"IF(DATA!SXR2=0,\"\",IFERROR(DATA!SXR2,\"\"))","v":""},{"$f":"IF(DATA!SXS2=0,\"\",IFERROR(DATA!SXS2,\"\"))","v":""},{"$f":"IF(DATA!SXT2=0,\"\",IFERROR(DATA!SXT2,\"\"))","v":""},{"$f":"IF(DATA!SXU2=0,\"\",IFERROR(DATA!SXU2,\"\"))","v":""},{"$f":"IF(DATA!SXV2=0,\"\",IFERROR(DATA!SXV2,\"\"))","v":""},{"$f":"IF(DATA!SXW2=0,\"\",IFERROR(DATA!SXW2,\"\"))","v":""},{"$f":"IF(DATA!SXX2=0,\"\",IFERROR(DATA!SXX2,\"\"))","v":""},{"$f":"IF(DATA!SXY2=0,\"\",IFERROR(DATA!SXY2,\"\"))","v":""},{"$f":"IF(DATA!SXZ2=0,\"\",IFERROR(DATA!SXZ2,\"\"))","v":""},{"$f":"IF(DATA!SYA2=0,\"\",IFERROR(DATA!SYA2,\"\"))","v":""},{"$f":"IF(DATA!SYB2=0,\"\",IFERROR(DATA!SYB2,\"\"))","v":""},{"$f":"IF(DATA!SYC2=0,\"\",IFERROR(DATA!SYC2,\"\"))","v":""},{"$f":"IF(DATA!SYD2=0,\"\",IFERROR(DATA!SYD2,\"\"))","v":""},{"$f":"IF(DATA!SYE2=0,\"\",IFERROR(DATA!SYE2,\"\"))","v":""},{"$f":"IF(DATA!SYF2=0,\"\",IFERROR(DATA!SYF2,\"\"))","v":""},{"$f":"IF(DATA!SYG2=0,\"\",IFERROR(DATA!SYG2,\"\"))","v":""},{"$f":"IF(DATA!SYH2=0,\"\",IFERROR(DATA!SYH2,\"\"))","v":""},{"$f":"IF(DATA!SYI2=0,\"\",IFERROR(DATA!SYI2,\"\"))","v":""},{"$f":"IF(DATA!SYJ2=0,\"\",IFERROR(DATA!SYJ2,\"\"))","v":""},{"$f":"IF(DATA!SYK2=0,\"\",IFERROR(DATA!SYK2,\"\"))","v":""},{"$f":"IF(DATA!SYL2=0,\"\",IFERROR(DATA!SYL2,\"\"))","v":""},{"$f":"IF(DATA!SYM2=0,\"\",IFERROR(DATA!SYM2,\"\"))","v":""},{"$f":"IF(DATA!SYN2=0,\"\",IFERROR(DATA!SYN2,\"\"))","v":""},{"$f":"IF(DATA!SYO2=0,\"\",IFERROR(DATA!SYO2,\"\"))","v":""},{"$f":"IF(DATA!SYP2=0,\"\",IFERROR(DATA!SYP2,\"\"))","v":""},{"$f":"IF(DATA!SYQ2=0,\"\",IFERROR(DATA!SYQ2,\"\"))","v":""},{"$f":"IF(DATA!SYR2=0,\"\",IFERROR(DATA!SYR2,\"\"))","v":""},{"$f":"IF(DATA!SYS2=0,\"\",IFERROR(DATA!SYS2,\"\"))","v":""},{"$f":"IF(DATA!SYT2=0,\"\",IFERROR(DATA!SYT2,\"\"))","v":""},{"$f":"IF(DATA!SYU2=0,\"\",IFERROR(DATA!SYU2,\"\"))","v":""},{"$f":"IF(DATA!SYV2=0,\"\",IFERROR(DATA!SYV2,\"\"))","v":""},{"$f":"IF(DATA!SYW2=0,\"\",IFERROR(DATA!SYW2,\"\"))","v":""},{"$f":"IF(DATA!SYX2=0,\"\",IFERROR(DATA!SYX2,\"\"))","v":""},{"$f":"IF(DATA!SYY2=0,\"\",IFERROR(DATA!SYY2,\"\"))","v":""},{"$f":"IF(DATA!SYZ2=0,\"\",IFERROR(DATA!SYZ2,\"\"))","v":""},{"$f":"IF(DATA!SZA2=0,\"\",IFERROR(DATA!SZA2,\"\"))","v":""},{"$f":"IF(DATA!SZB2=0,\"\",IFERROR(DATA!SZB2,\"\"))","v":""},{"$f":"IF(DATA!SZC2=0,\"\",IFERROR(DATA!SZC2,\"\"))","v":""},{"$f":"IF(DATA!SZD2=0,\"\",IFERROR(DATA!SZD2,\"\"))","v":""},{"$f":"IF(DATA!SZE2=0,\"\",IFERROR(DATA!SZE2,\"\"))","v":""},{"$f":"IF(DATA!SZF2=0,\"\",IFERROR(DATA!SZF2,\"\"))","v":""},{"$f":"IF(DATA!SZG2=0,\"\",IFERROR(DATA!SZG2,\"\"))","v":""},{"$f":"IF(DATA!SZH2=0,\"\",IFERROR(DATA!SZH2,\"\"))","v":""},{"$f":"IF(DATA!SZI2=0,\"\",IFERROR(DATA!SZI2,\"\"))","v":""},{"$f":"IF(DATA!SZJ2=0,\"\",IFERROR(DATA!SZJ2,\"\"))","v":""},{"$f":"IF(DATA!SZK2=0,\"\",IFERROR(DATA!SZK2,\"\"))","v":""},{"$f":"IF(DATA!SZL2=0,\"\",IFERROR(DATA!SZL2,\"\"))","v":""},{"$f":"IF(DATA!SZM2=0,\"\",IFERROR(DATA!SZM2,\"\"))","v":""},{"$f":"IF(DATA!SZN2=0,\"\",IFERROR(DATA!SZN2,\"\"))","v":""},{"$f":"IF(DATA!SZO2=0,\"\",IFERROR(DATA!SZO2,\"\"))","v":""},{"$f":"IF(DATA!SZP2=0,\"\",IFERROR(DATA!SZP2,\"\"))","v":""},{"$f":"IF(DATA!SZQ2=0,\"\",IFERROR(DATA!SZQ2,\"\"))","v":""},{"$f":"IF(DATA!SZR2=0,\"\",IFERROR(DATA!SZR2,\"\"))","v":""},{"$f":"IF(DATA!SZS2=0,\"\",IFERROR(DATA!SZS2,\"\"))","v":""},{"$f":"IF(DATA!SZT2=0,\"\",IFERROR(DATA!SZT2,\"\"))","v":""},{"$f":"IF(DATA!SZU2=0,\"\",IFERROR(DATA!SZU2,\"\"))","v":""},{"$f":"IF(DATA!SZV2=0,\"\",IFERROR(DATA!SZV2,\"\"))","v":""},{"$f":"IF(DATA!SZW2=0,\"\",IFERROR(DATA!SZW2,\"\"))","v":""},{"$f":"IF(DATA!SZX2=0,\"\",IFERROR(DATA!SZX2,\"\"))","v":""},{"$f":"IF(DATA!SZY2=0,\"\",IFERROR(DATA!SZY2,\"\"))","v":""},{"$f":"IF(DATA!SZZ2=0,\"\",IFERROR(DATA!SZZ2,\"\"))","v":""},{"$f":"IF(DATA!TAA2=0,\"\",IFERROR(DATA!TAA2,\"\"))","v":""},{"$f":"IF(DATA!TAB2=0,\"\",IFERROR(DATA!TAB2,\"\"))","v":""},{"$f":"IF(DATA!TAC2=0,\"\",IFERROR(DATA!TAC2,\"\"))","v":""},{"$f":"IF(DATA!TAD2=0,\"\",IFERROR(DATA!TAD2,\"\"))","v":""},{"$f":"IF(DATA!TAE2=0,\"\",IFERROR(DATA!TAE2,\"\"))","v":""},{"$f":"IF(DATA!TAF2=0,\"\",IFERROR(DATA!TAF2,\"\"))","v":""},{"$f":"IF(DATA!TAG2=0,\"\",IFERROR(DATA!TAG2,\"\"))","v":""},{"$f":"IF(DATA!TAH2=0,\"\",IFERROR(DATA!TAH2,\"\"))","v":""},{"$f":"IF(DATA!TAI2=0,\"\",IFERROR(DATA!TAI2,\"\"))","v":""},{"$f":"IF(DATA!TAJ2=0,\"\",IFERROR(DATA!TAJ2,\"\"))","v":""},{"$f":"IF(DATA!TAK2=0,\"\",IFERROR(DATA!TAK2,\"\"))","v":""},{"$f":"IF(DATA!TAL2=0,\"\",IFERROR(DATA!TAL2,\"\"))","v":""},{"$f":"IF(DATA!TAM2=0,\"\",IFERROR(DATA!TAM2,\"\"))","v":""},{"$f":"IF(DATA!TAN2=0,\"\",IFERROR(DATA!TAN2,\"\"))","v":""},{"$f":"IF(DATA!TAO2=0,\"\",IFERROR(DATA!TAO2,\"\"))","v":""},{"$f":"IF(DATA!TAP2=0,\"\",IFERROR(DATA!TAP2,\"\"))","v":""},{"$f":"IF(DATA!TAQ2=0,\"\",IFERROR(DATA!TAQ2,\"\"))","v":""},{"$f":"IF(DATA!TAR2=0,\"\",IFERROR(DATA!TAR2,\"\"))","v":""},{"$f":"IF(DATA!TAS2=0,\"\",IFERROR(DATA!TAS2,\"\"))","v":""},{"$f":"IF(DATA!TAT2=0,\"\",IFERROR(DATA!TAT2,\"\"))","v":""},{"$f":"IF(DATA!TAU2=0,\"\",IFERROR(DATA!TAU2,\"\"))","v":""},{"$f":"IF(DATA!TAV2=0,\"\",IFERROR(DATA!TAV2,\"\"))","v":""},{"$f":"IF(DATA!TAW2=0,\"\",IFERROR(DATA!TAW2,\"\"))","v":""},{"$f":"IF(DATA!TAX2=0,\"\",IFERROR(DATA!TAX2,\"\"))","v":""},{"$f":"IF(DATA!TAY2=0,\"\",IFERROR(DATA!TAY2,\"\"))","v":""},{"$f":"IF(DATA!TAZ2=0,\"\",IFERROR(DATA!TAZ2,\"\"))","v":""},{"$f":"IF(DATA!TBA2=0,\"\",IFERROR(DATA!TBA2,\"\"))","v":""},{"$f":"IF(DATA!TBB2=0,\"\",IFERROR(DATA!TBB2,\"\"))","v":""},{"$f":"IF(DATA!TBC2=0,\"\",IFERROR(DATA!TBC2,\"\"))","v":""},{"$f":"IF(DATA!TBD2=0,\"\",IFERROR(DATA!TBD2,\"\"))","v":""},{"$f":"IF(DATA!TBE2=0,\"\",IFERROR(DATA!TBE2,\"\"))","v":""},{"$f":"IF(DATA!TBF2=0,\"\",IFERROR(DATA!TBF2,\"\"))","v":""},{"$f":"IF(DATA!TBG2=0,\"\",IFERROR(DATA!TBG2,\"\"))","v":""},{"$f":"IF(DATA!TBH2=0,\"\",IFERROR(DATA!TBH2,\"\"))","v":""},{"$f":"IF(DATA!TBI2=0,\"\",IFERROR(DATA!TBI2,\"\"))","v":""},{"$f":"IF(DATA!TBJ2=0,\"\",IFERROR(DATA!TBJ2,\"\"))","v":""},{"$f":"IF(DATA!TBK2=0,\"\",IFERROR(DATA!TBK2,\"\"))","v":""},{"$f":"IF(DATA!TBL2=0,\"\",IFERROR(DATA!TBL2,\"\"))","v":""},{"$f":"IF(DATA!TBM2=0,\"\",IFERROR(DATA!TBM2,\"\"))","v":""},{"$f":"IF(DATA!TBN2=0,\"\",IFERROR(DATA!TBN2,\"\"))","v":""},{"$f":"IF(DATA!TBO2=0,\"\",IFERROR(DATA!TBO2,\"\"))","v":""},{"$f":"IF(DATA!TBP2=0,\"\",IFERROR(DATA!TBP2,\"\"))","v":""},{"$f":"IF(DATA!TBQ2=0,\"\",IFERROR(DATA!TBQ2,\"\"))","v":""},{"$f":"IF(DATA!TBR2=0,\"\",IFERROR(DATA!TBR2,\"\"))","v":""},{"$f":"IF(DATA!TBS2=0,\"\",IFERROR(DATA!TBS2,\"\"))","v":""},{"$f":"IF(DATA!TBT2=0,\"\",IFERROR(DATA!TBT2,\"\"))","v":""},{"$f":"IF(DATA!TBU2=0,\"\",IFERROR(DATA!TBU2,\"\"))","v":""},{"$f":"IF(DATA!TBV2=0,\"\",IFERROR(DATA!TBV2,\"\"))","v":""},{"$f":"IF(DATA!TBW2=0,\"\",IFERROR(DATA!TBW2,\"\"))","v":""},{"$f":"IF(DATA!TBX2=0,\"\",IFERROR(DATA!TBX2,\"\"))","v":""},{"$f":"IF(DATA!TBY2=0,\"\",IFERROR(DATA!TBY2,\"\"))","v":""},{"$f":"IF(DATA!TBZ2=0,\"\",IFERROR(DATA!TBZ2,\"\"))","v":""},{"$f":"IF(DATA!TCA2=0,\"\",IFERROR(DATA!TCA2,\"\"))","v":""},{"$f":"IF(DATA!TCB2=0,\"\",IFERROR(DATA!TCB2,\"\"))","v":""},{"$f":"IF(DATA!TCC2=0,\"\",IFERROR(DATA!TCC2,\"\"))","v":""},{"$f":"IF(DATA!TCD2=0,\"\",IFERROR(DATA!TCD2,\"\"))","v":""},{"$f":"IF(DATA!TCE2=0,\"\",IFERROR(DATA!TCE2,\"\"))","v":""},{"$f":"IF(DATA!TCF2=0,\"\",IFERROR(DATA!TCF2,\"\"))","v":""},{"$f":"IF(DATA!TCG2=0,\"\",IFERROR(DATA!TCG2,\"\"))","v":""},{"$f":"IF(DATA!TCH2=0,\"\",IFERROR(DATA!TCH2,\"\"))","v":""},{"$f":"IF(DATA!TCI2=0,\"\",IFERROR(DATA!TCI2,\"\"))","v":""},{"$f":"IF(DATA!TCJ2=0,\"\",IFERROR(DATA!TCJ2,\"\"))","v":""},{"$f":"IF(DATA!TCK2=0,\"\",IFERROR(DATA!TCK2,\"\"))","v":""},{"$f":"IF(DATA!TCL2=0,\"\",IFERROR(DATA!TCL2,\"\"))","v":""},{"$f":"IF(DATA!TCM2=0,\"\",IFERROR(DATA!TCM2,\"\"))","v":""},{"$f":"IF(DATA!TCN2=0,\"\",IFERROR(DATA!TCN2,\"\"))","v":""},{"$f":"IF(DATA!TCO2=0,\"\",IFERROR(DATA!TCO2,\"\"))","v":""},{"$f":"IF(DATA!TCP2=0,\"\",IFERROR(DATA!TCP2,\"\"))","v":""},{"$f":"IF(DATA!TCQ2=0,\"\",IFERROR(DATA!TCQ2,\"\"))","v":""},{"$f":"IF(DATA!TCR2=0,\"\",IFERROR(DATA!TCR2,\"\"))","v":""},{"$f":"IF(DATA!TCS2=0,\"\",IFERROR(DATA!TCS2,\"\"))","v":""},{"$f":"IF(DATA!TCT2=0,\"\",IFERROR(DATA!TCT2,\"\"))","v":""},{"$f":"IF(DATA!TCU2=0,\"\",IFERROR(DATA!TCU2,\"\"))","v":""},{"$f":"IF(DATA!TCV2=0,\"\",IFERROR(DATA!TCV2,\"\"))","v":""},{"$f":"IF(DATA!TCW2=0,\"\",IFERROR(DATA!TCW2,\"\"))","v":""},{"$f":"IF(DATA!TCX2=0,\"\",IFERROR(DATA!TCX2,\"\"))","v":""},{"$f":"IF(DATA!TCY2=0,\"\",IFERROR(DATA!TCY2,\"\"))","v":""},{"$f":"IF(DATA!TCZ2=0,\"\",IFERROR(DATA!TCZ2,\"\"))","v":""},{"$f":"IF(DATA!TDA2=0,\"\",IFERROR(DATA!TDA2,\"\"))","v":""},{"$f":"IF(DATA!TDB2=0,\"\",IFERROR(DATA!TDB2,\"\"))","v":""},{"$f":"IF(DATA!TDC2=0,\"\",IFERROR(DATA!TDC2,\"\"))","v":""},{"$f":"IF(DATA!TDD2=0,\"\",IFERROR(DATA!TDD2,\"\"))","v":""},{"$f":"IF(DATA!TDE2=0,\"\",IFERROR(DATA!TDE2,\"\"))","v":""},{"$f":"IF(DATA!TDF2=0,\"\",IFERROR(DATA!TDF2,\"\"))","v":""},{"$f":"IF(DATA!TDG2=0,\"\",IFERROR(DATA!TDG2,\"\"))","v":""},{"$f":"IF(DATA!TDH2=0,\"\",IFERROR(DATA!TDH2,\"\"))","v":""},{"$f":"IF(DATA!TDI2=0,\"\",IFERROR(DATA!TDI2,\"\"))","v":""},{"$f":"IF(DATA!TDJ2=0,\"\",IFERROR(DATA!TDJ2,\"\"))","v":""},{"$f":"IF(DATA!TDK2=0,\"\",IFERROR(DATA!TDK2,\"\"))","v":""},{"$f":"IF(DATA!TDL2=0,\"\",IFERROR(DATA!TDL2,\"\"))","v":""},{"$f":"IF(DATA!TDM2=0,\"\",IFERROR(DATA!TDM2,\"\"))","v":""},{"$f":"IF(DATA!TDN2=0,\"\",IFERROR(DATA!TDN2,\"\"))","v":""},{"$f":"IF(DATA!TDO2=0,\"\",IFERROR(DATA!TDO2,\"\"))","v":""},{"$f":"IF(DATA!TDP2=0,\"\",IFERROR(DATA!TDP2,\"\"))","v":""},{"$f":"IF(DATA!TDQ2=0,\"\",IFERROR(DATA!TDQ2,\"\"))","v":""},{"$f":"IF(DATA!TDR2=0,\"\",IFERROR(DATA!TDR2,\"\"))","v":""},{"$f":"IF(DATA!TDS2=0,\"\",IFERROR(DATA!TDS2,\"\"))","v":""},{"$f":"IF(DATA!TDT2=0,\"\",IFERROR(DATA!TDT2,\"\"))","v":""},{"$f":"IF(DATA!TDU2=0,\"\",IFERROR(DATA!TDU2,\"\"))","v":""},{"$f":"IF(DATA!TDV2=0,\"\",IFERROR(DATA!TDV2,\"\"))","v":""},{"$f":"IF(DATA!TDW2=0,\"\",IFERROR(DATA!TDW2,\"\"))","v":""},{"$f":"IF(DATA!TDX2=0,\"\",IFERROR(DATA!TDX2,\"\"))","v":""},{"$f":"IF(DATA!TDY2=0,\"\",IFERROR(DATA!TDY2,\"\"))","v":""},{"$f":"IF(DATA!TDZ2=0,\"\",IFERROR(DATA!TDZ2,\"\"))","v":""},{"$f":"IF(DATA!TEA2=0,\"\",IFERROR(DATA!TEA2,\"\"))","v":""},{"$f":"IF(DATA!TEB2=0,\"\",IFERROR(DATA!TEB2,\"\"))","v":""},{"$f":"IF(DATA!TEC2=0,\"\",IFERROR(DATA!TEC2,\"\"))","v":""},{"$f":"IF(DATA!TED2=0,\"\",IFERROR(DATA!TED2,\"\"))","v":""},{"$f":"IF(DATA!TEE2=0,\"\",IFERROR(DATA!TEE2,\"\"))","v":""},{"$f":"IF(DATA!TEF2=0,\"\",IFERROR(DATA!TEF2,\"\"))","v":""},{"$f":"IF(DATA!TEG2=0,\"\",IFERROR(DATA!TEG2,\"\"))","v":""},{"$f":"IF(DATA!TEH2=0,\"\",IFERROR(DATA!TEH2,\"\"))","v":""},{"$f":"IF(DATA!TEI2=0,\"\",IFERROR(DATA!TEI2,\"\"))","v":""},{"$f":"IF(DATA!TEJ2=0,\"\",IFERROR(DATA!TEJ2,\"\"))","v":""},{"$f":"IF(DATA!TEK2=0,\"\",IFERROR(DATA!TEK2,\"\"))","v":""},{"$f":"IF(DATA!TEL2=0,\"\",IFERROR(DATA!TEL2,\"\"))","v":""},{"$f":"IF(DATA!TEM2=0,\"\",IFERROR(DATA!TEM2,\"\"))","v":""},{"$f":"IF(DATA!TEN2=0,\"\",IFERROR(DATA!TEN2,\"\"))","v":""},{"$f":"IF(DATA!TEO2=0,\"\",IFERROR(DATA!TEO2,\"\"))","v":""},{"$f":"IF(DATA!TEP2=0,\"\",IFERROR(DATA!TEP2,\"\"))","v":""},{"$f":"IF(DATA!TEQ2=0,\"\",IFERROR(DATA!TEQ2,\"\"))","v":""},{"$f":"IF(DATA!TER2=0,\"\",IFERROR(DATA!TER2,\"\"))","v":""},{"$f":"IF(DATA!TES2=0,\"\",IFERROR(DATA!TES2,\"\"))","v":""},{"$f":"IF(DATA!TET2=0,\"\",IFERROR(DATA!TET2,\"\"))","v":""},{"$f":"IF(DATA!TEU2=0,\"\",IFERROR(DATA!TEU2,\"\"))","v":""},{"$f":"IF(DATA!TEV2=0,\"\",IFERROR(DATA!TEV2,\"\"))","v":""},{"$f":"IF(DATA!TEW2=0,\"\",IFERROR(DATA!TEW2,\"\"))","v":""},{"$f":"IF(DATA!TEX2=0,\"\",IFERROR(DATA!TEX2,\"\"))","v":""},{"$f":"IF(DATA!TEY2=0,\"\",IFERROR(DATA!TEY2,\"\"))","v":""},{"$f":"IF(DATA!TEZ2=0,\"\",IFERROR(DATA!TEZ2,\"\"))","v":""},{"$f":"IF(DATA!TFA2=0,\"\",IFERROR(DATA!TFA2,\"\"))","v":""},{"$f":"IF(DATA!TFB2=0,\"\",IFERROR(DATA!TFB2,\"\"))","v":""},{"$f":"IF(DATA!TFC2=0,\"\",IFERROR(DATA!TFC2,\"\"))","v":""},{"$f":"IF(DATA!TFD2=0,\"\",IFERROR(DATA!TFD2,\"\"))","v":""},{"$f":"IF(DATA!TFE2=0,\"\",IFERROR(DATA!TFE2,\"\"))","v":""},{"$f":"IF(DATA!TFF2=0,\"\",IFERROR(DATA!TFF2,\"\"))","v":""},{"$f":"IF(DATA!TFG2=0,\"\",IFERROR(DATA!TFG2,\"\"))","v":""},{"$f":"IF(DATA!TFH2=0,\"\",IFERROR(DATA!TFH2,\"\"))","v":""},{"$f":"IF(DATA!TFI2=0,\"\",IFERROR(DATA!TFI2,\"\"))","v":""},{"$f":"IF(DATA!TFJ2=0,\"\",IFERROR(DATA!TFJ2,\"\"))","v":""},{"$f":"IF(DATA!TFK2=0,\"\",IFERROR(DATA!TFK2,\"\"))","v":""},{"$f":"IF(DATA!TFL2=0,\"\",IFERROR(DATA!TFL2,\"\"))","v":""},{"$f":"IF(DATA!TFM2=0,\"\",IFERROR(DATA!TFM2,\"\"))","v":""},{"$f":"IF(DATA!TFN2=0,\"\",IFERROR(DATA!TFN2,\"\"))","v":""},{"$f":"IF(DATA!TFO2=0,\"\",IFERROR(DATA!TFO2,\"\"))","v":""},{"$f":"IF(DATA!TFP2=0,\"\",IFERROR(DATA!TFP2,\"\"))","v":""},{"$f":"IF(DATA!TFQ2=0,\"\",IFERROR(DATA!TFQ2,\"\"))","v":""},{"$f":"IF(DATA!TFR2=0,\"\",IFERROR(DATA!TFR2,\"\"))","v":""},{"$f":"IF(DATA!TFS2=0,\"\",IFERROR(DATA!TFS2,\"\"))","v":""},{"$f":"IF(DATA!TFT2=0,\"\",IFERROR(DATA!TFT2,\"\"))","v":""},{"$f":"IF(DATA!TFU2=0,\"\",IFERROR(DATA!TFU2,\"\"))","v":""},{"$f":"IF(DATA!TFV2=0,\"\",IFERROR(DATA!TFV2,\"\"))","v":""},{"$f":"IF(DATA!TFW2=0,\"\",IFERROR(DATA!TFW2,\"\"))","v":""},{"$f":"IF(DATA!TFX2=0,\"\",IFERROR(DATA!TFX2,\"\"))","v":""},{"$f":"IF(DATA!TFY2=0,\"\",IFERROR(DATA!TFY2,\"\"))","v":""},{"$f":"IF(DATA!TFZ2=0,\"\",IFERROR(DATA!TFZ2,\"\"))","v":""},{"$f":"IF(DATA!TGA2=0,\"\",IFERROR(DATA!TGA2,\"\"))","v":""},{"$f":"IF(DATA!TGB2=0,\"\",IFERROR(DATA!TGB2,\"\"))","v":""},{"$f":"IF(DATA!TGC2=0,\"\",IFERROR(DATA!TGC2,\"\"))","v":""},{"$f":"IF(DATA!TGD2=0,\"\",IFERROR(DATA!TGD2,\"\"))","v":""},{"$f":"IF(DATA!TGE2=0,\"\",IFERROR(DATA!TGE2,\"\"))","v":""},{"$f":"IF(DATA!TGF2=0,\"\",IFERROR(DATA!TGF2,\"\"))","v":""},{"$f":"IF(DATA!TGG2=0,\"\",IFERROR(DATA!TGG2,\"\"))","v":""},{"$f":"IF(DATA!TGH2=0,\"\",IFERROR(DATA!TGH2,\"\"))","v":""},{"$f":"IF(DATA!TGI2=0,\"\",IFERROR(DATA!TGI2,\"\"))","v":""},{"$f":"IF(DATA!TGJ2=0,\"\",IFERROR(DATA!TGJ2,\"\"))","v":""},{"$f":"IF(DATA!TGK2=0,\"\",IFERROR(DATA!TGK2,\"\"))","v":""},{"$f":"IF(DATA!TGL2=0,\"\",IFERROR(DATA!TGL2,\"\"))","v":""},{"$f":"IF(DATA!TGM2=0,\"\",IFERROR(DATA!TGM2,\"\"))","v":""},{"$f":"IF(DATA!TGN2=0,\"\",IFERROR(DATA!TGN2,\"\"))","v":""},{"$f":"IF(DATA!TGO2=0,\"\",IFERROR(DATA!TGO2,\"\"))","v":""},{"$f":"IF(DATA!TGP2=0,\"\",IFERROR(DATA!TGP2,\"\"))","v":""},{"$f":"IF(DATA!TGQ2=0,\"\",IFERROR(DATA!TGQ2,\"\"))","v":""},{"$f":"IF(DATA!TGR2=0,\"\",IFERROR(DATA!TGR2,\"\"))","v":""},{"$f":"IF(DATA!TGS2=0,\"\",IFERROR(DATA!TGS2,\"\"))","v":""},{"$f":"IF(DATA!TGT2=0,\"\",IFERROR(DATA!TGT2,\"\"))","v":""},{"$f":"IF(DATA!TGU2=0,\"\",IFERROR(DATA!TGU2,\"\"))","v":""},{"$f":"IF(DATA!TGV2=0,\"\",IFERROR(DATA!TGV2,\"\"))","v":""},{"$f":"IF(DATA!TGW2=0,\"\",IFERROR(DATA!TGW2,\"\"))","v":""},{"$f":"IF(DATA!TGX2=0,\"\",IFERROR(DATA!TGX2,\"\"))","v":""},{"$f":"IF(DATA!TGY2=0,\"\",IFERROR(DATA!TGY2,\"\"))","v":""},{"$f":"IF(DATA!TGZ2=0,\"\",IFERROR(DATA!TGZ2,\"\"))","v":""},{"$f":"IF(DATA!THA2=0,\"\",IFERROR(DATA!THA2,\"\"))","v":""},{"$f":"IF(DATA!THB2=0,\"\",IFERROR(DATA!THB2,\"\"))","v":""},{"$f":"IF(DATA!THC2=0,\"\",IFERROR(DATA!THC2,\"\"))","v":""},{"$f":"IF(DATA!THD2=0,\"\",IFERROR(DATA!THD2,\"\"))","v":""},{"$f":"IF(DATA!THE2=0,\"\",IFERROR(DATA!THE2,\"\"))","v":""},{"$f":"IF(DATA!THF2=0,\"\",IFERROR(DATA!THF2,\"\"))","v":""},{"$f":"IF(DATA!THG2=0,\"\",IFERROR(DATA!THG2,\"\"))","v":""},{"$f":"IF(DATA!THH2=0,\"\",IFERROR(DATA!THH2,\"\"))","v":""},{"$f":"IF(DATA!THI2=0,\"\",IFERROR(DATA!THI2,\"\"))","v":""},{"$f":"IF(DATA!THJ2=0,\"\",IFERROR(DATA!THJ2,\"\"))","v":""},{"$f":"IF(DATA!THK2=0,\"\",IFERROR(DATA!THK2,\"\"))","v":""},{"$f":"IF(DATA!THL2=0,\"\",IFERROR(DATA!THL2,\"\"))","v":""},{"$f":"IF(DATA!THM2=0,\"\",IFERROR(DATA!THM2,\"\"))","v":""},{"$f":"IF(DATA!THN2=0,\"\",IFERROR(DATA!THN2,\"\"))","v":""},{"$f":"IF(DATA!THO2=0,\"\",IFERROR(DATA!THO2,\"\"))","v":""},{"$f":"IF(DATA!THP2=0,\"\",IFERROR(DATA!THP2,\"\"))","v":""},{"$f":"IF(DATA!THQ2=0,\"\",IFERROR(DATA!THQ2,\"\"))","v":""},{"$f":"IF(DATA!THR2=0,\"\",IFERROR(DATA!THR2,\"\"))","v":""},{"$f":"IF(DATA!THS2=0,\"\",IFERROR(DATA!THS2,\"\"))","v":""},{"$f":"IF(DATA!THT2=0,\"\",IFERROR(DATA!THT2,\"\"))","v":""},{"$f":"IF(DATA!THU2=0,\"\",IFERROR(DATA!THU2,\"\"))","v":""},{"$f":"IF(DATA!THV2=0,\"\",IFERROR(DATA!THV2,\"\"))","v":""},{"$f":"IF(DATA!THW2=0,\"\",IFERROR(DATA!THW2,\"\"))","v":""},{"$f":"IF(DATA!THX2=0,\"\",IFERROR(DATA!THX2,\"\"))","v":""},{"$f":"IF(DATA!THY2=0,\"\",IFERROR(DATA!THY2,\"\"))","v":""},{"$f":"IF(DATA!THZ2=0,\"\",IFERROR(DATA!THZ2,\"\"))","v":""},{"$f":"IF(DATA!TIA2=0,\"\",IFERROR(DATA!TIA2,\"\"))","v":""},{"$f":"IF(DATA!TIB2=0,\"\",IFERROR(DATA!TIB2,\"\"))","v":""},{"$f":"IF(DATA!TIC2=0,\"\",IFERROR(DATA!TIC2,\"\"))","v":""},{"$f":"IF(DATA!TID2=0,\"\",IFERROR(DATA!TID2,\"\"))","v":""},{"$f":"IF(DATA!TIE2=0,\"\",IFERROR(DATA!TIE2,\"\"))","v":""},{"$f":"IF(DATA!TIF2=0,\"\",IFERROR(DATA!TIF2,\"\"))","v":""},{"$f":"IF(DATA!TIG2=0,\"\",IFERROR(DATA!TIG2,\"\"))","v":""},{"$f":"IF(DATA!TIH2=0,\"\",IFERROR(DATA!TIH2,\"\"))","v":""},{"$f":"IF(DATA!TII2=0,\"\",IFERROR(DATA!TII2,\"\"))","v":""},{"$f":"IF(DATA!TIJ2=0,\"\",IFERROR(DATA!TIJ2,\"\"))","v":""},{"$f":"IF(DATA!TIK2=0,\"\",IFERROR(DATA!TIK2,\"\"))","v":""},{"$f":"IF(DATA!TIL2=0,\"\",IFERROR(DATA!TIL2,\"\"))","v":""},{"$f":"IF(DATA!TIM2=0,\"\",IFERROR(DATA!TIM2,\"\"))","v":""},{"$f":"IF(DATA!TIN2=0,\"\",IFERROR(DATA!TIN2,\"\"))","v":""},{"$f":"IF(DATA!TIO2=0,\"\",IFERROR(DATA!TIO2,\"\"))","v":""},{"$f":"IF(DATA!TIP2=0,\"\",IFERROR(DATA!TIP2,\"\"))","v":""},{"$f":"IF(DATA!TIQ2=0,\"\",IFERROR(DATA!TIQ2,\"\"))","v":""},{"$f":"IF(DATA!TIR2=0,\"\",IFERROR(DATA!TIR2,\"\"))","v":""},{"$f":"IF(DATA!TIS2=0,\"\",IFERROR(DATA!TIS2,\"\"))","v":""},{"$f":"IF(DATA!TIT2=0,\"\",IFERROR(DATA!TIT2,\"\"))","v":""},{"$f":"IF(DATA!TIU2=0,\"\",IFERROR(DATA!TIU2,\"\"))","v":""},{"$f":"IF(DATA!TIV2=0,\"\",IFERROR(DATA!TIV2,\"\"))","v":""},{"$f":"IF(DATA!TIW2=0,\"\",IFERROR(DATA!TIW2,\"\"))","v":""},{"$f":"IF(DATA!TIX2=0,\"\",IFERROR(DATA!TIX2,\"\"))","v":""},{"$f":"IF(DATA!TIY2=0,\"\",IFERROR(DATA!TIY2,\"\"))","v":""},{"$f":"IF(DATA!TIZ2=0,\"\",IFERROR(DATA!TIZ2,\"\"))","v":""},{"$f":"IF(DATA!TJA2=0,\"\",IFERROR(DATA!TJA2,\"\"))","v":""},{"$f":"IF(DATA!TJB2=0,\"\",IFERROR(DATA!TJB2,\"\"))","v":""},{"$f":"IF(DATA!TJC2=0,\"\",IFERROR(DATA!TJC2,\"\"))","v":""},{"$f":"IF(DATA!TJD2=0,\"\",IFERROR(DATA!TJD2,\"\"))","v":""},{"$f":"IF(DATA!TJE2=0,\"\",IFERROR(DATA!TJE2,\"\"))","v":""},{"$f":"IF(DATA!TJF2=0,\"\",IFERROR(DATA!TJF2,\"\"))","v":""},{"$f":"IF(DATA!TJG2=0,\"\",IFERROR(DATA!TJG2,\"\"))","v":""},{"$f":"IF(DATA!TJH2=0,\"\",IFERROR(DATA!TJH2,\"\"))","v":""},{"$f":"IF(DATA!TJI2=0,\"\",IFERROR(DATA!TJI2,\"\"))","v":""},{"$f":"IF(DATA!TJJ2=0,\"\",IFERROR(DATA!TJJ2,\"\"))","v":""},{"$f":"IF(DATA!TJK2=0,\"\",IFERROR(DATA!TJK2,\"\"))","v":""},{"$f":"IF(DATA!TJL2=0,\"\",IFERROR(DATA!TJL2,\"\"))","v":""},{"$f":"IF(DATA!TJM2=0,\"\",IFERROR(DATA!TJM2,\"\"))","v":""},{"$f":"IF(DATA!TJN2=0,\"\",IFERROR(DATA!TJN2,\"\"))","v":""},{"$f":"IF(DATA!TJO2=0,\"\",IFERROR(DATA!TJO2,\"\"))","v":""},{"$f":"IF(DATA!TJP2=0,\"\",IFERROR(DATA!TJP2,\"\"))","v":""},{"$f":"IF(DATA!TJQ2=0,\"\",IFERROR(DATA!TJQ2,\"\"))","v":""},{"$f":"IF(DATA!TJR2=0,\"\",IFERROR(DATA!TJR2,\"\"))","v":""},{"$f":"IF(DATA!TJS2=0,\"\",IFERROR(DATA!TJS2,\"\"))","v":""},{"$f":"IF(DATA!TJT2=0,\"\",IFERROR(DATA!TJT2,\"\"))","v":""},{"$f":"IF(DATA!TJU2=0,\"\",IFERROR(DATA!TJU2,\"\"))","v":""},{"$f":"IF(DATA!TJV2=0,\"\",IFERROR(DATA!TJV2,\"\"))","v":""},{"$f":"IF(DATA!TJW2=0,\"\",IFERROR(DATA!TJW2,\"\"))","v":""},{"$f":"IF(DATA!TJX2=0,\"\",IFERROR(DATA!TJX2,\"\"))","v":""},{"$f":"IF(DATA!TJY2=0,\"\",IFERROR(DATA!TJY2,\"\"))","v":""},{"$f":"IF(DATA!TJZ2=0,\"\",IFERROR(DATA!TJZ2,\"\"))","v":""},{"$f":"IF(DATA!TKA2=0,\"\",IFERROR(DATA!TKA2,\"\"))","v":""},{"$f":"IF(DATA!TKB2=0,\"\",IFERROR(DATA!TKB2,\"\"))","v":""},{"$f":"IF(DATA!TKC2=0,\"\",IFERROR(DATA!TKC2,\"\"))","v":""},{"$f":"IF(DATA!TKD2=0,\"\",IFERROR(DATA!TKD2,\"\"))","v":""},{"$f":"IF(DATA!TKE2=0,\"\",IFERROR(DATA!TKE2,\"\"))","v":""},{"$f":"IF(DATA!TKF2=0,\"\",IFERROR(DATA!TKF2,\"\"))","v":""},{"$f":"IF(DATA!TKG2=0,\"\",IFERROR(DATA!TKG2,\"\"))","v":""},{"$f":"IF(DATA!TKH2=0,\"\",IFERROR(DATA!TKH2,\"\"))","v":""},{"$f":"IF(DATA!TKI2=0,\"\",IFERROR(DATA!TKI2,\"\"))","v":""},{"$f":"IF(DATA!TKJ2=0,\"\",IFERROR(DATA!TKJ2,\"\"))","v":""},{"$f":"IF(DATA!TKK2=0,\"\",IFERROR(DATA!TKK2,\"\"))","v":""},{"$f":"IF(DATA!TKL2=0,\"\",IFERROR(DATA!TKL2,\"\"))","v":""},{"$f":"IF(DATA!TKM2=0,\"\",IFERROR(DATA!TKM2,\"\"))","v":""},{"$f":"IF(DATA!TKN2=0,\"\",IFERROR(DATA!TKN2,\"\"))","v":""},{"$f":"IF(DATA!TKO2=0,\"\",IFERROR(DATA!TKO2,\"\"))","v":""},{"$f":"IF(DATA!TKP2=0,\"\",IFERROR(DATA!TKP2,\"\"))","v":""},{"$f":"IF(DATA!TKQ2=0,\"\",IFERROR(DATA!TKQ2,\"\"))","v":""},{"$f":"IF(DATA!TKR2=0,\"\",IFERROR(DATA!TKR2,\"\"))","v":""},{"$f":"IF(DATA!TKS2=0,\"\",IFERROR(DATA!TKS2,\"\"))","v":""},{"$f":"IF(DATA!TKT2=0,\"\",IFERROR(DATA!TKT2,\"\"))","v":""},{"$f":"IF(DATA!TKU2=0,\"\",IFERROR(DATA!TKU2,\"\"))","v":""},{"$f":"IF(DATA!TKV2=0,\"\",IFERROR(DATA!TKV2,\"\"))","v":""},{"$f":"IF(DATA!TKW2=0,\"\",IFERROR(DATA!TKW2,\"\"))","v":""},{"$f":"IF(DATA!TKX2=0,\"\",IFERROR(DATA!TKX2,\"\"))","v":""},{"$f":"IF(DATA!TKY2=0,\"\",IFERROR(DATA!TKY2,\"\"))","v":""},{"$f":"IF(DATA!TKZ2=0,\"\",IFERROR(DATA!TKZ2,\"\"))","v":""},{"$f":"IF(DATA!TLA2=0,\"\",IFERROR(DATA!TLA2,\"\"))","v":""},{"$f":"IF(DATA!TLB2=0,\"\",IFERROR(DATA!TLB2,\"\"))","v":""},{"$f":"IF(DATA!TLC2=0,\"\",IFERROR(DATA!TLC2,\"\"))","v":""},{"$f":"IF(DATA!TLD2=0,\"\",IFERROR(DATA!TLD2,\"\"))","v":""},{"$f":"IF(DATA!TLE2=0,\"\",IFERROR(DATA!TLE2,\"\"))","v":""},{"$f":"IF(DATA!TLF2=0,\"\",IFERROR(DATA!TLF2,\"\"))","v":""},{"$f":"IF(DATA!TLG2=0,\"\",IFERROR(DATA!TLG2,\"\"))","v":""},{"$f":"IF(DATA!TLH2=0,\"\",IFERROR(DATA!TLH2,\"\"))","v":""},{"$f":"IF(DATA!TLI2=0,\"\",IFERROR(DATA!TLI2,\"\"))","v":""},{"$f":"IF(DATA!TLJ2=0,\"\",IFERROR(DATA!TLJ2,\"\"))","v":""},{"$f":"IF(DATA!TLK2=0,\"\",IFERROR(DATA!TLK2,\"\"))","v":""},{"$f":"IF(DATA!TLL2=0,\"\",IFERROR(DATA!TLL2,\"\"))","v":""},{"$f":"IF(DATA!TLM2=0,\"\",IFERROR(DATA!TLM2,\"\"))","v":""},{"$f":"IF(DATA!TLN2=0,\"\",IFERROR(DATA!TLN2,\"\"))","v":""},{"$f":"IF(DATA!TLO2=0,\"\",IFERROR(DATA!TLO2,\"\"))","v":""},{"$f":"IF(DATA!TLP2=0,\"\",IFERROR(DATA!TLP2,\"\"))","v":""},{"$f":"IF(DATA!TLQ2=0,\"\",IFERROR(DATA!TLQ2,\"\"))","v":""},{"$f":"IF(DATA!TLR2=0,\"\",IFERROR(DATA!TLR2,\"\"))","v":""},{"$f":"IF(DATA!TLS2=0,\"\",IFERROR(DATA!TLS2,\"\"))","v":""},{"$f":"IF(DATA!TLT2=0,\"\",IFERROR(DATA!TLT2,\"\"))","v":""},{"$f":"IF(DATA!TLU2=0,\"\",IFERROR(DATA!TLU2,\"\"))","v":""},{"$f":"IF(DATA!TLV2=0,\"\",IFERROR(DATA!TLV2,\"\"))","v":""},{"$f":"IF(DATA!TLW2=0,\"\",IFERROR(DATA!TLW2,\"\"))","v":""},{"$f":"IF(DATA!TLX2=0,\"\",IFERROR(DATA!TLX2,\"\"))","v":""},{"$f":"IF(DATA!TLY2=0,\"\",IFERROR(DATA!TLY2,\"\"))","v":""},{"$f":"IF(DATA!TLZ2=0,\"\",IFERROR(DATA!TLZ2,\"\"))","v":""},{"$f":"IF(DATA!TMA2=0,\"\",IFERROR(DATA!TMA2,\"\"))","v":""},{"$f":"IF(DATA!TMB2=0,\"\",IFERROR(DATA!TMB2,\"\"))","v":""},{"$f":"IF(DATA!TMC2=0,\"\",IFERROR(DATA!TMC2,\"\"))","v":""},{"$f":"IF(DATA!TMD2=0,\"\",IFERROR(DATA!TMD2,\"\"))","v":""},{"$f":"IF(DATA!TME2=0,\"\",IFERROR(DATA!TME2,\"\"))","v":""},{"$f":"IF(DATA!TMF2=0,\"\",IFERROR(DATA!TMF2,\"\"))","v":""},{"$f":"IF(DATA!TMG2=0,\"\",IFERROR(DATA!TMG2,\"\"))","v":""},{"$f":"IF(DATA!TMH2=0,\"\",IFERROR(DATA!TMH2,\"\"))","v":""},{"$f":"IF(DATA!TMI2=0,\"\",IFERROR(DATA!TMI2,\"\"))","v":""},{"$f":"IF(DATA!TMJ2=0,\"\",IFERROR(DATA!TMJ2,\"\"))","v":""},{"$f":"IF(DATA!TMK2=0,\"\",IFERROR(DATA!TMK2,\"\"))","v":""},{"$f":"IF(DATA!TML2=0,\"\",IFERROR(DATA!TML2,\"\"))","v":""},{"$f":"IF(DATA!TMM2=0,\"\",IFERROR(DATA!TMM2,\"\"))","v":""},{"$f":"IF(DATA!TMN2=0,\"\",IFERROR(DATA!TMN2,\"\"))","v":""},{"$f":"IF(DATA!TMO2=0,\"\",IFERROR(DATA!TMO2,\"\"))","v":""},{"$f":"IF(DATA!TMP2=0,\"\",IFERROR(DATA!TMP2,\"\"))","v":""},{"$f":"IF(DATA!TMQ2=0,\"\",IFERROR(DATA!TMQ2,\"\"))","v":""},{"$f":"IF(DATA!TMR2=0,\"\",IFERROR(DATA!TMR2,\"\"))","v":""},{"$f":"IF(DATA!TMS2=0,\"\",IFERROR(DATA!TMS2,\"\"))","v":""},{"$f":"IF(DATA!TMT2=0,\"\",IFERROR(DATA!TMT2,\"\"))","v":""},{"$f":"IF(DATA!TMU2=0,\"\",IFERROR(DATA!TMU2,\"\"))","v":""},{"$f":"IF(DATA!TMV2=0,\"\",IFERROR(DATA!TMV2,\"\"))","v":""},{"$f":"IF(DATA!TMW2=0,\"\",IFERROR(DATA!TMW2,\"\"))","v":""},{"$f":"IF(DATA!TMX2=0,\"\",IFERROR(DATA!TMX2,\"\"))","v":""},{"$f":"IF(DATA!TMY2=0,\"\",IFERROR(DATA!TMY2,\"\"))","v":""},{"$f":"IF(DATA!TMZ2=0,\"\",IFERROR(DATA!TMZ2,\"\"))","v":""},{"$f":"IF(DATA!TNA2=0,\"\",IFERROR(DATA!TNA2,\"\"))","v":""},{"$f":"IF(DATA!TNB2=0,\"\",IFERROR(DATA!TNB2,\"\"))","v":""},{"$f":"IF(DATA!TNC2=0,\"\",IFERROR(DATA!TNC2,\"\"))","v":""},{"$f":"IF(DATA!TND2=0,\"\",IFERROR(DATA!TND2,\"\"))","v":""},{"$f":"IF(DATA!TNE2=0,\"\",IFERROR(DATA!TNE2,\"\"))","v":""},{"$f":"IF(DATA!TNF2=0,\"\",IFERROR(DATA!TNF2,\"\"))","v":""},{"$f":"IF(DATA!TNG2=0,\"\",IFERROR(DATA!TNG2,\"\"))","v":""},{"$f":"IF(DATA!TNH2=0,\"\",IFERROR(DATA!TNH2,\"\"))","v":""},{"$f":"IF(DATA!TNI2=0,\"\",IFERROR(DATA!TNI2,\"\"))","v":""},{"$f":"IF(DATA!TNJ2=0,\"\",IFERROR(DATA!TNJ2,\"\"))","v":""},{"$f":"IF(DATA!TNK2=0,\"\",IFERROR(DATA!TNK2,\"\"))","v":""},{"$f":"IF(DATA!TNL2=0,\"\",IFERROR(DATA!TNL2,\"\"))","v":""},{"$f":"IF(DATA!TNM2=0,\"\",IFERROR(DATA!TNM2,\"\"))","v":""},{"$f":"IF(DATA!TNN2=0,\"\",IFERROR(DATA!TNN2,\"\"))","v":""},{"$f":"IF(DATA!TNO2=0,\"\",IFERROR(DATA!TNO2,\"\"))","v":""},{"$f":"IF(DATA!TNP2=0,\"\",IFERROR(DATA!TNP2,\"\"))","v":""},{"$f":"IF(DATA!TNQ2=0,\"\",IFERROR(DATA!TNQ2,\"\"))","v":""},{"$f":"IF(DATA!TNR2=0,\"\",IFERROR(DATA!TNR2,\"\"))","v":""},{"$f":"IF(DATA!TNS2=0,\"\",IFERROR(DATA!TNS2,\"\"))","v":""},{"$f":"IF(DATA!TNT2=0,\"\",IFERROR(DATA!TNT2,\"\"))","v":""},{"$f":"IF(DATA!TNU2=0,\"\",IFERROR(DATA!TNU2,\"\"))","v":""},{"$f":"IF(DATA!TNV2=0,\"\",IFERROR(DATA!TNV2,\"\"))","v":""},{"$f":"IF(DATA!TNW2=0,\"\",IFERROR(DATA!TNW2,\"\"))","v":""},{"$f":"IF(DATA!TNX2=0,\"\",IFERROR(DATA!TNX2,\"\"))","v":""},{"$f":"IF(DATA!TNY2=0,\"\",IFERROR(DATA!TNY2,\"\"))","v":""},{"$f":"IF(DATA!TNZ2=0,\"\",IFERROR(DATA!TNZ2,\"\"))","v":""},{"$f":"IF(DATA!TOA2=0,\"\",IFERROR(DATA!TOA2,\"\"))","v":""},{"$f":"IF(DATA!TOB2=0,\"\",IFERROR(DATA!TOB2,\"\"))","v":""},{"$f":"IF(DATA!TOC2=0,\"\",IFERROR(DATA!TOC2,\"\"))","v":""},{"$f":"IF(DATA!TOD2=0,\"\",IFERROR(DATA!TOD2,\"\"))","v":""},{"$f":"IF(DATA!TOE2=0,\"\",IFERROR(DATA!TOE2,\"\"))","v":""},{"$f":"IF(DATA!TOF2=0,\"\",IFERROR(DATA!TOF2,\"\"))","v":""},{"$f":"IF(DATA!TOG2=0,\"\",IFERROR(DATA!TOG2,\"\"))","v":""},{"$f":"IF(DATA!TOH2=0,\"\",IFERROR(DATA!TOH2,\"\"))","v":""},{"$f":"IF(DATA!TOI2=0,\"\",IFERROR(DATA!TOI2,\"\"))","v":""},{"$f":"IF(DATA!TOJ2=0,\"\",IFERROR(DATA!TOJ2,\"\"))","v":""},{"$f":"IF(DATA!TOK2=0,\"\",IFERROR(DATA!TOK2,\"\"))","v":""},{"$f":"IF(DATA!TOL2=0,\"\",IFERROR(DATA!TOL2,\"\"))","v":""},{"$f":"IF(DATA!TOM2=0,\"\",IFERROR(DATA!TOM2,\"\"))","v":""},{"$f":"IF(DATA!TON2=0,\"\",IFERROR(DATA!TON2,\"\"))","v":""},{"$f":"IF(DATA!TOO2=0,\"\",IFERROR(DATA!TOO2,\"\"))","v":""},{"$f":"IF(DATA!TOP2=0,\"\",IFERROR(DATA!TOP2,\"\"))","v":""},{"$f":"IF(DATA!TOQ2=0,\"\",IFERROR(DATA!TOQ2,\"\"))","v":""},{"$f":"IF(DATA!TOR2=0,\"\",IFERROR(DATA!TOR2,\"\"))","v":""},{"$f":"IF(DATA!TOS2=0,\"\",IFERROR(DATA!TOS2,\"\"))","v":""},{"$f":"IF(DATA!TOT2=0,\"\",IFERROR(DATA!TOT2,\"\"))","v":""},{"$f":"IF(DATA!TOU2=0,\"\",IFERROR(DATA!TOU2,\"\"))","v":""},{"$f":"IF(DATA!TOV2=0,\"\",IFERROR(DATA!TOV2,\"\"))","v":""},{"$f":"IF(DATA!TOW2=0,\"\",IFERROR(DATA!TOW2,\"\"))","v":""},{"$f":"IF(DATA!TOX2=0,\"\",IFERROR(DATA!TOX2,\"\"))","v":""},{"$f":"IF(DATA!TOY2=0,\"\",IFERROR(DATA!TOY2,\"\"))","v":""},{"$f":"IF(DATA!TOZ2=0,\"\",IFERROR(DATA!TOZ2,\"\"))","v":""},{"$f":"IF(DATA!TPA2=0,\"\",IFERROR(DATA!TPA2,\"\"))","v":""},{"$f":"IF(DATA!TPB2=0,\"\",IFERROR(DATA!TPB2,\"\"))","v":""},{"$f":"IF(DATA!TPC2=0,\"\",IFERROR(DATA!TPC2,\"\"))","v":""},{"$f":"IF(DATA!TPD2=0,\"\",IFERROR(DATA!TPD2,\"\"))","v":""},{"$f":"IF(DATA!TPE2=0,\"\",IFERROR(DATA!TPE2,\"\"))","v":""},{"$f":"IF(DATA!TPF2=0,\"\",IFERROR(DATA!TPF2,\"\"))","v":""},{"$f":"IF(DATA!TPG2=0,\"\",IFERROR(DATA!TPG2,\"\"))","v":""},{"$f":"IF(DATA!TPH2=0,\"\",IFERROR(DATA!TPH2,\"\"))","v":""},{"$f":"IF(DATA!TPI2=0,\"\",IFERROR(DATA!TPI2,\"\"))","v":""},{"$f":"IF(DATA!TPJ2=0,\"\",IFERROR(DATA!TPJ2,\"\"))","v":""},{"$f":"IF(DATA!TPK2=0,\"\",IFERROR(DATA!TPK2,\"\"))","v":""},{"$f":"IF(DATA!TPL2=0,\"\",IFERROR(DATA!TPL2,\"\"))","v":""},{"$f":"IF(DATA!TPM2=0,\"\",IFERROR(DATA!TPM2,\"\"))","v":""},{"$f":"IF(DATA!TPN2=0,\"\",IFERROR(DATA!TPN2,\"\"))","v":""},{"$f":"IF(DATA!TPO2=0,\"\",IFERROR(DATA!TPO2,\"\"))","v":""},{"$f":"IF(DATA!TPP2=0,\"\",IFERROR(DATA!TPP2,\"\"))","v":""},{"$f":"IF(DATA!TPQ2=0,\"\",IFERROR(DATA!TPQ2,\"\"))","v":""},{"$f":"IF(DATA!TPR2=0,\"\",IFERROR(DATA!TPR2,\"\"))","v":""},{"$f":"IF(DATA!TPS2=0,\"\",IFERROR(DATA!TPS2,\"\"))","v":""},{"$f":"IF(DATA!TPT2=0,\"\",IFERROR(DATA!TPT2,\"\"))","v":""},{"$f":"IF(DATA!TPU2=0,\"\",IFERROR(DATA!TPU2,\"\"))","v":""},{"$f":"IF(DATA!TPV2=0,\"\",IFERROR(DATA!TPV2,\"\"))","v":""},{"$f":"IF(DATA!TPW2=0,\"\",IFERROR(DATA!TPW2,\"\"))","v":""},{"$f":"IF(DATA!TPX2=0,\"\",IFERROR(DATA!TPX2,\"\"))","v":""},{"$f":"IF(DATA!TPY2=0,\"\",IFERROR(DATA!TPY2,\"\"))","v":""},{"$f":"IF(DATA!TPZ2=0,\"\",IFERROR(DATA!TPZ2,\"\"))","v":""},{"$f":"IF(DATA!TQA2=0,\"\",IFERROR(DATA!TQA2,\"\"))","v":""},{"$f":"IF(DATA!TQB2=0,\"\",IFERROR(DATA!TQB2,\"\"))","v":""},{"$f":"IF(DATA!TQC2=0,\"\",IFERROR(DATA!TQC2,\"\"))","v":""},{"$f":"IF(DATA!TQD2=0,\"\",IFERROR(DATA!TQD2,\"\"))","v":""},{"$f":"IF(DATA!TQE2=0,\"\",IFERROR(DATA!TQE2,\"\"))","v":""},{"$f":"IF(DATA!TQF2=0,\"\",IFERROR(DATA!TQF2,\"\"))","v":""},{"$f":"IF(DATA!TQG2=0,\"\",IFERROR(DATA!TQG2,\"\"))","v":""},{"$f":"IF(DATA!TQH2=0,\"\",IFERROR(DATA!TQH2,\"\"))","v":""},{"$f":"IF(DATA!TQI2=0,\"\",IFERROR(DATA!TQI2,\"\"))","v":""},{"$f":"IF(DATA!TQJ2=0,\"\",IFERROR(DATA!TQJ2,\"\"))","v":""},{"$f":"IF(DATA!TQK2=0,\"\",IFERROR(DATA!TQK2,\"\"))","v":""},{"$f":"IF(DATA!TQL2=0,\"\",IFERROR(DATA!TQL2,\"\"))","v":""},{"$f":"IF(DATA!TQM2=0,\"\",IFERROR(DATA!TQM2,\"\"))","v":""},{"$f":"IF(DATA!TQN2=0,\"\",IFERROR(DATA!TQN2,\"\"))","v":""},{"$f":"IF(DATA!TQO2=0,\"\",IFERROR(DATA!TQO2,\"\"))","v":""},{"$f":"IF(DATA!TQP2=0,\"\",IFERROR(DATA!TQP2,\"\"))","v":""},{"$f":"IF(DATA!TQQ2=0,\"\",IFERROR(DATA!TQQ2,\"\"))","v":""},{"$f":"IF(DATA!TQR2=0,\"\",IFERROR(DATA!TQR2,\"\"))","v":""},{"$f":"IF(DATA!TQS2=0,\"\",IFERROR(DATA!TQS2,\"\"))","v":""},{"$f":"IF(DATA!TQT2=0,\"\",IFERROR(DATA!TQT2,\"\"))","v":""},{"$f":"IF(DATA!TQU2=0,\"\",IFERROR(DATA!TQU2,\"\"))","v":""},{"$f":"IF(DATA!TQV2=0,\"\",IFERROR(DATA!TQV2,\"\"))","v":""},{"$f":"IF(DATA!TQW2=0,\"\",IFERROR(DATA!TQW2,\"\"))","v":""},{"$f":"IF(DATA!TQX2=0,\"\",IFERROR(DATA!TQX2,\"\"))","v":""},{"$f":"IF(DATA!TQY2=0,\"\",IFERROR(DATA!TQY2,\"\"))","v":""},{"$f":"IF(DATA!TQZ2=0,\"\",IFERROR(DATA!TQZ2,\"\"))","v":""},{"$f":"IF(DATA!TRA2=0,\"\",IFERROR(DATA!TRA2,\"\"))","v":""},{"$f":"IF(DATA!TRB2=0,\"\",IFERROR(DATA!TRB2,\"\"))","v":""},{"$f":"IF(DATA!TRC2=0,\"\",IFERROR(DATA!TRC2,\"\"))","v":""},{"$f":"IF(DATA!TRD2=0,\"\",IFERROR(DATA!TRD2,\"\"))","v":""},{"$f":"IF(DATA!TRE2=0,\"\",IFERROR(DATA!TRE2,\"\"))","v":""},{"$f":"IF(DATA!TRF2=0,\"\",IFERROR(DATA!TRF2,\"\"))","v":""},{"$f":"IF(DATA!TRG2=0,\"\",IFERROR(DATA!TRG2,\"\"))","v":""},{"$f":"IF(DATA!TRH2=0,\"\",IFERROR(DATA!TRH2,\"\"))","v":""},{"$f":"IF(DATA!TRI2=0,\"\",IFERROR(DATA!TRI2,\"\"))","v":""},{"$f":"IF(DATA!TRJ2=0,\"\",IFERROR(DATA!TRJ2,\"\"))","v":""},{"$f":"IF(DATA!TRK2=0,\"\",IFERROR(DATA!TRK2,\"\"))","v":""},{"$f":"IF(DATA!TRL2=0,\"\",IFERROR(DATA!TRL2,\"\"))","v":""},{"$f":"IF(DATA!TRM2=0,\"\",IFERROR(DATA!TRM2,\"\"))","v":""},{"$f":"IF(DATA!TRN2=0,\"\",IFERROR(DATA!TRN2,\"\"))","v":""},{"$f":"IF(DATA!TRO2=0,\"\",IFERROR(DATA!TRO2,\"\"))","v":""},{"$f":"IF(DATA!TRP2=0,\"\",IFERROR(DATA!TRP2,\"\"))","v":""},{"$f":"IF(DATA!TRQ2=0,\"\",IFERROR(DATA!TRQ2,\"\"))","v":""},{"$f":"IF(DATA!TRR2=0,\"\",IFERROR(DATA!TRR2,\"\"))","v":""},{"$f":"IF(DATA!TRS2=0,\"\",IFERROR(DATA!TRS2,\"\"))","v":""},{"$f":"IF(DATA!TRT2=0,\"\",IFERROR(DATA!TRT2,\"\"))","v":""},{"$f":"IF(DATA!TRU2=0,\"\",IFERROR(DATA!TRU2,\"\"))","v":""},{"$f":"IF(DATA!TRV2=0,\"\",IFERROR(DATA!TRV2,\"\"))","v":""},{"$f":"IF(DATA!TRW2=0,\"\",IFERROR(DATA!TRW2,\"\"))","v":""},{"$f":"IF(DATA!TRX2=0,\"\",IFERROR(DATA!TRX2,\"\"))","v":""},{"$f":"IF(DATA!TRY2=0,\"\",IFERROR(DATA!TRY2,\"\"))","v":""},{"$f":"IF(DATA!TRZ2=0,\"\",IFERROR(DATA!TRZ2,\"\"))","v":""},{"$f":"IF(DATA!TSA2=0,\"\",IFERROR(DATA!TSA2,\"\"))","v":""},{"$f":"IF(DATA!TSB2=0,\"\",IFERROR(DATA!TSB2,\"\"))","v":""},{"$f":"IF(DATA!TSC2=0,\"\",IFERROR(DATA!TSC2,\"\"))","v":""},{"$f":"IF(DATA!TSD2=0,\"\",IFERROR(DATA!TSD2,\"\"))","v":""},{"$f":"IF(DATA!TSE2=0,\"\",IFERROR(DATA!TSE2,\"\"))","v":""},{"$f":"IF(DATA!TSF2=0,\"\",IFERROR(DATA!TSF2,\"\"))","v":""},{"$f":"IF(DATA!TSG2=0,\"\",IFERROR(DATA!TSG2,\"\"))","v":""},{"$f":"IF(DATA!TSH2=0,\"\",IFERROR(DATA!TSH2,\"\"))","v":""},{"$f":"IF(DATA!TSI2=0,\"\",IFERROR(DATA!TSI2,\"\"))","v":""},{"$f":"IF(DATA!TSJ2=0,\"\",IFERROR(DATA!TSJ2,\"\"))","v":""},{"$f":"IF(DATA!TSK2=0,\"\",IFERROR(DATA!TSK2,\"\"))","v":""},{"$f":"IF(DATA!TSL2=0,\"\",IFERROR(DATA!TSL2,\"\"))","v":""},{"$f":"IF(DATA!TSM2=0,\"\",IFERROR(DATA!TSM2,\"\"))","v":""},{"$f":"IF(DATA!TSN2=0,\"\",IFERROR(DATA!TSN2,\"\"))","v":""},{"$f":"IF(DATA!TSO2=0,\"\",IFERROR(DATA!TSO2,\"\"))","v":""},{"$f":"IF(DATA!TSP2=0,\"\",IFERROR(DATA!TSP2,\"\"))","v":""},{"$f":"IF(DATA!TSQ2=0,\"\",IFERROR(DATA!TSQ2,\"\"))","v":""},{"$f":"IF(DATA!TSR2=0,\"\",IFERROR(DATA!TSR2,\"\"))","v":""},{"$f":"IF(DATA!TSS2=0,\"\",IFERROR(DATA!TSS2,\"\"))","v":""},{"$f":"IF(DATA!TST2=0,\"\",IFERROR(DATA!TST2,\"\"))","v":""},{"$f":"IF(DATA!TSU2=0,\"\",IFERROR(DATA!TSU2,\"\"))","v":""},{"$f":"IF(DATA!TSV2=0,\"\",IFERROR(DATA!TSV2,\"\"))","v":""},{"$f":"IF(DATA!TSW2=0,\"\",IFERROR(DATA!TSW2,\"\"))","v":""},{"$f":"IF(DATA!TSX2=0,\"\",IFERROR(DATA!TSX2,\"\"))","v":""},{"$f":"IF(DATA!TSY2=0,\"\",IFERROR(DATA!TSY2,\"\"))","v":""},{"$f":"IF(DATA!TSZ2=0,\"\",IFERROR(DATA!TSZ2,\"\"))","v":""},{"$f":"IF(DATA!TTA2=0,\"\",IFERROR(DATA!TTA2,\"\"))","v":""},{"$f":"IF(DATA!TTB2=0,\"\",IFERROR(DATA!TTB2,\"\"))","v":""},{"$f":"IF(DATA!TTC2=0,\"\",IFERROR(DATA!TTC2,\"\"))","v":""},{"$f":"IF(DATA!TTD2=0,\"\",IFERROR(DATA!TTD2,\"\"))","v":""},{"$f":"IF(DATA!TTE2=0,\"\",IFERROR(DATA!TTE2,\"\"))","v":""},{"$f":"IF(DATA!TTF2=0,\"\",IFERROR(DATA!TTF2,\"\"))","v":""},{"$f":"IF(DATA!TTG2=0,\"\",IFERROR(DATA!TTG2,\"\"))","v":""},{"$f":"IF(DATA!TTH2=0,\"\",IFERROR(DATA!TTH2,\"\"))","v":""},{"$f":"IF(DATA!TTI2=0,\"\",IFERROR(DATA!TTI2,\"\"))","v":""},{"$f":"IF(DATA!TTJ2=0,\"\",IFERROR(DATA!TTJ2,\"\"))","v":""},{"$f":"IF(DATA!TTK2=0,\"\",IFERROR(DATA!TTK2,\"\"))","v":""},{"$f":"IF(DATA!TTL2=0,\"\",IFERROR(DATA!TTL2,\"\"))","v":""},{"$f":"IF(DATA!TTM2=0,\"\",IFERROR(DATA!TTM2,\"\"))","v":""},{"$f":"IF(DATA!TTN2=0,\"\",IFERROR(DATA!TTN2,\"\"))","v":""},{"$f":"IF(DATA!TTO2=0,\"\",IFERROR(DATA!TTO2,\"\"))","v":""},{"$f":"IF(DATA!TTP2=0,\"\",IFERROR(DATA!TTP2,\"\"))","v":""},{"$f":"IF(DATA!TTQ2=0,\"\",IFERROR(DATA!TTQ2,\"\"))","v":""},{"$f":"IF(DATA!TTR2=0,\"\",IFERROR(DATA!TTR2,\"\"))","v":""},{"$f":"IF(DATA!TTS2=0,\"\",IFERROR(DATA!TTS2,\"\"))","v":""},{"$f":"IF(DATA!TTT2=0,\"\",IFERROR(DATA!TTT2,\"\"))","v":""},{"$f":"IF(DATA!TTU2=0,\"\",IFERROR(DATA!TTU2,\"\"))","v":""},{"$f":"IF(DATA!TTV2=0,\"\",IFERROR(DATA!TTV2,\"\"))","v":""},{"$f":"IF(DATA!TTW2=0,\"\",IFERROR(DATA!TTW2,\"\"))","v":""},{"$f":"IF(DATA!TTX2=0,\"\",IFERROR(DATA!TTX2,\"\"))","v":""},{"$f":"IF(DATA!TTY2=0,\"\",IFERROR(DATA!TTY2,\"\"))","v":""},{"$f":"IF(DATA!TTZ2=0,\"\",IFERROR(DATA!TTZ2,\"\"))","v":""},{"$f":"IF(DATA!TUA2=0,\"\",IFERROR(DATA!TUA2,\"\"))","v":""},{"$f":"IF(DATA!TUB2=0,\"\",IFERROR(DATA!TUB2,\"\"))","v":""},{"$f":"IF(DATA!TUC2=0,\"\",IFERROR(DATA!TUC2,\"\"))","v":""},{"$f":"IF(DATA!TUD2=0,\"\",IFERROR(DATA!TUD2,\"\"))","v":""},{"$f":"IF(DATA!TUE2=0,\"\",IFERROR(DATA!TUE2,\"\"))","v":""},{"$f":"IF(DATA!TUF2=0,\"\",IFERROR(DATA!TUF2,\"\"))","v":""},{"$f":"IF(DATA!TUG2=0,\"\",IFERROR(DATA!TUG2,\"\"))","v":""},{"$f":"IF(DATA!TUH2=0,\"\",IFERROR(DATA!TUH2,\"\"))","v":""},{"$f":"IF(DATA!TUI2=0,\"\",IFERROR(DATA!TUI2,\"\"))","v":""},{"$f":"IF(DATA!TUJ2=0,\"\",IFERROR(DATA!TUJ2,\"\"))","v":""},{"$f":"IF(DATA!TUK2=0,\"\",IFERROR(DATA!TUK2,\"\"))","v":""},{"$f":"IF(DATA!TUL2=0,\"\",IFERROR(DATA!TUL2,\"\"))","v":""},{"$f":"IF(DATA!TUM2=0,\"\",IFERROR(DATA!TUM2,\"\"))","v":""},{"$f":"IF(DATA!TUN2=0,\"\",IFERROR(DATA!TUN2,\"\"))","v":""},{"$f":"IF(DATA!TUO2=0,\"\",IFERROR(DATA!TUO2,\"\"))","v":""},{"$f":"IF(DATA!TUP2=0,\"\",IFERROR(DATA!TUP2,\"\"))","v":""},{"$f":"IF(DATA!TUQ2=0,\"\",IFERROR(DATA!TUQ2,\"\"))","v":""},{"$f":"IF(DATA!TUR2=0,\"\",IFERROR(DATA!TUR2,\"\"))","v":""},{"$f":"IF(DATA!TUS2=0,\"\",IFERROR(DATA!TUS2,\"\"))","v":""},{"$f":"IF(DATA!TUT2=0,\"\",IFERROR(DATA!TUT2,\"\"))","v":""},{"$f":"IF(DATA!TUU2=0,\"\",IFERROR(DATA!TUU2,\"\"))","v":""},{"$f":"IF(DATA!TUV2=0,\"\",IFERROR(DATA!TUV2,\"\"))","v":""},{"$f":"IF(DATA!TUW2=0,\"\",IFERROR(DATA!TUW2,\"\"))","v":""},{"$f":"IF(DATA!TUX2=0,\"\",IFERROR(DATA!TUX2,\"\"))","v":""},{"$f":"IF(DATA!TUY2=0,\"\",IFERROR(DATA!TUY2,\"\"))","v":""},{"$f":"IF(DATA!TUZ2=0,\"\",IFERROR(DATA!TUZ2,\"\"))","v":""},{"$f":"IF(DATA!TVA2=0,\"\",IFERROR(DATA!TVA2,\"\"))","v":""},{"$f":"IF(DATA!TVB2=0,\"\",IFERROR(DATA!TVB2,\"\"))","v":""},{"$f":"IF(DATA!TVC2=0,\"\",IFERROR(DATA!TVC2,\"\"))","v":""},{"$f":"IF(DATA!TVD2=0,\"\",IFERROR(DATA!TVD2,\"\"))","v":""},{"$f":"IF(DATA!TVE2=0,\"\",IFERROR(DATA!TVE2,\"\"))","v":""},{"$f":"IF(DATA!TVF2=0,\"\",IFERROR(DATA!TVF2,\"\"))","v":""},{"$f":"IF(DATA!TVG2=0,\"\",IFERROR(DATA!TVG2,\"\"))","v":""},{"$f":"IF(DATA!TVH2=0,\"\",IFERROR(DATA!TVH2,\"\"))","v":""},{"$f":"IF(DATA!TVI2=0,\"\",IFERROR(DATA!TVI2,\"\"))","v":""},{"$f":"IF(DATA!TVJ2=0,\"\",IFERROR(DATA!TVJ2,\"\"))","v":""},{"$f":"IF(DATA!TVK2=0,\"\",IFERROR(DATA!TVK2,\"\"))","v":""},{"$f":"IF(DATA!TVL2=0,\"\",IFERROR(DATA!TVL2,\"\"))","v":""},{"$f":"IF(DATA!TVM2=0,\"\",IFERROR(DATA!TVM2,\"\"))","v":""},{"$f":"IF(DATA!TVN2=0,\"\",IFERROR(DATA!TVN2,\"\"))","v":""},{"$f":"IF(DATA!TVO2=0,\"\",IFERROR(DATA!TVO2,\"\"))","v":""},{"$f":"IF(DATA!TVP2=0,\"\",IFERROR(DATA!TVP2,\"\"))","v":""},{"$f":"IF(DATA!TVQ2=0,\"\",IFERROR(DATA!TVQ2,\"\"))","v":""},{"$f":"IF(DATA!TVR2=0,\"\",IFERROR(DATA!TVR2,\"\"))","v":""},{"$f":"IF(DATA!TVS2=0,\"\",IFERROR(DATA!TVS2,\"\"))","v":""},{"$f":"IF(DATA!TVT2=0,\"\",IFERROR(DATA!TVT2,\"\"))","v":""},{"$f":"IF(DATA!TVU2=0,\"\",IFERROR(DATA!TVU2,\"\"))","v":""},{"$f":"IF(DATA!TVV2=0,\"\",IFERROR(DATA!TVV2,\"\"))","v":""},{"$f":"IF(DATA!TVW2=0,\"\",IFERROR(DATA!TVW2,\"\"))","v":""},{"$f":"IF(DATA!TVX2=0,\"\",IFERROR(DATA!TVX2,\"\"))","v":""},{"$f":"IF(DATA!TVY2=0,\"\",IFERROR(DATA!TVY2,\"\"))","v":""},{"$f":"IF(DATA!TVZ2=0,\"\",IFERROR(DATA!TVZ2,\"\"))","v":""},{"$f":"IF(DATA!TWA2=0,\"\",IFERROR(DATA!TWA2,\"\"))","v":""},{"$f":"IF(DATA!TWB2=0,\"\",IFERROR(DATA!TWB2,\"\"))","v":""},{"$f":"IF(DATA!TWC2=0,\"\",IFERROR(DATA!TWC2,\"\"))","v":""},{"$f":"IF(DATA!TWD2=0,\"\",IFERROR(DATA!TWD2,\"\"))","v":""},{"$f":"IF(DATA!TWE2=0,\"\",IFERROR(DATA!TWE2,\"\"))","v":""},{"$f":"IF(DATA!TWF2=0,\"\",IFERROR(DATA!TWF2,\"\"))","v":""},{"$f":"IF(DATA!TWG2=0,\"\",IFERROR(DATA!TWG2,\"\"))","v":""},{"$f":"IF(DATA!TWH2=0,\"\",IFERROR(DATA!TWH2,\"\"))","v":""},{"$f":"IF(DATA!TWI2=0,\"\",IFERROR(DATA!TWI2,\"\"))","v":""},{"$f":"IF(DATA!TWJ2=0,\"\",IFERROR(DATA!TWJ2,\"\"))","v":""},{"$f":"IF(DATA!TWK2=0,\"\",IFERROR(DATA!TWK2,\"\"))","v":""},{"$f":"IF(DATA!TWL2=0,\"\",IFERROR(DATA!TWL2,\"\"))","v":""},{"$f":"IF(DATA!TWM2=0,\"\",IFERROR(DATA!TWM2,\"\"))","v":""},{"$f":"IF(DATA!TWN2=0,\"\",IFERROR(DATA!TWN2,\"\"))","v":""},{"$f":"IF(DATA!TWO2=0,\"\",IFERROR(DATA!TWO2,\"\"))","v":""},{"$f":"IF(DATA!TWP2=0,\"\",IFERROR(DATA!TWP2,\"\"))","v":""},{"$f":"IF(DATA!TWQ2=0,\"\",IFERROR(DATA!TWQ2,\"\"))","v":""},{"$f":"IF(DATA!TWR2=0,\"\",IFERROR(DATA!TWR2,\"\"))","v":""},{"$f":"IF(DATA!TWS2=0,\"\",IFERROR(DATA!TWS2,\"\"))","v":""},{"$f":"IF(DATA!TWT2=0,\"\",IFERROR(DATA!TWT2,\"\"))","v":""},{"$f":"IF(DATA!TWU2=0,\"\",IFERROR(DATA!TWU2,\"\"))","v":""},{"$f":"IF(DATA!TWV2=0,\"\",IFERROR(DATA!TWV2,\"\"))","v":""},{"$f":"IF(DATA!TWW2=0,\"\",IFERROR(DATA!TWW2,\"\"))","v":""},{"$f":"IF(DATA!TWX2=0,\"\",IFERROR(DATA!TWX2,\"\"))","v":""},{"$f":"IF(DATA!TWY2=0,\"\",IFERROR(DATA!TWY2,\"\"))","v":""},{"$f":"IF(DATA!TWZ2=0,\"\",IFERROR(DATA!TWZ2,\"\"))","v":""},{"$f":"IF(DATA!TXA2=0,\"\",IFERROR(DATA!TXA2,\"\"))","v":""},{"$f":"IF(DATA!TXB2=0,\"\",IFERROR(DATA!TXB2,\"\"))","v":""},{"$f":"IF(DATA!TXC2=0,\"\",IFERROR(DATA!TXC2,\"\"))","v":""},{"$f":"IF(DATA!TXD2=0,\"\",IFERROR(DATA!TXD2,\"\"))","v":""},{"$f":"IF(DATA!TXE2=0,\"\",IFERROR(DATA!TXE2,\"\"))","v":""},{"$f":"IF(DATA!TXF2=0,\"\",IFERROR(DATA!TXF2,\"\"))","v":""},{"$f":"IF(DATA!TXG2=0,\"\",IFERROR(DATA!TXG2,\"\"))","v":""},{"$f":"IF(DATA!TXH2=0,\"\",IFERROR(DATA!TXH2,\"\"))","v":""},{"$f":"IF(DATA!TXI2=0,\"\",IFERROR(DATA!TXI2,\"\"))","v":""},{"$f":"IF(DATA!TXJ2=0,\"\",IFERROR(DATA!TXJ2,\"\"))","v":""},{"$f":"IF(DATA!TXK2=0,\"\",IFERROR(DATA!TXK2,\"\"))","v":""},{"$f":"IF(DATA!TXL2=0,\"\",IFERROR(DATA!TXL2,\"\"))","v":""},{"$f":"IF(DATA!TXM2=0,\"\",IFERROR(DATA!TXM2,\"\"))","v":""},{"$f":"IF(DATA!TXN2=0,\"\",IFERROR(DATA!TXN2,\"\"))","v":""},{"$f":"IF(DATA!TXO2=0,\"\",IFERROR(DATA!TXO2,\"\"))","v":""},{"$f":"IF(DATA!TXP2=0,\"\",IFERROR(DATA!TXP2,\"\"))","v":""},{"$f":"IF(DATA!TXQ2=0,\"\",IFERROR(DATA!TXQ2,\"\"))","v":""},{"$f":"IF(DATA!TXR2=0,\"\",IFERROR(DATA!TXR2,\"\"))","v":""},{"$f":"IF(DATA!TXS2=0,\"\",IFERROR(DATA!TXS2,\"\"))","v":""},{"$f":"IF(DATA!TXT2=0,\"\",IFERROR(DATA!TXT2,\"\"))","v":""},{"$f":"IF(DATA!TXU2=0,\"\",IFERROR(DATA!TXU2,\"\"))","v":""},{"$f":"IF(DATA!TXV2=0,\"\",IFERROR(DATA!TXV2,\"\"))","v":""},{"$f":"IF(DATA!TXW2=0,\"\",IFERROR(DATA!TXW2,\"\"))","v":""},{"$f":"IF(DATA!TXX2=0,\"\",IFERROR(DATA!TXX2,\"\"))","v":""},{"$f":"IF(DATA!TXY2=0,\"\",IFERROR(DATA!TXY2,\"\"))","v":""},{"$f":"IF(DATA!TXZ2=0,\"\",IFERROR(DATA!TXZ2,\"\"))","v":""},{"$f":"IF(DATA!TYA2=0,\"\",IFERROR(DATA!TYA2,\"\"))","v":""},{"$f":"IF(DATA!TYB2=0,\"\",IFERROR(DATA!TYB2,\"\"))","v":""},{"$f":"IF(DATA!TYC2=0,\"\",IFERROR(DATA!TYC2,\"\"))","v":""},{"$f":"IF(DATA!TYD2=0,\"\",IFERROR(DATA!TYD2,\"\"))","v":""},{"$f":"IF(DATA!TYE2=0,\"\",IFERROR(DATA!TYE2,\"\"))","v":""},{"$f":"IF(DATA!TYF2=0,\"\",IFERROR(DATA!TYF2,\"\"))","v":""},{"$f":"IF(DATA!TYG2=0,\"\",IFERROR(DATA!TYG2,\"\"))","v":""},{"$f":"IF(DATA!TYH2=0,\"\",IFERROR(DATA!TYH2,\"\"))","v":""},{"$f":"IF(DATA!TYI2=0,\"\",IFERROR(DATA!TYI2,\"\"))","v":""},{"$f":"IF(DATA!TYJ2=0,\"\",IFERROR(DATA!TYJ2,\"\"))","v":""},{"$f":"IF(DATA!TYK2=0,\"\",IFERROR(DATA!TYK2,\"\"))","v":""},{"$f":"IF(DATA!TYL2=0,\"\",IFERROR(DATA!TYL2,\"\"))","v":""},{"$f":"IF(DATA!TYM2=0,\"\",IFERROR(DATA!TYM2,\"\"))","v":""},{"$f":"IF(DATA!TYN2=0,\"\",IFERROR(DATA!TYN2,\"\"))","v":""},{"$f":"IF(DATA!TYO2=0,\"\",IFERROR(DATA!TYO2,\"\"))","v":""},{"$f":"IF(DATA!TYP2=0,\"\",IFERROR(DATA!TYP2,\"\"))","v":""},{"$f":"IF(DATA!TYQ2=0,\"\",IFERROR(DATA!TYQ2,\"\"))","v":""},{"$f":"IF(DATA!TYR2=0,\"\",IFERROR(DATA!TYR2,\"\"))","v":""},{"$f":"IF(DATA!TYS2=0,\"\",IFERROR(DATA!TYS2,\"\"))","v":""},{"$f":"IF(DATA!TYT2=0,\"\",IFERROR(DATA!TYT2,\"\"))","v":""},{"$f":"IF(DATA!TYU2=0,\"\",IFERROR(DATA!TYU2,\"\"))","v":""},{"$f":"IF(DATA!TYV2=0,\"\",IFERROR(DATA!TYV2,\"\"))","v":""},{"$f":"IF(DATA!TYW2=0,\"\",IFERROR(DATA!TYW2,\"\"))","v":""},{"$f":"IF(DATA!TYX2=0,\"\",IFERROR(DATA!TYX2,\"\"))","v":""},{"$f":"IF(DATA!TYY2=0,\"\",IFERROR(DATA!TYY2,\"\"))","v":""},{"$f":"IF(DATA!TYZ2=0,\"\",IFERROR(DATA!TYZ2,\"\"))","v":""},{"$f":"IF(DATA!TZA2=0,\"\",IFERROR(DATA!TZA2,\"\"))","v":""},{"$f":"IF(DATA!TZB2=0,\"\",IFERROR(DATA!TZB2,\"\"))","v":""},{"$f":"IF(DATA!TZC2=0,\"\",IFERROR(DATA!TZC2,\"\"))","v":""},{"$f":"IF(DATA!TZD2=0,\"\",IFERROR(DATA!TZD2,\"\"))","v":""},{"$f":"IF(DATA!TZE2=0,\"\",IFERROR(DATA!TZE2,\"\"))","v":""},{"$f":"IF(DATA!TZF2=0,\"\",IFERROR(DATA!TZF2,\"\"))","v":""},{"$f":"IF(DATA!TZG2=0,\"\",IFERROR(DATA!TZG2,\"\"))","v":""},{"$f":"IF(DATA!TZH2=0,\"\",IFERROR(DATA!TZH2,\"\"))","v":""},{"$f":"IF(DATA!TZI2=0,\"\",IFERROR(DATA!TZI2,\"\"))","v":""},{"$f":"IF(DATA!TZJ2=0,\"\",IFERROR(DATA!TZJ2,\"\"))","v":""},{"$f":"IF(DATA!TZK2=0,\"\",IFERROR(DATA!TZK2,\"\"))","v":""},{"$f":"IF(DATA!TZL2=0,\"\",IFERROR(DATA!TZL2,\"\"))","v":""},{"$f":"IF(DATA!TZM2=0,\"\",IFERROR(DATA!TZM2,\"\"))","v":""},{"$f":"IF(DATA!TZN2=0,\"\",IFERROR(DATA!TZN2,\"\"))","v":""},{"$f":"IF(DATA!TZO2=0,\"\",IFERROR(DATA!TZO2,\"\"))","v":""},{"$f":"IF(DATA!TZP2=0,\"\",IFERROR(DATA!TZP2,\"\"))","v":""},{"$f":"IF(DATA!TZQ2=0,\"\",IFERROR(DATA!TZQ2,\"\"))","v":""},{"$f":"IF(DATA!TZR2=0,\"\",IFERROR(DATA!TZR2,\"\"))","v":""},{"$f":"IF(DATA!TZS2=0,\"\",IFERROR(DATA!TZS2,\"\"))","v":""},{"$f":"IF(DATA!TZT2=0,\"\",IFERROR(DATA!TZT2,\"\"))","v":""},{"$f":"IF(DATA!TZU2=0,\"\",IFERROR(DATA!TZU2,\"\"))","v":""},{"$f":"IF(DATA!TZV2=0,\"\",IFERROR(DATA!TZV2,\"\"))","v":""},{"$f":"IF(DATA!TZW2=0,\"\",IFERROR(DATA!TZW2,\"\"))","v":""},{"$f":"IF(DATA!TZX2=0,\"\",IFERROR(DATA!TZX2,\"\"))","v":""},{"$f":"IF(DATA!TZY2=0,\"\",IFERROR(DATA!TZY2,\"\"))","v":""},{"$f":"IF(DATA!TZZ2=0,\"\",IFERROR(DATA!TZZ2,\"\"))","v":""},{"$f":"IF(DATA!UAA2=0,\"\",IFERROR(DATA!UAA2,\"\"))","v":""},{"$f":"IF(DATA!UAB2=0,\"\",IFERROR(DATA!UAB2,\"\"))","v":""},{"$f":"IF(DATA!UAC2=0,\"\",IFERROR(DATA!UAC2,\"\"))","v":""},{"$f":"IF(DATA!UAD2=0,\"\",IFERROR(DATA!UAD2,\"\"))","v":""},{"$f":"IF(DATA!UAE2=0,\"\",IFERROR(DATA!UAE2,\"\"))","v":""},{"$f":"IF(DATA!UAF2=0,\"\",IFERROR(DATA!UAF2,\"\"))","v":""},{"$f":"IF(DATA!UAG2=0,\"\",IFERROR(DATA!UAG2,\"\"))","v":""},{"$f":"IF(DATA!UAH2=0,\"\",IFERROR(DATA!UAH2,\"\"))","v":""},{"$f":"IF(DATA!UAI2=0,\"\",IFERROR(DATA!UAI2,\"\"))","v":""},{"$f":"IF(DATA!UAJ2=0,\"\",IFERROR(DATA!UAJ2,\"\"))","v":""},{"$f":"IF(DATA!UAK2=0,\"\",IFERROR(DATA!UAK2,\"\"))","v":""},{"$f":"IF(DATA!UAL2=0,\"\",IFERROR(DATA!UAL2,\"\"))","v":""},{"$f":"IF(DATA!UAM2=0,\"\",IFERROR(DATA!UAM2,\"\"))","v":""},{"$f":"IF(DATA!UAN2=0,\"\",IFERROR(DATA!UAN2,\"\"))","v":""},{"$f":"IF(DATA!UAO2=0,\"\",IFERROR(DATA!UAO2,\"\"))","v":""},{"$f":"IF(DATA!UAP2=0,\"\",IFERROR(DATA!UAP2,\"\"))","v":""},{"$f":"IF(DATA!UAQ2=0,\"\",IFERROR(DATA!UAQ2,\"\"))","v":""},{"$f":"IF(DATA!UAR2=0,\"\",IFERROR(DATA!UAR2,\"\"))","v":""},{"$f":"IF(DATA!UAS2=0,\"\",IFERROR(DATA!UAS2,\"\"))","v":""},{"$f":"IF(DATA!UAT2=0,\"\",IFERROR(DATA!UAT2,\"\"))","v":""},{"$f":"IF(DATA!UAU2=0,\"\",IFERROR(DATA!UAU2,\"\"))","v":""},{"$f":"IF(DATA!UAV2=0,\"\",IFERROR(DATA!UAV2,\"\"))","v":""},{"$f":"IF(DATA!UAW2=0,\"\",IFERROR(DATA!UAW2,\"\"))","v":""},{"$f":"IF(DATA!UAX2=0,\"\",IFERROR(DATA!UAX2,\"\"))","v":""},{"$f":"IF(DATA!UAY2=0,\"\",IFERROR(DATA!UAY2,\"\"))","v":""},{"$f":"IF(DATA!UAZ2=0,\"\",IFERROR(DATA!UAZ2,\"\"))","v":""},{"$f":"IF(DATA!UBA2=0,\"\",IFERROR(DATA!UBA2,\"\"))","v":""},{"$f":"IF(DATA!UBB2=0,\"\",IFERROR(DATA!UBB2,\"\"))","v":""},{"$f":"IF(DATA!UBC2=0,\"\",IFERROR(DATA!UBC2,\"\"))","v":""},{"$f":"IF(DATA!UBD2=0,\"\",IFERROR(DATA!UBD2,\"\"))","v":""},{"$f":"IF(DATA!UBE2=0,\"\",IFERROR(DATA!UBE2,\"\"))","v":""},{"$f":"IF(DATA!UBF2=0,\"\",IFERROR(DATA!UBF2,\"\"))","v":""},{"$f":"IF(DATA!UBG2=0,\"\",IFERROR(DATA!UBG2,\"\"))","v":""},{"$f":"IF(DATA!UBH2=0,\"\",IFERROR(DATA!UBH2,\"\"))","v":""},{"$f":"IF(DATA!UBI2=0,\"\",IFERROR(DATA!UBI2,\"\"))","v":""},{"$f":"IF(DATA!UBJ2=0,\"\",IFERROR(DATA!UBJ2,\"\"))","v":""},{"$f":"IF(DATA!UBK2=0,\"\",IFERROR(DATA!UBK2,\"\"))","v":""},{"$f":"IF(DATA!UBL2=0,\"\",IFERROR(DATA!UBL2,\"\"))","v":""},{"$f":"IF(DATA!UBM2=0,\"\",IFERROR(DATA!UBM2,\"\"))","v":""},{"$f":"IF(DATA!UBN2=0,\"\",IFERROR(DATA!UBN2,\"\"))","v":""},{"$f":"IF(DATA!UBO2=0,\"\",IFERROR(DATA!UBO2,\"\"))","v":""},{"$f":"IF(DATA!UBP2=0,\"\",IFERROR(DATA!UBP2,\"\"))","v":""},{"$f":"IF(DATA!UBQ2=0,\"\",IFERROR(DATA!UBQ2,\"\"))","v":""},{"$f":"IF(DATA!UBR2=0,\"\",IFERROR(DATA!UBR2,\"\"))","v":""},{"$f":"IF(DATA!UBS2=0,\"\",IFERROR(DATA!UBS2,\"\"))","v":""},{"$f":"IF(DATA!UBT2=0,\"\",IFERROR(DATA!UBT2,\"\"))","v":""},{"$f":"IF(DATA!UBU2=0,\"\",IFERROR(DATA!UBU2,\"\"))","v":""},{"$f":"IF(DATA!UBV2=0,\"\",IFERROR(DATA!UBV2,\"\"))","v":""},{"$f":"IF(DATA!UBW2=0,\"\",IFERROR(DATA!UBW2,\"\"))","v":""},{"$f":"IF(DATA!UBX2=0,\"\",IFERROR(DATA!UBX2,\"\"))","v":""},{"$f":"IF(DATA!UBY2=0,\"\",IFERROR(DATA!UBY2,\"\"))","v":""},{"$f":"IF(DATA!UBZ2=0,\"\",IFERROR(DATA!UBZ2,\"\"))","v":""},{"$f":"IF(DATA!UCA2=0,\"\",IFERROR(DATA!UCA2,\"\"))","v":""},{"$f":"IF(DATA!UCB2=0,\"\",IFERROR(DATA!UCB2,\"\"))","v":""},{"$f":"IF(DATA!UCC2=0,\"\",IFERROR(DATA!UCC2,\"\"))","v":""},{"$f":"IF(DATA!UCD2=0,\"\",IFERROR(DATA!UCD2,\"\"))","v":""},{"$f":"IF(DATA!UCE2=0,\"\",IFERROR(DATA!UCE2,\"\"))","v":""},{"$f":"IF(DATA!UCF2=0,\"\",IFERROR(DATA!UCF2,\"\"))","v":""},{"$f":"IF(DATA!UCG2=0,\"\",IFERROR(DATA!UCG2,\"\"))","v":""},{"$f":"IF(DATA!UCH2=0,\"\",IFERROR(DATA!UCH2,\"\"))","v":""},{"$f":"IF(DATA!UCI2=0,\"\",IFERROR(DATA!UCI2,\"\"))","v":""},{"$f":"IF(DATA!UCJ2=0,\"\",IFERROR(DATA!UCJ2,\"\"))","v":""},{"$f":"IF(DATA!UCK2=0,\"\",IFERROR(DATA!UCK2,\"\"))","v":""},{"$f":"IF(DATA!UCL2=0,\"\",IFERROR(DATA!UCL2,\"\"))","v":""},{"$f":"IF(DATA!UCM2=0,\"\",IFERROR(DATA!UCM2,\"\"))","v":""},{"$f":"IF(DATA!UCN2=0,\"\",IFERROR(DATA!UCN2,\"\"))","v":""},{"$f":"IF(DATA!UCO2=0,\"\",IFERROR(DATA!UCO2,\"\"))","v":""},{"$f":"IF(DATA!UCP2=0,\"\",IFERROR(DATA!UCP2,\"\"))","v":""},{"$f":"IF(DATA!UCQ2=0,\"\",IFERROR(DATA!UCQ2,\"\"))","v":""},{"$f":"IF(DATA!UCR2=0,\"\",IFERROR(DATA!UCR2,\"\"))","v":""},{"$f":"IF(DATA!UCS2=0,\"\",IFERROR(DATA!UCS2,\"\"))","v":""},{"$f":"IF(DATA!UCT2=0,\"\",IFERROR(DATA!UCT2,\"\"))","v":""},{"$f":"IF(DATA!UCU2=0,\"\",IFERROR(DATA!UCU2,\"\"))","v":""},{"$f":"IF(DATA!UCV2=0,\"\",IFERROR(DATA!UCV2,\"\"))","v":""},{"$f":"IF(DATA!UCW2=0,\"\",IFERROR(DATA!UCW2,\"\"))","v":""},{"$f":"IF(DATA!UCX2=0,\"\",IFERROR(DATA!UCX2,\"\"))","v":""},{"$f":"IF(DATA!UCY2=0,\"\",IFERROR(DATA!UCY2,\"\"))","v":""},{"$f":"IF(DATA!UCZ2=0,\"\",IFERROR(DATA!UCZ2,\"\"))","v":""},{"$f":"IF(DATA!UDA2=0,\"\",IFERROR(DATA!UDA2,\"\"))","v":""},{"$f":"IF(DATA!UDB2=0,\"\",IFERROR(DATA!UDB2,\"\"))","v":""},{"$f":"IF(DATA!UDC2=0,\"\",IFERROR(DATA!UDC2,\"\"))","v":""},{"$f":"IF(DATA!UDD2=0,\"\",IFERROR(DATA!UDD2,\"\"))","v":""},{"$f":"IF(DATA!UDE2=0,\"\",IFERROR(DATA!UDE2,\"\"))","v":""},{"$f":"IF(DATA!UDF2=0,\"\",IFERROR(DATA!UDF2,\"\"))","v":""},{"$f":"IF(DATA!UDG2=0,\"\",IFERROR(DATA!UDG2,\"\"))","v":""},{"$f":"IF(DATA!UDH2=0,\"\",IFERROR(DATA!UDH2,\"\"))","v":""},{"$f":"IF(DATA!UDI2=0,\"\",IFERROR(DATA!UDI2,\"\"))","v":""},{"$f":"IF(DATA!UDJ2=0,\"\",IFERROR(DATA!UDJ2,\"\"))","v":""},{"$f":"IF(DATA!UDK2=0,\"\",IFERROR(DATA!UDK2,\"\"))","v":""},{"$f":"IF(DATA!UDL2=0,\"\",IFERROR(DATA!UDL2,\"\"))","v":""},{"$f":"IF(DATA!UDM2=0,\"\",IFERROR(DATA!UDM2,\"\"))","v":""},{"$f":"IF(DATA!UDN2=0,\"\",IFERROR(DATA!UDN2,\"\"))","v":""},{"$f":"IF(DATA!UDO2=0,\"\",IFERROR(DATA!UDO2,\"\"))","v":""},{"$f":"IF(DATA!UDP2=0,\"\",IFERROR(DATA!UDP2,\"\"))","v":""},{"$f":"IF(DATA!UDQ2=0,\"\",IFERROR(DATA!UDQ2,\"\"))","v":""},{"$f":"IF(DATA!UDR2=0,\"\",IFERROR(DATA!UDR2,\"\"))","v":""},{"$f":"IF(DATA!UDS2=0,\"\",IFERROR(DATA!UDS2,\"\"))","v":""},{"$f":"IF(DATA!UDT2=0,\"\",IFERROR(DATA!UDT2,\"\"))","v":""},{"$f":"IF(DATA!UDU2=0,\"\",IFERROR(DATA!UDU2,\"\"))","v":""},{"$f":"IF(DATA!UDV2=0,\"\",IFERROR(DATA!UDV2,\"\"))","v":""},{"$f":"IF(DATA!UDW2=0,\"\",IFERROR(DATA!UDW2,\"\"))","v":""},{"$f":"IF(DATA!UDX2=0,\"\",IFERROR(DATA!UDX2,\"\"))","v":""},{"$f":"IF(DATA!UDY2=0,\"\",IFERROR(DATA!UDY2,\"\"))","v":""},{"$f":"IF(DATA!UDZ2=0,\"\",IFERROR(DATA!UDZ2,\"\"))","v":""},{"$f":"IF(DATA!UEA2=0,\"\",IFERROR(DATA!UEA2,\"\"))","v":""},{"$f":"IF(DATA!UEB2=0,\"\",IFERROR(DATA!UEB2,\"\"))","v":""},{"$f":"IF(DATA!UEC2=0,\"\",IFERROR(DATA!UEC2,\"\"))","v":""},{"$f":"IF(DATA!UED2=0,\"\",IFERROR(DATA!UED2,\"\"))","v":""},{"$f":"IF(DATA!UEE2=0,\"\",IFERROR(DATA!UEE2,\"\"))","v":""},{"$f":"IF(DATA!UEF2=0,\"\",IFERROR(DATA!UEF2,\"\"))","v":""},{"$f":"IF(DATA!UEG2=0,\"\",IFERROR(DATA!UEG2,\"\"))","v":""},{"$f":"IF(DATA!UEH2=0,\"\",IFERROR(DATA!UEH2,\"\"))","v":""},{"$f":"IF(DATA!UEI2=0,\"\",IFERROR(DATA!UEI2,\"\"))","v":""},{"$f":"IF(DATA!UEJ2=0,\"\",IFERROR(DATA!UEJ2,\"\"))","v":""},{"$f":"IF(DATA!UEK2=0,\"\",IFERROR(DATA!UEK2,\"\"))","v":""},{"$f":"IF(DATA!UEL2=0,\"\",IFERROR(DATA!UEL2,\"\"))","v":""},{"$f":"IF(DATA!UEM2=0,\"\",IFERROR(DATA!UEM2,\"\"))","v":""},{"$f":"IF(DATA!UEN2=0,\"\",IFERROR(DATA!UEN2,\"\"))","v":""},{"$f":"IF(DATA!UEO2=0,\"\",IFERROR(DATA!UEO2,\"\"))","v":""},{"$f":"IF(DATA!UEP2=0,\"\",IFERROR(DATA!UEP2,\"\"))","v":""},{"$f":"IF(DATA!UEQ2=0,\"\",IFERROR(DATA!UEQ2,\"\"))","v":""},{"$f":"IF(DATA!UER2=0,\"\",IFERROR(DATA!UER2,\"\"))","v":""},{"$f":"IF(DATA!UES2=0,\"\",IFERROR(DATA!UES2,\"\"))","v":""},{"$f":"IF(DATA!UET2=0,\"\",IFERROR(DATA!UET2,\"\"))","v":""},{"$f":"IF(DATA!UEU2=0,\"\",IFERROR(DATA!UEU2,\"\"))","v":""},{"$f":"IF(DATA!UEV2=0,\"\",IFERROR(DATA!UEV2,\"\"))","v":""},{"$f":"IF(DATA!UEW2=0,\"\",IFERROR(DATA!UEW2,\"\"))","v":""},{"$f":"IF(DATA!UEX2=0,\"\",IFERROR(DATA!UEX2,\"\"))","v":""},{"$f":"IF(DATA!UEY2=0,\"\",IFERROR(DATA!UEY2,\"\"))","v":""},{"$f":"IF(DATA!UEZ2=0,\"\",IFERROR(DATA!UEZ2,\"\"))","v":""},{"$f":"IF(DATA!UFA2=0,\"\",IFERROR(DATA!UFA2,\"\"))","v":""},{"$f":"IF(DATA!UFB2=0,\"\",IFERROR(DATA!UFB2,\"\"))","v":""},{"$f":"IF(DATA!UFC2=0,\"\",IFERROR(DATA!UFC2,\"\"))","v":""},{"$f":"IF(DATA!UFD2=0,\"\",IFERROR(DATA!UFD2,\"\"))","v":""},{"$f":"IF(DATA!UFE2=0,\"\",IFERROR(DATA!UFE2,\"\"))","v":""},{"$f":"IF(DATA!UFF2=0,\"\",IFERROR(DATA!UFF2,\"\"))","v":""},{"$f":"IF(DATA!UFG2=0,\"\",IFERROR(DATA!UFG2,\"\"))","v":""},{"$f":"IF(DATA!UFH2=0,\"\",IFERROR(DATA!UFH2,\"\"))","v":""},{"$f":"IF(DATA!UFI2=0,\"\",IFERROR(DATA!UFI2,\"\"))","v":""},{"$f":"IF(DATA!UFJ2=0,\"\",IFERROR(DATA!UFJ2,\"\"))","v":""},{"$f":"IF(DATA!UFK2=0,\"\",IFERROR(DATA!UFK2,\"\"))","v":""},{"$f":"IF(DATA!UFL2=0,\"\",IFERROR(DATA!UFL2,\"\"))","v":""},{"$f":"IF(DATA!UFM2=0,\"\",IFERROR(DATA!UFM2,\"\"))","v":""},{"$f":"IF(DATA!UFN2=0,\"\",IFERROR(DATA!UFN2,\"\"))","v":""},{"$f":"IF(DATA!UFO2=0,\"\",IFERROR(DATA!UFO2,\"\"))","v":""},{"$f":"IF(DATA!UFP2=0,\"\",IFERROR(DATA!UFP2,\"\"))","v":""},{"$f":"IF(DATA!UFQ2=0,\"\",IFERROR(DATA!UFQ2,\"\"))","v":""},{"$f":"IF(DATA!UFR2=0,\"\",IFERROR(DATA!UFR2,\"\"))","v":""},{"$f":"IF(DATA!UFS2=0,\"\",IFERROR(DATA!UFS2,\"\"))","v":""},{"$f":"IF(DATA!UFT2=0,\"\",IFERROR(DATA!UFT2,\"\"))","v":""},{"$f":"IF(DATA!UFU2=0,\"\",IFERROR(DATA!UFU2,\"\"))","v":""},{"$f":"IF(DATA!UFV2=0,\"\",IFERROR(DATA!UFV2,\"\"))","v":""},{"$f":"IF(DATA!UFW2=0,\"\",IFERROR(DATA!UFW2,\"\"))","v":""},{"$f":"IF(DATA!UFX2=0,\"\",IFERROR(DATA!UFX2,\"\"))","v":""},{"$f":"IF(DATA!UFY2=0,\"\",IFERROR(DATA!UFY2,\"\"))","v":""},{"$f":"IF(DATA!UFZ2=0,\"\",IFERROR(DATA!UFZ2,\"\"))","v":""},{"$f":"IF(DATA!UGA2=0,\"\",IFERROR(DATA!UGA2,\"\"))","v":""},{"$f":"IF(DATA!UGB2=0,\"\",IFERROR(DATA!UGB2,\"\"))","v":""},{"$f":"IF(DATA!UGC2=0,\"\",IFERROR(DATA!UGC2,\"\"))","v":""},{"$f":"IF(DATA!UGD2=0,\"\",IFERROR(DATA!UGD2,\"\"))","v":""},{"$f":"IF(DATA!UGE2=0,\"\",IFERROR(DATA!UGE2,\"\"))","v":""},{"$f":"IF(DATA!UGF2=0,\"\",IFERROR(DATA!UGF2,\"\"))","v":""},{"$f":"IF(DATA!UGG2=0,\"\",IFERROR(DATA!UGG2,\"\"))","v":""},{"$f":"IF(DATA!UGH2=0,\"\",IFERROR(DATA!UGH2,\"\"))","v":""},{"$f":"IF(DATA!UGI2=0,\"\",IFERROR(DATA!UGI2,\"\"))","v":""},{"$f":"IF(DATA!UGJ2=0,\"\",IFERROR(DATA!UGJ2,\"\"))","v":""},{"$f":"IF(DATA!UGK2=0,\"\",IFERROR(DATA!UGK2,\"\"))","v":""},{"$f":"IF(DATA!UGL2=0,\"\",IFERROR(DATA!UGL2,\"\"))","v":""},{"$f":"IF(DATA!UGM2=0,\"\",IFERROR(DATA!UGM2,\"\"))","v":""},{"$f":"IF(DATA!UGN2=0,\"\",IFERROR(DATA!UGN2,\"\"))","v":""},{"$f":"IF(DATA!UGO2=0,\"\",IFERROR(DATA!UGO2,\"\"))","v":""},{"$f":"IF(DATA!UGP2=0,\"\",IFERROR(DATA!UGP2,\"\"))","v":""},{"$f":"IF(DATA!UGQ2=0,\"\",IFERROR(DATA!UGQ2,\"\"))","v":""},{"$f":"IF(DATA!UGR2=0,\"\",IFERROR(DATA!UGR2,\"\"))","v":""},{"$f":"IF(DATA!UGS2=0,\"\",IFERROR(DATA!UGS2,\"\"))","v":""},{"$f":"IF(DATA!UGT2=0,\"\",IFERROR(DATA!UGT2,\"\"))","v":""},{"$f":"IF(DATA!UGU2=0,\"\",IFERROR(DATA!UGU2,\"\"))","v":""},{"$f":"IF(DATA!UGV2=0,\"\",IFERROR(DATA!UGV2,\"\"))","v":""},{"$f":"IF(DATA!UGW2=0,\"\",IFERROR(DATA!UGW2,\"\"))","v":""},{"$f":"IF(DATA!UGX2=0,\"\",IFERROR(DATA!UGX2,\"\"))","v":""},{"$f":"IF(DATA!UGY2=0,\"\",IFERROR(DATA!UGY2,\"\"))","v":""},{"$f":"IF(DATA!UGZ2=0,\"\",IFERROR(DATA!UGZ2,\"\"))","v":""},{"$f":"IF(DATA!UHA2=0,\"\",IFERROR(DATA!UHA2,\"\"))","v":""},{"$f":"IF(DATA!UHB2=0,\"\",IFERROR(DATA!UHB2,\"\"))","v":""},{"$f":"IF(DATA!UHC2=0,\"\",IFERROR(DATA!UHC2,\"\"))","v":""},{"$f":"IF(DATA!UHD2=0,\"\",IFERROR(DATA!UHD2,\"\"))","v":""},{"$f":"IF(DATA!UHE2=0,\"\",IFERROR(DATA!UHE2,\"\"))","v":""},{"$f":"IF(DATA!UHF2=0,\"\",IFERROR(DATA!UHF2,\"\"))","v":""},{"$f":"IF(DATA!UHG2=0,\"\",IFERROR(DATA!UHG2,\"\"))","v":""},{"$f":"IF(DATA!UHH2=0,\"\",IFERROR(DATA!UHH2,\"\"))","v":""},{"$f":"IF(DATA!UHI2=0,\"\",IFERROR(DATA!UHI2,\"\"))","v":""},{"$f":"IF(DATA!UHJ2=0,\"\",IFERROR(DATA!UHJ2,\"\"))","v":""},{"$f":"IF(DATA!UHK2=0,\"\",IFERROR(DATA!UHK2,\"\"))","v":""},{"$f":"IF(DATA!UHL2=0,\"\",IFERROR(DATA!UHL2,\"\"))","v":""},{"$f":"IF(DATA!UHM2=0,\"\",IFERROR(DATA!UHM2,\"\"))","v":""},{"$f":"IF(DATA!UHN2=0,\"\",IFERROR(DATA!UHN2,\"\"))","v":""},{"$f":"IF(DATA!UHO2=0,\"\",IFERROR(DATA!UHO2,\"\"))","v":""},{"$f":"IF(DATA!UHP2=0,\"\",IFERROR(DATA!UHP2,\"\"))","v":""},{"$f":"IF(DATA!UHQ2=0,\"\",IFERROR(DATA!UHQ2,\"\"))","v":""},{"$f":"IF(DATA!UHR2=0,\"\",IFERROR(DATA!UHR2,\"\"))","v":""},{"$f":"IF(DATA!UHS2=0,\"\",IFERROR(DATA!UHS2,\"\"))","v":""},{"$f":"IF(DATA!UHT2=0,\"\",IFERROR(DATA!UHT2,\"\"))","v":""},{"$f":"IF(DATA!UHU2=0,\"\",IFERROR(DATA!UHU2,\"\"))","v":""},{"$f":"IF(DATA!UHV2=0,\"\",IFERROR(DATA!UHV2,\"\"))","v":""},{"$f":"IF(DATA!UHW2=0,\"\",IFERROR(DATA!UHW2,\"\"))","v":""},{"$f":"IF(DATA!UHX2=0,\"\",IFERROR(DATA!UHX2,\"\"))","v":""},{"$f":"IF(DATA!UHY2=0,\"\",IFERROR(DATA!UHY2,\"\"))","v":""},{"$f":"IF(DATA!UHZ2=0,\"\",IFERROR(DATA!UHZ2,\"\"))","v":""},{"$f":"IF(DATA!UIA2=0,\"\",IFERROR(DATA!UIA2,\"\"))","v":""},{"$f":"IF(DATA!UIB2=0,\"\",IFERROR(DATA!UIB2,\"\"))","v":""},{"$f":"IF(DATA!UIC2=0,\"\",IFERROR(DATA!UIC2,\"\"))","v":""},{"$f":"IF(DATA!UID2=0,\"\",IFERROR(DATA!UID2,\"\"))","v":""},{"$f":"IF(DATA!UIE2=0,\"\",IFERROR(DATA!UIE2,\"\"))","v":""},{"$f":"IF(DATA!UIF2=0,\"\",IFERROR(DATA!UIF2,\"\"))","v":""},{"$f":"IF(DATA!UIG2=0,\"\",IFERROR(DATA!UIG2,\"\"))","v":""},{"$f":"IF(DATA!UIH2=0,\"\",IFERROR(DATA!UIH2,\"\"))","v":""},{"$f":"IF(DATA!UII2=0,\"\",IFERROR(DATA!UII2,\"\"))","v":""},{"$f":"IF(DATA!UIJ2=0,\"\",IFERROR(DATA!UIJ2,\"\"))","v":""},{"$f":"IF(DATA!UIK2=0,\"\",IFERROR(DATA!UIK2,\"\"))","v":""},{"$f":"IF(DATA!UIL2=0,\"\",IFERROR(DATA!UIL2,\"\"))","v":""},{"$f":"IF(DATA!UIM2=0,\"\",IFERROR(DATA!UIM2,\"\"))","v":""},{"$f":"IF(DATA!UIN2=0,\"\",IFERROR(DATA!UIN2,\"\"))","v":""},{"$f":"IF(DATA!UIO2=0,\"\",IFERROR(DATA!UIO2,\"\"))","v":""},{"$f":"IF(DATA!UIP2=0,\"\",IFERROR(DATA!UIP2,\"\"))","v":""},{"$f":"IF(DATA!UIQ2=0,\"\",IFERROR(DATA!UIQ2,\"\"))","v":""},{"$f":"IF(DATA!UIR2=0,\"\",IFERROR(DATA!UIR2,\"\"))","v":""},{"$f":"IF(DATA!UIS2=0,\"\",IFERROR(DATA!UIS2,\"\"))","v":""},{"$f":"IF(DATA!UIT2=0,\"\",IFERROR(DATA!UIT2,\"\"))","v":""},{"$f":"IF(DATA!UIU2=0,\"\",IFERROR(DATA!UIU2,\"\"))","v":""},{"$f":"IF(DATA!UIV2=0,\"\",IFERROR(DATA!UIV2,\"\"))","v":""},{"$f":"IF(DATA!UIW2=0,\"\",IFERROR(DATA!UIW2,\"\"))","v":""},{"$f":"IF(DATA!UIX2=0,\"\",IFERROR(DATA!UIX2,\"\"))","v":""},{"$f":"IF(DATA!UIY2=0,\"\",IFERROR(DATA!UIY2,\"\"))","v":""},{"$f":"IF(DATA!UIZ2=0,\"\",IFERROR(DATA!UIZ2,\"\"))","v":""},{"$f":"IF(DATA!UJA2=0,\"\",IFERROR(DATA!UJA2,\"\"))","v":""},{"$f":"IF(DATA!UJB2=0,\"\",IFERROR(DATA!UJB2,\"\"))","v":""},{"$f":"IF(DATA!UJC2=0,\"\",IFERROR(DATA!UJC2,\"\"))","v":""},{"$f":"IF(DATA!UJD2=0,\"\",IFERROR(DATA!UJD2,\"\"))","v":""},{"$f":"IF(DATA!UJE2=0,\"\",IFERROR(DATA!UJE2,\"\"))","v":""},{"$f":"IF(DATA!UJF2=0,\"\",IFERROR(DATA!UJF2,\"\"))","v":""},{"$f":"IF(DATA!UJG2=0,\"\",IFERROR(DATA!UJG2,\"\"))","v":""},{"$f":"IF(DATA!UJH2=0,\"\",IFERROR(DATA!UJH2,\"\"))","v":""},{"$f":"IF(DATA!UJI2=0,\"\",IFERROR(DATA!UJI2,\"\"))","v":""},{"$f":"IF(DATA!UJJ2=0,\"\",IFERROR(DATA!UJJ2,\"\"))","v":""},{"$f":"IF(DATA!UJK2=0,\"\",IFERROR(DATA!UJK2,\"\"))","v":""},{"$f":"IF(DATA!UJL2=0,\"\",IFERROR(DATA!UJL2,\"\"))","v":""},{"$f":"IF(DATA!UJM2=0,\"\",IFERROR(DATA!UJM2,\"\"))","v":""},{"$f":"IF(DATA!UJN2=0,\"\",IFERROR(DATA!UJN2,\"\"))","v":""},{"$f":"IF(DATA!UJO2=0,\"\",IFERROR(DATA!UJO2,\"\"))","v":""},{"$f":"IF(DATA!UJP2=0,\"\",IFERROR(DATA!UJP2,\"\"))","v":""},{"$f":"IF(DATA!UJQ2=0,\"\",IFERROR(DATA!UJQ2,\"\"))","v":""},{"$f":"IF(DATA!UJR2=0,\"\",IFERROR(DATA!UJR2,\"\"))","v":""},{"$f":"IF(DATA!UJS2=0,\"\",IFERROR(DATA!UJS2,\"\"))","v":""},{"$f":"IF(DATA!UJT2=0,\"\",IFERROR(DATA!UJT2,\"\"))","v":""},{"$f":"IF(DATA!UJU2=0,\"\",IFERROR(DATA!UJU2,\"\"))","v":""},{"$f":"IF(DATA!UJV2=0,\"\",IFERROR(DATA!UJV2,\"\"))","v":""},{"$f":"IF(DATA!UJW2=0,\"\",IFERROR(DATA!UJW2,\"\"))","v":""},{"$f":"IF(DATA!UJX2=0,\"\",IFERROR(DATA!UJX2,\"\"))","v":""},{"$f":"IF(DATA!UJY2=0,\"\",IFERROR(DATA!UJY2,\"\"))","v":""},{"$f":"IF(DATA!UJZ2=0,\"\",IFERROR(DATA!UJZ2,\"\"))","v":""},{"$f":"IF(DATA!UKA2=0,\"\",IFERROR(DATA!UKA2,\"\"))","v":""},{"$f":"IF(DATA!UKB2=0,\"\",IFERROR(DATA!UKB2,\"\"))","v":""},{"$f":"IF(DATA!UKC2=0,\"\",IFERROR(DATA!UKC2,\"\"))","v":""},{"$f":"IF(DATA!UKD2=0,\"\",IFERROR(DATA!UKD2,\"\"))","v":""},{"$f":"IF(DATA!UKE2=0,\"\",IFERROR(DATA!UKE2,\"\"))","v":""},{"$f":"IF(DATA!UKF2=0,\"\",IFERROR(DATA!UKF2,\"\"))","v":""},{"$f":"IF(DATA!UKG2=0,\"\",IFERROR(DATA!UKG2,\"\"))","v":""},{"$f":"IF(DATA!UKH2=0,\"\",IFERROR(DATA!UKH2,\"\"))","v":""},{"$f":"IF(DATA!UKI2=0,\"\",IFERROR(DATA!UKI2,\"\"))","v":""},{"$f":"IF(DATA!UKJ2=0,\"\",IFERROR(DATA!UKJ2,\"\"))","v":""},{"$f":"IF(DATA!UKK2=0,\"\",IFERROR(DATA!UKK2,\"\"))","v":""},{"$f":"IF(DATA!UKL2=0,\"\",IFERROR(DATA!UKL2,\"\"))","v":""},{"$f":"IF(DATA!UKM2=0,\"\",IFERROR(DATA!UKM2,\"\"))","v":""},{"$f":"IF(DATA!UKN2=0,\"\",IFERROR(DATA!UKN2,\"\"))","v":""},{"$f":"IF(DATA!UKO2=0,\"\",IFERROR(DATA!UKO2,\"\"))","v":""},{"$f":"IF(DATA!UKP2=0,\"\",IFERROR(DATA!UKP2,\"\"))","v":""},{"$f":"IF(DATA!UKQ2=0,\"\",IFERROR(DATA!UKQ2,\"\"))","v":""},{"$f":"IF(DATA!UKR2=0,\"\",IFERROR(DATA!UKR2,\"\"))","v":""},{"$f":"IF(DATA!UKS2=0,\"\",IFERROR(DATA!UKS2,\"\"))","v":""},{"$f":"IF(DATA!UKT2=0,\"\",IFERROR(DATA!UKT2,\"\"))","v":""},{"$f":"IF(DATA!UKU2=0,\"\",IFERROR(DATA!UKU2,\"\"))","v":""},{"$f":"IF(DATA!UKV2=0,\"\",IFERROR(DATA!UKV2,\"\"))","v":""},{"$f":"IF(DATA!UKW2=0,\"\",IFERROR(DATA!UKW2,\"\"))","v":""},{"$f":"IF(DATA!UKX2=0,\"\",IFERROR(DATA!UKX2,\"\"))","v":""},{"$f":"IF(DATA!UKY2=0,\"\",IFERROR(DATA!UKY2,\"\"))","v":""},{"$f":"IF(DATA!UKZ2=0,\"\",IFERROR(DATA!UKZ2,\"\"))","v":""},{"$f":"IF(DATA!ULA2=0,\"\",IFERROR(DATA!ULA2,\"\"))","v":""},{"$f":"IF(DATA!ULB2=0,\"\",IFERROR(DATA!ULB2,\"\"))","v":""},{"$f":"IF(DATA!ULC2=0,\"\",IFERROR(DATA!ULC2,\"\"))","v":""},{"$f":"IF(DATA!ULD2=0,\"\",IFERROR(DATA!ULD2,\"\"))","v":""},{"$f":"IF(DATA!ULE2=0,\"\",IFERROR(DATA!ULE2,\"\"))","v":""},{"$f":"IF(DATA!ULF2=0,\"\",IFERROR(DATA!ULF2,\"\"))","v":""},{"$f":"IF(DATA!ULG2=0,\"\",IFERROR(DATA!ULG2,\"\"))","v":""},{"$f":"IF(DATA!ULH2=0,\"\",IFERROR(DATA!ULH2,\"\"))","v":""},{"$f":"IF(DATA!ULI2=0,\"\",IFERROR(DATA!ULI2,\"\"))","v":""},{"$f":"IF(DATA!ULJ2=0,\"\",IFERROR(DATA!ULJ2,\"\"))","v":""},{"$f":"IF(DATA!ULK2=0,\"\",IFERROR(DATA!ULK2,\"\"))","v":""},{"$f":"IF(DATA!ULL2=0,\"\",IFERROR(DATA!ULL2,\"\"))","v":""},{"$f":"IF(DATA!ULM2=0,\"\",IFERROR(DATA!ULM2,\"\"))","v":""},{"$f":"IF(DATA!ULN2=0,\"\",IFERROR(DATA!ULN2,\"\"))","v":""},{"$f":"IF(DATA!ULO2=0,\"\",IFERROR(DATA!ULO2,\"\"))","v":""},{"$f":"IF(DATA!ULP2=0,\"\",IFERROR(DATA!ULP2,\"\"))","v":""},{"$f":"IF(DATA!ULQ2=0,\"\",IFERROR(DATA!ULQ2,\"\"))","v":""},{"$f":"IF(DATA!ULR2=0,\"\",IFERROR(DATA!ULR2,\"\"))","v":""},{"$f":"IF(DATA!ULS2=0,\"\",IFERROR(DATA!ULS2,\"\"))","v":""},{"$f":"IF(DATA!ULT2=0,\"\",IFERROR(DATA!ULT2,\"\"))","v":""},{"$f":"IF(DATA!ULU2=0,\"\",IFERROR(DATA!ULU2,\"\"))","v":""},{"$f":"IF(DATA!ULV2=0,\"\",IFERROR(DATA!ULV2,\"\"))","v":""},{"$f":"IF(DATA!ULW2=0,\"\",IFERROR(DATA!ULW2,\"\"))","v":""},{"$f":"IF(DATA!ULX2=0,\"\",IFERROR(DATA!ULX2,\"\"))","v":""},{"$f":"IF(DATA!ULY2=0,\"\",IFERROR(DATA!ULY2,\"\"))","v":""},{"$f":"IF(DATA!ULZ2=0,\"\",IFERROR(DATA!ULZ2,\"\"))","v":""},{"$f":"IF(DATA!UMA2=0,\"\",IFERROR(DATA!UMA2,\"\"))","v":""},{"$f":"IF(DATA!UMB2=0,\"\",IFERROR(DATA!UMB2,\"\"))","v":""},{"$f":"IF(DATA!UMC2=0,\"\",IFERROR(DATA!UMC2,\"\"))","v":""},{"$f":"IF(DATA!UMD2=0,\"\",IFERROR(DATA!UMD2,\"\"))","v":""},{"$f":"IF(DATA!UME2=0,\"\",IFERROR(DATA!UME2,\"\"))","v":""},{"$f":"IF(DATA!UMF2=0,\"\",IFERROR(DATA!UMF2,\"\"))","v":""},{"$f":"IF(DATA!UMG2=0,\"\",IFERROR(DATA!UMG2,\"\"))","v":""},{"$f":"IF(DATA!UMH2=0,\"\",IFERROR(DATA!UMH2,\"\"))","v":""},{"$f":"IF(DATA!UMI2=0,\"\",IFERROR(DATA!UMI2,\"\"))","v":""},{"$f":"IF(DATA!UMJ2=0,\"\",IFERROR(DATA!UMJ2,\"\"))","v":""},{"$f":"IF(DATA!UMK2=0,\"\",IFERROR(DATA!UMK2,\"\"))","v":""},{"$f":"IF(DATA!UML2=0,\"\",IFERROR(DATA!UML2,\"\"))","v":""},{"$f":"IF(DATA!UMM2=0,\"\",IFERROR(DATA!UMM2,\"\"))","v":""},{"$f":"IF(DATA!UMN2=0,\"\",IFERROR(DATA!UMN2,\"\"))","v":""},{"$f":"IF(DATA!UMO2=0,\"\",IFERROR(DATA!UMO2,\"\"))","v":""},{"$f":"IF(DATA!UMP2=0,\"\",IFERROR(DATA!UMP2,\"\"))","v":""},{"$f":"IF(DATA!UMQ2=0,\"\",IFERROR(DATA!UMQ2,\"\"))","v":""},{"$f":"IF(DATA!UMR2=0,\"\",IFERROR(DATA!UMR2,\"\"))","v":""},{"$f":"IF(DATA!UMS2=0,\"\",IFERROR(DATA!UMS2,\"\"))","v":""},{"$f":"IF(DATA!UMT2=0,\"\",IFERROR(DATA!UMT2,\"\"))","v":""},{"$f":"IF(DATA!UMU2=0,\"\",IFERROR(DATA!UMU2,\"\"))","v":""},{"$f":"IF(DATA!UMV2=0,\"\",IFERROR(DATA!UMV2,\"\"))","v":""},{"$f":"IF(DATA!UMW2=0,\"\",IFERROR(DATA!UMW2,\"\"))","v":""},{"$f":"IF(DATA!UMX2=0,\"\",IFERROR(DATA!UMX2,\"\"))","v":""},{"$f":"IF(DATA!UMY2=0,\"\",IFERROR(DATA!UMY2,\"\"))","v":""},{"$f":"IF(DATA!UMZ2=0,\"\",IFERROR(DATA!UMZ2,\"\"))","v":""},{"$f":"IF(DATA!UNA2=0,\"\",IFERROR(DATA!UNA2,\"\"))","v":""},{"$f":"IF(DATA!UNB2=0,\"\",IFERROR(DATA!UNB2,\"\"))","v":""},{"$f":"IF(DATA!UNC2=0,\"\",IFERROR(DATA!UNC2,\"\"))","v":""},{"$f":"IF(DATA!UND2=0,\"\",IFERROR(DATA!UND2,\"\"))","v":""},{"$f":"IF(DATA!UNE2=0,\"\",IFERROR(DATA!UNE2,\"\"))","v":""},{"$f":"IF(DATA!UNF2=0,\"\",IFERROR(DATA!UNF2,\"\"))","v":""},{"$f":"IF(DATA!UNG2=0,\"\",IFERROR(DATA!UNG2,\"\"))","v":""},{"$f":"IF(DATA!UNH2=0,\"\",IFERROR(DATA!UNH2,\"\"))","v":""},{"$f":"IF(DATA!UNI2=0,\"\",IFERROR(DATA!UNI2,\"\"))","v":""},{"$f":"IF(DATA!UNJ2=0,\"\",IFERROR(DATA!UNJ2,\"\"))","v":""},{"$f":"IF(DATA!UNK2=0,\"\",IFERROR(DATA!UNK2,\"\"))","v":""},{"$f":"IF(DATA!UNL2=0,\"\",IFERROR(DATA!UNL2,\"\"))","v":""},{"$f":"IF(DATA!UNM2=0,\"\",IFERROR(DATA!UNM2,\"\"))","v":""},{"$f":"IF(DATA!UNN2=0,\"\",IFERROR(DATA!UNN2,\"\"))","v":""},{"$f":"IF(DATA!UNO2=0,\"\",IFERROR(DATA!UNO2,\"\"))","v":""},{"$f":"IF(DATA!UNP2=0,\"\",IFERROR(DATA!UNP2,\"\"))","v":""},{"$f":"IF(DATA!UNQ2=0,\"\",IFERROR(DATA!UNQ2,\"\"))","v":""},{"$f":"IF(DATA!UNR2=0,\"\",IFERROR(DATA!UNR2,\"\"))","v":""},{"$f":"IF(DATA!UNS2=0,\"\",IFERROR(DATA!UNS2,\"\"))","v":""},{"$f":"IF(DATA!UNT2=0,\"\",IFERROR(DATA!UNT2,\"\"))","v":""},{"$f":"IF(DATA!UNU2=0,\"\",IFERROR(DATA!UNU2,\"\"))","v":""},{"$f":"IF(DATA!UNV2=0,\"\",IFERROR(DATA!UNV2,\"\"))","v":""},{"$f":"IF(DATA!UNW2=0,\"\",IFERROR(DATA!UNW2,\"\"))","v":""},{"$f":"IF(DATA!UNX2=0,\"\",IFERROR(DATA!UNX2,\"\"))","v":""},{"$f":"IF(DATA!UNY2=0,\"\",IFERROR(DATA!UNY2,\"\"))","v":""},{"$f":"IF(DATA!UNZ2=0,\"\",IFERROR(DATA!UNZ2,\"\"))","v":""},{"$f":"IF(DATA!UOA2=0,\"\",IFERROR(DATA!UOA2,\"\"))","v":""},{"$f":"IF(DATA!UOB2=0,\"\",IFERROR(DATA!UOB2,\"\"))","v":""},{"$f":"IF(DATA!UOC2=0,\"\",IFERROR(DATA!UOC2,\"\"))","v":""},{"$f":"IF(DATA!UOD2=0,\"\",IFERROR(DATA!UOD2,\"\"))","v":""},{"$f":"IF(DATA!UOE2=0,\"\",IFERROR(DATA!UOE2,\"\"))","v":""},{"$f":"IF(DATA!UOF2=0,\"\",IFERROR(DATA!UOF2,\"\"))","v":""},{"$f":"IF(DATA!UOG2=0,\"\",IFERROR(DATA!UOG2,\"\"))","v":""},{"$f":"IF(DATA!UOH2=0,\"\",IFERROR(DATA!UOH2,\"\"))","v":""},{"$f":"IF(DATA!UOI2=0,\"\",IFERROR(DATA!UOI2,\"\"))","v":""},{"$f":"IF(DATA!UOJ2=0,\"\",IFERROR(DATA!UOJ2,\"\"))","v":""},{"$f":"IF(DATA!UOK2=0,\"\",IFERROR(DATA!UOK2,\"\"))","v":""},{"$f":"IF(DATA!UOL2=0,\"\",IFERROR(DATA!UOL2,\"\"))","v":""},{"$f":"IF(DATA!UOM2=0,\"\",IFERROR(DATA!UOM2,\"\"))","v":""},{"$f":"IF(DATA!UON2=0,\"\",IFERROR(DATA!UON2,\"\"))","v":""},{"$f":"IF(DATA!UOO2=0,\"\",IFERROR(DATA!UOO2,\"\"))","v":""},{"$f":"IF(DATA!UOP2=0,\"\",IFERROR(DATA!UOP2,\"\"))","v":""},{"$f":"IF(DATA!UOQ2=0,\"\",IFERROR(DATA!UOQ2,\"\"))","v":""},{"$f":"IF(DATA!UOR2=0,\"\",IFERROR(DATA!UOR2,\"\"))","v":""},{"$f":"IF(DATA!UOS2=0,\"\",IFERROR(DATA!UOS2,\"\"))","v":""},{"$f":"IF(DATA!UOT2=0,\"\",IFERROR(DATA!UOT2,\"\"))","v":""},{"$f":"IF(DATA!UOU2=0,\"\",IFERROR(DATA!UOU2,\"\"))","v":""},{"$f":"IF(DATA!UOV2=0,\"\",IFERROR(DATA!UOV2,\"\"))","v":""},{"$f":"IF(DATA!UOW2=0,\"\",IFERROR(DATA!UOW2,\"\"))","v":""},{"$f":"IF(DATA!UOX2=0,\"\",IFERROR(DATA!UOX2,\"\"))","v":""},{"$f":"IF(DATA!UOY2=0,\"\",IFERROR(DATA!UOY2,\"\"))","v":""},{"$f":"IF(DATA!UOZ2=0,\"\",IFERROR(DATA!UOZ2,\"\"))","v":""},{"$f":"IF(DATA!UPA2=0,\"\",IFERROR(DATA!UPA2,\"\"))","v":""},{"$f":"IF(DATA!UPB2=0,\"\",IFERROR(DATA!UPB2,\"\"))","v":""},{"$f":"IF(DATA!UPC2=0,\"\",IFERROR(DATA!UPC2,\"\"))","v":""},{"$f":"IF(DATA!UPD2=0,\"\",IFERROR(DATA!UPD2,\"\"))","v":""},{"$f":"IF(DATA!UPE2=0,\"\",IFERROR(DATA!UPE2,\"\"))","v":""},{"$f":"IF(DATA!UPF2=0,\"\",IFERROR(DATA!UPF2,\"\"))","v":""},{"$f":"IF(DATA!UPG2=0,\"\",IFERROR(DATA!UPG2,\"\"))","v":""},{"$f":"IF(DATA!UPH2=0,\"\",IFERROR(DATA!UPH2,\"\"))","v":""},{"$f":"IF(DATA!UPI2=0,\"\",IFERROR(DATA!UPI2,\"\"))","v":""},{"$f":"IF(DATA!UPJ2=0,\"\",IFERROR(DATA!UPJ2,\"\"))","v":""},{"$f":"IF(DATA!UPK2=0,\"\",IFERROR(DATA!UPK2,\"\"))","v":""},{"$f":"IF(DATA!UPL2=0,\"\",IFERROR(DATA!UPL2,\"\"))","v":""},{"$f":"IF(DATA!UPM2=0,\"\",IFERROR(DATA!UPM2,\"\"))","v":""},{"$f":"IF(DATA!UPN2=0,\"\",IFERROR(DATA!UPN2,\"\"))","v":""},{"$f":"IF(DATA!UPO2=0,\"\",IFERROR(DATA!UPO2,\"\"))","v":""},{"$f":"IF(DATA!UPP2=0,\"\",IFERROR(DATA!UPP2,\"\"))","v":""},{"$f":"IF(DATA!UPQ2=0,\"\",IFERROR(DATA!UPQ2,\"\"))","v":""},{"$f":"IF(DATA!UPR2=0,\"\",IFERROR(DATA!UPR2,\"\"))","v":""},{"$f":"IF(DATA!UPS2=0,\"\",IFERROR(DATA!UPS2,\"\"))","v":""},{"$f":"IF(DATA!UPT2=0,\"\",IFERROR(DATA!UPT2,\"\"))","v":""},{"$f":"IF(DATA!UPU2=0,\"\",IFERROR(DATA!UPU2,\"\"))","v":""},{"$f":"IF(DATA!UPV2=0,\"\",IFERROR(DATA!UPV2,\"\"))","v":""},{"$f":"IF(DATA!UPW2=0,\"\",IFERROR(DATA!UPW2,\"\"))","v":""},{"$f":"IF(DATA!UPX2=0,\"\",IFERROR(DATA!UPX2,\"\"))","v":""},{"$f":"IF(DATA!UPY2=0,\"\",IFERROR(DATA!UPY2,\"\"))","v":""},{"$f":"IF(DATA!UPZ2=0,\"\",IFERROR(DATA!UPZ2,\"\"))","v":""},{"$f":"IF(DATA!UQA2=0,\"\",IFERROR(DATA!UQA2,\"\"))","v":""},{"$f":"IF(DATA!UQB2=0,\"\",IFERROR(DATA!UQB2,\"\"))","v":""},{"$f":"IF(DATA!UQC2=0,\"\",IFERROR(DATA!UQC2,\"\"))","v":""},{"$f":"IF(DATA!UQD2=0,\"\",IFERROR(DATA!UQD2,\"\"))","v":""},{"$f":"IF(DATA!UQE2=0,\"\",IFERROR(DATA!UQE2,\"\"))","v":""},{"$f":"IF(DATA!UQF2=0,\"\",IFERROR(DATA!UQF2,\"\"))","v":""},{"$f":"IF(DATA!UQG2=0,\"\",IFERROR(DATA!UQG2,\"\"))","v":""},{"$f":"IF(DATA!UQH2=0,\"\",IFERROR(DATA!UQH2,\"\"))","v":""},{"$f":"IF(DATA!UQI2=0,\"\",IFERROR(DATA!UQI2,\"\"))","v":""},{"$f":"IF(DATA!UQJ2=0,\"\",IFERROR(DATA!UQJ2,\"\"))","v":""},{"$f":"IF(DATA!UQK2=0,\"\",IFERROR(DATA!UQK2,\"\"))","v":""},{"$f":"IF(DATA!UQL2=0,\"\",IFERROR(DATA!UQL2,\"\"))","v":""},{"$f":"IF(DATA!UQM2=0,\"\",IFERROR(DATA!UQM2,\"\"))","v":""},{"$f":"IF(DATA!UQN2=0,\"\",IFERROR(DATA!UQN2,\"\"))","v":""},{"$f":"IF(DATA!UQO2=0,\"\",IFERROR(DATA!UQO2,\"\"))","v":""},{"$f":"IF(DATA!UQP2=0,\"\",IFERROR(DATA!UQP2,\"\"))","v":""},{"$f":"IF(DATA!UQQ2=0,\"\",IFERROR(DATA!UQQ2,\"\"))","v":""},{"$f":"IF(DATA!UQR2=0,\"\",IFERROR(DATA!UQR2,\"\"))","v":""},{"$f":"IF(DATA!UQS2=0,\"\",IFERROR(DATA!UQS2,\"\"))","v":""},{"$f":"IF(DATA!UQT2=0,\"\",IFERROR(DATA!UQT2,\"\"))","v":""},{"$f":"IF(DATA!UQU2=0,\"\",IFERROR(DATA!UQU2,\"\"))","v":""},{"$f":"IF(DATA!UQV2=0,\"\",IFERROR(DATA!UQV2,\"\"))","v":""},{"$f":"IF(DATA!UQW2=0,\"\",IFERROR(DATA!UQW2,\"\"))","v":""},{"$f":"IF(DATA!UQX2=0,\"\",IFERROR(DATA!UQX2,\"\"))","v":""},{"$f":"IF(DATA!UQY2=0,\"\",IFERROR(DATA!UQY2,\"\"))","v":""},{"$f":"IF(DATA!UQZ2=0,\"\",IFERROR(DATA!UQZ2,\"\"))","v":""},{"$f":"IF(DATA!URA2=0,\"\",IFERROR(DATA!URA2,\"\"))","v":""},{"$f":"IF(DATA!URB2=0,\"\",IFERROR(DATA!URB2,\"\"))","v":""},{"$f":"IF(DATA!URC2=0,\"\",IFERROR(DATA!URC2,\"\"))","v":""},{"$f":"IF(DATA!URD2=0,\"\",IFERROR(DATA!URD2,\"\"))","v":""},{"$f":"IF(DATA!URE2=0,\"\",IFERROR(DATA!URE2,\"\"))","v":""},{"$f":"IF(DATA!URF2=0,\"\",IFERROR(DATA!URF2,\"\"))","v":""},{"$f":"IF(DATA!URG2=0,\"\",IFERROR(DATA!URG2,\"\"))","v":""},{"$f":"IF(DATA!URH2=0,\"\",IFERROR(DATA!URH2,\"\"))","v":""},{"$f":"IF(DATA!URI2=0,\"\",IFERROR(DATA!URI2,\"\"))","v":""},{"$f":"IF(DATA!URJ2=0,\"\",IFERROR(DATA!URJ2,\"\"))","v":""},{"$f":"IF(DATA!URK2=0,\"\",IFERROR(DATA!URK2,\"\"))","v":""},{"$f":"IF(DATA!URL2=0,\"\",IFERROR(DATA!URL2,\"\"))","v":""},{"$f":"IF(DATA!URM2=0,\"\",IFERROR(DATA!URM2,\"\"))","v":""},{"$f":"IF(DATA!URN2=0,\"\",IFERROR(DATA!URN2,\"\"))","v":""},{"$f":"IF(DATA!URO2=0,\"\",IFERROR(DATA!URO2,\"\"))","v":""},{"$f":"IF(DATA!URP2=0,\"\",IFERROR(DATA!URP2,\"\"))","v":""},{"$f":"IF(DATA!URQ2=0,\"\",IFERROR(DATA!URQ2,\"\"))","v":""},{"$f":"IF(DATA!URR2=0,\"\",IFERROR(DATA!URR2,\"\"))","v":""},{"$f":"IF(DATA!URS2=0,\"\",IFERROR(DATA!URS2,\"\"))","v":""},{"$f":"IF(DATA!URT2=0,\"\",IFERROR(DATA!URT2,\"\"))","v":""},{"$f":"IF(DATA!URU2=0,\"\",IFERROR(DATA!URU2,\"\"))","v":""},{"$f":"IF(DATA!URV2=0,\"\",IFERROR(DATA!URV2,\"\"))","v":""},{"$f":"IF(DATA!URW2=0,\"\",IFERROR(DATA!URW2,\"\"))","v":""},{"$f":"IF(DATA!URX2=0,\"\",IFERROR(DATA!URX2,\"\"))","v":""},{"$f":"IF(DATA!URY2=0,\"\",IFERROR(DATA!URY2,\"\"))","v":""},{"$f":"IF(DATA!URZ2=0,\"\",IFERROR(DATA!URZ2,\"\"))","v":""},{"$f":"IF(DATA!USA2=0,\"\",IFERROR(DATA!USA2,\"\"))","v":""},{"$f":"IF(DATA!USB2=0,\"\",IFERROR(DATA!USB2,\"\"))","v":""},{"$f":"IF(DATA!USC2=0,\"\",IFERROR(DATA!USC2,\"\"))","v":""},{"$f":"IF(DATA!USD2=0,\"\",IFERROR(DATA!USD2,\"\"))","v":""},{"$f":"IF(DATA!USE2=0,\"\",IFERROR(DATA!USE2,\"\"))","v":""},{"$f":"IF(DATA!USF2=0,\"\",IFERROR(DATA!USF2,\"\"))","v":""},{"$f":"IF(DATA!USG2=0,\"\",IFERROR(DATA!USG2,\"\"))","v":""},{"$f":"IF(DATA!USH2=0,\"\",IFERROR(DATA!USH2,\"\"))","v":""},{"$f":"IF(DATA!USI2=0,\"\",IFERROR(DATA!USI2,\"\"))","v":""},{"$f":"IF(DATA!USJ2=0,\"\",IFERROR(DATA!USJ2,\"\"))","v":""},{"$f":"IF(DATA!USK2=0,\"\",IFERROR(DATA!USK2,\"\"))","v":""},{"$f":"IF(DATA!USL2=0,\"\",IFERROR(DATA!USL2,\"\"))","v":""},{"$f":"IF(DATA!USM2=0,\"\",IFERROR(DATA!USM2,\"\"))","v":""},{"$f":"IF(DATA!USN2=0,\"\",IFERROR(DATA!USN2,\"\"))","v":""},{"$f":"IF(DATA!USO2=0,\"\",IFERROR(DATA!USO2,\"\"))","v":""},{"$f":"IF(DATA!USP2=0,\"\",IFERROR(DATA!USP2,\"\"))","v":""},{"$f":"IF(DATA!USQ2=0,\"\",IFERROR(DATA!USQ2,\"\"))","v":""},{"$f":"IF(DATA!USR2=0,\"\",IFERROR(DATA!USR2,\"\"))","v":""},{"$f":"IF(DATA!USS2=0,\"\",IFERROR(DATA!USS2,\"\"))","v":""},{"$f":"IF(DATA!UST2=0,\"\",IFERROR(DATA!UST2,\"\"))","v":""},{"$f":"IF(DATA!USU2=0,\"\",IFERROR(DATA!USU2,\"\"))","v":""},{"$f":"IF(DATA!USV2=0,\"\",IFERROR(DATA!USV2,\"\"))","v":""},{"$f":"IF(DATA!USW2=0,\"\",IFERROR(DATA!USW2,\"\"))","v":""},{"$f":"IF(DATA!USX2=0,\"\",IFERROR(DATA!USX2,\"\"))","v":""},{"$f":"IF(DATA!USY2=0,\"\",IFERROR(DATA!USY2,\"\"))","v":""},{"$f":"IF(DATA!USZ2=0,\"\",IFERROR(DATA!USZ2,\"\"))","v":""},{"$f":"IF(DATA!UTA2=0,\"\",IFERROR(DATA!UTA2,\"\"))","v":""},{"$f":"IF(DATA!UTB2=0,\"\",IFERROR(DATA!UTB2,\"\"))","v":""},{"$f":"IF(DATA!UTC2=0,\"\",IFERROR(DATA!UTC2,\"\"))","v":""},{"$f":"IF(DATA!UTD2=0,\"\",IFERROR(DATA!UTD2,\"\"))","v":""},{"$f":"IF(DATA!UTE2=0,\"\",IFERROR(DATA!UTE2,\"\"))","v":""},{"$f":"IF(DATA!UTF2=0,\"\",IFERROR(DATA!UTF2,\"\"))","v":""},{"$f":"IF(DATA!UTG2=0,\"\",IFERROR(DATA!UTG2,\"\"))","v":""},{"$f":"IF(DATA!UTH2=0,\"\",IFERROR(DATA!UTH2,\"\"))","v":""},{"$f":"IF(DATA!UTI2=0,\"\",IFERROR(DATA!UTI2,\"\"))","v":""},{"$f":"IF(DATA!UTJ2=0,\"\",IFERROR(DATA!UTJ2,\"\"))","v":""},{"$f":"IF(DATA!UTK2=0,\"\",IFERROR(DATA!UTK2,\"\"))","v":""},{"$f":"IF(DATA!UTL2=0,\"\",IFERROR(DATA!UTL2,\"\"))","v":""},{"$f":"IF(DATA!UTM2=0,\"\",IFERROR(DATA!UTM2,\"\"))","v":""},{"$f":"IF(DATA!UTN2=0,\"\",IFERROR(DATA!UTN2,\"\"))","v":""},{"$f":"IF(DATA!UTO2=0,\"\",IFERROR(DATA!UTO2,\"\"))","v":""},{"$f":"IF(DATA!UTP2=0,\"\",IFERROR(DATA!UTP2,\"\"))","v":""},{"$f":"IF(DATA!UTQ2=0,\"\",IFERROR(DATA!UTQ2,\"\"))","v":""},{"$f":"IF(DATA!UTR2=0,\"\",IFERROR(DATA!UTR2,\"\"))","v":""},{"$f":"IF(DATA!UTS2=0,\"\",IFERROR(DATA!UTS2,\"\"))","v":""},{"$f":"IF(DATA!UTT2=0,\"\",IFERROR(DATA!UTT2,\"\"))","v":""},{"$f":"IF(DATA!UTU2=0,\"\",IFERROR(DATA!UTU2,\"\"))","v":""},{"$f":"IF(DATA!UTV2=0,\"\",IFERROR(DATA!UTV2,\"\"))","v":""},{"$f":"IF(DATA!UTW2=0,\"\",IFERROR(DATA!UTW2,\"\"))","v":""},{"$f":"IF(DATA!UTX2=0,\"\",IFERROR(DATA!UTX2,\"\"))","v":""},{"$f":"IF(DATA!UTY2=0,\"\",IFERROR(DATA!UTY2,\"\"))","v":""},{"$f":"IF(DATA!UTZ2=0,\"\",IFERROR(DATA!UTZ2,\"\"))","v":""},{"$f":"IF(DATA!UUA2=0,\"\",IFERROR(DATA!UUA2,\"\"))","v":""},{"$f":"IF(DATA!UUB2=0,\"\",IFERROR(DATA!UUB2,\"\"))","v":""},{"$f":"IF(DATA!UUC2=0,\"\",IFERROR(DATA!UUC2,\"\"))","v":""},{"$f":"IF(DATA!UUD2=0,\"\",IFERROR(DATA!UUD2,\"\"))","v":""},{"$f":"IF(DATA!UUE2=0,\"\",IFERROR(DATA!UUE2,\"\"))","v":""},{"$f":"IF(DATA!UUF2=0,\"\",IFERROR(DATA!UUF2,\"\"))","v":""},{"$f":"IF(DATA!UUG2=0,\"\",IFERROR(DATA!UUG2,\"\"))","v":""},{"$f":"IF(DATA!UUH2=0,\"\",IFERROR(DATA!UUH2,\"\"))","v":""},{"$f":"IF(DATA!UUI2=0,\"\",IFERROR(DATA!UUI2,\"\"))","v":""},{"$f":"IF(DATA!UUJ2=0,\"\",IFERROR(DATA!UUJ2,\"\"))","v":""},{"$f":"IF(DATA!UUK2=0,\"\",IFERROR(DATA!UUK2,\"\"))","v":""},{"$f":"IF(DATA!UUL2=0,\"\",IFERROR(DATA!UUL2,\"\"))","v":""},{"$f":"IF(DATA!UUM2=0,\"\",IFERROR(DATA!UUM2,\"\"))","v":""},{"$f":"IF(DATA!UUN2=0,\"\",IFERROR(DATA!UUN2,\"\"))","v":""},{"$f":"IF(DATA!UUO2=0,\"\",IFERROR(DATA!UUO2,\"\"))","v":""},{"$f":"IF(DATA!UUP2=0,\"\",IFERROR(DATA!UUP2,\"\"))","v":""},{"$f":"IF(DATA!UUQ2=0,\"\",IFERROR(DATA!UUQ2,\"\"))","v":""},{"$f":"IF(DATA!UUR2=0,\"\",IFERROR(DATA!UUR2,\"\"))","v":""},{"$f":"IF(DATA!UUS2=0,\"\",IFERROR(DATA!UUS2,\"\"))","v":""},{"$f":"IF(DATA!UUT2=0,\"\",IFERROR(DATA!UUT2,\"\"))","v":""},{"$f":"IF(DATA!UUU2=0,\"\",IFERROR(DATA!UUU2,\"\"))","v":""},{"$f":"IF(DATA!UUV2=0,\"\",IFERROR(DATA!UUV2,\"\"))","v":""},{"$f":"IF(DATA!UUW2=0,\"\",IFERROR(DATA!UUW2,\"\"))","v":""},{"$f":"IF(DATA!UUX2=0,\"\",IFERROR(DATA!UUX2,\"\"))","v":""},{"$f":"IF(DATA!UUY2=0,\"\",IFERROR(DATA!UUY2,\"\"))","v":""},{"$f":"IF(DATA!UUZ2=0,\"\",IFERROR(DATA!UUZ2,\"\"))","v":""},{"$f":"IF(DATA!UVA2=0,\"\",IFERROR(DATA!UVA2,\"\"))","v":""},{"$f":"IF(DATA!UVB2=0,\"\",IFERROR(DATA!UVB2,\"\"))","v":""},{"$f":"IF(DATA!UVC2=0,\"\",IFERROR(DATA!UVC2,\"\"))","v":""},{"$f":"IF(DATA!UVD2=0,\"\",IFERROR(DATA!UVD2,\"\"))","v":""},{"$f":"IF(DATA!UVE2=0,\"\",IFERROR(DATA!UVE2,\"\"))","v":""},{"$f":"IF(DATA!UVF2=0,\"\",IFERROR(DATA!UVF2,\"\"))","v":""},{"$f":"IF(DATA!UVG2=0,\"\",IFERROR(DATA!UVG2,\"\"))","v":""},{"$f":"IF(DATA!UVH2=0,\"\",IFERROR(DATA!UVH2,\"\"))","v":""},{"$f":"IF(DATA!UVI2=0,\"\",IFERROR(DATA!UVI2,\"\"))","v":""},{"$f":"IF(DATA!UVJ2=0,\"\",IFERROR(DATA!UVJ2,\"\"))","v":""},{"$f":"IF(DATA!UVK2=0,\"\",IFERROR(DATA!UVK2,\"\"))","v":""},{"$f":"IF(DATA!UVL2=0,\"\",IFERROR(DATA!UVL2,\"\"))","v":""},{"$f":"IF(DATA!UVM2=0,\"\",IFERROR(DATA!UVM2,\"\"))","v":""},{"$f":"IF(DATA!UVN2=0,\"\",IFERROR(DATA!UVN2,\"\"))","v":""},{"$f":"IF(DATA!UVO2=0,\"\",IFERROR(DATA!UVO2,\"\"))","v":""},{"$f":"IF(DATA!UVP2=0,\"\",IFERROR(DATA!UVP2,\"\"))","v":""},{"$f":"IF(DATA!UVQ2=0,\"\",IFERROR(DATA!UVQ2,\"\"))","v":""},{"$f":"IF(DATA!UVR2=0,\"\",IFERROR(DATA!UVR2,\"\"))","v":""},{"$f":"IF(DATA!UVS2=0,\"\",IFERROR(DATA!UVS2,\"\"))","v":""},{"$f":"IF(DATA!UVT2=0,\"\",IFERROR(DATA!UVT2,\"\"))","v":""},{"$f":"IF(DATA!UVU2=0,\"\",IFERROR(DATA!UVU2,\"\"))","v":""},{"$f":"IF(DATA!UVV2=0,\"\",IFERROR(DATA!UVV2,\"\"))","v":""},{"$f":"IF(DATA!UVW2=0,\"\",IFERROR(DATA!UVW2,\"\"))","v":""},{"$f":"IF(DATA!UVX2=0,\"\",IFERROR(DATA!UVX2,\"\"))","v":""},{"$f":"IF(DATA!UVY2=0,\"\",IFERROR(DATA!UVY2,\"\"))","v":""},{"$f":"IF(DATA!UVZ2=0,\"\",IFERROR(DATA!UVZ2,\"\"))","v":""},{"$f":"IF(DATA!UWA2=0,\"\",IFERROR(DATA!UWA2,\"\"))","v":""},{"$f":"IF(DATA!UWB2=0,\"\",IFERROR(DATA!UWB2,\"\"))","v":""},{"$f":"IF(DATA!UWC2=0,\"\",IFERROR(DATA!UWC2,\"\"))","v":""},{"$f":"IF(DATA!UWD2=0,\"\",IFERROR(DATA!UWD2,\"\"))","v":""},{"$f":"IF(DATA!UWE2=0,\"\",IFERROR(DATA!UWE2,\"\"))","v":""},{"$f":"IF(DATA!UWF2=0,\"\",IFERROR(DATA!UWF2,\"\"))","v":""},{"$f":"IF(DATA!UWG2=0,\"\",IFERROR(DATA!UWG2,\"\"))","v":""},{"$f":"IF(DATA!UWH2=0,\"\",IFERROR(DATA!UWH2,\"\"))","v":""},{"$f":"IF(DATA!UWI2=0,\"\",IFERROR(DATA!UWI2,\"\"))","v":""},{"$f":"IF(DATA!UWJ2=0,\"\",IFERROR(DATA!UWJ2,\"\"))","v":""},{"$f":"IF(DATA!UWK2=0,\"\",IFERROR(DATA!UWK2,\"\"))","v":""},{"$f":"IF(DATA!UWL2=0,\"\",IFERROR(DATA!UWL2,\"\"))","v":""},{"$f":"IF(DATA!UWM2=0,\"\",IFERROR(DATA!UWM2,\"\"))","v":""},{"$f":"IF(DATA!UWN2=0,\"\",IFERROR(DATA!UWN2,\"\"))","v":""},{"$f":"IF(DATA!UWO2=0,\"\",IFERROR(DATA!UWO2,\"\"))","v":""},{"$f":"IF(DATA!UWP2=0,\"\",IFERROR(DATA!UWP2,\"\"))","v":""},{"$f":"IF(DATA!UWQ2=0,\"\",IFERROR(DATA!UWQ2,\"\"))","v":""},{"$f":"IF(DATA!UWR2=0,\"\",IFERROR(DATA!UWR2,\"\"))","v":""},{"$f":"IF(DATA!UWS2=0,\"\",IFERROR(DATA!UWS2,\"\"))","v":""},{"$f":"IF(DATA!UWT2=0,\"\",IFERROR(DATA!UWT2,\"\"))","v":""},{"$f":"IF(DATA!UWU2=0,\"\",IFERROR(DATA!UWU2,\"\"))","v":""},{"$f":"IF(DATA!UWV2=0,\"\",IFERROR(DATA!UWV2,\"\"))","v":""},{"$f":"IF(DATA!UWW2=0,\"\",IFERROR(DATA!UWW2,\"\"))","v":""},{"$f":"IF(DATA!UWX2=0,\"\",IFERROR(DATA!UWX2,\"\"))","v":""},{"$f":"IF(DATA!UWY2=0,\"\",IFERROR(DATA!UWY2,\"\"))","v":""},{"$f":"IF(DATA!UWZ2=0,\"\",IFERROR(DATA!UWZ2,\"\"))","v":""},{"$f":"IF(DATA!UXA2=0,\"\",IFERROR(DATA!UXA2,\"\"))","v":""},{"$f":"IF(DATA!UXB2=0,\"\",IFERROR(DATA!UXB2,\"\"))","v":""},{"$f":"IF(DATA!UXC2=0,\"\",IFERROR(DATA!UXC2,\"\"))","v":""},{"$f":"IF(DATA!UXD2=0,\"\",IFERROR(DATA!UXD2,\"\"))","v":""},{"$f":"IF(DATA!UXE2=0,\"\",IFERROR(DATA!UXE2,\"\"))","v":""},{"$f":"IF(DATA!UXF2=0,\"\",IFERROR(DATA!UXF2,\"\"))","v":""},{"$f":"IF(DATA!UXG2=0,\"\",IFERROR(DATA!UXG2,\"\"))","v":""},{"$f":"IF(DATA!UXH2=0,\"\",IFERROR(DATA!UXH2,\"\"))","v":""},{"$f":"IF(DATA!UXI2=0,\"\",IFERROR(DATA!UXI2,\"\"))","v":""},{"$f":"IF(DATA!UXJ2=0,\"\",IFERROR(DATA!UXJ2,\"\"))","v":""},{"$f":"IF(DATA!UXK2=0,\"\",IFERROR(DATA!UXK2,\"\"))","v":""},{"$f":"IF(DATA!UXL2=0,\"\",IFERROR(DATA!UXL2,\"\"))","v":""},{"$f":"IF(DATA!UXM2=0,\"\",IFERROR(DATA!UXM2,\"\"))","v":""},{"$f":"IF(DATA!UXN2=0,\"\",IFERROR(DATA!UXN2,\"\"))","v":""},{"$f":"IF(DATA!UXO2=0,\"\",IFERROR(DATA!UXO2,\"\"))","v":""},{"$f":"IF(DATA!UXP2=0,\"\",IFERROR(DATA!UXP2,\"\"))","v":""},{"$f":"IF(DATA!UXQ2=0,\"\",IFERROR(DATA!UXQ2,\"\"))","v":""},{"$f":"IF(DATA!UXR2=0,\"\",IFERROR(DATA!UXR2,\"\"))","v":""},{"$f":"IF(DATA!UXS2=0,\"\",IFERROR(DATA!UXS2,\"\"))","v":""},{"$f":"IF(DATA!UXT2=0,\"\",IFERROR(DATA!UXT2,\"\"))","v":""},{"$f":"IF(DATA!UXU2=0,\"\",IFERROR(DATA!UXU2,\"\"))","v":""},{"$f":"IF(DATA!UXV2=0,\"\",IFERROR(DATA!UXV2,\"\"))","v":""},{"$f":"IF(DATA!UXW2=0,\"\",IFERROR(DATA!UXW2,\"\"))","v":""},{"$f":"IF(DATA!UXX2=0,\"\",IFERROR(DATA!UXX2,\"\"))","v":""},{"$f":"IF(DATA!UXY2=0,\"\",IFERROR(DATA!UXY2,\"\"))","v":""},{"$f":"IF(DATA!UXZ2=0,\"\",IFERROR(DATA!UXZ2,\"\"))","v":""},{"$f":"IF(DATA!UYA2=0,\"\",IFERROR(DATA!UYA2,\"\"))","v":""},{"$f":"IF(DATA!UYB2=0,\"\",IFERROR(DATA!UYB2,\"\"))","v":""},{"$f":"IF(DATA!UYC2=0,\"\",IFERROR(DATA!UYC2,\"\"))","v":""},{"$f":"IF(DATA!UYD2=0,\"\",IFERROR(DATA!UYD2,\"\"))","v":""},{"$f":"IF(DATA!UYE2=0,\"\",IFERROR(DATA!UYE2,\"\"))","v":""},{"$f":"IF(DATA!UYF2=0,\"\",IFERROR(DATA!UYF2,\"\"))","v":""},{"$f":"IF(DATA!UYG2=0,\"\",IFERROR(DATA!UYG2,\"\"))","v":""},{"$f":"IF(DATA!UYH2=0,\"\",IFERROR(DATA!UYH2,\"\"))","v":""},{"$f":"IF(DATA!UYI2=0,\"\",IFERROR(DATA!UYI2,\"\"))","v":""},{"$f":"IF(DATA!UYJ2=0,\"\",IFERROR(DATA!UYJ2,\"\"))","v":""},{"$f":"IF(DATA!UYK2=0,\"\",IFERROR(DATA!UYK2,\"\"))","v":""},{"$f":"IF(DATA!UYL2=0,\"\",IFERROR(DATA!UYL2,\"\"))","v":""},{"$f":"IF(DATA!UYM2=0,\"\",IFERROR(DATA!UYM2,\"\"))","v":""},{"$f":"IF(DATA!UYN2=0,\"\",IFERROR(DATA!UYN2,\"\"))","v":""},{"$f":"IF(DATA!UYO2=0,\"\",IFERROR(DATA!UYO2,\"\"))","v":""},{"$f":"IF(DATA!UYP2=0,\"\",IFERROR(DATA!UYP2,\"\"))","v":""},{"$f":"IF(DATA!UYQ2=0,\"\",IFERROR(DATA!UYQ2,\"\"))","v":""},{"$f":"IF(DATA!UYR2=0,\"\",IFERROR(DATA!UYR2,\"\"))","v":""},{"$f":"IF(DATA!UYS2=0,\"\",IFERROR(DATA!UYS2,\"\"))","v":""},{"$f":"IF(DATA!UYT2=0,\"\",IFERROR(DATA!UYT2,\"\"))","v":""},{"$f":"IF(DATA!UYU2=0,\"\",IFERROR(DATA!UYU2,\"\"))","v":""},{"$f":"IF(DATA!UYV2=0,\"\",IFERROR(DATA!UYV2,\"\"))","v":""},{"$f":"IF(DATA!UYW2=0,\"\",IFERROR(DATA!UYW2,\"\"))","v":""},{"$f":"IF(DATA!UYX2=0,\"\",IFERROR(DATA!UYX2,\"\"))","v":""},{"$f":"IF(DATA!UYY2=0,\"\",IFERROR(DATA!UYY2,\"\"))","v":""},{"$f":"IF(DATA!UYZ2=0,\"\",IFERROR(DATA!UYZ2,\"\"))","v":""},{"$f":"IF(DATA!UZA2=0,\"\",IFERROR(DATA!UZA2,\"\"))","v":""},{"$f":"IF(DATA!UZB2=0,\"\",IFERROR(DATA!UZB2,\"\"))","v":""},{"$f":"IF(DATA!UZC2=0,\"\",IFERROR(DATA!UZC2,\"\"))","v":""},{"$f":"IF(DATA!UZD2=0,\"\",IFERROR(DATA!UZD2,\"\"))","v":""},{"$f":"IF(DATA!UZE2=0,\"\",IFERROR(DATA!UZE2,\"\"))","v":""},{"$f":"IF(DATA!UZF2=0,\"\",IFERROR(DATA!UZF2,\"\"))","v":""},{"$f":"IF(DATA!UZG2=0,\"\",IFERROR(DATA!UZG2,\"\"))","v":""},{"$f":"IF(DATA!UZH2=0,\"\",IFERROR(DATA!UZH2,\"\"))","v":""},{"$f":"IF(DATA!UZI2=0,\"\",IFERROR(DATA!UZI2,\"\"))","v":""},{"$f":"IF(DATA!UZJ2=0,\"\",IFERROR(DATA!UZJ2,\"\"))","v":""},{"$f":"IF(DATA!UZK2=0,\"\",IFERROR(DATA!UZK2,\"\"))","v":""},{"$f":"IF(DATA!UZL2=0,\"\",IFERROR(DATA!UZL2,\"\"))","v":""},{"$f":"IF(DATA!UZM2=0,\"\",IFERROR(DATA!UZM2,\"\"))","v":""},{"$f":"IF(DATA!UZN2=0,\"\",IFERROR(DATA!UZN2,\"\"))","v":""},{"$f":"IF(DATA!UZO2=0,\"\",IFERROR(DATA!UZO2,\"\"))","v":""},{"$f":"IF(DATA!UZP2=0,\"\",IFERROR(DATA!UZP2,\"\"))","v":""},{"$f":"IF(DATA!UZQ2=0,\"\",IFERROR(DATA!UZQ2,\"\"))","v":""},{"$f":"IF(DATA!UZR2=0,\"\",IFERROR(DATA!UZR2,\"\"))","v":""},{"$f":"IF(DATA!UZS2=0,\"\",IFERROR(DATA!UZS2,\"\"))","v":""},{"$f":"IF(DATA!UZT2=0,\"\",IFERROR(DATA!UZT2,\"\"))","v":""},{"$f":"IF(DATA!UZU2=0,\"\",IFERROR(DATA!UZU2,\"\"))","v":""},{"$f":"IF(DATA!UZV2=0,\"\",IFERROR(DATA!UZV2,\"\"))","v":""},{"$f":"IF(DATA!UZW2=0,\"\",IFERROR(DATA!UZW2,\"\"))","v":""},{"$f":"IF(DATA!UZX2=0,\"\",IFERROR(DATA!UZX2,\"\"))","v":""},{"$f":"IF(DATA!UZY2=0,\"\",IFERROR(DATA!UZY2,\"\"))","v":""},{"$f":"IF(DATA!UZZ2=0,\"\",IFERROR(DATA!UZZ2,\"\"))","v":""},{"$f":"IF(DATA!VAA2=0,\"\",IFERROR(DATA!VAA2,\"\"))","v":""},{"$f":"IF(DATA!VAB2=0,\"\",IFERROR(DATA!VAB2,\"\"))","v":""},{"$f":"IF(DATA!VAC2=0,\"\",IFERROR(DATA!VAC2,\"\"))","v":""},{"$f":"IF(DATA!VAD2=0,\"\",IFERROR(DATA!VAD2,\"\"))","v":""},{"$f":"IF(DATA!VAE2=0,\"\",IFERROR(DATA!VAE2,\"\"))","v":""},{"$f":"IF(DATA!VAF2=0,\"\",IFERROR(DATA!VAF2,\"\"))","v":""},{"$f":"IF(DATA!VAG2=0,\"\",IFERROR(DATA!VAG2,\"\"))","v":""},{"$f":"IF(DATA!VAH2=0,\"\",IFERROR(DATA!VAH2,\"\"))","v":""},{"$f":"IF(DATA!VAI2=0,\"\",IFERROR(DATA!VAI2,\"\"))","v":""},{"$f":"IF(DATA!VAJ2=0,\"\",IFERROR(DATA!VAJ2,\"\"))","v":""},{"$f":"IF(DATA!VAK2=0,\"\",IFERROR(DATA!VAK2,\"\"))","v":""},{"$f":"IF(DATA!VAL2=0,\"\",IFERROR(DATA!VAL2,\"\"))","v":""},{"$f":"IF(DATA!VAM2=0,\"\",IFERROR(DATA!VAM2,\"\"))","v":""},{"$f":"IF(DATA!VAN2=0,\"\",IFERROR(DATA!VAN2,\"\"))","v":""},{"$f":"IF(DATA!VAO2=0,\"\",IFERROR(DATA!VAO2,\"\"))","v":""},{"$f":"IF(DATA!VAP2=0,\"\",IFERROR(DATA!VAP2,\"\"))","v":""},{"$f":"IF(DATA!VAQ2=0,\"\",IFERROR(DATA!VAQ2,\"\"))","v":""},{"$f":"IF(DATA!VAR2=0,\"\",IFERROR(DATA!VAR2,\"\"))","v":""},{"$f":"IF(DATA!VAS2=0,\"\",IFERROR(DATA!VAS2,\"\"))","v":""},{"$f":"IF(DATA!VAT2=0,\"\",IFERROR(DATA!VAT2,\"\"))","v":""},{"$f":"IF(DATA!VAU2=0,\"\",IFERROR(DATA!VAU2,\"\"))","v":""},{"$f":"IF(DATA!VAV2=0,\"\",IFERROR(DATA!VAV2,\"\"))","v":""},{"$f":"IF(DATA!VAW2=0,\"\",IFERROR(DATA!VAW2,\"\"))","v":""},{"$f":"IF(DATA!VAX2=0,\"\",IFERROR(DATA!VAX2,\"\"))","v":""},{"$f":"IF(DATA!VAY2=0,\"\",IFERROR(DATA!VAY2,\"\"))","v":""},{"$f":"IF(DATA!VAZ2=0,\"\",IFERROR(DATA!VAZ2,\"\"))","v":""},{"$f":"IF(DATA!VBA2=0,\"\",IFERROR(DATA!VBA2,\"\"))","v":""},{"$f":"IF(DATA!VBB2=0,\"\",IFERROR(DATA!VBB2,\"\"))","v":""},{"$f":"IF(DATA!VBC2=0,\"\",IFERROR(DATA!VBC2,\"\"))","v":""},{"$f":"IF(DATA!VBD2=0,\"\",IFERROR(DATA!VBD2,\"\"))","v":""},{"$f":"IF(DATA!VBE2=0,\"\",IFERROR(DATA!VBE2,\"\"))","v":""},{"$f":"IF(DATA!VBF2=0,\"\",IFERROR(DATA!VBF2,\"\"))","v":""},{"$f":"IF(DATA!VBG2=0,\"\",IFERROR(DATA!VBG2,\"\"))","v":""},{"$f":"IF(DATA!VBH2=0,\"\",IFERROR(DATA!VBH2,\"\"))","v":""},{"$f":"IF(DATA!VBI2=0,\"\",IFERROR(DATA!VBI2,\"\"))","v":""},{"$f":"IF(DATA!VBJ2=0,\"\",IFERROR(DATA!VBJ2,\"\"))","v":""},{"$f":"IF(DATA!VBK2=0,\"\",IFERROR(DATA!VBK2,\"\"))","v":""},{"$f":"IF(DATA!VBL2=0,\"\",IFERROR(DATA!VBL2,\"\"))","v":""},{"$f":"IF(DATA!VBM2=0,\"\",IFERROR(DATA!VBM2,\"\"))","v":""},{"$f":"IF(DATA!VBN2=0,\"\",IFERROR(DATA!VBN2,\"\"))","v":""},{"$f":"IF(DATA!VBO2=0,\"\",IFERROR(DATA!VBO2,\"\"))","v":""},{"$f":"IF(DATA!VBP2=0,\"\",IFERROR(DATA!VBP2,\"\"))","v":""},{"$f":"IF(DATA!VBQ2=0,\"\",IFERROR(DATA!VBQ2,\"\"))","v":""},{"$f":"IF(DATA!VBR2=0,\"\",IFERROR(DATA!VBR2,\"\"))","v":""},{"$f":"IF(DATA!VBS2=0,\"\",IFERROR(DATA!VBS2,\"\"))","v":""},{"$f":"IF(DATA!VBT2=0,\"\",IFERROR(DATA!VBT2,\"\"))","v":""},{"$f":"IF(DATA!VBU2=0,\"\",IFERROR(DATA!VBU2,\"\"))","v":""},{"$f":"IF(DATA!VBV2=0,\"\",IFERROR(DATA!VBV2,\"\"))","v":""},{"$f":"IF(DATA!VBW2=0,\"\",IFERROR(DATA!VBW2,\"\"))","v":""},{"$f":"IF(DATA!VBX2=0,\"\",IFERROR(DATA!VBX2,\"\"))","v":""},{"$f":"IF(DATA!VBY2=0,\"\",IFERROR(DATA!VBY2,\"\"))","v":""},{"$f":"IF(DATA!VBZ2=0,\"\",IFERROR(DATA!VBZ2,\"\"))","v":""},{"$f":"IF(DATA!VCA2=0,\"\",IFERROR(DATA!VCA2,\"\"))","v":""},{"$f":"IF(DATA!VCB2=0,\"\",IFERROR(DATA!VCB2,\"\"))","v":""},{"$f":"IF(DATA!VCC2=0,\"\",IFERROR(DATA!VCC2,\"\"))","v":""},{"$f":"IF(DATA!VCD2=0,\"\",IFERROR(DATA!VCD2,\"\"))","v":""},{"$f":"IF(DATA!VCE2=0,\"\",IFERROR(DATA!VCE2,\"\"))","v":""},{"$f":"IF(DATA!VCF2=0,\"\",IFERROR(DATA!VCF2,\"\"))","v":""},{"$f":"IF(DATA!VCG2=0,\"\",IFERROR(DATA!VCG2,\"\"))","v":""},{"$f":"IF(DATA!VCH2=0,\"\",IFERROR(DATA!VCH2,\"\"))","v":""},{"$f":"IF(DATA!VCI2=0,\"\",IFERROR(DATA!VCI2,\"\"))","v":""},{"$f":"IF(DATA!VCJ2=0,\"\",IFERROR(DATA!VCJ2,\"\"))","v":""},{"$f":"IF(DATA!VCK2=0,\"\",IFERROR(DATA!VCK2,\"\"))","v":""},{"$f":"IF(DATA!VCL2=0,\"\",IFERROR(DATA!VCL2,\"\"))","v":""},{"$f":"IF(DATA!VCM2=0,\"\",IFERROR(DATA!VCM2,\"\"))","v":""},{"$f":"IF(DATA!VCN2=0,\"\",IFERROR(DATA!VCN2,\"\"))","v":""},{"$f":"IF(DATA!VCO2=0,\"\",IFERROR(DATA!VCO2,\"\"))","v":""},{"$f":"IF(DATA!VCP2=0,\"\",IFERROR(DATA!VCP2,\"\"))","v":""},{"$f":"IF(DATA!VCQ2=0,\"\",IFERROR(DATA!VCQ2,\"\"))","v":""},{"$f":"IF(DATA!VCR2=0,\"\",IFERROR(DATA!VCR2,\"\"))","v":""},{"$f":"IF(DATA!VCS2=0,\"\",IFERROR(DATA!VCS2,\"\"))","v":""},{"$f":"IF(DATA!VCT2=0,\"\",IFERROR(DATA!VCT2,\"\"))","v":""},{"$f":"IF(DATA!VCU2=0,\"\",IFERROR(DATA!VCU2,\"\"))","v":""},{"$f":"IF(DATA!VCV2=0,\"\",IFERROR(DATA!VCV2,\"\"))","v":""},{"$f":"IF(DATA!VCW2=0,\"\",IFERROR(DATA!VCW2,\"\"))","v":""},{"$f":"IF(DATA!VCX2=0,\"\",IFERROR(DATA!VCX2,\"\"))","v":""},{"$f":"IF(DATA!VCY2=0,\"\",IFERROR(DATA!VCY2,\"\"))","v":""},{"$f":"IF(DATA!VCZ2=0,\"\",IFERROR(DATA!VCZ2,\"\"))","v":""},{"$f":"IF(DATA!VDA2=0,\"\",IFERROR(DATA!VDA2,\"\"))","v":""},{"$f":"IF(DATA!VDB2=0,\"\",IFERROR(DATA!VDB2,\"\"))","v":""},{"$f":"IF(DATA!VDC2=0,\"\",IFERROR(DATA!VDC2,\"\"))","v":""},{"$f":"IF(DATA!VDD2=0,\"\",IFERROR(DATA!VDD2,\"\"))","v":""},{"$f":"IF(DATA!VDE2=0,\"\",IFERROR(DATA!VDE2,\"\"))","v":""},{"$f":"IF(DATA!VDF2=0,\"\",IFERROR(DATA!VDF2,\"\"))","v":""},{"$f":"IF(DATA!VDG2=0,\"\",IFERROR(DATA!VDG2,\"\"))","v":""},{"$f":"IF(DATA!VDH2=0,\"\",IFERROR(DATA!VDH2,\"\"))","v":""},{"$f":"IF(DATA!VDI2=0,\"\",IFERROR(DATA!VDI2,\"\"))","v":""},{"$f":"IF(DATA!VDJ2=0,\"\",IFERROR(DATA!VDJ2,\"\"))","v":""},{"$f":"IF(DATA!VDK2=0,\"\",IFERROR(DATA!VDK2,\"\"))","v":""},{"$f":"IF(DATA!VDL2=0,\"\",IFERROR(DATA!VDL2,\"\"))","v":""},{"$f":"IF(DATA!VDM2=0,\"\",IFERROR(DATA!VDM2,\"\"))","v":""},{"$f":"IF(DATA!VDN2=0,\"\",IFERROR(DATA!VDN2,\"\"))","v":""},{"$f":"IF(DATA!VDO2=0,\"\",IFERROR(DATA!VDO2,\"\"))","v":""},{"$f":"IF(DATA!VDP2=0,\"\",IFERROR(DATA!VDP2,\"\"))","v":""},{"$f":"IF(DATA!VDQ2=0,\"\",IFERROR(DATA!VDQ2,\"\"))","v":""},{"$f":"IF(DATA!VDR2=0,\"\",IFERROR(DATA!VDR2,\"\"))","v":""},{"$f":"IF(DATA!VDS2=0,\"\",IFERROR(DATA!VDS2,\"\"))","v":""},{"$f":"IF(DATA!VDT2=0,\"\",IFERROR(DATA!VDT2,\"\"))","v":""},{"$f":"IF(DATA!VDU2=0,\"\",IFERROR(DATA!VDU2,\"\"))","v":""},{"$f":"IF(DATA!VDV2=0,\"\",IFERROR(DATA!VDV2,\"\"))","v":""},{"$f":"IF(DATA!VDW2=0,\"\",IFERROR(DATA!VDW2,\"\"))","v":""},{"$f":"IF(DATA!VDX2=0,\"\",IFERROR(DATA!VDX2,\"\"))","v":""},{"$f":"IF(DATA!VDY2=0,\"\",IFERROR(DATA!VDY2,\"\"))","v":""},{"$f":"IF(DATA!VDZ2=0,\"\",IFERROR(DATA!VDZ2,\"\"))","v":""},{"$f":"IF(DATA!VEA2=0,\"\",IFERROR(DATA!VEA2,\"\"))","v":""},{"$f":"IF(DATA!VEB2=0,\"\",IFERROR(DATA!VEB2,\"\"))","v":""},{"$f":"IF(DATA!VEC2=0,\"\",IFERROR(DATA!VEC2,\"\"))","v":""},{"$f":"IF(DATA!VED2=0,\"\",IFERROR(DATA!VED2,\"\"))","v":""},{"$f":"IF(DATA!VEE2=0,\"\",IFERROR(DATA!VEE2,\"\"))","v":""},{"$f":"IF(DATA!VEF2=0,\"\",IFERROR(DATA!VEF2,\"\"))","v":""},{"$f":"IF(DATA!VEG2=0,\"\",IFERROR(DATA!VEG2,\"\"))","v":""},{"$f":"IF(DATA!VEH2=0,\"\",IFERROR(DATA!VEH2,\"\"))","v":""},{"$f":"IF(DATA!VEI2=0,\"\",IFERROR(DATA!VEI2,\"\"))","v":""},{"$f":"IF(DATA!VEJ2=0,\"\",IFERROR(DATA!VEJ2,\"\"))","v":""},{"$f":"IF(DATA!VEK2=0,\"\",IFERROR(DATA!VEK2,\"\"))","v":""},{"$f":"IF(DATA!VEL2=0,\"\",IFERROR(DATA!VEL2,\"\"))","v":""},{"$f":"IF(DATA!VEM2=0,\"\",IFERROR(DATA!VEM2,\"\"))","v":""},{"$f":"IF(DATA!VEN2=0,\"\",IFERROR(DATA!VEN2,\"\"))","v":""},{"$f":"IF(DATA!VEO2=0,\"\",IFERROR(DATA!VEO2,\"\"))","v":""},{"$f":"IF(DATA!VEP2=0,\"\",IFERROR(DATA!VEP2,\"\"))","v":""},{"$f":"IF(DATA!VEQ2=0,\"\",IFERROR(DATA!VEQ2,\"\"))","v":""},{"$f":"IF(DATA!VER2=0,\"\",IFERROR(DATA!VER2,\"\"))","v":""},{"$f":"IF(DATA!VES2=0,\"\",IFERROR(DATA!VES2,\"\"))","v":""},{"$f":"IF(DATA!VET2=0,\"\",IFERROR(DATA!VET2,\"\"))","v":""},{"$f":"IF(DATA!VEU2=0,\"\",IFERROR(DATA!VEU2,\"\"))","v":""},{"$f":"IF(DATA!VEV2=0,\"\",IFERROR(DATA!VEV2,\"\"))","v":""},{"$f":"IF(DATA!VEW2=0,\"\",IFERROR(DATA!VEW2,\"\"))","v":""},{"$f":"IF(DATA!VEX2=0,\"\",IFERROR(DATA!VEX2,\"\"))","v":""},{"$f":"IF(DATA!VEY2=0,\"\",IFERROR(DATA!VEY2,\"\"))","v":""},{"$f":"IF(DATA!VEZ2=0,\"\",IFERROR(DATA!VEZ2,\"\"))","v":""},{"$f":"IF(DATA!VFA2=0,\"\",IFERROR(DATA!VFA2,\"\"))","v":""},{"$f":"IF(DATA!VFB2=0,\"\",IFERROR(DATA!VFB2,\"\"))","v":""},{"$f":"IF(DATA!VFC2=0,\"\",IFERROR(DATA!VFC2,\"\"))","v":""},{"$f":"IF(DATA!VFD2=0,\"\",IFERROR(DATA!VFD2,\"\"))","v":""},{"$f":"IF(DATA!VFE2=0,\"\",IFERROR(DATA!VFE2,\"\"))","v":""},{"$f":"IF(DATA!VFF2=0,\"\",IFERROR(DATA!VFF2,\"\"))","v":""},{"$f":"IF(DATA!VFG2=0,\"\",IFERROR(DATA!VFG2,\"\"))","v":""},{"$f":"IF(DATA!VFH2=0,\"\",IFERROR(DATA!VFH2,\"\"))","v":""},{"$f":"IF(DATA!VFI2=0,\"\",IFERROR(DATA!VFI2,\"\"))","v":""},{"$f":"IF(DATA!VFJ2=0,\"\",IFERROR(DATA!VFJ2,\"\"))","v":""},{"$f":"IF(DATA!VFK2=0,\"\",IFERROR(DATA!VFK2,\"\"))","v":""},{"$f":"IF(DATA!VFL2=0,\"\",IFERROR(DATA!VFL2,\"\"))","v":""},{"$f":"IF(DATA!VFM2=0,\"\",IFERROR(DATA!VFM2,\"\"))","v":""},{"$f":"IF(DATA!VFN2=0,\"\",IFERROR(DATA!VFN2,\"\"))","v":""},{"$f":"IF(DATA!VFO2=0,\"\",IFERROR(DATA!VFO2,\"\"))","v":""},{"$f":"IF(DATA!VFP2=0,\"\",IFERROR(DATA!VFP2,\"\"))","v":""},{"$f":"IF(DATA!VFQ2=0,\"\",IFERROR(DATA!VFQ2,\"\"))","v":""},{"$f":"IF(DATA!VFR2=0,\"\",IFERROR(DATA!VFR2,\"\"))","v":""},{"$f":"IF(DATA!VFS2=0,\"\",IFERROR(DATA!VFS2,\"\"))","v":""},{"$f":"IF(DATA!VFT2=0,\"\",IFERROR(DATA!VFT2,\"\"))","v":""},{"$f":"IF(DATA!VFU2=0,\"\",IFERROR(DATA!VFU2,\"\"))","v":""},{"$f":"IF(DATA!VFV2=0,\"\",IFERROR(DATA!VFV2,\"\"))","v":""},{"$f":"IF(DATA!VFW2=0,\"\",IFERROR(DATA!VFW2,\"\"))","v":""},{"$f":"IF(DATA!VFX2=0,\"\",IFERROR(DATA!VFX2,\"\"))","v":""},{"$f":"IF(DATA!VFY2=0,\"\",IFERROR(DATA!VFY2,\"\"))","v":""},{"$f":"IF(DATA!VFZ2=0,\"\",IFERROR(DATA!VFZ2,\"\"))","v":""},{"$f":"IF(DATA!VGA2=0,\"\",IFERROR(DATA!VGA2,\"\"))","v":""},{"$f":"IF(DATA!VGB2=0,\"\",IFERROR(DATA!VGB2,\"\"))","v":""},{"$f":"IF(DATA!VGC2=0,\"\",IFERROR(DATA!VGC2,\"\"))","v":""},{"$f":"IF(DATA!VGD2=0,\"\",IFERROR(DATA!VGD2,\"\"))","v":""},{"$f":"IF(DATA!VGE2=0,\"\",IFERROR(DATA!VGE2,\"\"))","v":""},{"$f":"IF(DATA!VGF2=0,\"\",IFERROR(DATA!VGF2,\"\"))","v":""},{"$f":"IF(DATA!VGG2=0,\"\",IFERROR(DATA!VGG2,\"\"))","v":""},{"$f":"IF(DATA!VGH2=0,\"\",IFERROR(DATA!VGH2,\"\"))","v":""},{"$f":"IF(DATA!VGI2=0,\"\",IFERROR(DATA!VGI2,\"\"))","v":""},{"$f":"IF(DATA!VGJ2=0,\"\",IFERROR(DATA!VGJ2,\"\"))","v":""},{"$f":"IF(DATA!VGK2=0,\"\",IFERROR(DATA!VGK2,\"\"))","v":""},{"$f":"IF(DATA!VGL2=0,\"\",IFERROR(DATA!VGL2,\"\"))","v":""},{"$f":"IF(DATA!VGM2=0,\"\",IFERROR(DATA!VGM2,\"\"))","v":""},{"$f":"IF(DATA!VGN2=0,\"\",IFERROR(DATA!VGN2,\"\"))","v":""},{"$f":"IF(DATA!VGO2=0,\"\",IFERROR(DATA!VGO2,\"\"))","v":""},{"$f":"IF(DATA!VGP2=0,\"\",IFERROR(DATA!VGP2,\"\"))","v":""},{"$f":"IF(DATA!VGQ2=0,\"\",IFERROR(DATA!VGQ2,\"\"))","v":""},{"$f":"IF(DATA!VGR2=0,\"\",IFERROR(DATA!VGR2,\"\"))","v":""},{"$f":"IF(DATA!VGS2=0,\"\",IFERROR(DATA!VGS2,\"\"))","v":""},{"$f":"IF(DATA!VGT2=0,\"\",IFERROR(DATA!VGT2,\"\"))","v":""},{"$f":"IF(DATA!VGU2=0,\"\",IFERROR(DATA!VGU2,\"\"))","v":""},{"$f":"IF(DATA!VGV2=0,\"\",IFERROR(DATA!VGV2,\"\"))","v":""},{"$f":"IF(DATA!VGW2=0,\"\",IFERROR(DATA!VGW2,\"\"))","v":""},{"$f":"IF(DATA!VGX2=0,\"\",IFERROR(DATA!VGX2,\"\"))","v":""},{"$f":"IF(DATA!VGY2=0,\"\",IFERROR(DATA!VGY2,\"\"))","v":""},{"$f":"IF(DATA!VGZ2=0,\"\",IFERROR(DATA!VGZ2,\"\"))","v":""},{"$f":"IF(DATA!VHA2=0,\"\",IFERROR(DATA!VHA2,\"\"))","v":""},{"$f":"IF(DATA!VHB2=0,\"\",IFERROR(DATA!VHB2,\"\"))","v":""},{"$f":"IF(DATA!VHC2=0,\"\",IFERROR(DATA!VHC2,\"\"))","v":""},{"$f":"IF(DATA!VHD2=0,\"\",IFERROR(DATA!VHD2,\"\"))","v":""},{"$f":"IF(DATA!VHE2=0,\"\",IFERROR(DATA!VHE2,\"\"))","v":""},{"$f":"IF(DATA!VHF2=0,\"\",IFERROR(DATA!VHF2,\"\"))","v":""},{"$f":"IF(DATA!VHG2=0,\"\",IFERROR(DATA!VHG2,\"\"))","v":""},{"$f":"IF(DATA!VHH2=0,\"\",IFERROR(DATA!VHH2,\"\"))","v":""},{"$f":"IF(DATA!VHI2=0,\"\",IFERROR(DATA!VHI2,\"\"))","v":""},{"$f":"IF(DATA!VHJ2=0,\"\",IFERROR(DATA!VHJ2,\"\"))","v":""},{"$f":"IF(DATA!VHK2=0,\"\",IFERROR(DATA!VHK2,\"\"))","v":""},{"$f":"IF(DATA!VHL2=0,\"\",IFERROR(DATA!VHL2,\"\"))","v":""},{"$f":"IF(DATA!VHM2=0,\"\",IFERROR(DATA!VHM2,\"\"))","v":""},{"$f":"IF(DATA!VHN2=0,\"\",IFERROR(DATA!VHN2,\"\"))","v":""},{"$f":"IF(DATA!VHO2=0,\"\",IFERROR(DATA!VHO2,\"\"))","v":""},{"$f":"IF(DATA!VHP2=0,\"\",IFERROR(DATA!VHP2,\"\"))","v":""},{"$f":"IF(DATA!VHQ2=0,\"\",IFERROR(DATA!VHQ2,\"\"))","v":""},{"$f":"IF(DATA!VHR2=0,\"\",IFERROR(DATA!VHR2,\"\"))","v":""},{"$f":"IF(DATA!VHS2=0,\"\",IFERROR(DATA!VHS2,\"\"))","v":""},{"$f":"IF(DATA!VHT2=0,\"\",IFERROR(DATA!VHT2,\"\"))","v":""},{"$f":"IF(DATA!VHU2=0,\"\",IFERROR(DATA!VHU2,\"\"))","v":""},{"$f":"IF(DATA!VHV2=0,\"\",IFERROR(DATA!VHV2,\"\"))","v":""},{"$f":"IF(DATA!VHW2=0,\"\",IFERROR(DATA!VHW2,\"\"))","v":""},{"$f":"IF(DATA!VHX2=0,\"\",IFERROR(DATA!VHX2,\"\"))","v":""},{"$f":"IF(DATA!VHY2=0,\"\",IFERROR(DATA!VHY2,\"\"))","v":""},{"$f":"IF(DATA!VHZ2=0,\"\",IFERROR(DATA!VHZ2,\"\"))","v":""},{"$f":"IF(DATA!VIA2=0,\"\",IFERROR(DATA!VIA2,\"\"))","v":""},{"$f":"IF(DATA!VIB2=0,\"\",IFERROR(DATA!VIB2,\"\"))","v":""},{"$f":"IF(DATA!VIC2=0,\"\",IFERROR(DATA!VIC2,\"\"))","v":""},{"$f":"IF(DATA!VID2=0,\"\",IFERROR(DATA!VID2,\"\"))","v":""},{"$f":"IF(DATA!VIE2=0,\"\",IFERROR(DATA!VIE2,\"\"))","v":""},{"$f":"IF(DATA!VIF2=0,\"\",IFERROR(DATA!VIF2,\"\"))","v":""},{"$f":"IF(DATA!VIG2=0,\"\",IFERROR(DATA!VIG2,\"\"))","v":""},{"$f":"IF(DATA!VIH2=0,\"\",IFERROR(DATA!VIH2,\"\"))","v":""},{"$f":"IF(DATA!VII2=0,\"\",IFERROR(DATA!VII2,\"\"))","v":""},{"$f":"IF(DATA!VIJ2=0,\"\",IFERROR(DATA!VIJ2,\"\"))","v":""},{"$f":"IF(DATA!VIK2=0,\"\",IFERROR(DATA!VIK2,\"\"))","v":""},{"$f":"IF(DATA!VIL2=0,\"\",IFERROR(DATA!VIL2,\"\"))","v":""},{"$f":"IF(DATA!VIM2=0,\"\",IFERROR(DATA!VIM2,\"\"))","v":""},{"$f":"IF(DATA!VIN2=0,\"\",IFERROR(DATA!VIN2,\"\"))","v":""},{"$f":"IF(DATA!VIO2=0,\"\",IFERROR(DATA!VIO2,\"\"))","v":""},{"$f":"IF(DATA!VIP2=0,\"\",IFERROR(DATA!VIP2,\"\"))","v":""},{"$f":"IF(DATA!VIQ2=0,\"\",IFERROR(DATA!VIQ2,\"\"))","v":""},{"$f":"IF(DATA!VIR2=0,\"\",IFERROR(DATA!VIR2,\"\"))","v":""},{"$f":"IF(DATA!VIS2=0,\"\",IFERROR(DATA!VIS2,\"\"))","v":""},{"$f":"IF(DATA!VIT2=0,\"\",IFERROR(DATA!VIT2,\"\"))","v":""},{"$f":"IF(DATA!VIU2=0,\"\",IFERROR(DATA!VIU2,\"\"))","v":""},{"$f":"IF(DATA!VIV2=0,\"\",IFERROR(DATA!VIV2,\"\"))","v":""},{"$f":"IF(DATA!VIW2=0,\"\",IFERROR(DATA!VIW2,\"\"))","v":""},{"$f":"IF(DATA!VIX2=0,\"\",IFERROR(DATA!VIX2,\"\"))","v":""},{"$f":"IF(DATA!VIY2=0,\"\",IFERROR(DATA!VIY2,\"\"))","v":""},{"$f":"IF(DATA!VIZ2=0,\"\",IFERROR(DATA!VIZ2,\"\"))","v":""},{"$f":"IF(DATA!VJA2=0,\"\",IFERROR(DATA!VJA2,\"\"))","v":""},{"$f":"IF(DATA!VJB2=0,\"\",IFERROR(DATA!VJB2,\"\"))","v":""},{"$f":"IF(DATA!VJC2=0,\"\",IFERROR(DATA!VJC2,\"\"))","v":""},{"$f":"IF(DATA!VJD2=0,\"\",IFERROR(DATA!VJD2,\"\"))","v":""},{"$f":"IF(DATA!VJE2=0,\"\",IFERROR(DATA!VJE2,\"\"))","v":""},{"$f":"IF(DATA!VJF2=0,\"\",IFERROR(DATA!VJF2,\"\"))","v":""},{"$f":"IF(DATA!VJG2=0,\"\",IFERROR(DATA!VJG2,\"\"))","v":""},{"$f":"IF(DATA!VJH2=0,\"\",IFERROR(DATA!VJH2,\"\"))","v":""},{"$f":"IF(DATA!VJI2=0,\"\",IFERROR(DATA!VJI2,\"\"))","v":""},{"$f":"IF(DATA!VJJ2=0,\"\",IFERROR(DATA!VJJ2,\"\"))","v":""},{"$f":"IF(DATA!VJK2=0,\"\",IFERROR(DATA!VJK2,\"\"))","v":""},{"$f":"IF(DATA!VJL2=0,\"\",IFERROR(DATA!VJL2,\"\"))","v":""},{"$f":"IF(DATA!VJM2=0,\"\",IFERROR(DATA!VJM2,\"\"))","v":""},{"$f":"IF(DATA!VJN2=0,\"\",IFERROR(DATA!VJN2,\"\"))","v":""},{"$f":"IF(DATA!VJO2=0,\"\",IFERROR(DATA!VJO2,\"\"))","v":""},{"$f":"IF(DATA!VJP2=0,\"\",IFERROR(DATA!VJP2,\"\"))","v":""},{"$f":"IF(DATA!VJQ2=0,\"\",IFERROR(DATA!VJQ2,\"\"))","v":""},{"$f":"IF(DATA!VJR2=0,\"\",IFERROR(DATA!VJR2,\"\"))","v":""},{"$f":"IF(DATA!VJS2=0,\"\",IFERROR(DATA!VJS2,\"\"))","v":""},{"$f":"IF(DATA!VJT2=0,\"\",IFERROR(DATA!VJT2,\"\"))","v":""},{"$f":"IF(DATA!VJU2=0,\"\",IFERROR(DATA!VJU2,\"\"))","v":""},{"$f":"IF(DATA!VJV2=0,\"\",IFERROR(DATA!VJV2,\"\"))","v":""},{"$f":"IF(DATA!VJW2=0,\"\",IFERROR(DATA!VJW2,\"\"))","v":""},{"$f":"IF(DATA!VJX2=0,\"\",IFERROR(DATA!VJX2,\"\"))","v":""},{"$f":"IF(DATA!VJY2=0,\"\",IFERROR(DATA!VJY2,\"\"))","v":""},{"$f":"IF(DATA!VJZ2=0,\"\",IFERROR(DATA!VJZ2,\"\"))","v":""},{"$f":"IF(DATA!VKA2=0,\"\",IFERROR(DATA!VKA2,\"\"))","v":""},{"$f":"IF(DATA!VKB2=0,\"\",IFERROR(DATA!VKB2,\"\"))","v":""},{"$f":"IF(DATA!VKC2=0,\"\",IFERROR(DATA!VKC2,\"\"))","v":""},{"$f":"IF(DATA!VKD2=0,\"\",IFERROR(DATA!VKD2,\"\"))","v":""},{"$f":"IF(DATA!VKE2=0,\"\",IFERROR(DATA!VKE2,\"\"))","v":""},{"$f":"IF(DATA!VKF2=0,\"\",IFERROR(DATA!VKF2,\"\"))","v":""},{"$f":"IF(DATA!VKG2=0,\"\",IFERROR(DATA!VKG2,\"\"))","v":""},{"$f":"IF(DATA!VKH2=0,\"\",IFERROR(DATA!VKH2,\"\"))","v":""},{"$f":"IF(DATA!VKI2=0,\"\",IFERROR(DATA!VKI2,\"\"))","v":""},{"$f":"IF(DATA!VKJ2=0,\"\",IFERROR(DATA!VKJ2,\"\"))","v":""},{"$f":"IF(DATA!VKK2=0,\"\",IFERROR(DATA!VKK2,\"\"))","v":""},{"$f":"IF(DATA!VKL2=0,\"\",IFERROR(DATA!VKL2,\"\"))","v":""},{"$f":"IF(DATA!VKM2=0,\"\",IFERROR(DATA!VKM2,\"\"))","v":""},{"$f":"IF(DATA!VKN2=0,\"\",IFERROR(DATA!VKN2,\"\"))","v":""},{"$f":"IF(DATA!VKO2=0,\"\",IFERROR(DATA!VKO2,\"\"))","v":""},{"$f":"IF(DATA!VKP2=0,\"\",IFERROR(DATA!VKP2,\"\"))","v":""},{"$f":"IF(DATA!VKQ2=0,\"\",IFERROR(DATA!VKQ2,\"\"))","v":""},{"$f":"IF(DATA!VKR2=0,\"\",IFERROR(DATA!VKR2,\"\"))","v":""},{"$f":"IF(DATA!VKS2=0,\"\",IFERROR(DATA!VKS2,\"\"))","v":""},{"$f":"IF(DATA!VKT2=0,\"\",IFERROR(DATA!VKT2,\"\"))","v":""},{"$f":"IF(DATA!VKU2=0,\"\",IFERROR(DATA!VKU2,\"\"))","v":""},{"$f":"IF(DATA!VKV2=0,\"\",IFERROR(DATA!VKV2,\"\"))","v":""},{"$f":"IF(DATA!VKW2=0,\"\",IFERROR(DATA!VKW2,\"\"))","v":""},{"$f":"IF(DATA!VKX2=0,\"\",IFERROR(DATA!VKX2,\"\"))","v":""},{"$f":"IF(DATA!VKY2=0,\"\",IFERROR(DATA!VKY2,\"\"))","v":""},{"$f":"IF(DATA!VKZ2=0,\"\",IFERROR(DATA!VKZ2,\"\"))","v":""},{"$f":"IF(DATA!VLA2=0,\"\",IFERROR(DATA!VLA2,\"\"))","v":""},{"$f":"IF(DATA!VLB2=0,\"\",IFERROR(DATA!VLB2,\"\"))","v":""},{"$f":"IF(DATA!VLC2=0,\"\",IFERROR(DATA!VLC2,\"\"))","v":""},{"$f":"IF(DATA!VLD2=0,\"\",IFERROR(DATA!VLD2,\"\"))","v":""},{"$f":"IF(DATA!VLE2=0,\"\",IFERROR(DATA!VLE2,\"\"))","v":""},{"$f":"IF(DATA!VLF2=0,\"\",IFERROR(DATA!VLF2,\"\"))","v":""},{"$f":"IF(DATA!VLG2=0,\"\",IFERROR(DATA!VLG2,\"\"))","v":""},{"$f":"IF(DATA!VLH2=0,\"\",IFERROR(DATA!VLH2,\"\"))","v":""},{"$f":"IF(DATA!VLI2=0,\"\",IFERROR(DATA!VLI2,\"\"))","v":""},{"$f":"IF(DATA!VLJ2=0,\"\",IFERROR(DATA!VLJ2,\"\"))","v":""},{"$f":"IF(DATA!VLK2=0,\"\",IFERROR(DATA!VLK2,\"\"))","v":""},{"$f":"IF(DATA!VLL2=0,\"\",IFERROR(DATA!VLL2,\"\"))","v":""},{"$f":"IF(DATA!VLM2=0,\"\",IFERROR(DATA!VLM2,\"\"))","v":""},{"$f":"IF(DATA!VLN2=0,\"\",IFERROR(DATA!VLN2,\"\"))","v":""},{"$f":"IF(DATA!VLO2=0,\"\",IFERROR(DATA!VLO2,\"\"))","v":""},{"$f":"IF(DATA!VLP2=0,\"\",IFERROR(DATA!VLP2,\"\"))","v":""},{"$f":"IF(DATA!VLQ2=0,\"\",IFERROR(DATA!VLQ2,\"\"))","v":""},{"$f":"IF(DATA!VLR2=0,\"\",IFERROR(DATA!VLR2,\"\"))","v":""},{"$f":"IF(DATA!VLS2=0,\"\",IFERROR(DATA!VLS2,\"\"))","v":""},{"$f":"IF(DATA!VLT2=0,\"\",IFERROR(DATA!VLT2,\"\"))","v":""},{"$f":"IF(DATA!VLU2=0,\"\",IFERROR(DATA!VLU2,\"\"))","v":""},{"$f":"IF(DATA!VLV2=0,\"\",IFERROR(DATA!VLV2,\"\"))","v":""},{"$f":"IF(DATA!VLW2=0,\"\",IFERROR(DATA!VLW2,\"\"))","v":""},{"$f":"IF(DATA!VLX2=0,\"\",IFERROR(DATA!VLX2,\"\"))","v":""},{"$f":"IF(DATA!VLY2=0,\"\",IFERROR(DATA!VLY2,\"\"))","v":""},{"$f":"IF(DATA!VLZ2=0,\"\",IFERROR(DATA!VLZ2,\"\"))","v":""},{"$f":"IF(DATA!VMA2=0,\"\",IFERROR(DATA!VMA2,\"\"))","v":""},{"$f":"IF(DATA!VMB2=0,\"\",IFERROR(DATA!VMB2,\"\"))","v":""},{"$f":"IF(DATA!VMC2=0,\"\",IFERROR(DATA!VMC2,\"\"))","v":""},{"$f":"IF(DATA!VMD2=0,\"\",IFERROR(DATA!VMD2,\"\"))","v":""},{"$f":"IF(DATA!VME2=0,\"\",IFERROR(DATA!VME2,\"\"))","v":""},{"$f":"IF(DATA!VMF2=0,\"\",IFERROR(DATA!VMF2,\"\"))","v":""},{"$f":"IF(DATA!VMG2=0,\"\",IFERROR(DATA!VMG2,\"\"))","v":""},{"$f":"IF(DATA!VMH2=0,\"\",IFERROR(DATA!VMH2,\"\"))","v":""},{"$f":"IF(DATA!VMI2=0,\"\",IFERROR(DATA!VMI2,\"\"))","v":""},{"$f":"IF(DATA!VMJ2=0,\"\",IFERROR(DATA!VMJ2,\"\"))","v":""},{"$f":"IF(DATA!VMK2=0,\"\",IFERROR(DATA!VMK2,\"\"))","v":""},{"$f":"IF(DATA!VML2=0,\"\",IFERROR(DATA!VML2,\"\"))","v":""},{"$f":"IF(DATA!VMM2=0,\"\",IFERROR(DATA!VMM2,\"\"))","v":""},{"$f":"IF(DATA!VMN2=0,\"\",IFERROR(DATA!VMN2,\"\"))","v":""},{"$f":"IF(DATA!VMO2=0,\"\",IFERROR(DATA!VMO2,\"\"))","v":""},{"$f":"IF(DATA!VMP2=0,\"\",IFERROR(DATA!VMP2,\"\"))","v":""},{"$f":"IF(DATA!VMQ2=0,\"\",IFERROR(DATA!VMQ2,\"\"))","v":""},{"$f":"IF(DATA!VMR2=0,\"\",IFERROR(DATA!VMR2,\"\"))","v":""},{"$f":"IF(DATA!VMS2=0,\"\",IFERROR(DATA!VMS2,\"\"))","v":""},{"$f":"IF(DATA!VMT2=0,\"\",IFERROR(DATA!VMT2,\"\"))","v":""},{"$f":"IF(DATA!VMU2=0,\"\",IFERROR(DATA!VMU2,\"\"))","v":""},{"$f":"IF(DATA!VMV2=0,\"\",IFERROR(DATA!VMV2,\"\"))","v":""},{"$f":"IF(DATA!VMW2=0,\"\",IFERROR(DATA!VMW2,\"\"))","v":""},{"$f":"IF(DATA!VMX2=0,\"\",IFERROR(DATA!VMX2,\"\"))","v":""},{"$f":"IF(DATA!VMY2=0,\"\",IFERROR(DATA!VMY2,\"\"))","v":""},{"$f":"IF(DATA!VMZ2=0,\"\",IFERROR(DATA!VMZ2,\"\"))","v":""},{"$f":"IF(DATA!VNA2=0,\"\",IFERROR(DATA!VNA2,\"\"))","v":""},{"$f":"IF(DATA!VNB2=0,\"\",IFERROR(DATA!VNB2,\"\"))","v":""},{"$f":"IF(DATA!VNC2=0,\"\",IFERROR(DATA!VNC2,\"\"))","v":""},{"$f":"IF(DATA!VND2=0,\"\",IFERROR(DATA!VND2,\"\"))","v":""},{"$f":"IF(DATA!VNE2=0,\"\",IFERROR(DATA!VNE2,\"\"))","v":""},{"$f":"IF(DATA!VNF2=0,\"\",IFERROR(DATA!VNF2,\"\"))","v":""},{"$f":"IF(DATA!VNG2=0,\"\",IFERROR(DATA!VNG2,\"\"))","v":""},{"$f":"IF(DATA!VNH2=0,\"\",IFERROR(DATA!VNH2,\"\"))","v":""},{"$f":"IF(DATA!VNI2=0,\"\",IFERROR(DATA!VNI2,\"\"))","v":""},{"$f":"IF(DATA!VNJ2=0,\"\",IFERROR(DATA!VNJ2,\"\"))","v":""},{"$f":"IF(DATA!VNK2=0,\"\",IFERROR(DATA!VNK2,\"\"))","v":""},{"$f":"IF(DATA!VNL2=0,\"\",IFERROR(DATA!VNL2,\"\"))","v":""},{"$f":"IF(DATA!VNM2=0,\"\",IFERROR(DATA!VNM2,\"\"))","v":""},{"$f":"IF(DATA!VNN2=0,\"\",IFERROR(DATA!VNN2,\"\"))","v":""},{"$f":"IF(DATA!VNO2=0,\"\",IFERROR(DATA!VNO2,\"\"))","v":""},{"$f":"IF(DATA!VNP2=0,\"\",IFERROR(DATA!VNP2,\"\"))","v":""},{"$f":"IF(DATA!VNQ2=0,\"\",IFERROR(DATA!VNQ2,\"\"))","v":""},{"$f":"IF(DATA!VNR2=0,\"\",IFERROR(DATA!VNR2,\"\"))","v":""},{"$f":"IF(DATA!VNS2=0,\"\",IFERROR(DATA!VNS2,\"\"))","v":""},{"$f":"IF(DATA!VNT2=0,\"\",IFERROR(DATA!VNT2,\"\"))","v":""},{"$f":"IF(DATA!VNU2=0,\"\",IFERROR(DATA!VNU2,\"\"))","v":""},{"$f":"IF(DATA!VNV2=0,\"\",IFERROR(DATA!VNV2,\"\"))","v":""},{"$f":"IF(DATA!VNW2=0,\"\",IFERROR(DATA!VNW2,\"\"))","v":""},{"$f":"IF(DATA!VNX2=0,\"\",IFERROR(DATA!VNX2,\"\"))","v":""},{"$f":"IF(DATA!VNY2=0,\"\",IFERROR(DATA!VNY2,\"\"))","v":""},{"$f":"IF(DATA!VNZ2=0,\"\",IFERROR(DATA!VNZ2,\"\"))","v":""},{"$f":"IF(DATA!VOA2=0,\"\",IFERROR(DATA!VOA2,\"\"))","v":""},{"$f":"IF(DATA!VOB2=0,\"\",IFERROR(DATA!VOB2,\"\"))","v":""},{"$f":"IF(DATA!VOC2=0,\"\",IFERROR(DATA!VOC2,\"\"))","v":""},{"$f":"IF(DATA!VOD2=0,\"\",IFERROR(DATA!VOD2,\"\"))","v":""},{"$f":"IF(DATA!VOE2=0,\"\",IFERROR(DATA!VOE2,\"\"))","v":""},{"$f":"IF(DATA!VOF2=0,\"\",IFERROR(DATA!VOF2,\"\"))","v":""},{"$f":"IF(DATA!VOG2=0,\"\",IFERROR(DATA!VOG2,\"\"))","v":""},{"$f":"IF(DATA!VOH2=0,\"\",IFERROR(DATA!VOH2,\"\"))","v":""},{"$f":"IF(DATA!VOI2=0,\"\",IFERROR(DATA!VOI2,\"\"))","v":""},{"$f":"IF(DATA!VOJ2=0,\"\",IFERROR(DATA!VOJ2,\"\"))","v":""},{"$f":"IF(DATA!VOK2=0,\"\",IFERROR(DATA!VOK2,\"\"))","v":""},{"$f":"IF(DATA!VOL2=0,\"\",IFERROR(DATA!VOL2,\"\"))","v":""},{"$f":"IF(DATA!VOM2=0,\"\",IFERROR(DATA!VOM2,\"\"))","v":""},{"$f":"IF(DATA!VON2=0,\"\",IFERROR(DATA!VON2,\"\"))","v":""},{"$f":"IF(DATA!VOO2=0,\"\",IFERROR(DATA!VOO2,\"\"))","v":""},{"$f":"IF(DATA!VOP2=0,\"\",IFERROR(DATA!VOP2,\"\"))","v":""},{"$f":"IF(DATA!VOQ2=0,\"\",IFERROR(DATA!VOQ2,\"\"))","v":""},{"$f":"IF(DATA!VOR2=0,\"\",IFERROR(DATA!VOR2,\"\"))","v":""},{"$f":"IF(DATA!VOS2=0,\"\",IFERROR(DATA!VOS2,\"\"))","v":""},{"$f":"IF(DATA!VOT2=0,\"\",IFERROR(DATA!VOT2,\"\"))","v":""},{"$f":"IF(DATA!VOU2=0,\"\",IFERROR(DATA!VOU2,\"\"))","v":""},{"$f":"IF(DATA!VOV2=0,\"\",IFERROR(DATA!VOV2,\"\"))","v":""},{"$f":"IF(DATA!VOW2=0,\"\",IFERROR(DATA!VOW2,\"\"))","v":""},{"$f":"IF(DATA!VOX2=0,\"\",IFERROR(DATA!VOX2,\"\"))","v":""},{"$f":"IF(DATA!VOY2=0,\"\",IFERROR(DATA!VOY2,\"\"))","v":""},{"$f":"IF(DATA!VOZ2=0,\"\",IFERROR(DATA!VOZ2,\"\"))","v":""},{"$f":"IF(DATA!VPA2=0,\"\",IFERROR(DATA!VPA2,\"\"))","v":""},{"$f":"IF(DATA!VPB2=0,\"\",IFERROR(DATA!VPB2,\"\"))","v":""},{"$f":"IF(DATA!VPC2=0,\"\",IFERROR(DATA!VPC2,\"\"))","v":""},{"$f":"IF(DATA!VPD2=0,\"\",IFERROR(DATA!VPD2,\"\"))","v":""},{"$f":"IF(DATA!VPE2=0,\"\",IFERROR(DATA!VPE2,\"\"))","v":""},{"$f":"IF(DATA!VPF2=0,\"\",IFERROR(DATA!VPF2,\"\"))","v":""},{"$f":"IF(DATA!VPG2=0,\"\",IFERROR(DATA!VPG2,\"\"))","v":""},{"$f":"IF(DATA!VPH2=0,\"\",IFERROR(DATA!VPH2,\"\"))","v":""},{"$f":"IF(DATA!VPI2=0,\"\",IFERROR(DATA!VPI2,\"\"))","v":""},{"$f":"IF(DATA!VPJ2=0,\"\",IFERROR(DATA!VPJ2,\"\"))","v":""},{"$f":"IF(DATA!VPK2=0,\"\",IFERROR(DATA!VPK2,\"\"))","v":""},{"$f":"IF(DATA!VPL2=0,\"\",IFERROR(DATA!VPL2,\"\"))","v":""},{"$f":"IF(DATA!VPM2=0,\"\",IFERROR(DATA!VPM2,\"\"))","v":""},{"$f":"IF(DATA!VPN2=0,\"\",IFERROR(DATA!VPN2,\"\"))","v":""},{"$f":"IF(DATA!VPO2=0,\"\",IFERROR(DATA!VPO2,\"\"))","v":""},{"$f":"IF(DATA!VPP2=0,\"\",IFERROR(DATA!VPP2,\"\"))","v":""},{"$f":"IF(DATA!VPQ2=0,\"\",IFERROR(DATA!VPQ2,\"\"))","v":""},{"$f":"IF(DATA!VPR2=0,\"\",IFERROR(DATA!VPR2,\"\"))","v":""},{"$f":"IF(DATA!VPS2=0,\"\",IFERROR(DATA!VPS2,\"\"))","v":""},{"$f":"IF(DATA!VPT2=0,\"\",IFERROR(DATA!VPT2,\"\"))","v":""},{"$f":"IF(DATA!VPU2=0,\"\",IFERROR(DATA!VPU2,\"\"))","v":""},{"$f":"IF(DATA!VPV2=0,\"\",IFERROR(DATA!VPV2,\"\"))","v":""},{"$f":"IF(DATA!VPW2=0,\"\",IFERROR(DATA!VPW2,\"\"))","v":""},{"$f":"IF(DATA!VPX2=0,\"\",IFERROR(DATA!VPX2,\"\"))","v":""},{"$f":"IF(DATA!VPY2=0,\"\",IFERROR(DATA!VPY2,\"\"))","v":""},{"$f":"IF(DATA!VPZ2=0,\"\",IFERROR(DATA!VPZ2,\"\"))","v":""},{"$f":"IF(DATA!VQA2=0,\"\",IFERROR(DATA!VQA2,\"\"))","v":""},{"$f":"IF(DATA!VQB2=0,\"\",IFERROR(DATA!VQB2,\"\"))","v":""},{"$f":"IF(DATA!VQC2=0,\"\",IFERROR(DATA!VQC2,\"\"))","v":""},{"$f":"IF(DATA!VQD2=0,\"\",IFERROR(DATA!VQD2,\"\"))","v":""},{"$f":"IF(DATA!VQE2=0,\"\",IFERROR(DATA!VQE2,\"\"))","v":""},{"$f":"IF(DATA!VQF2=0,\"\",IFERROR(DATA!VQF2,\"\"))","v":""},{"$f":"IF(DATA!VQG2=0,\"\",IFERROR(DATA!VQG2,\"\"))","v":""},{"$f":"IF(DATA!VQH2=0,\"\",IFERROR(DATA!VQH2,\"\"))","v":""},{"$f":"IF(DATA!VQI2=0,\"\",IFERROR(DATA!VQI2,\"\"))","v":""},{"$f":"IF(DATA!VQJ2=0,\"\",IFERROR(DATA!VQJ2,\"\"))","v":""},{"$f":"IF(DATA!VQK2=0,\"\",IFERROR(DATA!VQK2,\"\"))","v":""},{"$f":"IF(DATA!VQL2=0,\"\",IFERROR(DATA!VQL2,\"\"))","v":""},{"$f":"IF(DATA!VQM2=0,\"\",IFERROR(DATA!VQM2,\"\"))","v":""},{"$f":"IF(DATA!VQN2=0,\"\",IFERROR(DATA!VQN2,\"\"))","v":""},{"$f":"IF(DATA!VQO2=0,\"\",IFERROR(DATA!VQO2,\"\"))","v":""},{"$f":"IF(DATA!VQP2=0,\"\",IFERROR(DATA!VQP2,\"\"))","v":""},{"$f":"IF(DATA!VQQ2=0,\"\",IFERROR(DATA!VQQ2,\"\"))","v":""},{"$f":"IF(DATA!VQR2=0,\"\",IFERROR(DATA!VQR2,\"\"))","v":""},{"$f":"IF(DATA!VQS2=0,\"\",IFERROR(DATA!VQS2,\"\"))","v":""},{"$f":"IF(DATA!VQT2=0,\"\",IFERROR(DATA!VQT2,\"\"))","v":""},{"$f":"IF(DATA!VQU2=0,\"\",IFERROR(DATA!VQU2,\"\"))","v":""},{"$f":"IF(DATA!VQV2=0,\"\",IFERROR(DATA!VQV2,\"\"))","v":""},{"$f":"IF(DATA!VQW2=0,\"\",IFERROR(DATA!VQW2,\"\"))","v":""},{"$f":"IF(DATA!VQX2=0,\"\",IFERROR(DATA!VQX2,\"\"))","v":""},{"$f":"IF(DATA!VQY2=0,\"\",IFERROR(DATA!VQY2,\"\"))","v":""},{"$f":"IF(DATA!VQZ2=0,\"\",IFERROR(DATA!VQZ2,\"\"))","v":""},{"$f":"IF(DATA!VRA2=0,\"\",IFERROR(DATA!VRA2,\"\"))","v":""},{"$f":"IF(DATA!VRB2=0,\"\",IFERROR(DATA!VRB2,\"\"))","v":""},{"$f":"IF(DATA!VRC2=0,\"\",IFERROR(DATA!VRC2,\"\"))","v":""},{"$f":"IF(DATA!VRD2=0,\"\",IFERROR(DATA!VRD2,\"\"))","v":""},{"$f":"IF(DATA!VRE2=0,\"\",IFERROR(DATA!VRE2,\"\"))","v":""},{"$f":"IF(DATA!VRF2=0,\"\",IFERROR(DATA!VRF2,\"\"))","v":""},{"$f":"IF(DATA!VRG2=0,\"\",IFERROR(DATA!VRG2,\"\"))","v":""},{"$f":"IF(DATA!VRH2=0,\"\",IFERROR(DATA!VRH2,\"\"))","v":""},{"$f":"IF(DATA!VRI2=0,\"\",IFERROR(DATA!VRI2,\"\"))","v":""},{"$f":"IF(DATA!VRJ2=0,\"\",IFERROR(DATA!VRJ2,\"\"))","v":""},{"$f":"IF(DATA!VRK2=0,\"\",IFERROR(DATA!VRK2,\"\"))","v":""},{"$f":"IF(DATA!VRL2=0,\"\",IFERROR(DATA!VRL2,\"\"))","v":""},{"$f":"IF(DATA!VRM2=0,\"\",IFERROR(DATA!VRM2,\"\"))","v":""},{"$f":"IF(DATA!VRN2=0,\"\",IFERROR(DATA!VRN2,\"\"))","v":""},{"$f":"IF(DATA!VRO2=0,\"\",IFERROR(DATA!VRO2,\"\"))","v":""},{"$f":"IF(DATA!VRP2=0,\"\",IFERROR(DATA!VRP2,\"\"))","v":""},{"$f":"IF(DATA!VRQ2=0,\"\",IFERROR(DATA!VRQ2,\"\"))","v":""},{"$f":"IF(DATA!VRR2=0,\"\",IFERROR(DATA!VRR2,\"\"))","v":""},{"$f":"IF(DATA!VRS2=0,\"\",IFERROR(DATA!VRS2,\"\"))","v":""},{"$f":"IF(DATA!VRT2=0,\"\",IFERROR(DATA!VRT2,\"\"))","v":""},{"$f":"IF(DATA!VRU2=0,\"\",IFERROR(DATA!VRU2,\"\"))","v":""},{"$f":"IF(DATA!VRV2=0,\"\",IFERROR(DATA!VRV2,\"\"))","v":""},{"$f":"IF(DATA!VRW2=0,\"\",IFERROR(DATA!VRW2,\"\"))","v":""},{"$f":"IF(DATA!VRX2=0,\"\",IFERROR(DATA!VRX2,\"\"))","v":""},{"$f":"IF(DATA!VRY2=0,\"\",IFERROR(DATA!VRY2,\"\"))","v":""},{"$f":"IF(DATA!VRZ2=0,\"\",IFERROR(DATA!VRZ2,\"\"))","v":""},{"$f":"IF(DATA!VSA2=0,\"\",IFERROR(DATA!VSA2,\"\"))","v":""},{"$f":"IF(DATA!VSB2=0,\"\",IFERROR(DATA!VSB2,\"\"))","v":""},{"$f":"IF(DATA!VSC2=0,\"\",IFERROR(DATA!VSC2,\"\"))","v":""},{"$f":"IF(DATA!VSD2=0,\"\",IFERROR(DATA!VSD2,\"\"))","v":""},{"$f":"IF(DATA!VSE2=0,\"\",IFERROR(DATA!VSE2,\"\"))","v":""},{"$f":"IF(DATA!VSF2=0,\"\",IFERROR(DATA!VSF2,\"\"))","v":""},{"$f":"IF(DATA!VSG2=0,\"\",IFERROR(DATA!VSG2,\"\"))","v":""},{"$f":"IF(DATA!VSH2=0,\"\",IFERROR(DATA!VSH2,\"\"))","v":""},{"$f":"IF(DATA!VSI2=0,\"\",IFERROR(DATA!VSI2,\"\"))","v":""},{"$f":"IF(DATA!VSJ2=0,\"\",IFERROR(DATA!VSJ2,\"\"))","v":""},{"$f":"IF(DATA!VSK2=0,\"\",IFERROR(DATA!VSK2,\"\"))","v":""},{"$f":"IF(DATA!VSL2=0,\"\",IFERROR(DATA!VSL2,\"\"))","v":""},{"$f":"IF(DATA!VSM2=0,\"\",IFERROR(DATA!VSM2,\"\"))","v":""},{"$f":"IF(DATA!VSN2=0,\"\",IFERROR(DATA!VSN2,\"\"))","v":""},{"$f":"IF(DATA!VSO2=0,\"\",IFERROR(DATA!VSO2,\"\"))","v":""},{"$f":"IF(DATA!VSP2=0,\"\",IFERROR(DATA!VSP2,\"\"))","v":""},{"$f":"IF(DATA!VSQ2=0,\"\",IFERROR(DATA!VSQ2,\"\"))","v":""},{"$f":"IF(DATA!VSR2=0,\"\",IFERROR(DATA!VSR2,\"\"))","v":""},{"$f":"IF(DATA!VSS2=0,\"\",IFERROR(DATA!VSS2,\"\"))","v":""},{"$f":"IF(DATA!VST2=0,\"\",IFERROR(DATA!VST2,\"\"))","v":""},{"$f":"IF(DATA!VSU2=0,\"\",IFERROR(DATA!VSU2,\"\"))","v":""},{"$f":"IF(DATA!VSV2=0,\"\",IFERROR(DATA!VSV2,\"\"))","v":""},{"$f":"IF(DATA!VSW2=0,\"\",IFERROR(DATA!VSW2,\"\"))","v":""},{"$f":"IF(DATA!VSX2=0,\"\",IFERROR(DATA!VSX2,\"\"))","v":""},{"$f":"IF(DATA!VSY2=0,\"\",IFERROR(DATA!VSY2,\"\"))","v":""},{"$f":"IF(DATA!VSZ2=0,\"\",IFERROR(DATA!VSZ2,\"\"))","v":""},{"$f":"IF(DATA!VTA2=0,\"\",IFERROR(DATA!VTA2,\"\"))","v":""},{"$f":"IF(DATA!VTB2=0,\"\",IFERROR(DATA!VTB2,\"\"))","v":""},{"$f":"IF(DATA!VTC2=0,\"\",IFERROR(DATA!VTC2,\"\"))","v":""},{"$f":"IF(DATA!VTD2=0,\"\",IFERROR(DATA!VTD2,\"\"))","v":""},{"$f":"IF(DATA!VTE2=0,\"\",IFERROR(DATA!VTE2,\"\"))","v":""},{"$f":"IF(DATA!VTF2=0,\"\",IFERROR(DATA!VTF2,\"\"))","v":""},{"$f":"IF(DATA!VTG2=0,\"\",IFERROR(DATA!VTG2,\"\"))","v":""},{"$f":"IF(DATA!VTH2=0,\"\",IFERROR(DATA!VTH2,\"\"))","v":""},{"$f":"IF(DATA!VTI2=0,\"\",IFERROR(DATA!VTI2,\"\"))","v":""},{"$f":"IF(DATA!VTJ2=0,\"\",IFERROR(DATA!VTJ2,\"\"))","v":""},{"$f":"IF(DATA!VTK2=0,\"\",IFERROR(DATA!VTK2,\"\"))","v":""},{"$f":"IF(DATA!VTL2=0,\"\",IFERROR(DATA!VTL2,\"\"))","v":""},{"$f":"IF(DATA!VTM2=0,\"\",IFERROR(DATA!VTM2,\"\"))","v":""},{"$f":"IF(DATA!VTN2=0,\"\",IFERROR(DATA!VTN2,\"\"))","v":""},{"$f":"IF(DATA!VTO2=0,\"\",IFERROR(DATA!VTO2,\"\"))","v":""},{"$f":"IF(DATA!VTP2=0,\"\",IFERROR(DATA!VTP2,\"\"))","v":""},{"$f":"IF(DATA!VTQ2=0,\"\",IFERROR(DATA!VTQ2,\"\"))","v":""},{"$f":"IF(DATA!VTR2=0,\"\",IFERROR(DATA!VTR2,\"\"))","v":""},{"$f":"IF(DATA!VTS2=0,\"\",IFERROR(DATA!VTS2,\"\"))","v":""},{"$f":"IF(DATA!VTT2=0,\"\",IFERROR(DATA!VTT2,\"\"))","v":""},{"$f":"IF(DATA!VTU2=0,\"\",IFERROR(DATA!VTU2,\"\"))","v":""},{"$f":"IF(DATA!VTV2=0,\"\",IFERROR(DATA!VTV2,\"\"))","v":""},{"$f":"IF(DATA!VTW2=0,\"\",IFERROR(DATA!VTW2,\"\"))","v":""},{"$f":"IF(DATA!VTX2=0,\"\",IFERROR(DATA!VTX2,\"\"))","v":""},{"$f":"IF(DATA!VTY2=0,\"\",IFERROR(DATA!VTY2,\"\"))","v":""},{"$f":"IF(DATA!VTZ2=0,\"\",IFERROR(DATA!VTZ2,\"\"))","v":""},{"$f":"IF(DATA!VUA2=0,\"\",IFERROR(DATA!VUA2,\"\"))","v":""},{"$f":"IF(DATA!VUB2=0,\"\",IFERROR(DATA!VUB2,\"\"))","v":""},{"$f":"IF(DATA!VUC2=0,\"\",IFERROR(DATA!VUC2,\"\"))","v":""},{"$f":"IF(DATA!VUD2=0,\"\",IFERROR(DATA!VUD2,\"\"))","v":""},{"$f":"IF(DATA!VUE2=0,\"\",IFERROR(DATA!VUE2,\"\"))","v":""},{"$f":"IF(DATA!VUF2=0,\"\",IFERROR(DATA!VUF2,\"\"))","v":""},{"$f":"IF(DATA!VUG2=0,\"\",IFERROR(DATA!VUG2,\"\"))","v":""},{"$f":"IF(DATA!VUH2=0,\"\",IFERROR(DATA!VUH2,\"\"))","v":""},{"$f":"IF(DATA!VUI2=0,\"\",IFERROR(DATA!VUI2,\"\"))","v":""},{"$f":"IF(DATA!VUJ2=0,\"\",IFERROR(DATA!VUJ2,\"\"))","v":""},{"$f":"IF(DATA!VUK2=0,\"\",IFERROR(DATA!VUK2,\"\"))","v":""},{"$f":"IF(DATA!VUL2=0,\"\",IFERROR(DATA!VUL2,\"\"))","v":""},{"$f":"IF(DATA!VUM2=0,\"\",IFERROR(DATA!VUM2,\"\"))","v":""},{"$f":"IF(DATA!VUN2=0,\"\",IFERROR(DATA!VUN2,\"\"))","v":""},{"$f":"IF(DATA!VUO2=0,\"\",IFERROR(DATA!VUO2,\"\"))","v":""},{"$f":"IF(DATA!VUP2=0,\"\",IFERROR(DATA!VUP2,\"\"))","v":""},{"$f":"IF(DATA!VUQ2=0,\"\",IFERROR(DATA!VUQ2,\"\"))","v":""},{"$f":"IF(DATA!VUR2=0,\"\",IFERROR(DATA!VUR2,\"\"))","v":""},{"$f":"IF(DATA!VUS2=0,\"\",IFERROR(DATA!VUS2,\"\"))","v":""},{"$f":"IF(DATA!VUT2=0,\"\",IFERROR(DATA!VUT2,\"\"))","v":""},{"$f":"IF(DATA!VUU2=0,\"\",IFERROR(DATA!VUU2,\"\"))","v":""},{"$f":"IF(DATA!VUV2=0,\"\",IFERROR(DATA!VUV2,\"\"))","v":""},{"$f":"IF(DATA!VUW2=0,\"\",IFERROR(DATA!VUW2,\"\"))","v":""},{"$f":"IF(DATA!VUX2=0,\"\",IFERROR(DATA!VUX2,\"\"))","v":""},{"$f":"IF(DATA!VUY2=0,\"\",IFERROR(DATA!VUY2,\"\"))","v":""},{"$f":"IF(DATA!VUZ2=0,\"\",IFERROR(DATA!VUZ2,\"\"))","v":""},{"$f":"IF(DATA!VVA2=0,\"\",IFERROR(DATA!VVA2,\"\"))","v":""},{"$f":"IF(DATA!VVB2=0,\"\",IFERROR(DATA!VVB2,\"\"))","v":""},{"$f":"IF(DATA!VVC2=0,\"\",IFERROR(DATA!VVC2,\"\"))","v":""},{"$f":"IF(DATA!VVD2=0,\"\",IFERROR(DATA!VVD2,\"\"))","v":""},{"$f":"IF(DATA!VVE2=0,\"\",IFERROR(DATA!VVE2,\"\"))","v":""},{"$f":"IF(DATA!VVF2=0,\"\",IFERROR(DATA!VVF2,\"\"))","v":""},{"$f":"IF(DATA!VVG2=0,\"\",IFERROR(DATA!VVG2,\"\"))","v":""},{"$f":"IF(DATA!VVH2=0,\"\",IFERROR(DATA!VVH2,\"\"))","v":""},{"$f":"IF(DATA!VVI2=0,\"\",IFERROR(DATA!VVI2,\"\"))","v":""},{"$f":"IF(DATA!VVJ2=0,\"\",IFERROR(DATA!VVJ2,\"\"))","v":""},{"$f":"IF(DATA!VVK2=0,\"\",IFERROR(DATA!VVK2,\"\"))","v":""},{"$f":"IF(DATA!VVL2=0,\"\",IFERROR(DATA!VVL2,\"\"))","v":""},{"$f":"IF(DATA!VVM2=0,\"\",IFERROR(DATA!VVM2,\"\"))","v":""},{"$f":"IF(DATA!VVN2=0,\"\",IFERROR(DATA!VVN2,\"\"))","v":""},{"$f":"IF(DATA!VVO2=0,\"\",IFERROR(DATA!VVO2,\"\"))","v":""},{"$f":"IF(DATA!VVP2=0,\"\",IFERROR(DATA!VVP2,\"\"))","v":""},{"$f":"IF(DATA!VVQ2=0,\"\",IFERROR(DATA!VVQ2,\"\"))","v":""},{"$f":"IF(DATA!VVR2=0,\"\",IFERROR(DATA!VVR2,\"\"))","v":""},{"$f":"IF(DATA!VVS2=0,\"\",IFERROR(DATA!VVS2,\"\"))","v":""},{"$f":"IF(DATA!VVT2=0,\"\",IFERROR(DATA!VVT2,\"\"))","v":""},{"$f":"IF(DATA!VVU2=0,\"\",IFERROR(DATA!VVU2,\"\"))","v":""},{"$f":"IF(DATA!VVV2=0,\"\",IFERROR(DATA!VVV2,\"\"))","v":""},{"$f":"IF(DATA!VVW2=0,\"\",IFERROR(DATA!VVW2,\"\"))","v":""},{"$f":"IF(DATA!VVX2=0,\"\",IFERROR(DATA!VVX2,\"\"))","v":""},{"$f":"IF(DATA!VVY2=0,\"\",IFERROR(DATA!VVY2,\"\"))","v":""},{"$f":"IF(DATA!VVZ2=0,\"\",IFERROR(DATA!VVZ2,\"\"))","v":""},{"$f":"IF(DATA!VWA2=0,\"\",IFERROR(DATA!VWA2,\"\"))","v":""},{"$f":"IF(DATA!VWB2=0,\"\",IFERROR(DATA!VWB2,\"\"))","v":""},{"$f":"IF(DATA!VWC2=0,\"\",IFERROR(DATA!VWC2,\"\"))","v":""},{"$f":"IF(DATA!VWD2=0,\"\",IFERROR(DATA!VWD2,\"\"))","v":""},{"$f":"IF(DATA!VWE2=0,\"\",IFERROR(DATA!VWE2,\"\"))","v":""},{"$f":"IF(DATA!VWF2=0,\"\",IFERROR(DATA!VWF2,\"\"))","v":""},{"$f":"IF(DATA!VWG2=0,\"\",IFERROR(DATA!VWG2,\"\"))","v":""},{"$f":"IF(DATA!VWH2=0,\"\",IFERROR(DATA!VWH2,\"\"))","v":""},{"$f":"IF(DATA!VWI2=0,\"\",IFERROR(DATA!VWI2,\"\"))","v":""},{"$f":"IF(DATA!VWJ2=0,\"\",IFERROR(DATA!VWJ2,\"\"))","v":""},{"$f":"IF(DATA!VWK2=0,\"\",IFERROR(DATA!VWK2,\"\"))","v":""},{"$f":"IF(DATA!VWL2=0,\"\",IFERROR(DATA!VWL2,\"\"))","v":""},{"$f":"IF(DATA!VWM2=0,\"\",IFERROR(DATA!VWM2,\"\"))","v":""},{"$f":"IF(DATA!VWN2=0,\"\",IFERROR(DATA!VWN2,\"\"))","v":""},{"$f":"IF(DATA!VWO2=0,\"\",IFERROR(DATA!VWO2,\"\"))","v":""},{"$f":"IF(DATA!VWP2=0,\"\",IFERROR(DATA!VWP2,\"\"))","v":""},{"$f":"IF(DATA!VWQ2=0,\"\",IFERROR(DATA!VWQ2,\"\"))","v":""},{"$f":"IF(DATA!VWR2=0,\"\",IFERROR(DATA!VWR2,\"\"))","v":""},{"$f":"IF(DATA!VWS2=0,\"\",IFERROR(DATA!VWS2,\"\"))","v":""},{"$f":"IF(DATA!VWT2=0,\"\",IFERROR(DATA!VWT2,\"\"))","v":""},{"$f":"IF(DATA!VWU2=0,\"\",IFERROR(DATA!VWU2,\"\"))","v":""},{"$f":"IF(DATA!VWV2=0,\"\",IFERROR(DATA!VWV2,\"\"))","v":""},{"$f":"IF(DATA!VWW2=0,\"\",IFERROR(DATA!VWW2,\"\"))","v":""},{"$f":"IF(DATA!VWX2=0,\"\",IFERROR(DATA!VWX2,\"\"))","v":""},{"$f":"IF(DATA!VWY2=0,\"\",IFERROR(DATA!VWY2,\"\"))","v":""},{"$f":"IF(DATA!VWZ2=0,\"\",IFERROR(DATA!VWZ2,\"\"))","v":""},{"$f":"IF(DATA!VXA2=0,\"\",IFERROR(DATA!VXA2,\"\"))","v":""},{"$f":"IF(DATA!VXB2=0,\"\",IFERROR(DATA!VXB2,\"\"))","v":""},{"$f":"IF(DATA!VXC2=0,\"\",IFERROR(DATA!VXC2,\"\"))","v":""},{"$f":"IF(DATA!VXD2=0,\"\",IFERROR(DATA!VXD2,\"\"))","v":""},{"$f":"IF(DATA!VXE2=0,\"\",IFERROR(DATA!VXE2,\"\"))","v":""},{"$f":"IF(DATA!VXF2=0,\"\",IFERROR(DATA!VXF2,\"\"))","v":""},{"$f":"IF(DATA!VXG2=0,\"\",IFERROR(DATA!VXG2,\"\"))","v":""},{"$f":"IF(DATA!VXH2=0,\"\",IFERROR(DATA!VXH2,\"\"))","v":""},{"$f":"IF(DATA!VXI2=0,\"\",IFERROR(DATA!VXI2,\"\"))","v":""},{"$f":"IF(DATA!VXJ2=0,\"\",IFERROR(DATA!VXJ2,\"\"))","v":""},{"$f":"IF(DATA!VXK2=0,\"\",IFERROR(DATA!VXK2,\"\"))","v":""},{"$f":"IF(DATA!VXL2=0,\"\",IFERROR(DATA!VXL2,\"\"))","v":""},{"$f":"IF(DATA!VXM2=0,\"\",IFERROR(DATA!VXM2,\"\"))","v":""},{"$f":"IF(DATA!VXN2=0,\"\",IFERROR(DATA!VXN2,\"\"))","v":""},{"$f":"IF(DATA!VXO2=0,\"\",IFERROR(DATA!VXO2,\"\"))","v":""},{"$f":"IF(DATA!VXP2=0,\"\",IFERROR(DATA!VXP2,\"\"))","v":""},{"$f":"IF(DATA!VXQ2=0,\"\",IFERROR(DATA!VXQ2,\"\"))","v":""},{"$f":"IF(DATA!VXR2=0,\"\",IFERROR(DATA!VXR2,\"\"))","v":""},{"$f":"IF(DATA!VXS2=0,\"\",IFERROR(DATA!VXS2,\"\"))","v":""},{"$f":"IF(DATA!VXT2=0,\"\",IFERROR(DATA!VXT2,\"\"))","v":""},{"$f":"IF(DATA!VXU2=0,\"\",IFERROR(DATA!VXU2,\"\"))","v":""},{"$f":"IF(DATA!VXV2=0,\"\",IFERROR(DATA!VXV2,\"\"))","v":""},{"$f":"IF(DATA!VXW2=0,\"\",IFERROR(DATA!VXW2,\"\"))","v":""},{"$f":"IF(DATA!VXX2=0,\"\",IFERROR(DATA!VXX2,\"\"))","v":""},{"$f":"IF(DATA!VXY2=0,\"\",IFERROR(DATA!VXY2,\"\"))","v":""},{"$f":"IF(DATA!VXZ2=0,\"\",IFERROR(DATA!VXZ2,\"\"))","v":""},{"$f":"IF(DATA!VYA2=0,\"\",IFERROR(DATA!VYA2,\"\"))","v":""},{"$f":"IF(DATA!VYB2=0,\"\",IFERROR(DATA!VYB2,\"\"))","v":""},{"$f":"IF(DATA!VYC2=0,\"\",IFERROR(DATA!VYC2,\"\"))","v":""},{"$f":"IF(DATA!VYD2=0,\"\",IFERROR(DATA!VYD2,\"\"))","v":""},{"$f":"IF(DATA!VYE2=0,\"\",IFERROR(DATA!VYE2,\"\"))","v":""},{"$f":"IF(DATA!VYF2=0,\"\",IFERROR(DATA!VYF2,\"\"))","v":""},{"$f":"IF(DATA!VYG2=0,\"\",IFERROR(DATA!VYG2,\"\"))","v":""},{"$f":"IF(DATA!VYH2=0,\"\",IFERROR(DATA!VYH2,\"\"))","v":""},{"$f":"IF(DATA!VYI2=0,\"\",IFERROR(DATA!VYI2,\"\"))","v":""},{"$f":"IF(DATA!VYJ2=0,\"\",IFERROR(DATA!VYJ2,\"\"))","v":""},{"$f":"IF(DATA!VYK2=0,\"\",IFERROR(DATA!VYK2,\"\"))","v":""},{"$f":"IF(DATA!VYL2=0,\"\",IFERROR(DATA!VYL2,\"\"))","v":""},{"$f":"IF(DATA!VYM2=0,\"\",IFERROR(DATA!VYM2,\"\"))","v":""},{"$f":"IF(DATA!VYN2=0,\"\",IFERROR(DATA!VYN2,\"\"))","v":""},{"$f":"IF(DATA!VYO2=0,\"\",IFERROR(DATA!VYO2,\"\"))","v":""},{"$f":"IF(DATA!VYP2=0,\"\",IFERROR(DATA!VYP2,\"\"))","v":""},{"$f":"IF(DATA!VYQ2=0,\"\",IFERROR(DATA!VYQ2,\"\"))","v":""},{"$f":"IF(DATA!VYR2=0,\"\",IFERROR(DATA!VYR2,\"\"))","v":""},{"$f":"IF(DATA!VYS2=0,\"\",IFERROR(DATA!VYS2,\"\"))","v":""},{"$f":"IF(DATA!VYT2=0,\"\",IFERROR(DATA!VYT2,\"\"))","v":""},{"$f":"IF(DATA!VYU2=0,\"\",IFERROR(DATA!VYU2,\"\"))","v":""},{"$f":"IF(DATA!VYV2=0,\"\",IFERROR(DATA!VYV2,\"\"))","v":""},{"$f":"IF(DATA!VYW2=0,\"\",IFERROR(DATA!VYW2,\"\"))","v":""},{"$f":"IF(DATA!VYX2=0,\"\",IFERROR(DATA!VYX2,\"\"))","v":""},{"$f":"IF(DATA!VYY2=0,\"\",IFERROR(DATA!VYY2,\"\"))","v":""},{"$f":"IF(DATA!VYZ2=0,\"\",IFERROR(DATA!VYZ2,\"\"))","v":""},{"$f":"IF(DATA!VZA2=0,\"\",IFERROR(DATA!VZA2,\"\"))","v":""},{"$f":"IF(DATA!VZB2=0,\"\",IFERROR(DATA!VZB2,\"\"))","v":""},{"$f":"IF(DATA!VZC2=0,\"\",IFERROR(DATA!VZC2,\"\"))","v":""},{"$f":"IF(DATA!VZD2=0,\"\",IFERROR(DATA!VZD2,\"\"))","v":""},{"$f":"IF(DATA!VZE2=0,\"\",IFERROR(DATA!VZE2,\"\"))","v":""},{"$f":"IF(DATA!VZF2=0,\"\",IFERROR(DATA!VZF2,\"\"))","v":""},{"$f":"IF(DATA!VZG2=0,\"\",IFERROR(DATA!VZG2,\"\"))","v":""},{"$f":"IF(DATA!VZH2=0,\"\",IFERROR(DATA!VZH2,\"\"))","v":""},{"$f":"IF(DATA!VZI2=0,\"\",IFERROR(DATA!VZI2,\"\"))","v":""},{"$f":"IF(DATA!VZJ2=0,\"\",IFERROR(DATA!VZJ2,\"\"))","v":""},{"$f":"IF(DATA!VZK2=0,\"\",IFERROR(DATA!VZK2,\"\"))","v":""},{"$f":"IF(DATA!VZL2=0,\"\",IFERROR(DATA!VZL2,\"\"))","v":""},{"$f":"IF(DATA!VZM2=0,\"\",IFERROR(DATA!VZM2,\"\"))","v":""},{"$f":"IF(DATA!VZN2=0,\"\",IFERROR(DATA!VZN2,\"\"))","v":""},{"$f":"IF(DATA!VZO2=0,\"\",IFERROR(DATA!VZO2,\"\"))","v":""},{"$f":"IF(DATA!VZP2=0,\"\",IFERROR(DATA!VZP2,\"\"))","v":""},{"$f":"IF(DATA!VZQ2=0,\"\",IFERROR(DATA!VZQ2,\"\"))","v":""},{"$f":"IF(DATA!VZR2=0,\"\",IFERROR(DATA!VZR2,\"\"))","v":""},{"$f":"IF(DATA!VZS2=0,\"\",IFERROR(DATA!VZS2,\"\"))","v":""},{"$f":"IF(DATA!VZT2=0,\"\",IFERROR(DATA!VZT2,\"\"))","v":""},{"$f":"IF(DATA!VZU2=0,\"\",IFERROR(DATA!VZU2,\"\"))","v":""},{"$f":"IF(DATA!VZV2=0,\"\",IFERROR(DATA!VZV2,\"\"))","v":""},{"$f":"IF(DATA!VZW2=0,\"\",IFERROR(DATA!VZW2,\"\"))","v":""},{"$f":"IF(DATA!VZX2=0,\"\",IFERROR(DATA!VZX2,\"\"))","v":""},{"$f":"IF(DATA!VZY2=0,\"\",IFERROR(DATA!VZY2,\"\"))","v":""},{"$f":"IF(DATA!VZZ2=0,\"\",IFERROR(DATA!VZZ2,\"\"))","v":""},{"$f":"IF(DATA!WAA2=0,\"\",IFERROR(DATA!WAA2,\"\"))","v":""},{"$f":"IF(DATA!WAB2=0,\"\",IFERROR(DATA!WAB2,\"\"))","v":""},{"$f":"IF(DATA!WAC2=0,\"\",IFERROR(DATA!WAC2,\"\"))","v":""},{"$f":"IF(DATA!WAD2=0,\"\",IFERROR(DATA!WAD2,\"\"))","v":""},{"$f":"IF(DATA!WAE2=0,\"\",IFERROR(DATA!WAE2,\"\"))","v":""},{"$f":"IF(DATA!WAF2=0,\"\",IFERROR(DATA!WAF2,\"\"))","v":""},{"$f":"IF(DATA!WAG2=0,\"\",IFERROR(DATA!WAG2,\"\"))","v":""},{"$f":"IF(DATA!WAH2=0,\"\",IFERROR(DATA!WAH2,\"\"))","v":""},{"$f":"IF(DATA!WAI2=0,\"\",IFERROR(DATA!WAI2,\"\"))","v":""},{"$f":"IF(DATA!WAJ2=0,\"\",IFERROR(DATA!WAJ2,\"\"))","v":""},{"$f":"IF(DATA!WAK2=0,\"\",IFERROR(DATA!WAK2,\"\"))","v":""},{"$f":"IF(DATA!WAL2=0,\"\",IFERROR(DATA!WAL2,\"\"))","v":""},{"$f":"IF(DATA!WAM2=0,\"\",IFERROR(DATA!WAM2,\"\"))","v":""},{"$f":"IF(DATA!WAN2=0,\"\",IFERROR(DATA!WAN2,\"\"))","v":""},{"$f":"IF(DATA!WAO2=0,\"\",IFERROR(DATA!WAO2,\"\"))","v":""},{"$f":"IF(DATA!WAP2=0,\"\",IFERROR(DATA!WAP2,\"\"))","v":""},{"$f":"IF(DATA!WAQ2=0,\"\",IFERROR(DATA!WAQ2,\"\"))","v":""},{"$f":"IF(DATA!WAR2=0,\"\",IFERROR(DATA!WAR2,\"\"))","v":""},{"$f":"IF(DATA!WAS2=0,\"\",IFERROR(DATA!WAS2,\"\"))","v":""},{"$f":"IF(DATA!WAT2=0,\"\",IFERROR(DATA!WAT2,\"\"))","v":""},{"$f":"IF(DATA!WAU2=0,\"\",IFERROR(DATA!WAU2,\"\"))","v":""},{"$f":"IF(DATA!WAV2=0,\"\",IFERROR(DATA!WAV2,\"\"))","v":""},{"$f":"IF(DATA!WAW2=0,\"\",IFERROR(DATA!WAW2,\"\"))","v":""},{"$f":"IF(DATA!WAX2=0,\"\",IFERROR(DATA!WAX2,\"\"))","v":""},{"$f":"IF(DATA!WAY2=0,\"\",IFERROR(DATA!WAY2,\"\"))","v":""},{"$f":"IF(DATA!WAZ2=0,\"\",IFERROR(DATA!WAZ2,\"\"))","v":""},{"$f":"IF(DATA!WBA2=0,\"\",IFERROR(DATA!WBA2,\"\"))","v":""},{"$f":"IF(DATA!WBB2=0,\"\",IFERROR(DATA!WBB2,\"\"))","v":""},{"$f":"IF(DATA!WBC2=0,\"\",IFERROR(DATA!WBC2,\"\"))","v":""},{"$f":"IF(DATA!WBD2=0,\"\",IFERROR(DATA!WBD2,\"\"))","v":""},{"$f":"IF(DATA!WBE2=0,\"\",IFERROR(DATA!WBE2,\"\"))","v":""},{"$f":"IF(DATA!WBF2=0,\"\",IFERROR(DATA!WBF2,\"\"))","v":""},{"$f":"IF(DATA!WBG2=0,\"\",IFERROR(DATA!WBG2,\"\"))","v":""},{"$f":"IF(DATA!WBH2=0,\"\",IFERROR(DATA!WBH2,\"\"))","v":""},{"$f":"IF(DATA!WBI2=0,\"\",IFERROR(DATA!WBI2,\"\"))","v":""},{"$f":"IF(DATA!WBJ2=0,\"\",IFERROR(DATA!WBJ2,\"\"))","v":""},{"$f":"IF(DATA!WBK2=0,\"\",IFERROR(DATA!WBK2,\"\"))","v":""},{"$f":"IF(DATA!WBL2=0,\"\",IFERROR(DATA!WBL2,\"\"))","v":""},{"$f":"IF(DATA!WBM2=0,\"\",IFERROR(DATA!WBM2,\"\"))","v":""},{"$f":"IF(DATA!WBN2=0,\"\",IFERROR(DATA!WBN2,\"\"))","v":""},{"$f":"IF(DATA!WBO2=0,\"\",IFERROR(DATA!WBO2,\"\"))","v":""},{"$f":"IF(DATA!WBP2=0,\"\",IFERROR(DATA!WBP2,\"\"))","v":""},{"$f":"IF(DATA!WBQ2=0,\"\",IFERROR(DATA!WBQ2,\"\"))","v":""},{"$f":"IF(DATA!WBR2=0,\"\",IFERROR(DATA!WBR2,\"\"))","v":""},{"$f":"IF(DATA!WBS2=0,\"\",IFERROR(DATA!WBS2,\"\"))","v":""},{"$f":"IF(DATA!WBT2=0,\"\",IFERROR(DATA!WBT2,\"\"))","v":""},{"$f":"IF(DATA!WBU2=0,\"\",IFERROR(DATA!WBU2,\"\"))","v":""},{"$f":"IF(DATA!WBV2=0,\"\",IFERROR(DATA!WBV2,\"\"))","v":""},{"$f":"IF(DATA!WBW2=0,\"\",IFERROR(DATA!WBW2,\"\"))","v":""},{"$f":"IF(DATA!WBX2=0,\"\",IFERROR(DATA!WBX2,\"\"))","v":""},{"$f":"IF(DATA!WBY2=0,\"\",IFERROR(DATA!WBY2,\"\"))","v":""},{"$f":"IF(DATA!WBZ2=0,\"\",IFERROR(DATA!WBZ2,\"\"))","v":""},{"$f":"IF(DATA!WCA2=0,\"\",IFERROR(DATA!WCA2,\"\"))","v":""},{"$f":"IF(DATA!WCB2=0,\"\",IFERROR(DATA!WCB2,\"\"))","v":""},{"$f":"IF(DATA!WCC2=0,\"\",IFERROR(DATA!WCC2,\"\"))","v":""},{"$f":"IF(DATA!WCD2=0,\"\",IFERROR(DATA!WCD2,\"\"))","v":""},{"$f":"IF(DATA!WCE2=0,\"\",IFERROR(DATA!WCE2,\"\"))","v":""},{"$f":"IF(DATA!WCF2=0,\"\",IFERROR(DATA!WCF2,\"\"))","v":""},{"$f":"IF(DATA!WCG2=0,\"\",IFERROR(DATA!WCG2,\"\"))","v":""},{"$f":"IF(DATA!WCH2=0,\"\",IFERROR(DATA!WCH2,\"\"))","v":""},{"$f":"IF(DATA!WCI2=0,\"\",IFERROR(DATA!WCI2,\"\"))","v":""},{"$f":"IF(DATA!WCJ2=0,\"\",IFERROR(DATA!WCJ2,\"\"))","v":""},{"$f":"IF(DATA!WCK2=0,\"\",IFERROR(DATA!WCK2,\"\"))","v":""},{"$f":"IF(DATA!WCL2=0,\"\",IFERROR(DATA!WCL2,\"\"))","v":""},{"$f":"IF(DATA!WCM2=0,\"\",IFERROR(DATA!WCM2,\"\"))","v":""},{"$f":"IF(DATA!WCN2=0,\"\",IFERROR(DATA!WCN2,\"\"))","v":""},{"$f":"IF(DATA!WCO2=0,\"\",IFERROR(DATA!WCO2,\"\"))","v":""},{"$f":"IF(DATA!WCP2=0,\"\",IFERROR(DATA!WCP2,\"\"))","v":""},{"$f":"IF(DATA!WCQ2=0,\"\",IFERROR(DATA!WCQ2,\"\"))","v":""},{"$f":"IF(DATA!WCR2=0,\"\",IFERROR(DATA!WCR2,\"\"))","v":""},{"$f":"IF(DATA!WCS2=0,\"\",IFERROR(DATA!WCS2,\"\"))","v":""},{"$f":"IF(DATA!WCT2=0,\"\",IFERROR(DATA!WCT2,\"\"))","v":""},{"$f":"IF(DATA!WCU2=0,\"\",IFERROR(DATA!WCU2,\"\"))","v":""},{"$f":"IF(DATA!WCV2=0,\"\",IFERROR(DATA!WCV2,\"\"))","v":""},{"$f":"IF(DATA!WCW2=0,\"\",IFERROR(DATA!WCW2,\"\"))","v":""},{"$f":"IF(DATA!WCX2=0,\"\",IFERROR(DATA!WCX2,\"\"))","v":""},{"$f":"IF(DATA!WCY2=0,\"\",IFERROR(DATA!WCY2,\"\"))","v":""},{"$f":"IF(DATA!WCZ2=0,\"\",IFERROR(DATA!WCZ2,\"\"))","v":""},{"$f":"IF(DATA!WDA2=0,\"\",IFERROR(DATA!WDA2,\"\"))","v":""},{"$f":"IF(DATA!WDB2=0,\"\",IFERROR(DATA!WDB2,\"\"))","v":""},{"$f":"IF(DATA!WDC2=0,\"\",IFERROR(DATA!WDC2,\"\"))","v":""},{"$f":"IF(DATA!WDD2=0,\"\",IFERROR(DATA!WDD2,\"\"))","v":""},{"$f":"IF(DATA!WDE2=0,\"\",IFERROR(DATA!WDE2,\"\"))","v":""},{"$f":"IF(DATA!WDF2=0,\"\",IFERROR(DATA!WDF2,\"\"))","v":""},{"$f":"IF(DATA!WDG2=0,\"\",IFERROR(DATA!WDG2,\"\"))","v":""},{"$f":"IF(DATA!WDH2=0,\"\",IFERROR(DATA!WDH2,\"\"))","v":""},{"$f":"IF(DATA!WDI2=0,\"\",IFERROR(DATA!WDI2,\"\"))","v":""},{"$f":"IF(DATA!WDJ2=0,\"\",IFERROR(DATA!WDJ2,\"\"))","v":""},{"$f":"IF(DATA!WDK2=0,\"\",IFERROR(DATA!WDK2,\"\"))","v":""},{"$f":"IF(DATA!WDL2=0,\"\",IFERROR(DATA!WDL2,\"\"))","v":""},{"$f":"IF(DATA!WDM2=0,\"\",IFERROR(DATA!WDM2,\"\"))","v":""},{"$f":"IF(DATA!WDN2=0,\"\",IFERROR(DATA!WDN2,\"\"))","v":""},{"$f":"IF(DATA!WDO2=0,\"\",IFERROR(DATA!WDO2,\"\"))","v":""},{"$f":"IF(DATA!WDP2=0,\"\",IFERROR(DATA!WDP2,\"\"))","v":""},{"$f":"IF(DATA!WDQ2=0,\"\",IFERROR(DATA!WDQ2,\"\"))","v":""},{"$f":"IF(DATA!WDR2=0,\"\",IFERROR(DATA!WDR2,\"\"))","v":""},{"$f":"IF(DATA!WDS2=0,\"\",IFERROR(DATA!WDS2,\"\"))","v":""},{"$f":"IF(DATA!WDT2=0,\"\",IFERROR(DATA!WDT2,\"\"))","v":""},{"$f":"IF(DATA!WDU2=0,\"\",IFERROR(DATA!WDU2,\"\"))","v":""},{"$f":"IF(DATA!WDV2=0,\"\",IFERROR(DATA!WDV2,\"\"))","v":""},{"$f":"IF(DATA!WDW2=0,\"\",IFERROR(DATA!WDW2,\"\"))","v":""},{"$f":"IF(DATA!WDX2=0,\"\",IFERROR(DATA!WDX2,\"\"))","v":""},{"$f":"IF(DATA!WDY2=0,\"\",IFERROR(DATA!WDY2,\"\"))","v":""},{"$f":"IF(DATA!WDZ2=0,\"\",IFERROR(DATA!WDZ2,\"\"))","v":""},{"$f":"IF(DATA!WEA2=0,\"\",IFERROR(DATA!WEA2,\"\"))","v":""},{"$f":"IF(DATA!WEB2=0,\"\",IFERROR(DATA!WEB2,\"\"))","v":""},{"$f":"IF(DATA!WEC2=0,\"\",IFERROR(DATA!WEC2,\"\"))","v":""},{"$f":"IF(DATA!WED2=0,\"\",IFERROR(DATA!WED2,\"\"))","v":""},{"$f":"IF(DATA!WEE2=0,\"\",IFERROR(DATA!WEE2,\"\"))","v":""},{"$f":"IF(DATA!WEF2=0,\"\",IFERROR(DATA!WEF2,\"\"))","v":""},{"$f":"IF(DATA!WEG2=0,\"\",IFERROR(DATA!WEG2,\"\"))","v":""},{"$f":"IF(DATA!WEH2=0,\"\",IFERROR(DATA!WEH2,\"\"))","v":""},{"$f":"IF(DATA!WEI2=0,\"\",IFERROR(DATA!WEI2,\"\"))","v":""},{"$f":"IF(DATA!WEJ2=0,\"\",IFERROR(DATA!WEJ2,\"\"))","v":""},{"$f":"IF(DATA!WEK2=0,\"\",IFERROR(DATA!WEK2,\"\"))","v":""},{"$f":"IF(DATA!WEL2=0,\"\",IFERROR(DATA!WEL2,\"\"))","v":""},{"$f":"IF(DATA!WEM2=0,\"\",IFERROR(DATA!WEM2,\"\"))","v":""},{"$f":"IF(DATA!WEN2=0,\"\",IFERROR(DATA!WEN2,\"\"))","v":""},{"$f":"IF(DATA!WEO2=0,\"\",IFERROR(DATA!WEO2,\"\"))","v":""},{"$f":"IF(DATA!WEP2=0,\"\",IFERROR(DATA!WEP2,\"\"))","v":""},{"$f":"IF(DATA!WEQ2=0,\"\",IFERROR(DATA!WEQ2,\"\"))","v":""},{"$f":"IF(DATA!WER2=0,\"\",IFERROR(DATA!WER2,\"\"))","v":""},{"$f":"IF(DATA!WES2=0,\"\",IFERROR(DATA!WES2,\"\"))","v":""},{"$f":"IF(DATA!WET2=0,\"\",IFERROR(DATA!WET2,\"\"))","v":""},{"$f":"IF(DATA!WEU2=0,\"\",IFERROR(DATA!WEU2,\"\"))","v":""},{"$f":"IF(DATA!WEV2=0,\"\",IFERROR(DATA!WEV2,\"\"))","v":""},{"$f":"IF(DATA!WEW2=0,\"\",IFERROR(DATA!WEW2,\"\"))","v":""},{"$f":"IF(DATA!WEX2=0,\"\",IFERROR(DATA!WEX2,\"\"))","v":""},{"$f":"IF(DATA!WEY2=0,\"\",IFERROR(DATA!WEY2,\"\"))","v":""},{"$f":"IF(DATA!WEZ2=0,\"\",IFERROR(DATA!WEZ2,\"\"))","v":""},{"$f":"IF(DATA!WFA2=0,\"\",IFERROR(DATA!WFA2,\"\"))","v":""},{"$f":"IF(DATA!WFB2=0,\"\",IFERROR(DATA!WFB2,\"\"))","v":""},{"$f":"IF(DATA!WFC2=0,\"\",IFERROR(DATA!WFC2,\"\"))","v":""},{"$f":"IF(DATA!WFD2=0,\"\",IFERROR(DATA!WFD2,\"\"))","v":""},{"$f":"IF(DATA!WFE2=0,\"\",IFERROR(DATA!WFE2,\"\"))","v":""},{"$f":"IF(DATA!WFF2=0,\"\",IFERROR(DATA!WFF2,\"\"))","v":""},{"$f":"IF(DATA!WFG2=0,\"\",IFERROR(DATA!WFG2,\"\"))","v":""},{"$f":"IF(DATA!WFH2=0,\"\",IFERROR(DATA!WFH2,\"\"))","v":""},{"$f":"IF(DATA!WFI2=0,\"\",IFERROR(DATA!WFI2,\"\"))","v":""},{"$f":"IF(DATA!WFJ2=0,\"\",IFERROR(DATA!WFJ2,\"\"))","v":""},{"$f":"IF(DATA!WFK2=0,\"\",IFERROR(DATA!WFK2,\"\"))","v":""},{"$f":"IF(DATA!WFL2=0,\"\",IFERROR(DATA!WFL2,\"\"))","v":""},{"$f":"IF(DATA!WFM2=0,\"\",IFERROR(DATA!WFM2,\"\"))","v":""},{"$f":"IF(DATA!WFN2=0,\"\",IFERROR(DATA!WFN2,\"\"))","v":""},{"$f":"IF(DATA!WFO2=0,\"\",IFERROR(DATA!WFO2,\"\"))","v":""},{"$f":"IF(DATA!WFP2=0,\"\",IFERROR(DATA!WFP2,\"\"))","v":""},{"$f":"IF(DATA!WFQ2=0,\"\",IFERROR(DATA!WFQ2,\"\"))","v":""},{"$f":"IF(DATA!WFR2=0,\"\",IFERROR(DATA!WFR2,\"\"))","v":""},{"$f":"IF(DATA!WFS2=0,\"\",IFERROR(DATA!WFS2,\"\"))","v":""},{"$f":"IF(DATA!WFT2=0,\"\",IFERROR(DATA!WFT2,\"\"))","v":""},{"$f":"IF(DATA!WFU2=0,\"\",IFERROR(DATA!WFU2,\"\"))","v":""},{"$f":"IF(DATA!WFV2=0,\"\",IFERROR(DATA!WFV2,\"\"))","v":""},{"$f":"IF(DATA!WFW2=0,\"\",IFERROR(DATA!WFW2,\"\"))","v":""},{"$f":"IF(DATA!WFX2=0,\"\",IFERROR(DATA!WFX2,\"\"))","v":""},{"$f":"IF(DATA!WFY2=0,\"\",IFERROR(DATA!WFY2,\"\"))","v":""},{"$f":"IF(DATA!WFZ2=0,\"\",IFERROR(DATA!WFZ2,\"\"))","v":""},{"$f":"IF(DATA!WGA2=0,\"\",IFERROR(DATA!WGA2,\"\"))","v":""},{"$f":"IF(DATA!WGB2=0,\"\",IFERROR(DATA!WGB2,\"\"))","v":""},{"$f":"IF(DATA!WGC2=0,\"\",IFERROR(DATA!WGC2,\"\"))","v":""},{"$f":"IF(DATA!WGD2=0,\"\",IFERROR(DATA!WGD2,\"\"))","v":""},{"$f":"IF(DATA!WGE2=0,\"\",IFERROR(DATA!WGE2,\"\"))","v":""},{"$f":"IF(DATA!WGF2=0,\"\",IFERROR(DATA!WGF2,\"\"))","v":""},{"$f":"IF(DATA!WGG2=0,\"\",IFERROR(DATA!WGG2,\"\"))","v":""},{"$f":"IF(DATA!WGH2=0,\"\",IFERROR(DATA!WGH2,\"\"))","v":""},{"$f":"IF(DATA!WGI2=0,\"\",IFERROR(DATA!WGI2,\"\"))","v":""},{"$f":"IF(DATA!WGJ2=0,\"\",IFERROR(DATA!WGJ2,\"\"))","v":""},{"$f":"IF(DATA!WGK2=0,\"\",IFERROR(DATA!WGK2,\"\"))","v":""},{"$f":"IF(DATA!WGL2=0,\"\",IFERROR(DATA!WGL2,\"\"))","v":""},{"$f":"IF(DATA!WGM2=0,\"\",IFERROR(DATA!WGM2,\"\"))","v":""},{"$f":"IF(DATA!WGN2=0,\"\",IFERROR(DATA!WGN2,\"\"))","v":""},{"$f":"IF(DATA!WGO2=0,\"\",IFERROR(DATA!WGO2,\"\"))","v":""},{"$f":"IF(DATA!WGP2=0,\"\",IFERROR(DATA!WGP2,\"\"))","v":""},{"$f":"IF(DATA!WGQ2=0,\"\",IFERROR(DATA!WGQ2,\"\"))","v":""},{"$f":"IF(DATA!WGR2=0,\"\",IFERROR(DATA!WGR2,\"\"))","v":""},{"$f":"IF(DATA!WGS2=0,\"\",IFERROR(DATA!WGS2,\"\"))","v":""},{"$f":"IF(DATA!WGT2=0,\"\",IFERROR(DATA!WGT2,\"\"))","v":""},{"$f":"IF(DATA!WGU2=0,\"\",IFERROR(DATA!WGU2,\"\"))","v":""},{"$f":"IF(DATA!WGV2=0,\"\",IFERROR(DATA!WGV2,\"\"))","v":""},{"$f":"IF(DATA!WGW2=0,\"\",IFERROR(DATA!WGW2,\"\"))","v":""},{"$f":"IF(DATA!WGX2=0,\"\",IFERROR(DATA!WGX2,\"\"))","v":""},{"$f":"IF(DATA!WGY2=0,\"\",IFERROR(DATA!WGY2,\"\"))","v":""},{"$f":"IF(DATA!WGZ2=0,\"\",IFERROR(DATA!WGZ2,\"\"))","v":""},{"$f":"IF(DATA!WHA2=0,\"\",IFERROR(DATA!WHA2,\"\"))","v":""},{"$f":"IF(DATA!WHB2=0,\"\",IFERROR(DATA!WHB2,\"\"))","v":""},{"$f":"IF(DATA!WHC2=0,\"\",IFERROR(DATA!WHC2,\"\"))","v":""},{"$f":"IF(DATA!WHD2=0,\"\",IFERROR(DATA!WHD2,\"\"))","v":""},{"$f":"IF(DATA!WHE2=0,\"\",IFERROR(DATA!WHE2,\"\"))","v":""},{"$f":"IF(DATA!WHF2=0,\"\",IFERROR(DATA!WHF2,\"\"))","v":""},{"$f":"IF(DATA!WHG2=0,\"\",IFERROR(DATA!WHG2,\"\"))","v":""},{"$f":"IF(DATA!WHH2=0,\"\",IFERROR(DATA!WHH2,\"\"))","v":""},{"$f":"IF(DATA!WHI2=0,\"\",IFERROR(DATA!WHI2,\"\"))","v":""},{"$f":"IF(DATA!WHJ2=0,\"\",IFERROR(DATA!WHJ2,\"\"))","v":""},{"$f":"IF(DATA!WHK2=0,\"\",IFERROR(DATA!WHK2,\"\"))","v":""},{"$f":"IF(DATA!WHL2=0,\"\",IFERROR(DATA!WHL2,\"\"))","v":""},{"$f":"IF(DATA!WHM2=0,\"\",IFERROR(DATA!WHM2,\"\"))","v":""},{"$f":"IF(DATA!WHN2=0,\"\",IFERROR(DATA!WHN2,\"\"))","v":""},{"$f":"IF(DATA!WHO2=0,\"\",IFERROR(DATA!WHO2,\"\"))","v":""},{"$f":"IF(DATA!WHP2=0,\"\",IFERROR(DATA!WHP2,\"\"))","v":""},{"$f":"IF(DATA!WHQ2=0,\"\",IFERROR(DATA!WHQ2,\"\"))","v":""},{"$f":"IF(DATA!WHR2=0,\"\",IFERROR(DATA!WHR2,\"\"))","v":""},{"$f":"IF(DATA!WHS2=0,\"\",IFERROR(DATA!WHS2,\"\"))","v":""},{"$f":"IF(DATA!WHT2=0,\"\",IFERROR(DATA!WHT2,\"\"))","v":""},{"$f":"IF(DATA!WHU2=0,\"\",IFERROR(DATA!WHU2,\"\"))","v":""},{"$f":"IF(DATA!WHV2=0,\"\",IFERROR(DATA!WHV2,\"\"))","v":""},{"$f":"IF(DATA!WHW2=0,\"\",IFERROR(DATA!WHW2,\"\"))","v":""},{"$f":"IF(DATA!WHX2=0,\"\",IFERROR(DATA!WHX2,\"\"))","v":""},{"$f":"IF(DATA!WHY2=0,\"\",IFERROR(DATA!WHY2,\"\"))","v":""},{"$f":"IF(DATA!WHZ2=0,\"\",IFERROR(DATA!WHZ2,\"\"))","v":""},{"$f":"IF(DATA!WIA2=0,\"\",IFERROR(DATA!WIA2,\"\"))","v":""},{"$f":"IF(DATA!WIB2=0,\"\",IFERROR(DATA!WIB2,\"\"))","v":""},{"$f":"IF(DATA!WIC2=0,\"\",IFERROR(DATA!WIC2,\"\"))","v":""},{"$f":"IF(DATA!WID2=0,\"\",IFERROR(DATA!WID2,\"\"))","v":""},{"$f":"IF(DATA!WIE2=0,\"\",IFERROR(DATA!WIE2,\"\"))","v":""},{"$f":"IF(DATA!WIF2=0,\"\",IFERROR(DATA!WIF2,\"\"))","v":""},{"$f":"IF(DATA!WIG2=0,\"\",IFERROR(DATA!WIG2,\"\"))","v":""},{"$f":"IF(DATA!WIH2=0,\"\",IFERROR(DATA!WIH2,\"\"))","v":""},{"$f":"IF(DATA!WII2=0,\"\",IFERROR(DATA!WII2,\"\"))","v":""},{"$f":"IF(DATA!WIJ2=0,\"\",IFERROR(DATA!WIJ2,\"\"))","v":""},{"$f":"IF(DATA!WIK2=0,\"\",IFERROR(DATA!WIK2,\"\"))","v":""},{"$f":"IF(DATA!WIL2=0,\"\",IFERROR(DATA!WIL2,\"\"))","v":""},{"$f":"IF(DATA!WIM2=0,\"\",IFERROR(DATA!WIM2,\"\"))","v":""},{"$f":"IF(DATA!WIN2=0,\"\",IFERROR(DATA!WIN2,\"\"))","v":""},{"$f":"IF(DATA!WIO2=0,\"\",IFERROR(DATA!WIO2,\"\"))","v":""},{"$f":"IF(DATA!WIP2=0,\"\",IFERROR(DATA!WIP2,\"\"))","v":""},{"$f":"IF(DATA!WIQ2=0,\"\",IFERROR(DATA!WIQ2,\"\"))","v":""},{"$f":"IF(DATA!WIR2=0,\"\",IFERROR(DATA!WIR2,\"\"))","v":""},{"$f":"IF(DATA!WIS2=0,\"\",IFERROR(DATA!WIS2,\"\"))","v":""},{"$f":"IF(DATA!WIT2=0,\"\",IFERROR(DATA!WIT2,\"\"))","v":""},{"$f":"IF(DATA!WIU2=0,\"\",IFERROR(DATA!WIU2,\"\"))","v":""},{"$f":"IF(DATA!WIV2=0,\"\",IFERROR(DATA!WIV2,\"\"))","v":""},{"$f":"IF(DATA!WIW2=0,\"\",IFERROR(DATA!WIW2,\"\"))","v":""},{"$f":"IF(DATA!WIX2=0,\"\",IFERROR(DATA!WIX2,\"\"))","v":""},{"$f":"IF(DATA!WIY2=0,\"\",IFERROR(DATA!WIY2,\"\"))","v":""},{"$f":"IF(DATA!WIZ2=0,\"\",IFERROR(DATA!WIZ2,\"\"))","v":""},{"$f":"IF(DATA!WJA2=0,\"\",IFERROR(DATA!WJA2,\"\"))","v":""},{"$f":"IF(DATA!WJB2=0,\"\",IFERROR(DATA!WJB2,\"\"))","v":""},{"$f":"IF(DATA!WJC2=0,\"\",IFERROR(DATA!WJC2,\"\"))","v":""},{"$f":"IF(DATA!WJD2=0,\"\",IFERROR(DATA!WJD2,\"\"))","v":""},{"$f":"IF(DATA!WJE2=0,\"\",IFERROR(DATA!WJE2,\"\"))","v":""},{"$f":"IF(DATA!WJF2=0,\"\",IFERROR(DATA!WJF2,\"\"))","v":""},{"$f":"IF(DATA!WJG2=0,\"\",IFERROR(DATA!WJG2,\"\"))","v":""},{"$f":"IF(DATA!WJH2=0,\"\",IFERROR(DATA!WJH2,\"\"))","v":""},{"$f":"IF(DATA!WJI2=0,\"\",IFERROR(DATA!WJI2,\"\"))","v":""},{"$f":"IF(DATA!WJJ2=0,\"\",IFERROR(DATA!WJJ2,\"\"))","v":""},{"$f":"IF(DATA!WJK2=0,\"\",IFERROR(DATA!WJK2,\"\"))","v":""},{"$f":"IF(DATA!WJL2=0,\"\",IFERROR(DATA!WJL2,\"\"))","v":""},{"$f":"IF(DATA!WJM2=0,\"\",IFERROR(DATA!WJM2,\"\"))","v":""},{"$f":"IF(DATA!WJN2=0,\"\",IFERROR(DATA!WJN2,\"\"))","v":""},{"$f":"IF(DATA!WJO2=0,\"\",IFERROR(DATA!WJO2,\"\"))","v":""},{"$f":"IF(DATA!WJP2=0,\"\",IFERROR(DATA!WJP2,\"\"))","v":""},{"$f":"IF(DATA!WJQ2=0,\"\",IFERROR(DATA!WJQ2,\"\"))","v":""},{"$f":"IF(DATA!WJR2=0,\"\",IFERROR(DATA!WJR2,\"\"))","v":""},{"$f":"IF(DATA!WJS2=0,\"\",IFERROR(DATA!WJS2,\"\"))","v":""},{"$f":"IF(DATA!WJT2=0,\"\",IFERROR(DATA!WJT2,\"\"))","v":""},{"$f":"IF(DATA!WJU2=0,\"\",IFERROR(DATA!WJU2,\"\"))","v":""},{"$f":"IF(DATA!WJV2=0,\"\",IFERROR(DATA!WJV2,\"\"))","v":""},{"$f":"IF(DATA!WJW2=0,\"\",IFERROR(DATA!WJW2,\"\"))","v":""},{"$f":"IF(DATA!WJX2=0,\"\",IFERROR(DATA!WJX2,\"\"))","v":""},{"$f":"IF(DATA!WJY2=0,\"\",IFERROR(DATA!WJY2,\"\"))","v":""},{"$f":"IF(DATA!WJZ2=0,\"\",IFERROR(DATA!WJZ2,\"\"))","v":""},{"$f":"IF(DATA!WKA2=0,\"\",IFERROR(DATA!WKA2,\"\"))","v":""},{"$f":"IF(DATA!WKB2=0,\"\",IFERROR(DATA!WKB2,\"\"))","v":""},{"$f":"IF(DATA!WKC2=0,\"\",IFERROR(DATA!WKC2,\"\"))","v":""},{"$f":"IF(DATA!WKD2=0,\"\",IFERROR(DATA!WKD2,\"\"))","v":""},{"$f":"IF(DATA!WKE2=0,\"\",IFERROR(DATA!WKE2,\"\"))","v":""},{"$f":"IF(DATA!WKF2=0,\"\",IFERROR(DATA!WKF2,\"\"))","v":""},{"$f":"IF(DATA!WKG2=0,\"\",IFERROR(DATA!WKG2,\"\"))","v":""},{"$f":"IF(DATA!WKH2=0,\"\",IFERROR(DATA!WKH2,\"\"))","v":""},{"$f":"IF(DATA!WKI2=0,\"\",IFERROR(DATA!WKI2,\"\"))","v":""},{"$f":"IF(DATA!WKJ2=0,\"\",IFERROR(DATA!WKJ2,\"\"))","v":""},{"$f":"IF(DATA!WKK2=0,\"\",IFERROR(DATA!WKK2,\"\"))","v":""},{"$f":"IF(DATA!WKL2=0,\"\",IFERROR(DATA!WKL2,\"\"))","v":""},{"$f":"IF(DATA!WKM2=0,\"\",IFERROR(DATA!WKM2,\"\"))","v":""},{"$f":"IF(DATA!WKN2=0,\"\",IFERROR(DATA!WKN2,\"\"))","v":""},{"$f":"IF(DATA!WKO2=0,\"\",IFERROR(DATA!WKO2,\"\"))","v":""},{"$f":"IF(DATA!WKP2=0,\"\",IFERROR(DATA!WKP2,\"\"))","v":""},{"$f":"IF(DATA!WKQ2=0,\"\",IFERROR(DATA!WKQ2,\"\"))","v":""},{"$f":"IF(DATA!WKR2=0,\"\",IFERROR(DATA!WKR2,\"\"))","v":""},{"$f":"IF(DATA!WKS2=0,\"\",IFERROR(DATA!WKS2,\"\"))","v":""},{"$f":"IF(DATA!WKT2=0,\"\",IFERROR(DATA!WKT2,\"\"))","v":""},{"$f":"IF(DATA!WKU2=0,\"\",IFERROR(DATA!WKU2,\"\"))","v":""},{"$f":"IF(DATA!WKV2=0,\"\",IFERROR(DATA!WKV2,\"\"))","v":""},{"$f":"IF(DATA!WKW2=0,\"\",IFERROR(DATA!WKW2,\"\"))","v":""},{"$f":"IF(DATA!WKX2=0,\"\",IFERROR(DATA!WKX2,\"\"))","v":""},{"$f":"IF(DATA!WKY2=0,\"\",IFERROR(DATA!WKY2,\"\"))","v":""},{"$f":"IF(DATA!WKZ2=0,\"\",IFERROR(DATA!WKZ2,\"\"))","v":""},{"$f":"IF(DATA!WLA2=0,\"\",IFERROR(DATA!WLA2,\"\"))","v":""},{"$f":"IF(DATA!WLB2=0,\"\",IFERROR(DATA!WLB2,\"\"))","v":""},{"$f":"IF(DATA!WLC2=0,\"\",IFERROR(DATA!WLC2,\"\"))","v":""},{"$f":"IF(DATA!WLD2=0,\"\",IFERROR(DATA!WLD2,\"\"))","v":""},{"$f":"IF(DATA!WLE2=0,\"\",IFERROR(DATA!WLE2,\"\"))","v":""},{"$f":"IF(DATA!WLF2=0,\"\",IFERROR(DATA!WLF2,\"\"))","v":""},{"$f":"IF(DATA!WLG2=0,\"\",IFERROR(DATA!WLG2,\"\"))","v":""},{"$f":"IF(DATA!WLH2=0,\"\",IFERROR(DATA!WLH2,\"\"))","v":""},{"$f":"IF(DATA!WLI2=0,\"\",IFERROR(DATA!WLI2,\"\"))","v":""},{"$f":"IF(DATA!WLJ2=0,\"\",IFERROR(DATA!WLJ2,\"\"))","v":""},{"$f":"IF(DATA!WLK2=0,\"\",IFERROR(DATA!WLK2,\"\"))","v":""},{"$f":"IF(DATA!WLL2=0,\"\",IFERROR(DATA!WLL2,\"\"))","v":""},{"$f":"IF(DATA!WLM2=0,\"\",IFERROR(DATA!WLM2,\"\"))","v":""},{"$f":"IF(DATA!WLN2=0,\"\",IFERROR(DATA!WLN2,\"\"))","v":""},{"$f":"IF(DATA!WLO2=0,\"\",IFERROR(DATA!WLO2,\"\"))","v":""},{"$f":"IF(DATA!WLP2=0,\"\",IFERROR(DATA!WLP2,\"\"))","v":""},{"$f":"IF(DATA!WLQ2=0,\"\",IFERROR(DATA!WLQ2,\"\"))","v":""},{"$f":"IF(DATA!WLR2=0,\"\",IFERROR(DATA!WLR2,\"\"))","v":""},{"$f":"IF(DATA!WLS2=0,\"\",IFERROR(DATA!WLS2,\"\"))","v":""},{"$f":"IF(DATA!WLT2=0,\"\",IFERROR(DATA!WLT2,\"\"))","v":""},{"$f":"IF(DATA!WLU2=0,\"\",IFERROR(DATA!WLU2,\"\"))","v":""},{"$f":"IF(DATA!WLV2=0,\"\",IFERROR(DATA!WLV2,\"\"))","v":""},{"$f":"IF(DATA!WLW2=0,\"\",IFERROR(DATA!WLW2,\"\"))","v":""},{"$f":"IF(DATA!WLX2=0,\"\",IFERROR(DATA!WLX2,\"\"))","v":""},{"$f":"IF(DATA!WLY2=0,\"\",IFERROR(DATA!WLY2,\"\"))","v":""},{"$f":"IF(DATA!WLZ2=0,\"\",IFERROR(DATA!WLZ2,\"\"))","v":""},{"$f":"IF(DATA!WMA2=0,\"\",IFERROR(DATA!WMA2,\"\"))","v":""},{"$f":"IF(DATA!WMB2=0,\"\",IFERROR(DATA!WMB2,\"\"))","v":""},{"$f":"IF(DATA!WMC2=0,\"\",IFERROR(DATA!WMC2,\"\"))","v":""},{"$f":"IF(DATA!WMD2=0,\"\",IFERROR(DATA!WMD2,\"\"))","v":""},{"$f":"IF(DATA!WME2=0,\"\",IFERROR(DATA!WME2,\"\"))","v":""},{"$f":"IF(DATA!WMF2=0,\"\",IFERROR(DATA!WMF2,\"\"))","v":""},{"$f":"IF(DATA!WMG2=0,\"\",IFERROR(DATA!WMG2,\"\"))","v":""},{"$f":"IF(DATA!WMH2=0,\"\",IFERROR(DATA!WMH2,\"\"))","v":""},{"$f":"IF(DATA!WMI2=0,\"\",IFERROR(DATA!WMI2,\"\"))","v":""},{"$f":"IF(DATA!WMJ2=0,\"\",IFERROR(DATA!WMJ2,\"\"))","v":""},{"$f":"IF(DATA!WMK2=0,\"\",IFERROR(DATA!WMK2,\"\"))","v":""},{"$f":"IF(DATA!WML2=0,\"\",IFERROR(DATA!WML2,\"\"))","v":""},{"$f":"IF(DATA!WMM2=0,\"\",IFERROR(DATA!WMM2,\"\"))","v":""},{"$f":"IF(DATA!WMN2=0,\"\",IFERROR(DATA!WMN2,\"\"))","v":""},{"$f":"IF(DATA!WMO2=0,\"\",IFERROR(DATA!WMO2,\"\"))","v":""},{"$f":"IF(DATA!WMP2=0,\"\",IFERROR(DATA!WMP2,\"\"))","v":""},{"$f":"IF(DATA!WMQ2=0,\"\",IFERROR(DATA!WMQ2,\"\"))","v":""},{"$f":"IF(DATA!WMR2=0,\"\",IFERROR(DATA!WMR2,\"\"))","v":""},{"$f":"IF(DATA!WMS2=0,\"\",IFERROR(DATA!WMS2,\"\"))","v":""},{"$f":"IF(DATA!WMT2=0,\"\",IFERROR(DATA!WMT2,\"\"))","v":""},{"$f":"IF(DATA!WMU2=0,\"\",IFERROR(DATA!WMU2,\"\"))","v":""},{"$f":"IF(DATA!WMV2=0,\"\",IFERROR(DATA!WMV2,\"\"))","v":""},{"$f":"IF(DATA!WMW2=0,\"\",IFERROR(DATA!WMW2,\"\"))","v":""},{"$f":"IF(DATA!WMX2=0,\"\",IFERROR(DATA!WMX2,\"\"))","v":""},{"$f":"IF(DATA!WMY2=0,\"\",IFERROR(DATA!WMY2,\"\"))","v":""},{"$f":"IF(DATA!WMZ2=0,\"\",IFERROR(DATA!WMZ2,\"\"))","v":""},{"$f":"IF(DATA!WNA2=0,\"\",IFERROR(DATA!WNA2,\"\"))","v":""},{"$f":"IF(DATA!WNB2=0,\"\",IFERROR(DATA!WNB2,\"\"))","v":""},{"$f":"IF(DATA!WNC2=0,\"\",IFERROR(DATA!WNC2,\"\"))","v":""},{"$f":"IF(DATA!WND2=0,\"\",IFERROR(DATA!WND2,\"\"))","v":""},{"$f":"IF(DATA!WNE2=0,\"\",IFERROR(DATA!WNE2,\"\"))","v":""},{"$f":"IF(DATA!WNF2=0,\"\",IFERROR(DATA!WNF2,\"\"))","v":""},{"$f":"IF(DATA!WNG2=0,\"\",IFERROR(DATA!WNG2,\"\"))","v":""},{"$f":"IF(DATA!WNH2=0,\"\",IFERROR(DATA!WNH2,\"\"))","v":""},{"$f":"IF(DATA!WNI2=0,\"\",IFERROR(DATA!WNI2,\"\"))","v":""},{"$f":"IF(DATA!WNJ2=0,\"\",IFERROR(DATA!WNJ2,\"\"))","v":""},{"$f":"IF(DATA!WNK2=0,\"\",IFERROR(DATA!WNK2,\"\"))","v":""},{"$f":"IF(DATA!WNL2=0,\"\",IFERROR(DATA!WNL2,\"\"))","v":""},{"$f":"IF(DATA!WNM2=0,\"\",IFERROR(DATA!WNM2,\"\"))","v":""},{"$f":"IF(DATA!WNN2=0,\"\",IFERROR(DATA!WNN2,\"\"))","v":""},{"$f":"IF(DATA!WNO2=0,\"\",IFERROR(DATA!WNO2,\"\"))","v":""},{"$f":"IF(DATA!WNP2=0,\"\",IFERROR(DATA!WNP2,\"\"))","v":""},{"$f":"IF(DATA!WNQ2=0,\"\",IFERROR(DATA!WNQ2,\"\"))","v":""},{"$f":"IF(DATA!WNR2=0,\"\",IFERROR(DATA!WNR2,\"\"))","v":""},{"$f":"IF(DATA!WNS2=0,\"\",IFERROR(DATA!WNS2,\"\"))","v":""},{"$f":"IF(DATA!WNT2=0,\"\",IFERROR(DATA!WNT2,\"\"))","v":""},{"$f":"IF(DATA!WNU2=0,\"\",IFERROR(DATA!WNU2,\"\"))","v":""},{"$f":"IF(DATA!WNV2=0,\"\",IFERROR(DATA!WNV2,\"\"))","v":""},{"$f":"IF(DATA!WNW2=0,\"\",IFERROR(DATA!WNW2,\"\"))","v":""},{"$f":"IF(DATA!WNX2=0,\"\",IFERROR(DATA!WNX2,\"\"))","v":""},{"$f":"IF(DATA!WNY2=0,\"\",IFERROR(DATA!WNY2,\"\"))","v":""},{"$f":"IF(DATA!WNZ2=0,\"\",IFERROR(DATA!WNZ2,\"\"))","v":""},{"$f":"IF(DATA!WOA2=0,\"\",IFERROR(DATA!WOA2,\"\"))","v":""},{"$f":"IF(DATA!WOB2=0,\"\",IFERROR(DATA!WOB2,\"\"))","v":""},{"$f":"IF(DATA!WOC2=0,\"\",IFERROR(DATA!WOC2,\"\"))","v":""},{"$f":"IF(DATA!WOD2=0,\"\",IFERROR(DATA!WOD2,\"\"))","v":""},{"$f":"IF(DATA!WOE2=0,\"\",IFERROR(DATA!WOE2,\"\"))","v":""},{"$f":"IF(DATA!WOF2=0,\"\",IFERROR(DATA!WOF2,\"\"))","v":""},{"$f":"IF(DATA!WOG2=0,\"\",IFERROR(DATA!WOG2,\"\"))","v":""},{"$f":"IF(DATA!WOH2=0,\"\",IFERROR(DATA!WOH2,\"\"))","v":""},{"$f":"IF(DATA!WOI2=0,\"\",IFERROR(DATA!WOI2,\"\"))","v":""},{"$f":"IF(DATA!WOJ2=0,\"\",IFERROR(DATA!WOJ2,\"\"))","v":""},{"$f":"IF(DATA!WOK2=0,\"\",IFERROR(DATA!WOK2,\"\"))","v":""},{"$f":"IF(DATA!WOL2=0,\"\",IFERROR(DATA!WOL2,\"\"))","v":""},{"$f":"IF(DATA!WOM2=0,\"\",IFERROR(DATA!WOM2,\"\"))","v":""},{"$f":"IF(DATA!WON2=0,\"\",IFERROR(DATA!WON2,\"\"))","v":""},{"$f":"IF(DATA!WOO2=0,\"\",IFERROR(DATA!WOO2,\"\"))","v":""},{"$f":"IF(DATA!WOP2=0,\"\",IFERROR(DATA!WOP2,\"\"))","v":""},{"$f":"IF(DATA!WOQ2=0,\"\",IFERROR(DATA!WOQ2,\"\"))","v":""},{"$f":"IF(DATA!WOR2=0,\"\",IFERROR(DATA!WOR2,\"\"))","v":""},{"$f":"IF(DATA!WOS2=0,\"\",IFERROR(DATA!WOS2,\"\"))","v":""},{"$f":"IF(DATA!WOT2=0,\"\",IFERROR(DATA!WOT2,\"\"))","v":""},{"$f":"IF(DATA!WOU2=0,\"\",IFERROR(DATA!WOU2,\"\"))","v":""},{"$f":"IF(DATA!WOV2=0,\"\",IFERROR(DATA!WOV2,\"\"))","v":""},{"$f":"IF(DATA!WOW2=0,\"\",IFERROR(DATA!WOW2,\"\"))","v":""},{"$f":"IF(DATA!WOX2=0,\"\",IFERROR(DATA!WOX2,\"\"))","v":""},{"$f":"IF(DATA!WOY2=0,\"\",IFERROR(DATA!WOY2,\"\"))","v":""},{"$f":"IF(DATA!WOZ2=0,\"\",IFERROR(DATA!WOZ2,\"\"))","v":""},{"$f":"IF(DATA!WPA2=0,\"\",IFERROR(DATA!WPA2,\"\"))","v":""},{"$f":"IF(DATA!WPB2=0,\"\",IFERROR(DATA!WPB2,\"\"))","v":""},{"$f":"IF(DATA!WPC2=0,\"\",IFERROR(DATA!WPC2,\"\"))","v":""},{"$f":"IF(DATA!WPD2=0,\"\",IFERROR(DATA!WPD2,\"\"))","v":""},{"$f":"IF(DATA!WPE2=0,\"\",IFERROR(DATA!WPE2,\"\"))","v":""},{"$f":"IF(DATA!WPF2=0,\"\",IFERROR(DATA!WPF2,\"\"))","v":""},{"$f":"IF(DATA!WPG2=0,\"\",IFERROR(DATA!WPG2,\"\"))","v":""},{"$f":"IF(DATA!WPH2=0,\"\",IFERROR(DATA!WPH2,\"\"))","v":""},{"$f":"IF(DATA!WPI2=0,\"\",IFERROR(DATA!WPI2,\"\"))","v":""},{"$f":"IF(DATA!WPJ2=0,\"\",IFERROR(DATA!WPJ2,\"\"))","v":""},{"$f":"IF(DATA!WPK2=0,\"\",IFERROR(DATA!WPK2,\"\"))","v":""},{"$f":"IF(DATA!WPL2=0,\"\",IFERROR(DATA!WPL2,\"\"))","v":""},{"$f":"IF(DATA!WPM2=0,\"\",IFERROR(DATA!WPM2,\"\"))","v":""},{"$f":"IF(DATA!WPN2=0,\"\",IFERROR(DATA!WPN2,\"\"))","v":""},{"$f":"IF(DATA!WPO2=0,\"\",IFERROR(DATA!WPO2,\"\"))","v":""},{"$f":"IF(DATA!WPP2=0,\"\",IFERROR(DATA!WPP2,\"\"))","v":""},{"$f":"IF(DATA!WPQ2=0,\"\",IFERROR(DATA!WPQ2,\"\"))","v":""},{"$f":"IF(DATA!WPR2=0,\"\",IFERROR(DATA!WPR2,\"\"))","v":""},{"$f":"IF(DATA!WPS2=0,\"\",IFERROR(DATA!WPS2,\"\"))","v":""},{"$f":"IF(DATA!WPT2=0,\"\",IFERROR(DATA!WPT2,\"\"))","v":""},{"$f":"IF(DATA!WPU2=0,\"\",IFERROR(DATA!WPU2,\"\"))","v":""},{"$f":"IF(DATA!WPV2=0,\"\",IFERROR(DATA!WPV2,\"\"))","v":""},{"$f":"IF(DATA!WPW2=0,\"\",IFERROR(DATA!WPW2,\"\"))","v":""},{"$f":"IF(DATA!WPX2=0,\"\",IFERROR(DATA!WPX2,\"\"))","v":""},{"$f":"IF(DATA!WPY2=0,\"\",IFERROR(DATA!WPY2,\"\"))","v":""},{"$f":"IF(DATA!WPZ2=0,\"\",IFERROR(DATA!WPZ2,\"\"))","v":""},{"$f":"IF(DATA!WQA2=0,\"\",IFERROR(DATA!WQA2,\"\"))","v":""},{"$f":"IF(DATA!WQB2=0,\"\",IFERROR(DATA!WQB2,\"\"))","v":""},{"$f":"IF(DATA!WQC2=0,\"\",IFERROR(DATA!WQC2,\"\"))","v":""},{"$f":"IF(DATA!WQD2=0,\"\",IFERROR(DATA!WQD2,\"\"))","v":""},{"$f":"IF(DATA!WQE2=0,\"\",IFERROR(DATA!WQE2,\"\"))","v":""},{"$f":"IF(DATA!WQF2=0,\"\",IFERROR(DATA!WQF2,\"\"))","v":""},{"$f":"IF(DATA!WQG2=0,\"\",IFERROR(DATA!WQG2,\"\"))","v":""},{"$f":"IF(DATA!WQH2=0,\"\",IFERROR(DATA!WQH2,\"\"))","v":""},{"$f":"IF(DATA!WQI2=0,\"\",IFERROR(DATA!WQI2,\"\"))","v":""},{"$f":"IF(DATA!WQJ2=0,\"\",IFERROR(DATA!WQJ2,\"\"))","v":""},{"$f":"IF(DATA!WQK2=0,\"\",IFERROR(DATA!WQK2,\"\"))","v":""},{"$f":"IF(DATA!WQL2=0,\"\",IFERROR(DATA!WQL2,\"\"))","v":""},{"$f":"IF(DATA!WQM2=0,\"\",IFERROR(DATA!WQM2,\"\"))","v":""},{"$f":"IF(DATA!WQN2=0,\"\",IFERROR(DATA!WQN2,\"\"))","v":""},{"$f":"IF(DATA!WQO2=0,\"\",IFERROR(DATA!WQO2,\"\"))","v":""},{"$f":"IF(DATA!WQP2=0,\"\",IFERROR(DATA!WQP2,\"\"))","v":""},{"$f":"IF(DATA!WQQ2=0,\"\",IFERROR(DATA!WQQ2,\"\"))","v":""},{"$f":"IF(DATA!WQR2=0,\"\",IFERROR(DATA!WQR2,\"\"))","v":""},{"$f":"IF(DATA!WQS2=0,\"\",IFERROR(DATA!WQS2,\"\"))","v":""},{"$f":"IF(DATA!WQT2=0,\"\",IFERROR(DATA!WQT2,\"\"))","v":""},{"$f":"IF(DATA!WQU2=0,\"\",IFERROR(DATA!WQU2,\"\"))","v":""},{"$f":"IF(DATA!WQV2=0,\"\",IFERROR(DATA!WQV2,\"\"))","v":""},{"$f":"IF(DATA!WQW2=0,\"\",IFERROR(DATA!WQW2,\"\"))","v":""},{"$f":"IF(DATA!WQX2=0,\"\",IFERROR(DATA!WQX2,\"\"))","v":""},{"$f":"IF(DATA!WQY2=0,\"\",IFERROR(DATA!WQY2,\"\"))","v":""},{"$f":"IF(DATA!WQZ2=0,\"\",IFERROR(DATA!WQZ2,\"\"))","v":""},{"$f":"IF(DATA!WRA2=0,\"\",IFERROR(DATA!WRA2,\"\"))","v":""},{"$f":"IF(DATA!WRB2=0,\"\",IFERROR(DATA!WRB2,\"\"))","v":""},{"$f":"IF(DATA!WRC2=0,\"\",IFERROR(DATA!WRC2,\"\"))","v":""},{"$f":"IF(DATA!WRD2=0,\"\",IFERROR(DATA!WRD2,\"\"))","v":""},{"$f":"IF(DATA!WRE2=0,\"\",IFERROR(DATA!WRE2,\"\"))","v":""},{"$f":"IF(DATA!WRF2=0,\"\",IFERROR(DATA!WRF2,\"\"))","v":""},{"$f":"IF(DATA!WRG2=0,\"\",IFERROR(DATA!WRG2,\"\"))","v":""},{"$f":"IF(DATA!WRH2=0,\"\",IFERROR(DATA!WRH2,\"\"))","v":""},{"$f":"IF(DATA!WRI2=0,\"\",IFERROR(DATA!WRI2,\"\"))","v":""},{"$f":"IF(DATA!WRJ2=0,\"\",IFERROR(DATA!WRJ2,\"\"))","v":""},{"$f":"IF(DATA!WRK2=0,\"\",IFERROR(DATA!WRK2,\"\"))","v":""},{"$f":"IF(DATA!WRL2=0,\"\",IFERROR(DATA!WRL2,\"\"))","v":""},{"$f":"IF(DATA!WRM2=0,\"\",IFERROR(DATA!WRM2,\"\"))","v":""},{"$f":"IF(DATA!WRN2=0,\"\",IFERROR(DATA!WRN2,\"\"))","v":""},{"$f":"IF(DATA!WRO2=0,\"\",IFERROR(DATA!WRO2,\"\"))","v":""},{"$f":"IF(DATA!WRP2=0,\"\",IFERROR(DATA!WRP2,\"\"))","v":""},{"$f":"IF(DATA!WRQ2=0,\"\",IFERROR(DATA!WRQ2,\"\"))","v":""},{"$f":"IF(DATA!WRR2=0,\"\",IFERROR(DATA!WRR2,\"\"))","v":""},{"$f":"IF(DATA!WRS2=0,\"\",IFERROR(DATA!WRS2,\"\"))","v":""},{"$f":"IF(DATA!WRT2=0,\"\",IFERROR(DATA!WRT2,\"\"))","v":""},{"$f":"IF(DATA!WRU2=0,\"\",IFERROR(DATA!WRU2,\"\"))","v":""},{"$f":"IF(DATA!WRV2=0,\"\",IFERROR(DATA!WRV2,\"\"))","v":""},{"$f":"IF(DATA!WRW2=0,\"\",IFERROR(DATA!WRW2,\"\"))","v":""},{"$f":"IF(DATA!WRX2=0,\"\",IFERROR(DATA!WRX2,\"\"))","v":""},{"$f":"IF(DATA!WRY2=0,\"\",IFERROR(DATA!WRY2,\"\"))","v":""},{"$f":"IF(DATA!WRZ2=0,\"\",IFERROR(DATA!WRZ2,\"\"))","v":""},{"$f":"IF(DATA!WSA2=0,\"\",IFERROR(DATA!WSA2,\"\"))","v":""},{"$f":"IF(DATA!WSB2=0,\"\",IFERROR(DATA!WSB2,\"\"))","v":""},{"$f":"IF(DATA!WSC2=0,\"\",IFERROR(DATA!WSC2,\"\"))","v":""},{"$f":"IF(DATA!WSD2=0,\"\",IFERROR(DATA!WSD2,\"\"))","v":""},{"$f":"IF(DATA!WSE2=0,\"\",IFERROR(DATA!WSE2,\"\"))","v":""},{"$f":"IF(DATA!WSF2=0,\"\",IFERROR(DATA!WSF2,\"\"))","v":""},{"$f":"IF(DATA!WSG2=0,\"\",IFERROR(DATA!WSG2,\"\"))","v":""},{"$f":"IF(DATA!WSH2=0,\"\",IFERROR(DATA!WSH2,\"\"))","v":""},{"$f":"IF(DATA!WSI2=0,\"\",IFERROR(DATA!WSI2,\"\"))","v":""},{"$f":"IF(DATA!WSJ2=0,\"\",IFERROR(DATA!WSJ2,\"\"))","v":""},{"$f":"IF(DATA!WSK2=0,\"\",IFERROR(DATA!WSK2,\"\"))","v":""},{"$f":"IF(DATA!WSL2=0,\"\",IFERROR(DATA!WSL2,\"\"))","v":""},{"$f":"IF(DATA!WSM2=0,\"\",IFERROR(DATA!WSM2,\"\"))","v":""},{"$f":"IF(DATA!WSN2=0,\"\",IFERROR(DATA!WSN2,\"\"))","v":""},{"$f":"IF(DATA!WSO2=0,\"\",IFERROR(DATA!WSO2,\"\"))","v":""},{"$f":"IF(DATA!WSP2=0,\"\",IFERROR(DATA!WSP2,\"\"))","v":""},{"$f":"IF(DATA!WSQ2=0,\"\",IFERROR(DATA!WSQ2,\"\"))","v":""},{"$f":"IF(DATA!WSR2=0,\"\",IFERROR(DATA!WSR2,\"\"))","v":""},{"$f":"IF(DATA!WSS2=0,\"\",IFERROR(DATA!WSS2,\"\"))","v":""},{"$f":"IF(DATA!WST2=0,\"\",IFERROR(DATA!WST2,\"\"))","v":""},{"$f":"IF(DATA!WSU2=0,\"\",IFERROR(DATA!WSU2,\"\"))","v":""},{"$f":"IF(DATA!WSV2=0,\"\",IFERROR(DATA!WSV2,\"\"))","v":""},{"$f":"IF(DATA!WSW2=0,\"\",IFERROR(DATA!WSW2,\"\"))","v":""},{"$f":"IF(DATA!WSX2=0,\"\",IFERROR(DATA!WSX2,\"\"))","v":""},{"$f":"IF(DATA!WSY2=0,\"\",IFERROR(DATA!WSY2,\"\"))","v":""},{"$f":"IF(DATA!WSZ2=0,\"\",IFERROR(DATA!WSZ2,\"\"))","v":""},{"$f":"IF(DATA!WTA2=0,\"\",IFERROR(DATA!WTA2,\"\"))","v":""},{"$f":"IF(DATA!WTB2=0,\"\",IFERROR(DATA!WTB2,\"\"))","v":""},{"$f":"IF(DATA!WTC2=0,\"\",IFERROR(DATA!WTC2,\"\"))","v":""},{"$f":"IF(DATA!WTD2=0,\"\",IFERROR(DATA!WTD2,\"\"))","v":""},{"$f":"IF(DATA!WTE2=0,\"\",IFERROR(DATA!WTE2,\"\"))","v":""},{"$f":"IF(DATA!WTF2=0,\"\",IFERROR(DATA!WTF2,\"\"))","v":""},{"$f":"IF(DATA!WTG2=0,\"\",IFERROR(DATA!WTG2,\"\"))","v":""},{"$f":"IF(DATA!WTH2=0,\"\",IFERROR(DATA!WTH2,\"\"))","v":""},{"$f":"IF(DATA!WTI2=0,\"\",IFERROR(DATA!WTI2,\"\"))","v":""},{"$f":"IF(DATA!WTJ2=0,\"\",IFERROR(DATA!WTJ2,\"\"))","v":""},{"$f":"IF(DATA!WTK2=0,\"\",IFERROR(DATA!WTK2,\"\"))","v":""},{"$f":"IF(DATA!WTL2=0,\"\",IFERROR(DATA!WTL2,\"\"))","v":""},{"$f":"IF(DATA!WTM2=0,\"\",IFERROR(DATA!WTM2,\"\"))","v":""},{"$f":"IF(DATA!WTN2=0,\"\",IFERROR(DATA!WTN2,\"\"))","v":""},{"$f":"IF(DATA!WTO2=0,\"\",IFERROR(DATA!WTO2,\"\"))","v":""},{"$f":"IF(DATA!WTP2=0,\"\",IFERROR(DATA!WTP2,\"\"))","v":""},{"$f":"IF(DATA!WTQ2=0,\"\",IFERROR(DATA!WTQ2,\"\"))","v":""},{"$f":"IF(DATA!WTR2=0,\"\",IFERROR(DATA!WTR2,\"\"))","v":""},{"$f":"IF(DATA!WTS2=0,\"\",IFERROR(DATA!WTS2,\"\"))","v":""},{"$f":"IF(DATA!WTT2=0,\"\",IFERROR(DATA!WTT2,\"\"))","v":""},{"$f":"IF(DATA!WTU2=0,\"\",IFERROR(DATA!WTU2,\"\"))","v":""},{"$f":"IF(DATA!WTV2=0,\"\",IFERROR(DATA!WTV2,\"\"))","v":""},{"$f":"IF(DATA!WTW2=0,\"\",IFERROR(DATA!WTW2,\"\"))","v":""},{"$f":"IF(DATA!WTX2=0,\"\",IFERROR(DATA!WTX2,\"\"))","v":""},{"$f":"IF(DATA!WTY2=0,\"\",IFERROR(DATA!WTY2,\"\"))","v":""},{"$f":"IF(DATA!WTZ2=0,\"\",IFERROR(DATA!WTZ2,\"\"))","v":""},{"$f":"IF(DATA!WUA2=0,\"\",IFERROR(DATA!WUA2,\"\"))","v":""},{"$f":"IF(DATA!WUB2=0,\"\",IFERROR(DATA!WUB2,\"\"))","v":""},{"$f":"IF(DATA!WUC2=0,\"\",IFERROR(DATA!WUC2,\"\"))","v":""},{"$f":"IF(DATA!WUD2=0,\"\",IFERROR(DATA!WUD2,\"\"))","v":""},{"$f":"IF(DATA!WUE2=0,\"\",IFERROR(DATA!WUE2,\"\"))","v":""},{"$f":"IF(DATA!WUF2=0,\"\",IFERROR(DATA!WUF2,\"\"))","v":""},{"$f":"IF(DATA!WUG2=0,\"\",IFERROR(DATA!WUG2,\"\"))","v":""},{"$f":"IF(DATA!WUH2=0,\"\",IFERROR(DATA!WUH2,\"\"))","v":""},{"$f":"IF(DATA!WUI2=0,\"\",IFERROR(DATA!WUI2,\"\"))","v":""},{"$f":"IF(DATA!WUJ2=0,\"\",IFERROR(DATA!WUJ2,\"\"))","v":""},{"$f":"IF(DATA!WUK2=0,\"\",IFERROR(DATA!WUK2,\"\"))","v":""},{"$f":"IF(DATA!WUL2=0,\"\",IFERROR(DATA!WUL2,\"\"))","v":""},{"$f":"IF(DATA!WUM2=0,\"\",IFERROR(DATA!WUM2,\"\"))","v":""},{"$f":"IF(DATA!WUN2=0,\"\",IFERROR(DATA!WUN2,\"\"))","v":""},{"$f":"IF(DATA!WUO2=0,\"\",IFERROR(DATA!WUO2,\"\"))","v":""},{"$f":"IF(DATA!WUP2=0,\"\",IFERROR(DATA!WUP2,\"\"))","v":""},{"$f":"IF(DATA!WUQ2=0,\"\",IFERROR(DATA!WUQ2,\"\"))","v":""},{"$f":"IF(DATA!WUR2=0,\"\",IFERROR(DATA!WUR2,\"\"))","v":""},{"$f":"IF(DATA!WUS2=0,\"\",IFERROR(DATA!WUS2,\"\"))","v":""},{"$f":"IF(DATA!WUT2=0,\"\",IFERROR(DATA!WUT2,\"\"))","v":""},{"$f":"IF(DATA!WUU2=0,\"\",IFERROR(DATA!WUU2,\"\"))","v":""},{"$f":"IF(DATA!WUV2=0,\"\",IFERROR(DATA!WUV2,\"\"))","v":""},{"$f":"IF(DATA!WUW2=0,\"\",IFERROR(DATA!WUW2,\"\"))","v":""},{"$f":"IF(DATA!WUX2=0,\"\",IFERROR(DATA!WUX2,\"\"))","v":""},{"$f":"IF(DATA!WUY2=0,\"\",IFERROR(DATA!WUY2,\"\"))","v":""},{"$f":"IF(DATA!WUZ2=0,\"\",IFERROR(DATA!WUZ2,\"\"))","v":""},{"$f":"IF(DATA!WVA2=0,\"\",IFERROR(DATA!WVA2,\"\"))","v":""},{"$f":"IF(DATA!WVB2=0,\"\",IFERROR(DATA!WVB2,\"\"))","v":""},{"$f":"IF(DATA!WVC2=0,\"\",IFERROR(DATA!WVC2,\"\"))","v":""},{"$f":"IF(DATA!WVD2=0,\"\",IFERROR(DATA!WVD2,\"\"))","v":""},{"$f":"IF(DATA!WVE2=0,\"\",IFERROR(DATA!WVE2,\"\"))","v":""},{"$f":"IF(DATA!WVF2=0,\"\",IFERROR(DATA!WVF2,\"\"))","v":""},{"$f":"IF(DATA!WVG2=0,\"\",IFERROR(DATA!WVG2,\"\"))","v":""},{"$f":"IF(DATA!WVH2=0,\"\",IFERROR(DATA!WVH2,\"\"))","v":""},{"$f":"IF(DATA!WVI2=0,\"\",IFERROR(DATA!WVI2,\"\"))","v":""},{"$f":"IF(DATA!WVJ2=0,\"\",IFERROR(DATA!WVJ2,\"\"))","v":""},{"$f":"IF(DATA!WVK2=0,\"\",IFERROR(DATA!WVK2,\"\"))","v":""},{"$f":"IF(DATA!WVL2=0,\"\",IFERROR(DATA!WVL2,\"\"))","v":""},{"$f":"IF(DATA!WVM2=0,\"\",IFERROR(DATA!WVM2,\"\"))","v":""},{"$f":"IF(DATA!WVN2=0,\"\",IFERROR(DATA!WVN2,\"\"))","v":""},{"$f":"IF(DATA!WVO2=0,\"\",IFERROR(DATA!WVO2,\"\"))","v":""},{"$f":"IF(DATA!WVP2=0,\"\",IFERROR(DATA!WVP2,\"\"))","v":""},{"$f":"IF(DATA!WVQ2=0,\"\",IFERROR(DATA!WVQ2,\"\"))","v":""},{"$f":"IF(DATA!WVR2=0,\"\",IFERROR(DATA!WVR2,\"\"))","v":""},{"$f":"IF(DATA!WVS2=0,\"\",IFERROR(DATA!WVS2,\"\"))","v":""},{"$f":"IF(DATA!WVT2=0,\"\",IFERROR(DATA!WVT2,\"\"))","v":""},{"$f":"IF(DATA!WVU2=0,\"\",IFERROR(DATA!WVU2,\"\"))","v":""},{"$f":"IF(DATA!WVV2=0,\"\",IFERROR(DATA!WVV2,\"\"))","v":""},{"$f":"IF(DATA!WVW2=0,\"\",IFERROR(DATA!WVW2,\"\"))","v":""},{"$f":"IF(DATA!WVX2=0,\"\",IFERROR(DATA!WVX2,\"\"))","v":""},{"$f":"IF(DATA!WVY2=0,\"\",IFERROR(DATA!WVY2,\"\"))","v":""},{"$f":"IF(DATA!WVZ2=0,\"\",IFERROR(DATA!WVZ2,\"\"))","v":""},{"$f":"IF(DATA!WWA2=0,\"\",IFERROR(DATA!WWA2,\"\"))","v":""},{"$f":"IF(DATA!WWB2=0,\"\",IFERROR(DATA!WWB2,\"\"))","v":""},{"$f":"IF(DATA!WWC2=0,\"\",IFERROR(DATA!WWC2,\"\"))","v":""},{"$f":"IF(DATA!WWD2=0,\"\",IFERROR(DATA!WWD2,\"\"))","v":""},{"$f":"IF(DATA!WWE2=0,\"\",IFERROR(DATA!WWE2,\"\"))","v":""},{"$f":"IF(DATA!WWF2=0,\"\",IFERROR(DATA!WWF2,\"\"))","v":""},{"$f":"IF(DATA!WWG2=0,\"\",IFERROR(DATA!WWG2,\"\"))","v":""},{"$f":"IF(DATA!WWH2=0,\"\",IFERROR(DATA!WWH2,\"\"))","v":""},{"$f":"IF(DATA!WWI2=0,\"\",IFERROR(DATA!WWI2,\"\"))","v":""},{"$f":"IF(DATA!WWJ2=0,\"\",IFERROR(DATA!WWJ2,\"\"))","v":""},{"$f":"IF(DATA!WWK2=0,\"\",IFERROR(DATA!WWK2,\"\"))","v":""},{"$f":"IF(DATA!WWL2=0,\"\",IFERROR(DATA!WWL2,\"\"))","v":""},{"$f":"IF(DATA!WWM2=0,\"\",IFERROR(DATA!WWM2,\"\"))","v":""},{"$f":"IF(DATA!WWN2=0,\"\",IFERROR(DATA!WWN2,\"\"))","v":""},{"$f":"IF(DATA!WWO2=0,\"\",IFERROR(DATA!WWO2,\"\"))","v":""},{"$f":"IF(DATA!WWP2=0,\"\",IFERROR(DATA!WWP2,\"\"))","v":""},{"$f":"IF(DATA!WWQ2=0,\"\",IFERROR(DATA!WWQ2,\"\"))","v":""},{"$f":"IF(DATA!WWR2=0,\"\",IFERROR(DATA!WWR2,\"\"))","v":""},{"$f":"IF(DATA!WWS2=0,\"\",IFERROR(DATA!WWS2,\"\"))","v":""},{"$f":"IF(DATA!WWT2=0,\"\",IFERROR(DATA!WWT2,\"\"))","v":""},{"$f":"IF(DATA!WWU2=0,\"\",IFERROR(DATA!WWU2,\"\"))","v":""},{"$f":"IF(DATA!WWV2=0,\"\",IFERROR(DATA!WWV2,\"\"))","v":""},{"$f":"IF(DATA!WWW2=0,\"\",IFERROR(DATA!WWW2,\"\"))","v":""},{"$f":"IF(DATA!WWX2=0,\"\",IFERROR(DATA!WWX2,\"\"))","v":""},{"$f":"IF(DATA!WWY2=0,\"\",IFERROR(DATA!WWY2,\"\"))","v":""},{"$f":"IF(DATA!WWZ2=0,\"\",IFERROR(DATA!WWZ2,\"\"))","v":""},{"$f":"IF(DATA!WXA2=0,\"\",IFERROR(DATA!WXA2,\"\"))","v":""},{"$f":"IF(DATA!WXB2=0,\"\",IFERROR(DATA!WXB2,\"\"))","v":""},{"$f":"IF(DATA!WXC2=0,\"\",IFERROR(DATA!WXC2,\"\"))","v":""},{"$f":"IF(DATA!WXD2=0,\"\",IFERROR(DATA!WXD2,\"\"))","v":""},{"$f":"IF(DATA!WXE2=0,\"\",IFERROR(DATA!WXE2,\"\"))","v":""},{"$f":"IF(DATA!WXF2=0,\"\",IFERROR(DATA!WXF2,\"\"))","v":""},{"$f":"IF(DATA!WXG2=0,\"\",IFERROR(DATA!WXG2,\"\"))","v":""},{"$f":"IF(DATA!WXH2=0,\"\",IFERROR(DATA!WXH2,\"\"))","v":""},{"$f":"IF(DATA!WXI2=0,\"\",IFERROR(DATA!WXI2,\"\"))","v":""},{"$f":"IF(DATA!WXJ2=0,\"\",IFERROR(DATA!WXJ2,\"\"))","v":""},{"$f":"IF(DATA!WXK2=0,\"\",IFERROR(DATA!WXK2,\"\"))","v":""},{"$f":"IF(DATA!WXL2=0,\"\",IFERROR(DATA!WXL2,\"\"))","v":""},{"$f":"IF(DATA!WXM2=0,\"\",IFERROR(DATA!WXM2,\"\"))","v":""},{"$f":"IF(DATA!WXN2=0,\"\",IFERROR(DATA!WXN2,\"\"))","v":""},{"$f":"IF(DATA!WXO2=0,\"\",IFERROR(DATA!WXO2,\"\"))","v":""},{"$f":"IF(DATA!WXP2=0,\"\",IFERROR(DATA!WXP2,\"\"))","v":""},{"$f":"IF(DATA!WXQ2=0,\"\",IFERROR(DATA!WXQ2,\"\"))","v":""},{"$f":"IF(DATA!WXR2=0,\"\",IFERROR(DATA!WXR2,\"\"))","v":""},{"$f":"IF(DATA!WXS2=0,\"\",IFERROR(DATA!WXS2,\"\"))","v":""},{"$f":"IF(DATA!WXT2=0,\"\",IFERROR(DATA!WXT2,\"\"))","v":""},{"$f":"IF(DATA!WXU2=0,\"\",IFERROR(DATA!WXU2,\"\"))","v":""},{"$f":"IF(DATA!WXV2=0,\"\",IFERROR(DATA!WXV2,\"\"))","v":""},{"$f":"IF(DATA!WXW2=0,\"\",IFERROR(DATA!WXW2,\"\"))","v":""},{"$f":"IF(DATA!WXX2=0,\"\",IFERROR(DATA!WXX2,\"\"))","v":""},{"$f":"IF(DATA!WXY2=0,\"\",IFERROR(DATA!WXY2,\"\"))","v":""},{"$f":"IF(DATA!WXZ2=0,\"\",IFERROR(DATA!WXZ2,\"\"))","v":""},{"$f":"IF(DATA!WYA2=0,\"\",IFERROR(DATA!WYA2,\"\"))","v":""},{"$f":"IF(DATA!WYB2=0,\"\",IFERROR(DATA!WYB2,\"\"))","v":""},{"$f":"IF(DATA!WYC2=0,\"\",IFERROR(DATA!WYC2,\"\"))","v":""},{"$f":"IF(DATA!WYD2=0,\"\",IFERROR(DATA!WYD2,\"\"))","v":""},{"$f":"IF(DATA!WYE2=0,\"\",IFERROR(DATA!WYE2,\"\"))","v":""},{"$f":"IF(DATA!WYF2=0,\"\",IFERROR(DATA!WYF2,\"\"))","v":""},{"$f":"IF(DATA!WYG2=0,\"\",IFERROR(DATA!WYG2,\"\"))","v":""},{"$f":"IF(DATA!WYH2=0,\"\",IFERROR(DATA!WYH2,\"\"))","v":""},{"$f":"IF(DATA!WYI2=0,\"\",IFERROR(DATA!WYI2,\"\"))","v":""},{"$f":"IF(DATA!WYJ2=0,\"\",IFERROR(DATA!WYJ2,\"\"))","v":""},{"$f":"IF(DATA!WYK2=0,\"\",IFERROR(DATA!WYK2,\"\"))","v":""},{"$f":"IF(DATA!WYL2=0,\"\",IFERROR(DATA!WYL2,\"\"))","v":""},{"$f":"IF(DATA!WYM2=0,\"\",IFERROR(DATA!WYM2,\"\"))","v":""},{"$f":"IF(DATA!WYN2=0,\"\",IFERROR(DATA!WYN2,\"\"))","v":""},{"$f":"IF(DATA!WYO2=0,\"\",IFERROR(DATA!WYO2,\"\"))","v":""},{"$f":"IF(DATA!WYP2=0,\"\",IFERROR(DATA!WYP2,\"\"))","v":""},{"$f":"IF(DATA!WYQ2=0,\"\",IFERROR(DATA!WYQ2,\"\"))","v":""},{"$f":"IF(DATA!WYR2=0,\"\",IFERROR(DATA!WYR2,\"\"))","v":""},{"$f":"IF(DATA!WYS2=0,\"\",IFERROR(DATA!WYS2,\"\"))","v":""},{"$f":"IF(DATA!WYT2=0,\"\",IFERROR(DATA!WYT2,\"\"))","v":""},{"$f":"IF(DATA!WYU2=0,\"\",IFERROR(DATA!WYU2,\"\"))","v":""},{"$f":"IF(DATA!WYV2=0,\"\",IFERROR(DATA!WYV2,\"\"))","v":""},{"$f":"IF(DATA!WYW2=0,\"\",IFERROR(DATA!WYW2,\"\"))","v":""},{"$f":"IF(DATA!WYX2=0,\"\",IFERROR(DATA!WYX2,\"\"))","v":""},{"$f":"IF(DATA!WYY2=0,\"\",IFERROR(DATA!WYY2,\"\"))","v":""},{"$f":"IF(DATA!WYZ2=0,\"\",IFERROR(DATA!WYZ2,\"\"))","v":""},{"$f":"IF(DATA!WZA2=0,\"\",IFERROR(DATA!WZA2,\"\"))","v":""},{"$f":"IF(DATA!WZB2=0,\"\",IFERROR(DATA!WZB2,\"\"))","v":""},{"$f":"IF(DATA!WZC2=0,\"\",IFERROR(DATA!WZC2,\"\"))","v":""},{"$f":"IF(DATA!WZD2=0,\"\",IFERROR(DATA!WZD2,\"\"))","v":""},{"$f":"IF(DATA!WZE2=0,\"\",IFERROR(DATA!WZE2,\"\"))","v":""},{"$f":"IF(DATA!WZF2=0,\"\",IFERROR(DATA!WZF2,\"\"))","v":""},{"$f":"IF(DATA!WZG2=0,\"\",IFERROR(DATA!WZG2,\"\"))","v":""},{"$f":"IF(DATA!WZH2=0,\"\",IFERROR(DATA!WZH2,\"\"))","v":""},{"$f":"IF(DATA!WZI2=0,\"\",IFERROR(DATA!WZI2,\"\"))","v":""},{"$f":"IF(DATA!WZJ2=0,\"\",IFERROR(DATA!WZJ2,\"\"))","v":""},{"$f":"IF(DATA!WZK2=0,\"\",IFERROR(DATA!WZK2,\"\"))","v":""},{"$f":"IF(DATA!WZL2=0,\"\",IFERROR(DATA!WZL2,\"\"))","v":""},{"$f":"IF(DATA!WZM2=0,\"\",IFERROR(DATA!WZM2,\"\"))","v":""},{"$f":"IF(DATA!WZN2=0,\"\",IFERROR(DATA!WZN2,\"\"))","v":""},{"$f":"IF(DATA!WZO2=0,\"\",IFERROR(DATA!WZO2,\"\"))","v":""},{"$f":"IF(DATA!WZP2=0,\"\",IFERROR(DATA!WZP2,\"\"))","v":""},{"$f":"IF(DATA!WZQ2=0,\"\",IFERROR(DATA!WZQ2,\"\"))","v":""},{"$f":"IF(DATA!WZR2=0,\"\",IFERROR(DATA!WZR2,\"\"))","v":""},{"$f":"IF(DATA!WZS2=0,\"\",IFERROR(DATA!WZS2,\"\"))","v":""},{"$f":"IF(DATA!WZT2=0,\"\",IFERROR(DATA!WZT2,\"\"))","v":""},{"$f":"IF(DATA!WZU2=0,\"\",IFERROR(DATA!WZU2,\"\"))","v":""},{"$f":"IF(DATA!WZV2=0,\"\",IFERROR(DATA!WZV2,\"\"))","v":""},{"$f":"IF(DATA!WZW2=0,\"\",IFERROR(DATA!WZW2,\"\"))","v":""},{"$f":"IF(DATA!WZX2=0,\"\",IFERROR(DATA!WZX2,\"\"))","v":""},{"$f":"IF(DATA!WZY2=0,\"\",IFERROR(DATA!WZY2,\"\"))","v":""},{"$f":"IF(DATA!WZZ2=0,\"\",IFERROR(DATA!WZZ2,\"\"))","v":""},{"$f":"IF(DATA!XAA2=0,\"\",IFERROR(DATA!XAA2,\"\"))","v":""},{"$f":"IF(DATA!XAB2=0,\"\",IFERROR(DATA!XAB2,\"\"))","v":""},{"$f":"IF(DATA!XAC2=0,\"\",IFERROR(DATA!XAC2,\"\"))","v":""},{"$f":"IF(DATA!XAD2=0,\"\",IFERROR(DATA!XAD2,\"\"))","v":""},{"$f":"IF(DATA!XAE2=0,\"\",IFERROR(DATA!XAE2,\"\"))","v":""},{"$f":"IF(DATA!XAF2=0,\"\",IFERROR(DATA!XAF2,\"\"))","v":""},{"$f":"IF(DATA!XAG2=0,\"\",IFERROR(DATA!XAG2,\"\"))","v":""},{"$f":"IF(DATA!XAH2=0,\"\",IFERROR(DATA!XAH2,\"\"))","v":""},{"$f":"IF(DATA!XAI2=0,\"\",IFERROR(DATA!XAI2,\"\"))","v":""},{"$f":"IF(DATA!XAJ2=0,\"\",IFERROR(DATA!XAJ2,\"\"))","v":""},{"$f":"IF(DATA!XAK2=0,\"\",IFERROR(DATA!XAK2,\"\"))","v":""},{"$f":"IF(DATA!XAL2=0,\"\",IFERROR(DATA!XAL2,\"\"))","v":""},{"$f":"IF(DATA!XAM2=0,\"\",IFERROR(DATA!XAM2,\"\"))","v":""},{"$f":"IF(DATA!XAN2=0,\"\",IFERROR(DATA!XAN2,\"\"))","v":""},{"$f":"IF(DATA!XAO2=0,\"\",IFERROR(DATA!XAO2,\"\"))","v":""},{"$f":"IF(DATA!XAP2=0,\"\",IFERROR(DATA!XAP2,\"\"))","v":""},{"$f":"IF(DATA!XAQ2=0,\"\",IFERROR(DATA!XAQ2,\"\"))","v":""},{"$f":"IF(DATA!XAR2=0,\"\",IFERROR(DATA!XAR2,\"\"))","v":""},{"$f":"IF(DATA!XAS2=0,\"\",IFERROR(DATA!XAS2,\"\"))","v":""},{"$f":"IF(DATA!XAT2=0,\"\",IFERROR(DATA!XAT2,\"\"))","v":""},{"$f":"IF(DATA!XAU2=0,\"\",IFERROR(DATA!XAU2,\"\"))","v":""},{"$f":"IF(DATA!XAV2=0,\"\",IFERROR(DATA!XAV2,\"\"))","v":""},{"$f":"IF(DATA!XAW2=0,\"\",IFERROR(DATA!XAW2,\"\"))","v":""},{"$f":"IF(DATA!XAX2=0,\"\",IFERROR(DATA!XAX2,\"\"))","v":""},{"$f":"IF(DATA!XAY2=0,\"\",IFERROR(DATA!XAY2,\"\"))","v":""},{"$f":"IF(DATA!XAZ2=0,\"\",IFERROR(DATA!XAZ2,\"\"))","v":""},{"$f":"IF(DATA!XBA2=0,\"\",IFERROR(DATA!XBA2,\"\"))","v":""},{"$f":"IF(DATA!XBB2=0,\"\",IFERROR(DATA!XBB2,\"\"))","v":""},{"$f":"IF(DATA!XBC2=0,\"\",IFERROR(DATA!XBC2,\"\"))","v":""},{"$f":"IF(DATA!XBD2=0,\"\",IFERROR(DATA!XBD2,\"\"))","v":""},{"$f":"IF(DATA!XBE2=0,\"\",IFERROR(DATA!XBE2,\"\"))","v":""},{"$f":"IF(DATA!XBF2=0,\"\",IFERROR(DATA!XBF2,\"\"))","v":""},{"$f":"IF(DATA!XBG2=0,\"\",IFERROR(DATA!XBG2,\"\"))","v":""},{"$f":"IF(DATA!XBH2=0,\"\",IFERROR(DATA!XBH2,\"\"))","v":""},{"$f":"IF(DATA!XBI2=0,\"\",IFERROR(DATA!XBI2,\"\"))","v":""},{"$f":"IF(DATA!XBJ2=0,\"\",IFERROR(DATA!XBJ2,\"\"))","v":""},{"$f":"IF(DATA!XBK2=0,\"\",IFERROR(DATA!XBK2,\"\"))","v":""},{"$f":"IF(DATA!XBL2=0,\"\",IFERROR(DATA!XBL2,\"\"))","v":""},{"$f":"IF(DATA!XBM2=0,\"\",IFERROR(DATA!XBM2,\"\"))","v":""},{"$f":"IF(DATA!XBN2=0,\"\",IFERROR(DATA!XBN2,\"\"))","v":""},{"$f":"IF(DATA!XBO2=0,\"\",IFERROR(DATA!XBO2,\"\"))","v":""},{"$f":"IF(DATA!XBP2=0,\"\",IFERROR(DATA!XBP2,\"\"))","v":""},{"$f":"IF(DATA!XBQ2=0,\"\",IFERROR(DATA!XBQ2,\"\"))","v":""},{"$f":"IF(DATA!XBR2=0,\"\",IFERROR(DATA!XBR2,\"\"))","v":""},{"$f":"IF(DATA!XBS2=0,\"\",IFERROR(DATA!XBS2,\"\"))","v":""},{"$f":"IF(DATA!XBT2=0,\"\",IFERROR(DATA!XBT2,\"\"))","v":""},{"$f":"IF(DATA!XBU2=0,\"\",IFERROR(DATA!XBU2,\"\"))","v":""},{"$f":"IF(DATA!XBV2=0,\"\",IFERROR(DATA!XBV2,\"\"))","v":""},{"$f":"IF(DATA!XBW2=0,\"\",IFERROR(DATA!XBW2,\"\"))","v":""},{"$f":"IF(DATA!XBX2=0,\"\",IFERROR(DATA!XBX2,\"\"))","v":""},{"$f":"IF(DATA!XBY2=0,\"\",IFERROR(DATA!XBY2,\"\"))","v":""},{"$f":"IF(DATA!XBZ2=0,\"\",IFERROR(DATA!XBZ2,\"\"))","v":""},{"$f":"IF(DATA!XCA2=0,\"\",IFERROR(DATA!XCA2,\"\"))","v":""},{"$f":"IF(DATA!XCB2=0,\"\",IFERROR(DATA!XCB2,\"\"))","v":""},{"$f":"IF(DATA!XCC2=0,\"\",IFERROR(DATA!XCC2,\"\"))","v":""},{"$f":"IF(DATA!XCD2=0,\"\",IFERROR(DATA!XCD2,\"\"))","v":""},{"$f":"IF(DATA!XCE2=0,\"\",IFERROR(DATA!XCE2,\"\"))","v":""},{"$f":"IF(DATA!XCF2=0,\"\",IFERROR(DATA!XCF2,\"\"))","v":""},{"$f":"IF(DATA!XCG2=0,\"\",IFERROR(DATA!XCG2,\"\"))","v":""},{"$f":"IF(DATA!XCH2=0,\"\",IFERROR(DATA!XCH2,\"\"))","v":""},{"$f":"IF(DATA!XCI2=0,\"\",IFERROR(DATA!XCI2,\"\"))","v":""},{"$f":"IF(DATA!XCJ2=0,\"\",IFERROR(DATA!XCJ2,\"\"))","v":""},{"$f":"IF(DATA!XCK2=0,\"\",IFERROR(DATA!XCK2,\"\"))","v":""},{"$f":"IF(DATA!XCL2=0,\"\",IFERROR(DATA!XCL2,\"\"))","v":""},{"$f":"IF(DATA!XCM2=0,\"\",IFERROR(DATA!XCM2,\"\"))","v":""},{"$f":"IF(DATA!XCN2=0,\"\",IFERROR(DATA!XCN2,\"\"))","v":""},{"$f":"IF(DATA!XCO2=0,\"\",IFERROR(DATA!XCO2,\"\"))","v":""},{"$f":"IF(DATA!XCP2=0,\"\",IFERROR(DATA!XCP2,\"\"))","v":""},{"$f":"IF(DATA!XCQ2=0,\"\",IFERROR(DATA!XCQ2,\"\"))","v":""},{"$f":"IF(DATA!XCR2=0,\"\",IFERROR(DATA!XCR2,\"\"))","v":""},{"$f":"IF(DATA!XCS2=0,\"\",IFERROR(DATA!XCS2,\"\"))","v":""},{"$f":"IF(DATA!XCT2=0,\"\",IFERROR(DATA!XCT2,\"\"))","v":""},{"$f":"IF(DATA!XCU2=0,\"\",IFERROR(DATA!XCU2,\"\"))","v":""},{"$f":"IF(DATA!XCV2=0,\"\",IFERROR(DATA!XCV2,\"\"))","v":""},{"$f":"IF(DATA!XCW2=0,\"\",IFERROR(DATA!XCW2,\"\"))","v":""},{"$f":"IF(DATA!XCX2=0,\"\",IFERROR(DATA!XCX2,\"\"))","v":""},{"$f":"IF(DATA!XCY2=0,\"\",IFERROR(DATA!XCY2,\"\"))","v":""},{"$f":"IF(DATA!XCZ2=0,\"\",IFERROR(DATA!XCZ2,\"\"))","v":""},{"$f":"IF(DATA!XDA2=0,\"\",IFERROR(DATA!XDA2,\"\"))","v":""},{"$f":"IF(DATA!XDB2=0,\"\",IFERROR(DATA!XDB2,\"\"))","v":""},{"$f":"IF(DATA!XDC2=0,\"\",IFERROR(DATA!XDC2,\"\"))","v":""},{"$f":"IF(DATA!XDD2=0,\"\",IFERROR(DATA!XDD2,\"\"))","v":""},{"$f":"IF(DATA!XDE2=0,\"\",IFERROR(DATA!XDE2,\"\"))","v":""},{"$f":"IF(DATA!XDF2=0,\"\",IFERROR(DATA!XDF2,\"\"))","v":""},{"$f":"IF(DATA!XDG2=0,\"\",IFERROR(DATA!XDG2,\"\"))","v":""},{"$f":"IF(DATA!XDH2=0,\"\",IFERROR(DATA!XDH2,\"\"))","v":""},{"$f":"IF(DATA!XDI2=0,\"\",IFERROR(DATA!XDI2,\"\"))","v":""},{"$f":"IF(DATA!XDJ2=0,\"\",IFERROR(DATA!XDJ2,\"\"))","v":""},{"$f":"IF(DATA!XDK2=0,\"\",IFERROR(DATA!XDK2,\"\"))","v":""},{"$f":"IF(DATA!XDL2=0,\"\",IFERROR(DATA!XDL2,\"\"))","v":""},{"$f":"IF(DATA!XDM2=0,\"\",IFERROR(DATA!XDM2,\"\"))","v":""},{"$f":"IF(DATA!XDN2=0,\"\",IFERROR(DATA!XDN2,\"\"))","v":""},{"$f":"IF(DATA!XDO2=0,\"\",IFERROR(DATA!XDO2,\"\"))","v":""},{"$f":"IF(DATA!XDP2=0,\"\",IFERROR(DATA!XDP2,\"\"))","v":""},{"$f":"IF(DATA!XDQ2=0,\"\",IFERROR(DATA!XDQ2,\"\"))","v":""},{"$f":"IF(DATA!XDR2=0,\"\",IFERROR(DATA!XDR2,\"\"))","v":""},{"$f":"IF(DATA!XDS2=0,\"\",IFERROR(DATA!XDS2,\"\"))","v":""},{"$f":"IF(DATA!XDT2=0,\"\",IFERROR(DATA!XDT2,\"\"))","v":""},{"$f":"IF(DATA!XDU2=0,\"\",IFERROR(DATA!XDU2,\"\"))","v":""},{"$f":"IF(DATA!XDV2=0,\"\",IFERROR(DATA!XDV2,\"\"))","v":""},{"$f":"IF(DATA!XDW2=0,\"\",IFERROR(DATA!XDW2,\"\"))","v":""},{"$f":"IF(DATA!XDX2=0,\"\",IFERROR(DATA!XDX2,\"\"))","v":""},{"$f":"IF(DATA!XDY2=0,\"\",IFERROR(DATA!XDY2,\"\"))","v":""},{"$f":"IF(DATA!XDZ2=0,\"\",IFERROR(DATA!XDZ2,\"\"))","v":""},{"$f":"IF(DATA!XEA2=0,\"\",IFERROR(DATA!XEA2,\"\"))","v":""},{"$f":"IF(DATA!XEB2=0,\"\",IFERROR(DATA!XEB2,\"\"))","v":""},{"$f":"IF(DATA!XEC2=0,\"\",IFERROR(DATA!XEC2,\"\"))","v":""},{"$f":"IF(DATA!XED2=0,\"\",IFERROR(DATA!XED2,\"\"))","v":""},{"$f":"IF(DATA!XEE2=0,\"\",IFERROR(DATA!XEE2,\"\"))","v":""},{"$f":"IF(DATA!XEF2=0,\"\",IFERROR(DATA!XEF2,\"\"))","v":""},{"$f":"IF(DATA!XEG2=0,\"\",IFERROR(DATA!XEG2,\"\"))","v":""},{"$f":"IF(DATA!XEH2=0,\"\",IFERROR(DATA!XEH2,\"\"))","v":""},{"$f":"IF(DATA!XEI2=0,\"\",IFERROR(DATA!XEI2,\"\"))","v":""},{"$f":"IF(DATA!XEJ2=0,\"\",IFERROR(DATA!XEJ2,\"\"))","v":""},{"$f":"IF(DATA!XEK2=0,\"\",IFERROR(DATA!XEK2,\"\"))","v":""},{"$f":"IF(DATA!XEL2=0,\"\",IFERROR(DATA!XEL2,\"\"))","v":""},{"$f":"IF(DATA!XEM2=0,\"\",IFERROR(DATA!XEM2,\"\"))","v":""},{"$f":"IF(DATA!XEN2=0,\"\",IFERROR(DATA!XEN2,\"\"))","v":""},{"$f":"IF(DATA!XEO2=0,\"\",IFERROR(DATA!XEO2,\"\"))","v":""},{"$f":"IF(DATA!XEP2=0,\"\",IFERROR(DATA!XEP2,\"\"))","v":""},{"$f":"IF(DATA!XEQ2=0,\"\",IFERROR(DATA!XEQ2,\"\"))","v":""},{"$f":"IF(DATA!XER2=0,\"\",IFERROR(DATA!XER2,\"\"))","v":""},{"$f":"IF(DATA!XES2=0,\"\",IFERROR(DATA!XES2,\"\"))","v":""},{"$f":"IF(DATA!XET2=0,\"\",IFERROR(DATA!XET2,\"\"))","v":""},{"$f":"IF(DATA!XEU2=0,\"\",IFERROR(DATA!XEU2,\"\"))","v":""},{"$f":"IF(DATA!XEV2=0,\"\",IFERROR(DATA!XEV2,\"\"))","v":""},{"$f":"IF(DATA!XEW2=0,\"\",IFERROR(DATA!XEW2,\"\"))","v":""},{"$f":"IF(DATA!XEX2=0,\"\",IFERROR(DATA!XEX2,\"\"))","v":""},{"$f":"IF(DATA!XEY2=0,\"\",IFERROR(DATA!XEY2,\"\"))","v":""},{"$f":"IF(DATA!XEZ2=0,\"\",IFERROR(DATA!XEZ2,\"\"))","v":""},{"$f":"IF(DATA!XFA2=0,\"\",IFERROR(DATA!XFA2,\"\"))","v":""},{"$f":"IF(DATA!XFB2=0,\"\",IFERROR(DATA!XFB2,\"\"))","v":""},{"$f":"IF(DATA!XFC2=0,\"\",IFERROR(DATA!XFC2,\"\"))","v":""},{"$f":"IF(DATA!XFD2=0,\"\",IFERROR(DATA!XFD2,\"\"))","v":""}]
["Tiempo de Arribo (t)",2,2]
["Costo Unitario ( C )",52500,26600]
["Costo de Ordenar (K)",253750,357656]
["Costo de Mantener (h)",9778,9778]
["Costo X Fatantes (P)",52500,26600]
["Inventario Inicial",240,320]
["Tiempo Entre Corridas de Produccion (T)",3,3]
["Periodo (Inicio de Orden)",1,1]

{"sheet":"LogHojas","index":3,"n_rows":0,"n_cols":0,"rows_kept":0,"cut":false,"hidden":true,"merged":[]}

{"sheet":"Z","index":4,"n_rows":308,"n_cols":7,"rows_kept":308,"cut":false,"hidden":true,"merged":[]}
["z","F(z)","1-F(z)","L(z)","L(-z)"]
[3,{"$f":"NORMSDIST(A2)","v":0.9986501019683699},{"$f":"1-B2","v":1.3498980316301035E-3},{"$f":"(1/SQRT(2*PI()))*(EXP(-(A2^2)/2))-A2*C2","v":3.8215431704769712E-4},{"$f":"(1/SQRT(2*PI()))*(EXP(-(-A2^2)/2))-(-A2)*B2","v":3.0003821543170477}]
[2.99,0.99860511276450781,1.3948872354921926E-3,3.9587712054848807E-4,2.9903958771205486]
[2.98,0.99855875808266004,1.4412419173399638E-3,4.1005661326088717E-4,2.9804100566132607]
[2.97,0.99851100125476255,1.4889987452374465E-3,4.247066326237281E-4,2.9704247066326239]
[2.96,0.99846180478826196,1.538195211738036E-3,4.3984138686779025E-4,2.9604398413868678]
[2.95,0.99841113035263518,1.5888696473648212E-3,4.554754633277168E-4,2.9504554754633281]
[2.94,0.99835893876584303,1.6410612341569708E-3,4.7162383688952644E-4,2.9404716238368893]
[2.93,0.99830518998072271,1.694810019277293E-3,4.8830187857407635E-4,2.9304883018785741]
[2.92,0.99824984307132392,1.7501569286760832E-3,5.0552536425680587E-4,2.9205055253642569]
[2.91,0.99819285621919362,1.8071437808063751E-3,5.2331048352292128E-4,2.9105233104835229]
[2.9,0.99813418669961596,1.8658133003840449E-3,5.4167384866212354E-4,2.9005416738486622]
[2.89,0.99807379086781212,1.9262091321878838E-3,5.6063250380070269E-4,2.8905606325038007]
[2.88,0.99801162414510569,1.9883758548943087E-3,5.8020393417031885E-4,2.8805802039341701]
[2.87,0.99794764100506028,2.0523589949397181E-3,6.0040607551637305E-4,2.8706004060755164]
[2.86,0.99788179495959539,2.1182050404046082E-3,6.2125732364544124E-4,2.8606212573236451]
[2.85,0.99781403854508677,2.1859614549132322E-3,6.4277654411125894E-4,2.8506427765441114]
[2.84,0.99774432330845764,2.2556766915423632E-3,6.649830820391377E-4,2.8406649830820387]
[2.83,0.9976725997932685,2.3274002067315003E-3,6.8789677209107197E-4,2.830687896772091]
[2.82,0.9975988175258107,2.4011824741893006E-3,7.1153794856673638E-4,2.8207115379485663]
[2.81,0.99752292500121409,2.4770749987859109E-3,7.3592745564891177E-4,2.8107359274556489]
[2.8,0.99744486966957202,2.5551303304279793E-3,7.6108665778162714E-4,2.8007610866577815]
[2.79,0.99736459792209509,2.6354020779049137E-3,7.8703745019131216E-4,2.7907870374501917]
[2.78000000000001,0.99728205507729883,2.7179449227011654E-3,8.1380226954352874E-4,2.7808138022695537]
[2.77,0.99719718536723501,2.8028146327649939E-3,8.4140410474063849E-4,2.7708414041047407]
[2.76000000000001,0.99710993192377395,2.8900680762260489E-3,8.6986650785305687E-4,2.7608698665078628]
[2.75,0.99702023676494544,2.9797632350545555E-3,8.9921360519102517E-4,2.7508992136051909]
[2.74000000000001,0.99692804078134956,3.0719592186504441E-3,9.2947010850978271E-4,2.7409294701085196]
[2.7300000000000102,0.99683328372264235,3.1667162773576507E-3,9.6066132635289937E-4,2.7309606613263631]
[2.72000000000001,0.99673590418410873,3.2640958158912659E-3,9.9281317552659537E-4,2.7209928131755365]
[2.7100000000000102,0.99663583959333091,3.3641604066690922E-3,1.0259521927135241E-3,2.711025952192724]
[2.7000000000000099,0.99653302619695949,3.4669738030405073E-3,1.0601055462129139E-3,2.7010601055462229]
[2.6900000000000102,0.99642739904760036,3.5726009523996405E-3,1.0953010478168233E-3,2.6910953010478273]
[2.6800000000000099,{"$f":"NORMSDIST(A34)","v":0.99631889199082513},{"$f":"1-B34","v":3.6811080091748716E-3},{"$f":"(1/SQRT(2*PI()))*(EXP(-(A34^2)/2))-A34*C34","v":1.1315671648165909E-3},{"$f":"(1/SQRT(2*PI()))*(EXP(-(-A34^2)/2))-(-A34)*B34","v":2.6811315671648264}]
[2.6700000000000101,0.99620743765231468,3.7925623476853243E-3,1.1689330321359749E-3,2.671168933032146]
[2.6600000000000099,0.9960929674251473,3.9070325748526979E-3,1.2074284645940438E-3,2.6612074284646039]
[2.6500000000000101,0.99597541145724178,4.0245885427582229E-3,1.2470839692955305E-3,2.6512470839693059]
[2.6400000000000099,0.99585469863896403,4.145301361035969E-3,1.2879307581426559E-3,2.6412879307581525]
[2.6300000000000101,0.99573075659091081,4.2692434090891851E-3,1.3300007604732707E-3,2.6313300007604834]
[2.6200000000000099,0.99560351165187877,4.3964883481212302E-3,1.3733266358173096E-3,2.6213733266358274]
[2.6100000000000101,0.99547288886703278,4.5271111329672209E-3,1.4179417867765283E-3,2.6114179417867867]
[2.6000000000000099,0.99533881197628138,4.661188023718621E-3,1.4638803720168105E-3,2.6014638803720267]
[2.5900000000000101,0.99520120340287399,4.7987965971260094E-3,1.5111773193790395E-3,2.5915111773193895]
[2.5800000000000098,0.99505998424222952,4.9400157577704773E-3,1.5598683391014473E-3,2.5815598683391117]
[2.5700000000000101,0.99491507425100911,5.0849257489908872E-3,1.609989937153028E-3,2.5716099899371634]
[2.5600000000000098,0.99476639183644433,5.2336081635556697E-3,1.6615794286745089E-3,2.5616615794286841]
[2.55000000000001,0.9946138540459335,5.3861459540665013E-3,1.7146749515251462E-3,2.5517146749515351]
[2.5400000000000098,0.99445737655691757,5.5426234430824284E-3,1.7693154799309999E-3,2.5417693154799408]
[2.53000000000001,0.99429687366704944,5.7031263329505588E-3,1.8255408382351155E-3,2.5318255408382448]
[2.5200000000000098,0.99413225828466756,5.8677417153324418E-3,1.8833917147428395E-3,2.5218833917147525]
[2.51000000000001,0.99396344191958752,6.0365580804124797E-3,1.9429096756611273E-3,2.5119429096756711]
[2.5000000000000102,0.99379033467422406,6.2096653257759371E-3,2.0041371791281789E-3,2.5020041371791386]
[2.49000000000001,0.993612845235057,6.3871547649430038E-3,2.0671175893310495E-3,2.492067117589341]
[2.4800000000000102,0.99343088086445341,6.5691191355465861E-3,2.1318951907059805E-3,2.4821318951907161]
[2.47000000000001,0.99324434739285949,6.7556526071405054E-3,2.1985152022185976E-3,2.4721985152022286]
[2.4600000000000102,0.99305314921137589,6.9468507886241149E-3,2.2670237917210775E-3,2.462267023791731,null,"0.00256090130758288"]
[2.4500000000000099,0.99285718926472877,7.1428107352712322E-3,2.3374680903802542E-3,2.4523374680903904]
[2.4400000000000102,0.99265636904465182,7.3436309553481793E-3,2.4098962071756984E-3,2.4424098962071858]
[2.4300000000000099,0.99245058858369095,7.5494114163090487E-3,2.4843572434606227E-3,2.4324843572434705]
[2.4200000000000101,0.99223974644944657,7.7602535505534309E-3,2.5609013075828801E-3,2.4225609013075928]
[2.4100000000000099,0.9920237397392665,7.9762602607335031E-3,2.6395795295610473E-3,2.412639579529571]
[2.4000000000000101,0.99180246407540407,8.1975359245959334E-3,2.7204440758120327E-3,2.4027204440758223]
[2.3900000000000099,0.9915758136006545,8.4241863993455013E-3,2.8035481639243215E-3,2.392803548163934]
[2.3800000000000101,0.99134368097448367,8.6563190255163347E-3,2.8889460774718274E-3,2.3828889460774816]
[2.3700000000000099,0.99110595736966345,8.8940426303365516E-3,2.9766931808647007E-3,2.3729766931808749]
[2.3600000000000101,{"$f":"NORMSDIST(A66)","v":0.99086253246942757},{"$f":"1-B66","v":9.1374675305724296E-3},{"$f":"(1/SQRT(2*PI()))*(EXP(-(A66^2)/2))-A66*C66","v":3.0668459342308926E-3},{"$f":"(1/SQRT(2*PI()))*(EXP(-(-A66^2)/2))-(-A66)*B66","v":2.3630668459342412}]
[2.3500000000000099,0.99061329446516166,9.3867055348383355E-3,3.1594619083236339E-3,2.3531594619083336]
[2.3400000000000101,0.99035813005464191,9.6418699453580947E-3,3.2545997994490386E-3,2.3432545997994589]
[2.3300000000000098,0.99009692444083597,9.9030755591640318E-3,3.3523194444088321E-3,2.333352319444419]
[2.3200000000000101,0.98982956133128064,1.0170438668719362E-2,3.4526818354521267E-3,2.3234526818354624]
[2.31000000000002,0.9895559229380495,1.0444077061950496E-2,3.5557491352294357E-3,2.3135557491352494]
[2.30000000000001,0.9892758899783245,1.0724110021675504E-2,3.6615846917467491E-3,2.3036615846917567]
[2.29000000000002,0.98898934167558916,1.1010658324410838E-2,3.7702530533070509E-3,2.2937702530533275]
[2.28000000000001,0.98869615576144754,1.1303844238552463E-2,3.8818199834408616E-3,2.283881819983451]
[2.27000000000002,0.98839620847809706,1.160379152190294E-2,3.9963524758103615E-3,2.2739963524758302]
[2.2600000000000202,0.98808937458145352,1.1910625418546483E-2,4.113918769091552E-3,2.2641139187691119]
[2.25000000000002,0.98777552734495588,1.2224472655044116E-2,4.2345883618164909E-3,2.2542345883618364]
[2.2400000000000202,0.98745453856405407,1.2545461435945926E-2,4.3584320271768603E-3,2.2443584320271968]
[2.23000000000002,0.98712627856139867,1.2873721438601327E-2,4.4855218277784284E-3,2.2344855218277986]
[2.2200000000000002,0.98679061619274377,1.3209383807256225E-2,4.6159311303403637E-3,2.2246159311303404]
[2.21,0.98644741885358,1.3552581146419995E-2,4.7497346203306291E-3,2.2147497346203306]
[2.2000000000000002,0.98609655248650141,1.390344751349859E-2,4.8870083165345225E-3,2.2048870083165348]
[2.19,0.98573788158933118,1.4262118410668823E-2,5.0278295855415017E-3,2.1950278295855417]
[2.1800000000000002,0.98537126922401075,1.4628730775989252E-2,5.1722771561499015E-3,2.1851722771561501]
[2.17,0.98499657702626775,1.500342297373225E-2,5.3204311336784993E-3,2.1753204311336782]
[2.16,0.98461366521607452,1.5386334783925482E-2,5.4723730141765653E-3,2.1654723730141767]
[2.15,0.98422239260890954,1.5777607391090465E-2,5.6281856985257242E-3,2.155628185698526]
[2.14,0.98382261662783388,1.6177383372166121E-2,5.7879535064248103E-3,2.1457879535064248]
[2.13,0.98341419331639501,1.6585806683604987E-2,5.9517621902517998E-3,2.1359517621902517]
[2.12,0.98299697735236724,1.700302264763276E-2,6.1196989487888598E-3,2.1261196989487892]
[2.11,0.98257082206234292,1.7429177937657081E-2,6.2918524408092924E-3,2.116291852440809]
[2.1,0.98213557943718344,1.7864420562816563E-2,6.4683127985124059E-3,2.1064683127985124]
[2.09,0.98169110014834104,1.8308899851658955E-2,6.6491716407998877E-3,2.0966491716408]
[2.08,0.98123723356506221,1.8762766434937794E-2,6.8345220863842773E-3,2.086834522086384]
[2.0699999999999998,0.98077382777248268,1.9226172227517324E-2,7.024458766722308E-3,2.0770244587667221]
[2.06,0.98030072959062309,1.9699270409376912E-2,7.2190778387605931E-3,2.0672190778387605]
[2.0499999999999998,0.97981778459429558,2.0182215405704418E-2,7.4184769974887099E-3,2.0574184769974884]
[2.04,{"$f":"NORMSDIST(A98)","v":0.97932483713392993},{"$f":"1-B98","v":2.0675162866070074E-2},{"$f":"(1/SQRT(2*PI()))*(EXP(-(A98^2)/2))-A98*C98","v":7.6227554882878218E-3},{"$f":"(1/SQRT(2*PI()))*(EXP(-(-A98^2)/2))-(-A98)*B98","v":2.047622755488288}]
[2.0299999999999998,0.97882173035732778,2.1178269642672221E-2,7.8320141190666021E-3,2.0378320141190662]
[2.02,0.97830830623235321,2.1691693767646791E-2,8.0463552721740453E-3,2.0280463552721741]
[2.0099999999999998,0.97778440557056856,2.221559442943144E-2,8.2658829160831213E-3,2.0182658829160829]
[2,0.97724986805182079,2.2750131948179209E-2,8.4907026168296457E-3,2.0084907026168297]
[1.99,0.97670453224978815,2.3295467750211851E-2,8.7209215492041817E-3,1.9987209215492043]
[1.97999999999999,0.97614823565849096,2.3851764341509041E-2,8.9566485076814917E-3,1.9889566485076715]
[1.96999999999999,0.97558081471977687,2.4419185280223132E-2,9.1979939170789352E-3,1.979197993917069]
[1.95999999999999,0.97500210485177896,2.4997895148221039E-2,9.4450698429396282E-3,1.9694450698429296]
[1.94999999999999,0.97441194047836077,2.5588059521639228E-2,9.6979900016210124E-3,1.9596979900016112]
[1.93999999999999,0.97381015505954671,2.6189844940453288E-2,9.9568697700868486E-3,1.9499568697700767]
[1.9299999999999899,0.97319658112294438,2.6803418877055618E-2,1.0221826195389298E-2,1.9402218261953794]
[1.9199999999999899,0.97257105029616253,2.7428949703837469E-2,1.0492978003832212E-2,1.9304929780038222]
[1.9099999999999899,0.97193339334022688,2.8066606659773119E-2,1.0770445609804204E-2,1.920770445609794]
[1.8999999999999899,0.97128344018399759,2.8716559816002407E-2,1.1054351124273561E-2,1.9110543511242635]
[1.8899999999999899,0.97062101995958994,2.9378980040410063E-2,1.134481836293371E-2,1.9013448183629236]
[1.8799999999999899,0.96994596103879949,3.0054038961200513E-2,1.1641972853989206E-2,1.8916419728539791]
[1.8699999999999899,0.9692580910705334,3.0741908929466599E-2,1.1945941845573259E-2,1.8819459418455633]
[1.8599999999999901,0.96855723701924656,3.1442762980753436E-2,1.2256854312783616E-2,1.8722568543127738]
[1.8499999999999901,0.96784322520438559,3.2156774795614407E-2,1.2574840964332985E-2,1.862574840964323]
[1.8399999999999901,0.96711588134083537,3.288411865916463E-2,1.2900034248795642E-2,1.8529000342487858]
[1.8299999999999901,0.96637503058037089,3.3624969419629114E-2,1.3232568360448033E-2,1.843232568360438]
[1.8199999999999901,0.96562049755410928,3.4379502445890719E-2,1.3572579244687938E-2,1.833572579244678]
[1.8099999999999901,0.96485210641596042,3.514789358403958E-2,1.3920204603024094E-2,1.8239202046030143]
[1.7999999999999901,0.96406968088707345,3.5930319112926545E-2,1.4275583897628147E-2,1.8142755838976181]
[1.78999999999999,0.96327304430127292,3.6726955698727082E-2,1.4638858355434492E-2,1.8046388583554245]
[1.77999999999999,0.96246201965148237,3.753798034851763E-2,1.5010170971783254E-2,1.7950101709717732]
[1.76999999999999,0.96163642963712792,3.8363570362872079E-2,1.5389666513592748E-2,1.7853896665135827]
[1.75999999999999,0.96079609671251653,3.9203903287483466E-2,1.5777491522053211E-2,1.7757774915220432]
[1.74999999999999,0.95994084313618211,4.0059156863817891E-2,1.6173794314832124E-2,1.7661737943148221]
[1.73999999999999,0.9590704910211918,4.0929508978808204E-2,1.6578724987781304E-2,1.7565787249877713]
[1.72999999999999,0.95818486238640421,4.1815137613595788E-2,1.6992435416136251E-2,1.7469924354161264]
[1.71999999999999,{"$f":"NORMSDIST(A130)","v":0.95728377920867014},{"$f":"1-B130","v":4.2716220791329862E-2},{"$f":"(1/SQRT(2*PI()))*(EXP(-(A130^2)/2))-A130*C130","v":1.7415079255197488E-2},{"$f":"(1/SQRT(2*PI()))*(EXP(-(-A130^2)/2))-(-A130)*B130","v":1.7374150792551875}]
[1.70999999999999,0.95636706347596723,4.3632936524032773E-2,1.7846811940486665E-2,1.7278468119404766]
[1.69999999999999,0.95543453724145599,4.4565462758544006E-2,1.8287790687364164E-2,1.7182877906873542]
[1.68999999999999,0.95448602267844929,4.5513977321550714E-2,1.8738174490105383E-2,1.7087381744900951]
[1.6799999999999899,0.95352134213627893,4.6478657863721073E-2,1.9198124120418214E-2,1.6991981241204082]
[1.6699999999999899,0.95254031819705165,4.745968180294835E-2,1.9667802125402117E-2,1.6896678021253921]
[1.6599999999999899,0.95154277373327623,4.8457226266723774E-2,2.0147372824931273E-2,1.6801473728249212]
[1.6499999999999899,0.9505285319663509,4.9471468033649102E-2,2.0637002308459204E-2,1.6706370023084491]
[1.6399999999999899,0.94949741652589525,5.0502583474104745E-2,2.1136858431234667E-2,1.6611368584312245]
[1.6299999999999899,0.94844925150990955,5.1550748490090448E-2,2.1647110809918463E-2,1.6516471108099084]
[1.6199999999999899,0.94738386154574683,5.261613845425317E-2,2.2167930817595979E-2,1.6421679308175858]
[1.6099999999999901,0.94630107185187917,5.3698928148120828E-2,2.2699491578175107E-2,1.6326994915781652]
[1.5999999999999901,0.94520070830044089,5.4799291699559105E-2,2.3241967960163298E-2,1.6232419679601533]
[1.5899999999999901,0.94408259748052947,5.5917402519470527E-2,2.3795536569814757E-2,1.6137955365698049]
[1.5799999999999901,0.94294656676224464,5.7053433237755358E-2,2.4360375743641263E-2,1.6043603757436313]
[1.5699999999999901,0.94179244436144582,5.8207555638554176E-2,2.4936665540279401E-2,1.5949366655402695]
[1.5599999999999901,0.94062005940520577,5.9379940594794234E-2,2.5524587731705697E-2,1.5855245877316959]
[1.5499999999999901,0.93942924199793987,6.0570758002060132E-2,2.6124325793794839E-2,1.5761243257937849]
[1.5399999999999801,0.93821982328818565,6.178017671181435E-2,2.673606489621265E-2,1.5667360648961925]
[1.52999999999998,0.93699163553601916,6.3008364463980837E-2,2.7359991891637486E-2,1.5573599918916177]
[1.51999999999998,0.93574451218106169,6.4255487818938306E-2,2.7996295304307042E-2,1.547996295304287]
[1.50999999999998,0.9344782879110809,6.5521712088919104E-2,2.8645165317879182E-2,1.5386451653178592]
[1.49999999999998,0.93319279873113936,6.6807201268860639E-2,2.9306793762605976E-2,1.5293067937625859]
[1.48999999999998,0.93188788203327189,6.8112117966728114E-2,2.9981374101811425E-2,1.5199813741017913]
[1.47999999999998,0.93056337666666566,6.9436623333334335E-2,3.0669101417672817E-2,1.510669101417653]
[1.46999999999998,0.92921912300831178,7.0780876991688224E-2,3.1370172396294999E-2,1.5013701723962749]
[1.45999999999998,0.92785496303410353,7.214503696589647E-2,3.2084785312078382E-2,1.4920847853120582]
[1.44999999999998,0.92647074039034893,7.3529259609651065E-2,3.2813140011371769E-2,1.4828131400113518]
[1.44,0.92506630046567295,7.4933699534327047E-2,3.3555437895407839E-2,1.4735554378954077]
[1.43,0.92364149046326083,7.6358509536739172E-2,3.4311881902525404E-2,1.4643118819025254]
[1.42,0.92219615947345368,7.780384052654632E-2,3.508267648965184E-2,1.4550826764896518]
[1.41,0.92073015854660756,7.9269841453392442E-2,3.5868027613072395E-2,1.4458680276130724]
[1.4,0.91924334076622893,8.0756659233771066E-2,3.6668142708465398E-2,1.4366681427084653]
[1.39,0.91773556132233103,8.2264438677668972E-2,3.7483230670201817E-2,1.4274832306702017]
[1.38,0.91620667758498575,8.3793322415014249E-2,3.8313501829914068E-2,1.418313501829914]
[1.37,0.91465654917803307,8.5343450821966926E-2,3.9159167934326139E-2,1.4091591679343263]
[1.36,0.91308503805291497,8.6914961947085034E-2,4.0020442122347386E-2,1.4000204421223474]
[1.35,0.91149200856259804,8.8507991437401956E-2,4.0897538901426944E-2,1.3908975389014269]
[1.34,0.90987732753554751,9.0122672464452491E-2,4.1790674123167781E-2,1.3817906741231678]
[1.33,0.90824086434971918,9.1759135650280821E-2,4.2700064958203304E-2,1.3727000649582033]
[1.32,0.90658249100652821,9.3417508993471787E-2,4.3625929870331051E-2,1.363625929870331]
[1.31,0.90490208220476098,9.5097917795239018E-2,4.4568488589909264E-2,1.3545684885899092]
[1.3,0.9031995154143897,9.6800484585610302E-2,4.5527962086513968E-2,1.3455279620865142]
[1.29,0.90147467095025213,9.8525329049747867E-2,4.6504572540858241E-2,1.3365045725408582]
[1.28,0.89972743204555794,0.10027256795444206,4.7498543315976527E-2,1.3274985433159765]
[1.27,0.89795768492518091,0.10204231507481909,4.8510098927673329E-2,1.3185100989276735]
[1.26,0.89616531887869966,0.10383468112130034,4.953946501424189E-2,1.309539465014242]
[1.25,0.89435022633314476,0.10564977366685524,5.0586868305452865E-2,1.3005868683054529]
[1.24,0.89251230292541306,0.10748769707458694,5.1652536590817505E-2,1.2916525365908176]
[1.23,0.89065144757430814,0.10934855242569186,5.2736698687128575E-2,1.2827366986871287]
[1.22,0.88876756255216538,0.11123243744783462,5.3839584405281998E-2,1.2738395844052819]
[1.21,0.88686055355602278,0.11313944644397722,5.4961424516386942E-2,1.2649614245163869]
[1.2,0.88493032977829178,0.11506967022170822,5.6102450717163105E-2,1.256102450717163]
[1.19,0.88297680397689138,0.11702319602310862,5.7262895594637292E-2,1.2472628955946372]
[1.18,0.88099989254479927,0.11900010745520073,5.8442992590139048E-2,1.238442992590139]
[1.17,0.87899951557898182,0.12100048442101818,5.9642975962606121E-2,1.229642975962606]
[1.1599999999999999,0.87697559694865657,0.12302440305134343,6.086308075120106E-2,1.2208630807512011]
[1.1499999999999999,0.87492806436284976,0.12507193563715024,6.2103542737252021E-2,1.212103542737252]
[1.1399999999999999,0.87285684943720176,0.12714315056279824,6.3364598405518391E-2,1.2033645984055183]
[1.1299999999999999,0.8707618877599822,0.1292381122400178,6.4646484904795243E-2,1.1946464849047951]
[1.1200000000000001,0.86864311895726931,0.13135688104273069,6.5949440007859461E-2,1.1859494400078596]
[1.1100000000000001,0.86650048675725277,0.13349951324274723,6.7273702070770242E-2,1.1772737020707704]
[1.1000000000000001,0.86433393905361733,0.13566606094638267,6.8619509991529576E-2,1.1686195099915295]
[1.0900000000000001,0.8621434279679645,0.1378565720320355,6.9987103168114545E-2,1.1599871031681146]
[1.08,0.85992890991123094,0.14007109008876906,7.1376721455890552E-2,1.1513767214558905]
[1.07,0.85769034564406077,0.14230965435593923,7.2788605124414679E-2,1.1427886051244147]
[1.06,0.85542770033609039,0.14457229966390961,7.4222994813641724E-2,1.1342229948136417]
[1.05,0.85314094362410409,0.14685905637589591,7.5680131489542307E-2,1.1256801314895424]
[1.04,0.85083004966901865,0.14916995033098135,7.7160256399145588E-2,1.1171602563991456]
[1.03,0.84849499721165633,0.15150500278834367,7.8663611025017843E-2,1.1086636110250179]
[1.02,0.84613576962726511,0.15386423037273489,8.0190437039189988E-2,1.10019043703919]
[1.01,0.84375235497874546,0.15624764502125454,8.1740976256546277E-2,1.0917409762565462]
[1,0.84134474606854304,0.15865525393145696,8.3315470587686402E-2,1.0833154705876864]
[0.99,0.83891294048916909,0.16108705951083091,8.4914161991276965E-2,1.074914161991277]
[0.98,0.83645694067230769,0.16354305932769231,8.6537292425904272E-2,1.0665372924259042]
[0.97,0.83397675393647042,0.16602324606352958,8.8185103801442261E-2,1.0581851038014423]
[0.96,0.83147239253316219,0.16852760746683781,8.9857837929952833E-2,1.0498578379299528]
[0.95,0.82894387369151812,0.17105612630848188,9.1555736476131244E-2,1.0415557364761312]
[0.94,0.82639121966137541,0.17360878033862459,9.3279040907313232E-2,1.0332790409073132]
[0.93,0.82381445775474216,0.17618554224525784,9.5027992443058984E-2,1.025027992443059]
[0.92,0.82121362038562828,0.17878637961437172,9.680283200433118E-2,1.0168028320043312]
[0.91,0.81858874510820279,0.18141125489179721,9.8603800162282651E-2,1.0086038001622826]
[0.9,0.81593987465324047,0.18406012534675953,0.10043113708667123,1.0004311370866712]
[0.89,0.81326705696282742,0.18673294303717258,0.10228508249391882,0.99228508249391878]
[0.88,0.81057034522328786,0.18942965477671214,0.10416587559483131,0.98416587559483126]
[0.869999999999999,0.80784979789630351,0.19215020210369649,0.10607375504200076,0.97607375504199978]
[0.85999999999999899,0.80510547874819127,0.19489452125180873,0.1080089588769016,0.96800895887690053]
[0.84999999999999898,0.8023374568773074,0.1976625431226926,0.10997172447670819,0.9599717244767072]
[0.83999999999999897,0.79954580673955011,0.20045419326044989,0.11196228850084314,0.95196228850084208]
[0.82999999999999896,0.79673060817193142,0.20326939182806858,0.11398088683728383,0.94398088683728276]
[0.81999999999999895,0.7938919464141867,0.2061080535858133,0.11602775454864081,0.93602775454863973]
[0.80999999999999905,0.79102991212839813,0.20897008787160187,0.1181031258180312,0.92810312581803034]
[0.79999999999999905,0.78814460141660292,0.21185539858339708,0.12020723389476554,0.92020723389476466]
[0.78999999999999904,0.78523611583636266,0.21476388416363734,0.12234031103986839,0.91234031103986746]
[0.77999999999999903,0.7823045624142666,0.2176954375857334,0.12450258847145351,0.9045025884714526]
[0.76999999999999902,0.77935005365735011,0.22064994634264989,0.12669429630997572,0.89669429630997477]
[0.75999999999999901,0.77637270756240029,0.22362729243759971,0.12891566352337747,0.88891566352337659]
[0.749999999999999,0.77337264762313152,0.22662735237686848,0.13116691787215351,0.88116691787215262]
[0.73999999999999899,0.77035000283520905,0.22964999716479095,0.13344828585435528,0.8734482858543543]
[0.72999999999999898,0.76730490769910231,0.23269509230089769,0.13575999265055502,0.86575999265055403]
[0.71999999999999897,0.7642375022207486,0.2357624977792514,0.13810226206879239,0.85810226206879148]
[0.70999999999999897,0.76114793191001295,0.23885206808998705,0.1404753164895258,0.85047531648952468]
[0.69999999999999896,0.75803634777692674,0.24196365222307326,0.14287937681061047,0.84287937681060932]
[0.68999999999999895,{"$f":"NORMSDIST(A233)","v":0.75490290632569024},{"$f":"1-B233","v":0.24509709367430976},{"$f":"(1/SQRT(2*PI()))*(EXP(-(A233^2)/2))-A233*C233","v":0.1453146623923241},{"$f":"(1/SQRT(2*PI()))*(EXP(-(-A233^2)/2))-(-A233)*B233","v":0.83531466239232299}]
[0.67999999999999905,0.75174776954642919,0.24825223045357081,0.14778139100246507,0.82778139100246417]
[0.66999999999999904,0.74857110490468959,0.25142889509531041,0.15027977876154403,0.82027977876154301]
[0.66,0.74537308532866398,0.25462691467133602,0.15281004008809074,0.81281004008809077]
[0.65,0.74215388919413527,0.25784611080586473,0.15537238764410219,0.80537238764410213]
[0.64,0.73891370030713843,0.26108629969286157,0.15796703228065076,0.7979670322806508]
[0.63,0.73565270788432247,0.26434729211567753,0.16059418298367761,0.79059418298367756]
[0.62,0.732371106531017,0.267628893468983,0.16325404681999534,0.78325404681999533]
[0.61,0.72906909621699434,0.27093090378300566,0.16594682888351953,0.77594682888351951]
[0.6,0.72574688224992645,0.27425311775007355,0.16867273224175555,0.76867273224175547]
[0.59,0.72240467524653507,0.27759532475346493,0.1714319578825618,0.76143195788256168]
[0.57999999999999996,0.7190426911014357,0.2809573088985643,0.17422470466121331,0.75422470466121327]
[0.56999999999999995,0.71566115095367588,0.28433884904632412,0.17705116924778749,0.74705116924778747]
[0.56000000000000005,0.71226028115097295,0.28773971884902705,0.1799115460748974,0.73991154607489751]
[0.55000000000000004,0.70884031321165364,0.29115968678834636,0.1828060272857934,0.73280602728579347]
[0.54,0.70540148378430201,0.29459851621569799,0.18573480268285641,0.72573480268285651]
[0.53,0.70194403460512356,0.29805596539487644,0.18869805967650713,0.71869805967650713]
[0.52,0.69846821245303381,0.30153178754696619,0.19169598323455206,0.71169598323455208]
[0.51,0.69497426910248061,0.30502573089751939,0.19472875583199092,0.70472875583199102]
[0.5,0.69146246127401312,0.30853753872598688,0.19779655740130608,0.69779655740130608]
[0.49,0.68793305058260945,0.31206694941739055,0.20089956528325834,0.69089956528325835]
[0.48,0.68438630348377738,0.31561369651622262,0.20403795417821025,0.68403795417821023]
[0.47,0.6808224912174442,0.3191775087825558,0.20721189609799964,0.67721189609799959]
[0.46,0.67724188974965227,0.32275811025034773,0.21042156031838469,0.67042156031838473]
[0.45,0.67364477971208003,0.32635522028791997,0.21366711333208396,0.66366711333208395]
[0.44,0.67003144633940637,0.32996855366059363,0.21694871880243102,0.656948718802431]
[0.43,0.66640217940454238,0.33359782059545762,0.22026653751766664,0.65026653751766661]
[0.42,0.66275727315175048,0.33724272684824952,0.22362072734588911,0.64362072734588915]
[0.41,0.65909702622767741,0.34090297377232259,0.22701144319068386,0.63701144319068392]
[0.4,0.65542174161032429,0.34457825838967571,0.23043883694745304,0.63043883694745306]
[0.39,0.65173172653598244,0.34826827346401756,0.2339030574604655,0.62390305746046559]
[0.38,0.64802729242416279,0.35197270757583721,0.23740425048064789,0.61740425048064784]
[0.37,{"$f":"NORMSDIST(A265)","v":0.64430875480054683},{"$f":"1-B265","v":0.35569124519945317},{"$f":"(1/SQRT(2*PI()))*(EXP(-(A265^2)/2))-A265*C265","v":0.24094255862413574},{"$f":"(1/SQRT(2*PI()))*(EXP(-(-A265^2)/2))-(-A265)*B265","v":0.61094255862413571}]
[0.36,0.64057643321799129,0.35942356678200871,0.2445181213316053,0.60451812133160532]
[0.35,0.6368306511756191,0.3631693488243809,0.2481310748284046,0.59813107482840455]
[0.34,0.63307173603602807,0.36692826396397193,0.25178155208550346,0.59178155208550343]
[0.33,0.62930001894065357,0.37069998105934643,0.25546968278128024,0.5854696827812802]
[0.32,0.62551583472332006,0.37448416527667994,0.25919559326416408,0.57919559326416414]
[0.31,0.62171952182201928,0.37828047817798072,0.26295940651615091,0.57295940651615096]
[0.3,0.61791142218895267,0.38208857781104733,0.26676124211720997,0.56676124211720991]
[0.28999999999999998,0.61409188119887737,0.38590811880112263,0.27060121621059852,0.56060121621059844]
[0.28000000000000003,0.61026124755579725,0.38973875244420275,0.2744794414691018,0.55447944146910189]
[0.27,0.60641987319803947,0.39358012680196053,0.27839602706221345,0.54839602706221346]
[0.26,0.60256811320176051,0.39743188679823949,0.28235107862427383,0.5423510786242739]
[0.25,0.5987063256829237,0.4012936743170763,0.28634469822358016,0.53634469822358022]
[0.24,0.59483487169779581,0.40516512830220419,0.29037698433248516,0.53037698433248515]
[0.23,0.59095411514200591,0.40904588485799409,0.29444803179849727,0.52444803179849719]
[0.22,0.58706442264821468,0.41293557735178532,0.29855793181639767,0.51855793181639764]
[0.21,0.58316616348244232,0.41683383651755768,0.30270677190138717,0.51270677190138714]
[0.2,0.57925970943910299,0.42074029056089701,0.30689463586327648,0.50689463586327643]
[0.19,0.57534543473479549,0.42465456526520451,0.31112160378173226,0.50112160378173232]
[0.18,0.5714237159009008,0.4285762840990992,0.31538775198259106,0.49538775198259105]
[0.17,0.56749493167503839,0.43250506832496161,0.31969315301525369,0.48969315301525373]
[0.16,0.56355946289143288,0.43644053710856712,0.32403787563117009,0.48403787563117007]
[0.15,0.5596176923702425,0.4403823076297575,0.32842198476342532,0.47842198476342535]
[0.14000000000000001,0.55567000480590645,0.44432999519409355,0.33284554150743817,0.47284554150743818]
[0.13,0.55171678665456114,0.44828321334543886,0.33730860310278032,0.46730860310278033]
[0.12,0.54775842602058389,0.45224157397941611,0.34181122291612615,0.4618112229161262]
[0.11,0.54379531254231672,0.45620468745768328,0.3463534504253406,0.45635345042534059]
[0.1,0.53982783727702899,0.46017216272297101,0.35093533120471471,0.45093533120471474]
[8.9999999999999095E-2,0.53585639258517181,0.46414360741482819,0.35555690691135428,0.44555690691135336]
[7.99999999999991E-2,0.531881372013987,0.468118627986013,0.36021821527272829,0.44021821527272736]
[6.9999999999999105E-2,0.5279031701805208,0.4720968298194792,0.36491929007538793,0.43491929007538704]
[5.9999999999999103E-2,0.52392218265410651,0.47607781734589349,0.36966016115485378,0.42966016115485289]
[4.9999999999998997E-2,{"$f":"NORMSDIST(A297)","v":0.51993880583837204},{"$f":"1-B297","v":0.48006119416162796},{"$f":"(1/SQRT(2*PI()))*(EXP(-(A297^2)/2))-A297*C297","v":0.37444085438668312},{"$f":"(1/SQRT(2*PI()))*(EXP(-(-A297^2)/2))-(-A297)*B297","v":0.42444085438668211}]
[3.9999999999999002E-2,0.51595343685283035,0.48404656314716965,0.37926139167871875,0.41926139167871773]
[2.9999999999999E-2,0.51196647341411228,0.48803352658588772,0.38412179096452354,0.41412179096452256]
[1.9999999999999001E-2,0.50797831371690161,0.49202168628309839,0.38902206619800467,0.40902206619800363]
[9.9999999999990097E-3,0.50398935631463115,0.49601064368536885,0.39396222734922898,0.40396222734922799]
[0,0.5,0.5,0.3989422804014327,0.3989422804014327]
[-0.1,0.46017216272297101,0.53982783727702899,0.45093533120471474,0.35093533120471471]
[{"$f":"+A303-0.1","v":-0.2},0.42074029056089696,0.57925970943910299,0.50689463586327643,0.30689463586327648]
[{"$f":"+A304-0.1","v":-0.30000000000000004},0.38208857781104733,0.61791142218895267,0.56676124211720991,0.26676124211720986]
[{"$f":"+A305-0.1","v":-0.4},0.34457825838967576,0.65542174161032429,0.63043883694745306,0.23043883694745301]
[{"$f":"+A306-0.1","v":-0.5},0.30853753872598688,0.69146246127401312,0.69779655740130608,0.19779655740130608]
[{"$f":"+A307-0.1","v":-0.6},0.27425311775007355,0.72574688224992645,0.76867273224175547,0.16867273224175555]